{"text_format":"1","workbook":"xlsx","n_sheets":3,"sheets":["HIDE","Start Here","Template"],"not_rendered":{"charts":0,"images":2,"macros":1,"external_links":0,"defined_names":3,"comments":2,"pivot_tables":0},"unopened":[],"bounds":{"document_bytes":16777216,"sheet_cells":100000,"rows_first":2000,"rows_last":500,"rows_between":2000,"halvings":0,"cell_chars":16384,"cell_head_chars":4096},"cells_cut":0,"cells_raw":0,"read":"whole","date_system":"1900"}

{"sheet":"HIDE","index":0,"n_rows":50,"n_cols":12,"rows_kept":50,"cut":false,"hidden":true,"merged":[]}
[]
[null,null,null,"This Q","Next Q","This Q","This Q","Next Q",null,null,null,"Calculated by Carb"]
[null,"Q1",2023,{"$f":"\"\"&B3&\"/\"&C3&\"\"","v":"Q1/2023"},{"$f":"D4","v":"Q2/2023"},2019,{"$f":"D3","v":"Q1/2023"},{"$f":"G4","v":"Q2/2023"},null,null,"Discount",0.1]
[null,"Q2",2023,"Q2/2023",{"$f":"D5","v":"Q3/2023"},2019.25,{"$f":"D4","v":"Q2/2023"},{"$f":"G5","v":"Q3/2023"},null,null,"Quarterly Discount",{"$f":"1-(1-10%)^(1/4)","v":2.5996253574703254E-2}]
[null,"Q3",2023,"Q3/2023","Q4/2023",2019.5,"Q3/2023","Q4/2023",null,null,"Quarterly Discount Check",{"$f":"1-(1-L4)^4","v":0.10000000000000009}]
[null,"Q4",2023,"Q4/2023","Q1/2024",2019.75,"Q4/2023","Q1/2024"]
[null,{"$f":"B3","v":"Q1"},{"$f":"C3+1","v":2024},"Q1/2024","Q2/2024",2020,"Q1/2024","Q2/2024"]
[null,{"$f":"B4","v":"Q2"},{"$f":"C4+1","v":2024},"Q2/2024","Q3/2024",2020.25,"Q2/2024","Q3/2024"]
[null,"Q3",2024,"Q3/2024","Q4/2024",2020.5,"Q3/2024","Q4/2024"]
[null,"Q4",2024,"Q4/2024","Q1/2025",2020.75,"Q4/2024","Q1/2025"]
[null,"Q1",2025,"Q1/2025","Q2/2025",2021,"Q1/2025","Q2/2025"]
[null,"Q2",2025,"Q2/2025","Q3/2025",2021.25,"Q2/2025","Q3/2025"]
[null,"Q3",2025,"Q3/2025","Q4/2025",2021.5,"Q3/2025","Q4/2025"]
[null,"Q4",2025,"Q4/2025","Q1/2026",2021.75,"Q4/2025","Q1/2026"]
[null,"Q1",2026,"Q1/2026","Q2/2026",2022,"Q1/2026","Q2/2026"]
[null,"Q2",2026,"Q2/2026","Q3/2026",2022.25,"Q2/2026","Q3/2026"]
[null,"Q3",2026,"Q3/2026","Q4/2026",2022.5,"Q3/2026","Q4/2026"]
[null,"Q4",2026,"Q4/2026","Q1/2027",2022.75,"Q4/2026","Q1/2027"]
[null,"Q1",2027,"Q1/2027","Q2/2027",2023,"Q1/2027","Q2/2027"]
[null,"Q2",2027,"Q2/2027","Q3/2027",2023.25,"Q2/2027","Q3/2027"]
[null,"Q3",2027,"Q3/2027","Q4/2027",2023.5,"Q3/2027","Q4/2027"]
[null,"Q4",2027,"Q4/2027","Q1/2028",2023.75,"Q4/2027","Q1/2028"]
[null,"Q1",2028,"Q1/2028","Q2/2028",2024,"Q1/2028","Q2/2028"]
[null,"Q2",2028,"Q2/2028","Q3/2028",2024.25,"Q2/2028","Q3/2028"]
[null,"Q3",2028,"Q3/2028","Q4/2028",2024.5,"Q3/2028","Q4/2028"]
[null,"Q4",2028,"Q4/2028","Q1/2029",2024.75,"Q4/2028","Q1/2029"]
[null,"Q1",{"$f":"C23+1","v":2029},"Q1/2029","Q2/2029",2025,"Q1/2029","Q2/2029"]
[null,"Q2",2029,"Q2/2029","Q3/2029",2025.25,"Q2/2029","Q3/2029"]
[null,"Q3",2029,"Q3/2029","Q4/2029",2025.5,"Q3/2029","Q4/2029"]
[null,"Q4",2029,"Q4/2029","Q1/2030",2025.75,"Q4/2029","Q1/2030"]
[null,"Q1",2030,"Q1/2030","Q2/2030",2026,"Q1/2030","Q2/2030"]
[null,"Q2",2030,"Q2/2030","Q3/2030",2026.25,"Q2/2030","Q3/2030"]
[null,"Q3",2030,"Q3/2030","Q4/2030",2026.5,"Q3/2030","Q4/2030"]
[null,"Q4",2030,"Q4/2030","Q1/2031",2026.75,"Q4/2030","Q1/2031"]
[null,"Q1",2031,"Q1/2031","Q2/2031",2027,"Q1/2031","Q2/2031"]
[null,"Q2",2031,"Q2/2031","Q3/2031",2027.25,"Q2/2031","Q3/2031"]
[null,"Q3",2031,"Q3/2031","Q4/2031",2027.5,"Q3/2031","Q4/2031"]
[null,"Q4",2031,"Q4/2031","Q1/2032",2027.75,"Q4/2031","Q1/2032"]
[null,"Q1",2032,"Q1/2032","Q2/2032",2028,"Q1/2032","Q2/2032"]
[null,"Q2",{"$f":"C36+1","v":2032},"Q2/2032","Q3/2032",2028.25,"Q2/2032","Q3/2032"]
[null,"Q3",2032,"Q3/2032","Q4/2032",2028.5,"Q3/2032","Q4/2032"]
[null,"Q4",2032,"Q4/2032","Q1/2033",2028.75,"Q4/2032","Q1/2033"]
[null,"Q1",2033,"Q1/2033","Q2/2033",2029,"Q1/2033","Q2/2033"]
[null,"Q2",2033,"Q2/2033","Q3/2033",2029.25,"Q2/2033","Q3/2033"]
[null,"Q3",2033,"Q3/2033","Q4/2033",2029.5,"Q3/2033","Q4/2033"]
[null,"Q4",2033,"Q4/2033","Q1/2034",2029.75,"Q4/2033","Q1/2034"]
[null,"Q1",2034,"Q1/2034","Q2/2034",2030,"Q1/2034","Q2/2034"]
[null,"Q2",2034,"Q2/2034","Q3/2034",2030.25,"Q2/2034","Q3/2034"]
[null,"Q3",2034,"Q3/2034","Q4/2034",2030.5,"Q3/2034","Q4/2034"]
[null,"Q4",2034,"Q4/2034","End of Program",2030.75,"Q4/2034","End of Program"]

{"sheet":"Start Here","index":1,"n_rows":504,"n_cols":21,"rows_kept":504,"cut":false,"hidden":false,"merged":[]}
[]
[null,"Washington Department of Ecology"]
[null,"Clean Fuel Standard"]
[null,"DC Fast Charging Infrastructure (FCI) "]
[null,"Cost and Revenue Reporting Template"]
[]
[null,"This template is intended to provide a uniform means of organizing and reporting cost and revenue"]
[null,"information, pursuant to section 173-424-560(2)(f)(ii) of the CFS Regulation"]
[]
[]
[null,"Updated: February 2024"]
[null,"Instructions (repeat quarterly as needed):"]
[null,"1. Every quarter, rename and save this workbook as \"fci_cr_<SiteOwner>_<Year>_Q<Quarter#> (i.e., \"fci_cr_Ecology_2024_Q1\")"]
[null,"2. Enter Site Owner name and update the reporting quarter below, on the \"Start Here\" worksheet."]
[null,"3. Copy the \"Template\" worksheet for each new site (see instructions to right). Give the worksheet a unique name and enter the Site name, Address,"]
[null,"number of FSEs, and the first quarter the site is eligible for FCI crediting.  (Existing sites do not need this modification.)",null,null,null,null,null,null,"HIDE","HIDE","HIDE","HIDE","HIDE",null,"HIDE","HIDE","HIDE","HIDE","HIDE","HIDE","HIDE"]
[null,"4. Press \"Ctrl+Alt+F9\" (or otherwise force calculate) to incorporate new site worksheets into the Site list below."]
[null,"5. Every quarter, enter Cost and Revenue data for each site and quarter in each site's worksheet's green cells."]
[null,"6. Every quarter, submit the Cost and Revenue Report to Ecology as a supplemental document to the Site Owner's quarterly report through "]
[null,"the WFRS."]
[null,"7. Every following quarter, Ecology will send via WFRS Correspondence the following values for each site:"]
[null,"• FCI Credits per Site"]
[null,"• Average CFS Credit Price"]
[null,"• Estimated Value of FCI Credits"]
[null,"8. Copy the WFRS data received in (7) into each site's worksheet's blue cells."]
[null,"9. Repeat Steps 3-8 for each site each quarter until a worksheet notifies you that a site's credit limit has been reached."]
[null,"10. Contact Ecology FCI Staff when a worksheet states the FCI credit limit for a site has been reached."]
[null,"Sites that have reached their FCI credit limit are not required to be further updated, but also do not delete their worksheets."]
[]
[null,"Ecology Staff can be contacted at WFRSadmin@ecy.wa.gov"]
[]
[null,{"$f":"IF(ISBLANK(SiteOwner),\"INPUT SITE OWNER HERE\",\"Site Owner\")","v":"INPUT SITE OWNER HERE"},null,{"$f":"IF(OR($L$34:$M$34),\"Active sites in red text have incomplete data.\",\"\")","v":""}]
[null,{"$f":"IF(ISBLANK(ReportQuarter),\"INPUT REPORTING QUARTER HERE\",\"Reporting Quarter\")","v":"INPUT REPORTING QUARTER HERE"}]
[null,{"$f":"\"This Cost & Revenue Report has \"&COUNTIF(I:I,TRUE)-COUNTIF(J:J,TRUE)&\" sites that actively generate FCI credits.\"","v":"This Cost & Revenue Report has 0 sites that actively generate FCI credits."},null,null,null,null,null,null,null,null,null,{"$f":"OR(L37:L504)","v":false},{"$f":"OR(M37:M504)","v":false}]
[null,{"$f":"IF(ISBLANK(SiteOwner),\"Site Owner\",SiteOwner)&\" has \"&COUNTIF(I:I,TRUE)&\" FCI sites that have reported Costs and Revenues.\"","v":"Site Owner has 0 FCI sites that have reported Costs and Revenues."}]
[null,"Sheet Name","Site name","Address","Number of FSEs",null,"(Estimated) Final Quarter",null,"Total Sites","Inactive Site","Extra Site","Unentered Data?","Unentered CARB Data?",null,"Quarters in Program","Total CapEx","Total CapEx Grants","Credit Value","Charging Revenue","Electricity Cost","Other Costs"]
[1,{"$f":"IFERROR(IF(OR(SHEETNAME(A37)=\"HIDE\",SHEETNAME(A37)=\"Start Here\",SHEETNAME(A37)=\"Template\"),\"\",SHEETNAME(A37)),\"\")","v":""},{"$f":"IFERROR(INDIRECT(\"'\"&$B37&\"'!$d$6\"),\"\")","v":""},{"$f":"IFERROR(INDIRECT(\"'\"&$B37&\"'!$d$7\"),\"\")","v":""},{"$f":"IFERROR(INDIRECT(\"'\"&$B37&\"'!$d$8\"),\"\")","v":""},{"$f":"IFERROR(IF(OR(SHEETNAME($A37)=\"HIDE\",SHEETNAME($A37)=\"Start Here\",SHEETNAME($A37)=\"Template\"),\"\",HYPERLINK(\"#'\"&B37&\"'!A1\",\"Go to Sheet\")),\"\")","v":""},{"$f":"IFERROR(IF(INDIRECT(\"'\"&$B37&\"'!$U$7\"),INDIRECT(\"'\"&$B37&\"'!$u$9\"),\"(\"&INDIRECT(\"'\"&$B37&\"'!$U$8\")&\")\"),\"\")","v":""},{"$f":"IF(L37,\"This site has incomplete Cost and Revenue data.  \",\"\")&IF(M37,\"WFRS data for previous quarters is incomplete.  \",\"\")&IF(K37,IFERROR(INDIRECT(\"'\"&$B37&\"'!$g$9\"),\"\"),\"\")","v":""},{"$f":"NOT(E37=\"\")","v":false},{"$f":"IFERROR(INDIRECT(\"'\"&$B37&\"'!$u$7\"),FALSE)","v":false},{"$f":"IFERROR(INDIRECT(\"'\"&$B37&\"'!$u$10\"),FALSE)","v":false},{"$f":"IFERROR(INDIRECT(\"'\"&$B37&\"'!$AC$12\"),FALSE)","v":false},{"$f":"IFERROR(INDIRECT(\"'\"&$B37&\"'!$ad$12\"),FALSE)","v":false},null,{"$f":"IFERROR(INDIRECT(\"'\"&$B37&\"'!$d$10\"),\"\")","v":""},{"$f":"IFERROR(INDIRECT(\"'\"&$B37&\"'!$d$33\"),\"\")","v":""},{"$f":"IFERROR(INDIRECT(\"'\"&$B37&\"'!$j$33\")+INDIRECT(\"'\"&$B37&\"'!$k$33\"),\"\")","v":""},{"$f":"IFERROR(INDIRECT(\"'\"&$B37&\"'!$q$33\"),\"\")","v":""},{"$f":"IFERROR(INDIRECT(\"'\"&$B37&\"'!$e$33\"),\"\")","v":""},{"$f":"IFERROR(INDIRECT(\"'\"&$B37&\"'!$L$33\"),\"\")","v":""},{"$f":"IFERROR(INDIRECT(\"'\"&$B37&\"'!$g$33\")+INDIRECT(\"'\"&$B37&\"'!$h$33\")+INDIRECT(\"'\"&$B37&\"'!$i$33\"),\"\")","v":""}]
[2,{"$f":"IFERROR(IF(OR(SHEETNAME(A38)=\"HIDE\",SHEETNAME(A38)=\"Start Here\",SHEETNAME(A38)=\"Template\"),\"\",SHEETNAME(A38)),\"\")","v":""},{"$f":"IFERROR(INDIRECT(\"'\"&$B38&\"'!$d$6\"),\"\")","v":""},{"$f":"IFERROR(INDIRECT(\"'\"&$B38&\"'!$d$7\"),\"\")","v":""},{"$f":"IFERROR(INDIRECT(\"'\"&$B38&\"'!$d$8\"),\"\")","v":""},{"$f":"IFERROR(IF(OR(SHEETNAME($A38)=\"HIDE\",SHEETNAME($A38)=\"Start Here\",SHEETNAME($A38)=\"Template\"),\"\",HYPERLINK(\"#'\"&B38&\"'!A1\",\"Go to Sheet\")),\"\")","v":""},{"$f":"IFERROR(IF(INDIRECT(\"'\"&$B38&\"'!$U$7\"),INDIRECT(\"'\"&$B38&\"'!$u$9\"),\"(\"&INDIRECT(\"'\"&$B38&\"'!$U$8\")&\")\"),\"\")","v":""},{"$f":"IF(L38,\"This site has incomplete Cost and Revenue data.  \",\"\")&IF(M38,\"WFRS data for previous quarters is incomplete.  \",\"\")&IF(K38,IFERROR(INDIRECT(\"'\"&$B38&\"'!$g$9\"),\"\"),\"\")","v":""},{"$f":"NOT(E38=\"\")","v":false},{"$f":"IFERROR(INDIRECT(\"'\"&$B38&\"'!$u$7\"),FALSE)","v":false},{"$f":"IFERROR(INDIRECT(\"'\"&$B38&\"'!$u$10\"),FALSE)","v":false},{"$f":"IFERROR(INDIRECT(\"'\"&$B38&\"'!$AC$12\"),FALSE)","v":false},{"$f":"IFERROR(INDIRECT(\"'\"&$B38&\"'!$ad$12\"),FALSE)","v":false},null,{"$f":"IFERROR(INDIRECT(\"'\"&$B38&\"'!$d$10\"),\"\")","v":""},{"$f":"IFERROR(INDIRECT(\"'\"&$B38&\"'!$d$33\"),\"\")","v":""},{"$f":"IFERROR(INDIRECT(\"'\"&$B38&\"'!$j$33\")+INDIRECT(\"'\"&$B38&\"'!$k$33\"),\"\")","v":""},{"$f":"IFERROR(INDIRECT(\"'\"&$B38&\"'!$q$33\"),\"\")","v":""},{"$f":"IFERROR(INDIRECT(\"'\"&$B38&\"'!$e$33\"),\"\")","v":""},{"$f":"IFERROR(INDIRECT(\"'\"&$B38&\"'!$L$33\"),\"\")","v":""},{"$f":"IFERROR(INDIRECT(\"'\"&$B38&\"'!$g$33\")+INDIRECT(\"'\"&$B38&\"'!$h$33\")+INDIRECT(\"'\"&$B38&\"'!$i$33\"),\"\")","v":""}]
[3,{"$f":"IFERROR(IF(OR(SHEETNAME(A39)=\"HIDE\",SHEETNAME(A39)=\"Start Here\",SHEETNAME(A39)=\"Template\"),\"\",SHEETNAME(A39)),\"\")","v":""},{"$f":"IFERROR(INDIRECT(\"'\"&$B39&\"'!$d$6\"),\"\")","v":""},{"$f":"IFERROR(INDIRECT(\"'\"&$B39&\"'!$d$7\"),\"\")","v":""},{"$f":"IFERROR(INDIRECT(\"'\"&$B39&\"'!$d$8\"),\"\")","v":""},{"$f":"IFERROR(IF(OR(SHEETNAME($A39)=\"HIDE\",SHEETNAME($A39)=\"Start Here\",SHEETNAME($A39)=\"Template\"),\"\",HYPERLINK(\"#'\"&B39&\"'!A1\",\"Go to Sheet\")),\"\")","v":""},{"$f":"IFERROR(IF(INDIRECT(\"'\"&$B39&\"'!$U$7\"),INDIRECT(\"'\"&$B39&\"'!$u$9\"),\"(\"&INDIRECT(\"'\"&$B39&\"'!$U$8\")&\")\"),\"\")","v":""},{"$f":"IF(L39,\"This site has incomplete Cost and Revenue data.  \",\"\")&IF(M39,\"WFRS data for previous quarters is incomplete.  \",\"\")&IF(K39,IFERROR(INDIRECT(\"'\"&$B39&\"'!$g$9\"),\"\"),\"\")","v":""},false,{"$f":"IFERROR(INDIRECT(\"'\"&$B39&\"'!$u$7\"),FALSE)","v":false},{"$f":"IFERROR(INDIRECT(\"'\"&$B39&\"'!$u$10\"),FALSE)","v":false},{"$f":"IFERROR(INDIRECT(\"'\"&$B39&\"'!$AC$12\"),FALSE)","v":false},{"$f":"IFERROR(INDIRECT(\"'\"&$B39&\"'!$ad$12\"),FALSE)","v":false},null,{"$f":"IFERROR(INDIRECT(\"'\"&$B39&\"'!$d$10\"),\"\")","v":""},{"$f":"IFERROR(INDIRECT(\"'\"&$B39&\"'!$d$33\"),\"\")","v":""},{"$f":"IFERROR(INDIRECT(\"'\"&$B39&\"'!$j$33\")+INDIRECT(\"'\"&$B39&\"'!$k$33\"),\"\")","v":""},{"$f":"IFERROR(INDIRECT(\"'\"&$B39&\"'!$q$33\"),\"\")","v":""},{"$f":"IFERROR(INDIRECT(\"'\"&$B39&\"'!$e$33\"),\"\")","v":""},{"$f":"IFERROR(INDIRECT(\"'\"&$B39&\"'!$L$33\"),\"\")","v":""},{"$f":"IFERROR(INDIRECT(\"'\"&$B39&\"'!$g$33\")+INDIRECT(\"'\"&$B39&\"'!$h$33\")+INDIRECT(\"'\"&$B39&\"'!$i$33\"),\"\")","v":""}]
[4,{"$f":"IFERROR(IF(OR(SHEETNAME(A40)=\"HIDE\",SHEETNAME(A40)=\"Start Here\",SHEETNAME(A40)=\"Template\"),\"\",SHEETNAME(A40)),\"\")","v":""},{"$f":"IFERROR(INDIRECT(\"'\"&$B40&\"'!$d$6\"),\"\")","v":""},{"$f":"IFERROR(INDIRECT(\"'\"&$B40&\"'!$d$7\"),\"\")","v":""},{"$f":"IFERROR(INDIRECT(\"'\"&$B40&\"'!$d$8\"),\"\")","v":""},{"$f":"IFERROR(IF(OR(SHEETNAME($A40)=\"HIDE\",SHEETNAME($A40)=\"Start Here\",SHEETNAME($A40)=\"Template\"),\"\",HYPERLINK(\"#'\"&B40&\"'!A1\",\"Go to Sheet\")),\"\")","v":""},{"$f":"IFERROR(IF(INDIRECT(\"'\"&$B40&\"'!$U$7\"),INDIRECT(\"'\"&$B40&\"'!$u$9\"),\"(\"&INDIRECT(\"'\"&$B40&\"'!$U$8\")&\")\"),\"\")","v":""},{"$f":"IF(L40,\"This site has incomplete Cost and Revenue data.  \",\"\")&IF(M40,\"WFRS data for previous quarters is incomplete.  \",\"\")&IF(K40,IFERROR(INDIRECT(\"'\"&$B40&\"'!$g$9\"),\"\"),\"\")","v":""},false,{"$f":"IFERROR(INDIRECT(\"'\"&$B40&\"'!$u$7\"),FALSE)","v":false},{"$f":"IFERROR(INDIRECT(\"'\"&$B40&\"'!$u$10\"),FALSE)","v":false},{"$f":"IFERROR(INDIRECT(\"'\"&$B40&\"'!$AC$12\"),FALSE)","v":false},{"$f":"IFERROR(INDIRECT(\"'\"&$B40&\"'!$ad$12\"),FALSE)","v":false},null,{"$f":"IFERROR(INDIRECT(\"'\"&$B40&\"'!$d$10\"),\"\")","v":""},{"$f":"IFERROR(INDIRECT(\"'\"&$B40&\"'!$d$33\"),\"\")","v":""},{"$f":"IFERROR(INDIRECT(\"'\"&$B40&\"'!$j$33\")+INDIRECT(\"'\"&$B40&\"'!$k$33\"),\"\")","v":""},{"$f":"IFERROR(INDIRECT(\"'\"&$B40&\"'!$q$33\"),\"\")","v":""},{"$f":"IFERROR(INDIRECT(\"'\"&$B40&\"'!$e$33\"),\"\")","v":""},{"$f":"IFERROR(INDIRECT(\"'\"&$B40&\"'!$L$33\"),\"\")","v":""},{"$f":"IFERROR(INDIRECT(\"'\"&$B40&\"'!$g$33\")+INDIRECT(\"'\"&$B40&\"'!$h$33\")+INDIRECT(\"'\"&$B40&\"'!$i$33\"),\"\")","v":""}]
[5,{"$f":"IFERROR(IF(OR(SHEETNAME(A41)=\"HIDE\",SHEETNAME(A41)=\"Start Here\",SHEETNAME(A41)=\"Template\"),\"\",SHEETNAME(A41)),\"\")","v":""},{"$f":"IFERROR(INDIRECT(\"'\"&$B41&\"'!$d$6\"),\"\")","v":""},{"$f":"IFERROR(INDIRECT(\"'\"&$B41&\"'!$d$7\"),\"\")","v":""},{"$f":"IFERROR(INDIRECT(\"'\"&$B41&\"'!$d$8\"),\"\")","v":""},{"$f":"IFERROR(IF(OR(SHEETNAME($A41)=\"HIDE\",SHEETNAME($A41)=\"Start Here\",SHEETNAME($A41)=\"Template\"),\"\",HYPERLINK(\"#'\"&B41&\"'!A1\",\"Go to Sheet\")),\"\")","v":""},{"$f":"IFERROR(IF(INDIRECT(\"'\"&$B41&\"'!$U$7\"),INDIRECT(\"'\"&$B41&\"'!$u$9\"),\"(\"&INDIRECT(\"'\"&$B41&\"'!$U$8\")&\")\"),\"\")","v":""},{"$f":"IF(L41,\"This site has incomplete Cost and Revenue data.  \",\"\")&IF(M41,\"WFRS data for previous quarters is incomplete.  \",\"\")&IF(K41,IFERROR(INDIRECT(\"'\"&$B41&\"'!$g$9\"),\"\"),\"\")","v":""},false,{"$f":"IFERROR(INDIRECT(\"'\"&$B41&\"'!$u$7\"),FALSE)","v":false},{"$f":"IFERROR(INDIRECT(\"'\"&$B41&\"'!$u$10\"),FALSE)","v":false},{"$f":"IFERROR(INDIRECT(\"'\"&$B41&\"'!$AC$12\"),FALSE)","v":false},{"$f":"IFERROR(INDIRECT(\"'\"&$B41&\"'!$ad$12\"),FALSE)","v":false},null,{"$f":"IFERROR(INDIRECT(\"'\"&$B41&\"'!$d$10\"),\"\")","v":""},{"$f":"IFERROR(INDIRECT(\"'\"&$B41&\"'!$d$33\"),\"\")","v":""},{"$f":"IFERROR(INDIRECT(\"'\"&$B41&\"'!$j$33\")+INDIRECT(\"'\"&$B41&\"'!$k$33\"),\"\")","v":""},{"$f":"IFERROR(INDIRECT(\"'\"&$B41&\"'!$q$33\"),\"\")","v":""},{"$f":"IFERROR(INDIRECT(\"'\"&$B41&\"'!$e$33\"),\"\")","v":""},{"$f":"IFERROR(INDIRECT(\"'\"&$B41&\"'!$L$33\"),\"\")","v":""},{"$f":"IFERROR(INDIRECT(\"'\"&$B41&\"'!$g$33\")+INDIRECT(\"'\"&$B41&\"'!$h$33\")+INDIRECT(\"'\"&$B41&\"'!$i$33\"),\"\")","v":""}]
[6,{"$f":"IFERROR(IF(OR(SHEETNAME(A42)=\"HIDE\",SHEETNAME(A42)=\"Start Here\",SHEETNAME(A42)=\"Template\"),\"\",SHEETNAME(A42)),\"\")","v":""},{"$f":"IFERROR(INDIRECT(\"'\"&$B42&\"'!$d$6\"),\"\")","v":""},{"$f":"IFERROR(INDIRECT(\"'\"&$B42&\"'!$d$7\"),\"\")","v":""},{"$f":"IFERROR(INDIRECT(\"'\"&$B42&\"'!$d$8\"),\"\")","v":""},{"$f":"IFERROR(IF(OR(SHEETNAME($A42)=\"HIDE\",SHEETNAME($A42)=\"Start Here\",SHEETNAME($A42)=\"Template\"),\"\",HYPERLINK(\"#'\"&B42&\"'!A1\",\"Go to Sheet\")),\"\")","v":""},{"$f":"IFERROR(IF(INDIRECT(\"'\"&$B42&\"'!$U$7\"),INDIRECT(\"'\"&$B42&\"'!$u$9\"),\"(\"&INDIRECT(\"'\"&$B42&\"'!$U$8\")&\")\"),\"\")","v":""},{"$f":"IF(L42,\"This site has incomplete Cost and Revenue data.  \",\"\")&IF(M42,\"WFRS data for previous quarters is incomplete.  \",\"\")&IF(K42,IFERROR(INDIRECT(\"'\"&$B42&\"'!$g$9\"),\"\"),\"\")","v":""},false,{"$f":"IFERROR(INDIRECT(\"'\"&$B42&\"'!$u$7\"),FALSE)","v":false},{"$f":"IFERROR(INDIRECT(\"'\"&$B42&\"'!$u$10\"),FALSE)","v":false},{"$f":"IFERROR(INDIRECT(\"'\"&$B42&\"'!$AC$12\"),FALSE)","v":false},{"$f":"IFERROR(INDIRECT(\"'\"&$B42&\"'!$ad$12\"),FALSE)","v":false},null,{"$f":"IFERROR(INDIRECT(\"'\"&$B42&\"'!$d$10\"),\"\")","v":""},{"$f":"IFERROR(INDIRECT(\"'\"&$B42&\"'!$d$33\"),\"\")","v":""},{"$f":"IFERROR(INDIRECT(\"'\"&$B42&\"'!$j$33\")+INDIRECT(\"'\"&$B42&\"'!$k$33\"),\"\")","v":""},{"$f":"IFERROR(INDIRECT(\"'\"&$B42&\"'!$q$33\"),\"\")","v":""},{"$f":"IFERROR(INDIRECT(\"'\"&$B42&\"'!$e$33\"),\"\")","v":""},{"$f":"IFERROR(INDIRECT(\"'\"&$B42&\"'!$L$33\"),\"\")","v":""},{"$f":"IFERROR(INDIRECT(\"'\"&$B42&\"'!$g$33\")+INDIRECT(\"'\"&$B42&\"'!$h$33\")+INDIRECT(\"'\"&$B42&\"'!$i$33\"),\"\")","v":""}]
[7,{"$f":"IFERROR(IF(OR(SHEETNAME(A43)=\"HIDE\",SHEETNAME(A43)=\"Start Here\",SHEETNAME(A43)=\"Template\"),\"\",SHEETNAME(A43)),\"\")","v":""},{"$f":"IFERROR(INDIRECT(\"'\"&$B43&\"'!$d$6\"),\"\")","v":""},{"$f":"IFERROR(INDIRECT(\"'\"&$B43&\"'!$d$7\"),\"\")","v":""},{"$f":"IFERROR(INDIRECT(\"'\"&$B43&\"'!$d$8\"),\"\")","v":""},{"$f":"IFERROR(IF(OR(SHEETNAME($A43)=\"HIDE\",SHEETNAME($A43)=\"Start Here\",SHEETNAME($A43)=\"Template\"),\"\",HYPERLINK(\"#'\"&B43&\"'!A1\",\"Go to Sheet\")),\"\")","v":""},{"$f":"IFERROR(IF(INDIRECT(\"'\"&$B43&\"'!$U$7\"),INDIRECT(\"'\"&$B43&\"'!$u$9\"),\"(\"&INDIRECT(\"'\"&$B43&\"'!$U$8\")&\")\"),\"\")","v":""},{"$f":"IF(L43,\"This site has incomplete Cost and Revenue data.  \",\"\")&IF(M43,\"WFRS data for previous quarters is incomplete.  \",\"\")&IF(K43,IFERROR(INDIRECT(\"'\"&$B43&\"'!$g$9\"),\"\"),\"\")","v":""},false,{"$f":"IFERROR(INDIRECT(\"'\"&$B43&\"'!$u$7\"),FALSE)","v":false},{"$f":"IFERROR(INDIRECT(\"'\"&$B43&\"'!$u$10\"),FALSE)","v":false},{"$f":"IFERROR(INDIRECT(\"'\"&$B43&\"'!$AC$12\"),FALSE)","v":false},{"$f":"IFERROR(INDIRECT(\"'\"&$B43&\"'!$ad$12\"),FALSE)","v":false},null,{"$f":"IFERROR(INDIRECT(\"'\"&$B43&\"'!$d$10\"),\"\")","v":""},{"$f":"IFERROR(INDIRECT(\"'\"&$B43&\"'!$d$33\"),\"\")","v":""},{"$f":"IFERROR(INDIRECT(\"'\"&$B43&\"'!$j$33\")+INDIRECT(\"'\"&$B43&\"'!$k$33\"),\"\")","v":""},{"$f":"IFERROR(INDIRECT(\"'\"&$B43&\"'!$q$33\"),\"\")","v":""},{"$f":"IFERROR(INDIRECT(\"'\"&$B43&\"'!$e$33\"),\"\")","v":""},{"$f":"IFERROR(INDIRECT(\"'\"&$B43&\"'!$L$33\"),\"\")","v":""},{"$f":"IFERROR(INDIRECT(\"'\"&$B43&\"'!$g$33\")+INDIRECT(\"'\"&$B43&\"'!$h$33\")+INDIRECT(\"'\"&$B43&\"'!$i$33\"),\"\")","v":""}]
[8,{"$f":"IFERROR(IF(OR(SHEETNAME(A44)=\"HIDE\",SHEETNAME(A44)=\"Start Here\",SHEETNAME(A44)=\"Template\"),\"\",SHEETNAME(A44)),\"\")","v":""},{"$f":"IFERROR(INDIRECT(\"'\"&$B44&\"'!$d$6\"),\"\")","v":""},{"$f":"IFERROR(INDIRECT(\"'\"&$B44&\"'!$d$7\"),\"\")","v":""},{"$f":"IFERROR(INDIRECT(\"'\"&$B44&\"'!$d$8\"),\"\")","v":""},{"$f":"IFERROR(IF(OR(SHEETNAME($A44)=\"HIDE\",SHEETNAME($A44)=\"Start Here\",SHEETNAME($A44)=\"Template\"),\"\",HYPERLINK(\"#'\"&B44&\"'!A1\",\"Go to Sheet\")),\"\")","v":""},{"$f":"IFERROR(IF(INDIRECT(\"'\"&$B44&\"'!$U$7\"),INDIRECT(\"'\"&$B44&\"'!$u$9\"),\"(\"&INDIRECT(\"'\"&$B44&\"'!$U$8\")&\")\"),\"\")","v":""},{"$f":"IF(L44,\"This site has incomplete Cost and Revenue data.  \",\"\")&IF(M44,\"WFRS data for previous quarters is incomplete.  \",\"\")&IF(K44,IFERROR(INDIRECT(\"'\"&$B44&\"'!$g$9\"),\"\"),\"\")","v":""},false,{"$f":"IFERROR(INDIRECT(\"'\"&$B44&\"'!$u$7\"),FALSE)","v":false},{"$f":"IFERROR(INDIRECT(\"'\"&$B44&\"'!$u$10\"),FALSE)","v":false},{"$f":"IFERROR(INDIRECT(\"'\"&$B44&\"'!$AC$12\"),FALSE)","v":false},{"$f":"IFERROR(INDIRECT(\"'\"&$B44&\"'!$ad$12\"),FALSE)","v":false},null,{"$f":"IFERROR(INDIRECT(\"'\"&$B44&\"'!$d$10\"),\"\")","v":""},{"$f":"IFERROR(INDIRECT(\"'\"&$B44&\"'!$d$33\"),\"\")","v":""},{"$f":"IFERROR(INDIRECT(\"'\"&$B44&\"'!$j$33\")+INDIRECT(\"'\"&$B44&\"'!$k$33\"),\"\")","v":""},{"$f":"IFERROR(INDIRECT(\"'\"&$B44&\"'!$q$33\"),\"\")","v":""},{"$f":"IFERROR(INDIRECT(\"'\"&$B44&\"'!$e$33\"),\"\")","v":""},{"$f":"IFERROR(INDIRECT(\"'\"&$B44&\"'!$L$33\"),\"\")","v":""},{"$f":"IFERROR(INDIRECT(\"'\"&$B44&\"'!$g$33\")+INDIRECT(\"'\"&$B44&\"'!$h$33\")+INDIRECT(\"'\"&$B44&\"'!$i$33\"),\"\")","v":""}]
[9,{"$f":"IFERROR(IF(OR(SHEETNAME(A45)=\"HIDE\",SHEETNAME(A45)=\"Start Here\",SHEETNAME(A45)=\"Template\"),\"\",SHEETNAME(A45)),\"\")","v":""},{"$f":"IFERROR(INDIRECT(\"'\"&$B45&\"'!$d$6\"),\"\")","v":""},{"$f":"IFERROR(INDIRECT(\"'\"&$B45&\"'!$d$7\"),\"\")","v":""},{"$f":"IFERROR(INDIRECT(\"'\"&$B45&\"'!$d$8\"),\"\")","v":""},{"$f":"IFERROR(IF(OR(SHEETNAME($A45)=\"HIDE\",SHEETNAME($A45)=\"Start Here\",SHEETNAME($A45)=\"Template\"),\"\",HYPERLINK(\"#'\"&B45&\"'!A1\",\"Go to Sheet\")),\"\")","v":""},{"$f":"IFERROR(IF(INDIRECT(\"'\"&$B45&\"'!$U$7\"),INDIRECT(\"'\"&$B45&\"'!$u$9\"),\"(\"&INDIRECT(\"'\"&$B45&\"'!$U$8\")&\")\"),\"\")","v":""},{"$f":"IF(L45,\"This site has incomplete Cost and Revenue data.  \",\"\")&IF(M45,\"WFRS data for previous quarters is incomplete.  \",\"\")&IF(K45,IFERROR(INDIRECT(\"'\"&$B45&\"'!$g$9\"),\"\"),\"\")","v":""},false,{"$f":"IFERROR(INDIRECT(\"'\"&$B45&\"'!$u$7\"),FALSE)","v":false},{"$f":"IFERROR(INDIRECT(\"'\"&$B45&\"'!$u$10\"),FALSE)","v":false},{"$f":"IFERROR(INDIRECT(\"'\"&$B45&\"'!$AC$12\"),FALSE)","v":false},{"$f":"IFERROR(INDIRECT(\"'\"&$B45&\"'!$ad$12\"),FALSE)","v":false},null,{"$f":"IFERROR(INDIRECT(\"'\"&$B45&\"'!$d$10\"),\"\")","v":""},{"$f":"IFERROR(INDIRECT(\"'\"&$B45&\"'!$d$33\"),\"\")","v":""},{"$f":"IFERROR(INDIRECT(\"'\"&$B45&\"'!$j$33\")+INDIRECT(\"'\"&$B45&\"'!$k$33\"),\"\")","v":""},{"$f":"IFERROR(INDIRECT(\"'\"&$B45&\"'!$q$33\"),\"\")","v":""},{"$f":"IFERROR(INDIRECT(\"'\"&$B45&\"'!$e$33\"),\"\")","v":""},{"$f":"IFERROR(INDIRECT(\"'\"&$B45&\"'!$L$33\"),\"\")","v":""},{"$f":"IFERROR(INDIRECT(\"'\"&$B45&\"'!$g$33\")+INDIRECT(\"'\"&$B45&\"'!$h$33\")+INDIRECT(\"'\"&$B45&\"'!$i$33\"),\"\")","v":""}]
[10,{"$f":"IFERROR(IF(OR(SHEETNAME(A46)=\"HIDE\",SHEETNAME(A46)=\"Start Here\",SHEETNAME(A46)=\"Template\"),\"\",SHEETNAME(A46)),\"\")","v":""},{"$f":"IFERROR(INDIRECT(\"'\"&$B46&\"'!$d$6\"),\"\")","v":""},{"$f":"IFERROR(INDIRECT(\"'\"&$B46&\"'!$d$7\"),\"\")","v":""},{"$f":"IFERROR(INDIRECT(\"'\"&$B46&\"'!$d$8\"),\"\")","v":""},{"$f":"IFERROR(IF(OR(SHEETNAME($A46)=\"HIDE\",SHEETNAME($A46)=\"Start Here\",SHEETNAME($A46)=\"Template\"),\"\",HYPERLINK(\"#'\"&B46&\"'!A1\",\"Go to Sheet\")),\"\")","v":""},{"$f":"IFERROR(IF(INDIRECT(\"'\"&$B46&\"'!$U$7\"),INDIRECT(\"'\"&$B46&\"'!$u$9\"),\"(\"&INDIRECT(\"'\"&$B46&\"'!$U$8\")&\")\"),\"\")","v":""},{"$f":"IF(L46,\"This site has incomplete Cost and Revenue data.  \",\"\")&IF(M46,\"WFRS data for previous quarters is incomplete.  \",\"\")&IF(K46,IFERROR(INDIRECT(\"'\"&$B46&\"'!$g$9\"),\"\"),\"\")","v":""},false,{"$f":"IFERROR(INDIRECT(\"'\"&$B46&\"'!$u$7\"),FALSE)","v":false},{"$f":"IFERROR(INDIRECT(\"'\"&$B46&\"'!$u$10\"),FALSE)","v":false},{"$f":"IFERROR(INDIRECT(\"'\"&$B46&\"'!$AC$12\"),FALSE)","v":false},{"$f":"IFERROR(INDIRECT(\"'\"&$B46&\"'!$ad$12\"),FALSE)","v":false},null,{"$f":"IFERROR(INDIRECT(\"'\"&$B46&\"'!$d$10\"),\"\")","v":""},{"$f":"IFERROR(INDIRECT(\"'\"&$B46&\"'!$d$33\"),\"\")","v":""},{"$f":"IFERROR(INDIRECT(\"'\"&$B46&\"'!$j$33\")+INDIRECT(\"'\"&$B46&\"'!$k$33\"),\"\")","v":""},{"$f":"IFERROR(INDIRECT(\"'\"&$B46&\"'!$q$33\"),\"\")","v":""},{"$f":"IFERROR(INDIRECT(\"'\"&$B46&\"'!$e$33\"),\"\")","v":""},{"$f":"IFERROR(INDIRECT(\"'\"&$B46&\"'!$L$33\"),\"\")","v":""},{"$f":"IFERROR(INDIRECT(\"'\"&$B46&\"'!$g$33\")+INDIRECT(\"'\"&$B46&\"'!$h$33\")+INDIRECT(\"'\"&$B46&\"'!$i$33\"),\"\")","v":""}]
[11,{"$f":"IFERROR(IF(OR(SHEETNAME(A47)=\"HIDE\",SHEETNAME(A47)=\"Start Here\",SHEETNAME(A47)=\"Template\"),\"\",SHEETNAME(A47)),\"\")","v":""},{"$f":"IFERROR(INDIRECT(\"'\"&$B47&\"'!$d$6\"),\"\")","v":""},{"$f":"IFERROR(INDIRECT(\"'\"&$B47&\"'!$d$7\"),\"\")","v":""},{"$f":"IFERROR(INDIRECT(\"'\"&$B47&\"'!$d$8\"),\"\")","v":""},{"$f":"IFERROR(IF(OR(SHEETNAME($A47)=\"HIDE\",SHEETNAME($A47)=\"Start Here\",SHEETNAME($A47)=\"Template\"),\"\",HYPERLINK(\"#'\"&B47&\"'!A1\",\"Go to Sheet\")),\"\")","v":""},{"$f":"IFERROR(IF(INDIRECT(\"'\"&$B47&\"'!$U$7\"),INDIRECT(\"'\"&$B47&\"'!$u$9\"),\"(\"&INDIRECT(\"'\"&$B47&\"'!$U$8\")&\")\"),\"\")","v":""},{"$f":"IF(L47,\"This site has incomplete Cost and Revenue data.  \",\"\")&IF(M47,\"WFRS data for previous quarters is incomplete.  \",\"\")&IF(K47,IFERROR(INDIRECT(\"'\"&$B47&\"'!$g$9\"),\"\"),\"\")","v":""},false,{"$f":"IFERROR(INDIRECT(\"'\"&$B47&\"'!$u$7\"),FALSE)","v":false},{"$f":"IFERROR(INDIRECT(\"'\"&$B47&\"'!$u$10\"),FALSE)","v":false},{"$f":"IFERROR(INDIRECT(\"'\"&$B47&\"'!$AC$12\"),FALSE)","v":false},{"$f":"IFERROR(INDIRECT(\"'\"&$B47&\"'!$ad$12\"),FALSE)","v":false},null,{"$f":"IFERROR(INDIRECT(\"'\"&$B47&\"'!$d$10\"),\"\")","v":""},{"$f":"IFERROR(INDIRECT(\"'\"&$B47&\"'!$d$33\"),\"\")","v":""},{"$f":"IFERROR(INDIRECT(\"'\"&$B47&\"'!$j$33\")+INDIRECT(\"'\"&$B47&\"'!$k$33\"),\"\")","v":""},{"$f":"IFERROR(INDIRECT(\"'\"&$B47&\"'!$q$33\"),\"\")","v":""},{"$f":"IFERROR(INDIRECT(\"'\"&$B47&\"'!$e$33\"),\"\")","v":""},{"$f":"IFERROR(INDIRECT(\"'\"&$B47&\"'!$L$33\"),\"\")","v":""},{"$f":"IFERROR(INDIRECT(\"'\"&$B47&\"'!$g$33\")+INDIRECT(\"'\"&$B47&\"'!$h$33\")+INDIRECT(\"'\"&$B47&\"'!$i$33\"),\"\")","v":""}]
[12,{"$f":"IFERROR(IF(OR(SHEETNAME(A48)=\"HIDE\",SHEETNAME(A48)=\"Start Here\",SHEETNAME(A48)=\"Template\"),\"\",SHEETNAME(A48)),\"\")","v":""},{"$f":"IFERROR(INDIRECT(\"'\"&$B48&\"'!$d$6\"),\"\")","v":""},{"$f":"IFERROR(INDIRECT(\"'\"&$B48&\"'!$d$7\"),\"\")","v":""},{"$f":"IFERROR(INDIRECT(\"'\"&$B48&\"'!$d$8\"),\"\")","v":""},{"$f":"IFERROR(IF(OR(SHEETNAME($A48)=\"HIDE\",SHEETNAME($A48)=\"Start Here\",SHEETNAME($A48)=\"Template\"),\"\",HYPERLINK(\"#'\"&B48&\"'!A1\",\"Go to Sheet\")),\"\")","v":""},{"$f":"IFERROR(IF(INDIRECT(\"'\"&$B48&\"'!$U$7\"),INDIRECT(\"'\"&$B48&\"'!$u$9\"),\"(\"&INDIRECT(\"'\"&$B48&\"'!$U$8\")&\")\"),\"\")","v":""},{"$f":"IF(L48,\"This site has incomplete Cost and Revenue data.  \",\"\")&IF(M48,\"WFRS data for previous quarters is incomplete.  \",\"\")&IF(K48,IFERROR(INDIRECT(\"'\"&$B48&\"'!$g$9\"),\"\"),\"\")","v":""},false,{"$f":"IFERROR(INDIRECT(\"'\"&$B48&\"'!$u$7\"),FALSE)","v":false},{"$f":"IFERROR(INDIRECT(\"'\"&$B48&\"'!$u$10\"),FALSE)","v":false},{"$f":"IFERROR(INDIRECT(\"'\"&$B48&\"'!$AC$12\"),FALSE)","v":false},{"$f":"IFERROR(INDIRECT(\"'\"&$B48&\"'!$ad$12\"),FALSE)","v":false},null,{"$f":"IFERROR(INDIRECT(\"'\"&$B48&\"'!$d$10\"),\"\")","v":""},{"$f":"IFERROR(INDIRECT(\"'\"&$B48&\"'!$d$33\"),\"\")","v":""},{"$f":"IFERROR(INDIRECT(\"'\"&$B48&\"'!$j$33\")+INDIRECT(\"'\"&$B48&\"'!$k$33\"),\"\")","v":""},{"$f":"IFERROR(INDIRECT(\"'\"&$B48&\"'!$q$33\"),\"\")","v":""},{"$f":"IFERROR(INDIRECT(\"'\"&$B48&\"'!$e$33\"),\"\")","v":""},{"$f":"IFERROR(INDIRECT(\"'\"&$B48&\"'!$L$33\"),\"\")","v":""},{"$f":"IFERROR(INDIRECT(\"'\"&$B48&\"'!$g$33\")+INDIRECT(\"'\"&$B48&\"'!$h$33\")+INDIRECT(\"'\"&$B48&\"'!$i$33\"),\"\")","v":""}]
[13,{"$f":"IFERROR(IF(OR(SHEETNAME(A49)=\"HIDE\",SHEETNAME(A49)=\"Start Here\",SHEETNAME(A49)=\"Template\"),\"\",SHEETNAME(A49)),\"\")","v":""},{"$f":"IFERROR(INDIRECT(\"'\"&$B49&\"'!$d$6\"),\"\")","v":""},{"$f":"IFERROR(INDIRECT(\"'\"&$B49&\"'!$d$7\"),\"\")","v":""},{"$f":"IFERROR(INDIRECT(\"'\"&$B49&\"'!$d$8\"),\"\")","v":""},{"$f":"IFERROR(IF(OR(SHEETNAME($A49)=\"HIDE\",SHEETNAME($A49)=\"Start Here\",SHEETNAME($A49)=\"Template\"),\"\",HYPERLINK(\"#'\"&B49&\"'!A1\",\"Go to Sheet\")),\"\")","v":""},{"$f":"IFERROR(IF(INDIRECT(\"'\"&$B49&\"'!$U$7\"),INDIRECT(\"'\"&$B49&\"'!$u$9\"),\"(\"&INDIRECT(\"'\"&$B49&\"'!$U$8\")&\")\"),\"\")","v":""},{"$f":"IF(L49,\"This site has incomplete Cost and Revenue data.  \",\"\")&IF(M49,\"WFRS data for previous quarters is incomplete.  \",\"\")&IF(K49,IFERROR(INDIRECT(\"'\"&$B49&\"'!$g$9\"),\"\"),\"\")","v":""},false,{"$f":"IFERROR(INDIRECT(\"'\"&$B49&\"'!$u$7\"),FALSE)","v":false},{"$f":"IFERROR(INDIRECT(\"'\"&$B49&\"'!$u$10\"),FALSE)","v":false},{"$f":"IFERROR(INDIRECT(\"'\"&$B49&\"'!$AC$12\"),FALSE)","v":false},{"$f":"IFERROR(INDIRECT(\"'\"&$B49&\"'!$ad$12\"),FALSE)","v":false},null,{"$f":"IFERROR(INDIRECT(\"'\"&$B49&\"'!$d$10\"),\"\")","v":""},{"$f":"IFERROR(INDIRECT(\"'\"&$B49&\"'!$d$33\"),\"\")","v":""},{"$f":"IFERROR(INDIRECT(\"'\"&$B49&\"'!$j$33\")+INDIRECT(\"'\"&$B49&\"'!$k$33\"),\"\")","v":""},{"$f":"IFERROR(INDIRECT(\"'\"&$B49&\"'!$q$33\"),\"\")","v":""},{"$f":"IFERROR(INDIRECT(\"'\"&$B49&\"'!$e$33\"),\"\")","v":""},{"$f":"IFERROR(INDIRECT(\"'\"&$B49&\"'!$L$33\"),\"\")","v":""},{"$f":"IFERROR(INDIRECT(\"'\"&$B49&\"'!$g$33\")+INDIRECT(\"'\"&$B49&\"'!$h$33\")+INDIRECT(\"'\"&$B49&\"'!$i$33\"),\"\")","v":""}]
[14,{"$f":"IFERROR(IF(OR(SHEETNAME(A50)=\"HIDE\",SHEETNAME(A50)=\"Start Here\",SHEETNAME(A50)=\"Template\"),\"\",SHEETNAME(A50)),\"\")","v":""},{"$f":"IFERROR(INDIRECT(\"'\"&$B50&\"'!$d$6\"),\"\")","v":""},{"$f":"IFERROR(INDIRECT(\"'\"&$B50&\"'!$d$7\"),\"\")","v":""},{"$f":"IFERROR(INDIRECT(\"'\"&$B50&\"'!$d$8\"),\"\")","v":""},{"$f":"IFERROR(IF(OR(SHEETNAME($A50)=\"HIDE\",SHEETNAME($A50)=\"Start Here\",SHEETNAME($A50)=\"Template\"),\"\",HYPERLINK(\"#'\"&B50&\"'!A1\",\"Go to Sheet\")),\"\")","v":""},{"$f":"IFERROR(IF(INDIRECT(\"'\"&$B50&\"'!$U$7\"),INDIRECT(\"'\"&$B50&\"'!$u$9\"),\"(\"&INDIRECT(\"'\"&$B50&\"'!$U$8\")&\")\"),\"\")","v":""},{"$f":"IF(L50,\"This site has incomplete Cost and Revenue data.  \",\"\")&IF(M50,\"WFRS data for previous quarters is incomplete.  \",\"\")&IF(K50,IFERROR(INDIRECT(\"'\"&$B50&\"'!$g$9\"),\"\"),\"\")","v":""},false,{"$f":"IFERROR(INDIRECT(\"'\"&$B50&\"'!$u$7\"),FALSE)","v":false},{"$f":"IFERROR(INDIRECT(\"'\"&$B50&\"'!$u$10\"),FALSE)","v":false},{"$f":"IFERROR(INDIRECT(\"'\"&$B50&\"'!$AC$12\"),FALSE)","v":false},{"$f":"IFERROR(INDIRECT(\"'\"&$B50&\"'!$ad$12\"),FALSE)","v":false},null,{"$f":"IFERROR(INDIRECT(\"'\"&$B50&\"'!$d$10\"),\"\")","v":""},{"$f":"IFERROR(INDIRECT(\"'\"&$B50&\"'!$d$33\"),\"\")","v":""},{"$f":"IFERROR(INDIRECT(\"'\"&$B50&\"'!$j$33\")+INDIRECT(\"'\"&$B50&\"'!$k$33\"),\"\")","v":""},{"$f":"IFERROR(INDIRECT(\"'\"&$B50&\"'!$q$33\"),\"\")","v":""},{"$f":"IFERROR(INDIRECT(\"'\"&$B50&\"'!$e$33\"),\"\")","v":""},{"$f":"IFERROR(INDIRECT(\"'\"&$B50&\"'!$L$33\"),\"\")","v":""},{"$f":"IFERROR(INDIRECT(\"'\"&$B50&\"'!$g$33\")+INDIRECT(\"'\"&$B50&\"'!$h$33\")+INDIRECT(\"'\"&$B50&\"'!$i$33\"),\"\")","v":""}]
[15,{"$f":"IFERROR(IF(OR(SHEETNAME(A51)=\"HIDE\",SHEETNAME(A51)=\"Start Here\",SHEETNAME(A51)=\"Template\"),\"\",SHEETNAME(A51)),\"\")","v":""},{"$f":"IFERROR(INDIRECT(\"'\"&$B51&\"'!$d$6\"),\"\")","v":""},{"$f":"IFERROR(INDIRECT(\"'\"&$B51&\"'!$d$7\"),\"\")","v":""},{"$f":"IFERROR(INDIRECT(\"'\"&$B51&\"'!$d$8\"),\"\")","v":""},{"$f":"IFERROR(IF(OR(SHEETNAME($A51)=\"HIDE\",SHEETNAME($A51)=\"Start Here\",SHEETNAME($A51)=\"Template\"),\"\",HYPERLINK(\"#'\"&B51&\"'!A1\",\"Go to Sheet\")),\"\")","v":""},{"$f":"IFERROR(IF(INDIRECT(\"'\"&$B51&\"'!$U$7\"),INDIRECT(\"'\"&$B51&\"'!$u$9\"),\"(\"&INDIRECT(\"'\"&$B51&\"'!$U$8\")&\")\"),\"\")","v":""},{"$f":"IF(L51,\"This site has incomplete Cost and Revenue data.  \",\"\")&IF(M51,\"WFRS data for previous quarters is incomplete.  \",\"\")&IF(K51,IFERROR(INDIRECT(\"'\"&$B51&\"'!$g$9\"),\"\"),\"\")","v":""},false,{"$f":"IFERROR(INDIRECT(\"'\"&$B51&\"'!$u$7\"),FALSE)","v":false},{"$f":"IFERROR(INDIRECT(\"'\"&$B51&\"'!$u$10\"),FALSE)","v":false},{"$f":"IFERROR(INDIRECT(\"'\"&$B51&\"'!$AC$12\"),FALSE)","v":false},{"$f":"IFERROR(INDIRECT(\"'\"&$B51&\"'!$ad$12\"),FALSE)","v":false},null,{"$f":"IFERROR(INDIRECT(\"'\"&$B51&\"'!$d$10\"),\"\")","v":""},{"$f":"IFERROR(INDIRECT(\"'\"&$B51&\"'!$d$33\"),\"\")","v":""},{"$f":"IFERROR(INDIRECT(\"'\"&$B51&\"'!$j$33\")+INDIRECT(\"'\"&$B51&\"'!$k$33\"),\"\")","v":""},{"$f":"IFERROR(INDIRECT(\"'\"&$B51&\"'!$q$33\"),\"\")","v":""},{"$f":"IFERROR(INDIRECT(\"'\"&$B51&\"'!$e$33\"),\"\")","v":""},{"$f":"IFERROR(INDIRECT(\"'\"&$B51&\"'!$L$33\"),\"\")","v":""},{"$f":"IFERROR(INDIRECT(\"'\"&$B51&\"'!$g$33\")+INDIRECT(\"'\"&$B51&\"'!$h$33\")+INDIRECT(\"'\"&$B51&\"'!$i$33\"),\"\")","v":""}]
[16,{"$f":"IFERROR(IF(OR(SHEETNAME(A52)=\"HIDE\",SHEETNAME(A52)=\"Start Here\",SHEETNAME(A52)=\"Template\"),\"\",SHEETNAME(A52)),\"\")","v":""},{"$f":"IFERROR(INDIRECT(\"'\"&$B52&\"'!$d$6\"),\"\")","v":""},{"$f":"IFERROR(INDIRECT(\"'\"&$B52&\"'!$d$7\"),\"\")","v":""},{"$f":"IFERROR(INDIRECT(\"'\"&$B52&\"'!$d$8\"),\"\")","v":""},{"$f":"IFERROR(IF(OR(SHEETNAME($A52)=\"HIDE\",SHEETNAME($A52)=\"Start Here\",SHEETNAME($A52)=\"Template\"),\"\",HYPERLINK(\"#'\"&B52&\"'!A1\",\"Go to Sheet\")),\"\")","v":""},{"$f":"IFERROR(IF(INDIRECT(\"'\"&$B52&\"'!$U$7\"),INDIRECT(\"'\"&$B52&\"'!$u$9\"),\"(\"&INDIRECT(\"'\"&$B52&\"'!$U$8\")&\")\"),\"\")","v":""},{"$f":"IF(L52,\"This site has incomplete Cost and Revenue data.  \",\"\")&IF(M52,\"WFRS data for previous quarters is incomplete.  \",\"\")&IF(K52,IFERROR(INDIRECT(\"'\"&$B52&\"'!$g$9\"),\"\"),\"\")","v":""},false,{"$f":"IFERROR(INDIRECT(\"'\"&$B52&\"'!$u$7\"),FALSE)","v":false},{"$f":"IFERROR(INDIRECT(\"'\"&$B52&\"'!$u$10\"),FALSE)","v":false},{"$f":"IFERROR(INDIRECT(\"'\"&$B52&\"'!$AC$12\"),FALSE)","v":false},{"$f":"IFERROR(INDIRECT(\"'\"&$B52&\"'!$ad$12\"),FALSE)","v":false},null,{"$f":"IFERROR(INDIRECT(\"'\"&$B52&\"'!$d$10\"),\"\")","v":""},{"$f":"IFERROR(INDIRECT(\"'\"&$B52&\"'!$d$33\"),\"\")","v":""},{"$f":"IFERROR(INDIRECT(\"'\"&$B52&\"'!$j$33\")+INDIRECT(\"'\"&$B52&\"'!$k$33\"),\"\")","v":""},{"$f":"IFERROR(INDIRECT(\"'\"&$B52&\"'!$q$33\"),\"\")","v":""},{"$f":"IFERROR(INDIRECT(\"'\"&$B52&\"'!$e$33\"),\"\")","v":""},{"$f":"IFERROR(INDIRECT(\"'\"&$B52&\"'!$L$33\"),\"\")","v":""},{"$f":"IFERROR(INDIRECT(\"'\"&$B52&\"'!$g$33\")+INDIRECT(\"'\"&$B52&\"'!$h$33\")+INDIRECT(\"'\"&$B52&\"'!$i$33\"),\"\")","v":""}]
[17,{"$f":"IFERROR(IF(OR(SHEETNAME(A53)=\"HIDE\",SHEETNAME(A53)=\"Start Here\",SHEETNAME(A53)=\"Template\"),\"\",SHEETNAME(A53)),\"\")","v":""},{"$f":"IFERROR(INDIRECT(\"'\"&$B53&\"'!$d$6\"),\"\")","v":""},{"$f":"IFERROR(INDIRECT(\"'\"&$B53&\"'!$d$7\"),\"\")","v":""},{"$f":"IFERROR(INDIRECT(\"'\"&$B53&\"'!$d$8\"),\"\")","v":""},{"$f":"IFERROR(IF(OR(SHEETNAME($A53)=\"HIDE\",SHEETNAME($A53)=\"Start Here\",SHEETNAME($A53)=\"Template\"),\"\",HYPERLINK(\"#'\"&B53&\"'!A1\",\"Go to Sheet\")),\"\")","v":""},{"$f":"IFERROR(IF(INDIRECT(\"'\"&$B53&\"'!$U$7\"),INDIRECT(\"'\"&$B53&\"'!$u$9\"),\"(\"&INDIRECT(\"'\"&$B53&\"'!$U$8\")&\")\"),\"\")","v":""},{"$f":"IF(L53,\"This site has incomplete Cost and Revenue data.  \",\"\")&IF(M53,\"WFRS data for previous quarters is incomplete.  \",\"\")&IF(K53,IFERROR(INDIRECT(\"'\"&$B53&\"'!$g$9\"),\"\"),\"\")","v":""},false,{"$f":"IFERROR(INDIRECT(\"'\"&$B53&\"'!$u$7\"),FALSE)","v":false},{"$f":"IFERROR(INDIRECT(\"'\"&$B53&\"'!$u$10\"),FALSE)","v":false},{"$f":"IFERROR(INDIRECT(\"'\"&$B53&\"'!$AC$12\"),FALSE)","v":false},{"$f":"IFERROR(INDIRECT(\"'\"&$B53&\"'!$ad$12\"),FALSE)","v":false},null,{"$f":"IFERROR(INDIRECT(\"'\"&$B53&\"'!$d$10\"),\"\")","v":""},{"$f":"IFERROR(INDIRECT(\"'\"&$B53&\"'!$d$33\"),\"\")","v":""},{"$f":"IFERROR(INDIRECT(\"'\"&$B53&\"'!$j$33\")+INDIRECT(\"'\"&$B53&\"'!$k$33\"),\"\")","v":""},{"$f":"IFERROR(INDIRECT(\"'\"&$B53&\"'!$q$33\"),\"\")","v":""},{"$f":"IFERROR(INDIRECT(\"'\"&$B53&\"'!$e$33\"),\"\")","v":""},{"$f":"IFERROR(INDIRECT(\"'\"&$B53&\"'!$L$33\"),\"\")","v":""},{"$f":"IFERROR(INDIRECT(\"'\"&$B53&\"'!$g$33\")+INDIRECT(\"'\"&$B53&\"'!$h$33\")+INDIRECT(\"'\"&$B53&\"'!$i$33\"),\"\")","v":""}]
[18,{"$f":"IFERROR(IF(OR(SHEETNAME(A54)=\"HIDE\",SHEETNAME(A54)=\"Start Here\",SHEETNAME(A54)=\"Template\"),\"\",SHEETNAME(A54)),\"\")","v":""},{"$f":"IFERROR(INDIRECT(\"'\"&$B54&\"'!$d$6\"),\"\")","v":""},{"$f":"IFERROR(INDIRECT(\"'\"&$B54&\"'!$d$7\"),\"\")","v":""},{"$f":"IFERROR(INDIRECT(\"'\"&$B54&\"'!$d$8\"),\"\")","v":""},{"$f":"IFERROR(IF(OR(SHEETNAME($A54)=\"HIDE\",SHEETNAME($A54)=\"Start Here\",SHEETNAME($A54)=\"Template\"),\"\",HYPERLINK(\"#'\"&B54&\"'!A1\",\"Go to Sheet\")),\"\")","v":""},{"$f":"IFERROR(IF(INDIRECT(\"'\"&$B54&\"'!$U$7\"),INDIRECT(\"'\"&$B54&\"'!$u$9\"),\"(\"&INDIRECT(\"'\"&$B54&\"'!$U$8\")&\")\"),\"\")","v":""},{"$f":"IF(L54,\"This site has incomplete Cost and Revenue data.  \",\"\")&IF(M54,\"WFRS data for previous quarters is incomplete.  \",\"\")&IF(K54,IFERROR(INDIRECT(\"'\"&$B54&\"'!$g$9\"),\"\"),\"\")","v":""},false,{"$f":"IFERROR(INDIRECT(\"'\"&$B54&\"'!$u$7\"),FALSE)","v":false},{"$f":"IFERROR(INDIRECT(\"'\"&$B54&\"'!$u$10\"),FALSE)","v":false},{"$f":"IFERROR(INDIRECT(\"'\"&$B54&\"'!$AC$12\"),FALSE)","v":false},{"$f":"IFERROR(INDIRECT(\"'\"&$B54&\"'!$ad$12\"),FALSE)","v":false},null,{"$f":"IFERROR(INDIRECT(\"'\"&$B54&\"'!$d$10\"),\"\")","v":""},{"$f":"IFERROR(INDIRECT(\"'\"&$B54&\"'!$d$33\"),\"\")","v":""},{"$f":"IFERROR(INDIRECT(\"'\"&$B54&\"'!$j$33\")+INDIRECT(\"'\"&$B54&\"'!$k$33\"),\"\")","v":""},{"$f":"IFERROR(INDIRECT(\"'\"&$B54&\"'!$q$33\"),\"\")","v":""},{"$f":"IFERROR(INDIRECT(\"'\"&$B54&\"'!$e$33\"),\"\")","v":""},{"$f":"IFERROR(INDIRECT(\"'\"&$B54&\"'!$L$33\"),\"\")","v":""},{"$f":"IFERROR(INDIRECT(\"'\"&$B54&\"'!$g$33\")+INDIRECT(\"'\"&$B54&\"'!$h$33\")+INDIRECT(\"'\"&$B54&\"'!$i$33\"),\"\")","v":""}]
[19,{"$f":"IFERROR(IF(OR(SHEETNAME(A55)=\"HIDE\",SHEETNAME(A55)=\"Start Here\",SHEETNAME(A55)=\"Template\"),\"\",SHEETNAME(A55)),\"\")","v":""},{"$f":"IFERROR(INDIRECT(\"'\"&$B55&\"'!$d$6\"),\"\")","v":""},{"$f":"IFERROR(INDIRECT(\"'\"&$B55&\"'!$d$7\"),\"\")","v":""},{"$f":"IFERROR(INDIRECT(\"'\"&$B55&\"'!$d$8\"),\"\")","v":""},{"$f":"IFERROR(IF(OR(SHEETNAME($A55)=\"HIDE\",SHEETNAME($A55)=\"Start Here\",SHEETNAME($A55)=\"Template\"),\"\",HYPERLINK(\"#'\"&B55&\"'!A1\",\"Go to Sheet\")),\"\")","v":""},{"$f":"IFERROR(IF(INDIRECT(\"'\"&$B55&\"'!$U$7\"),INDIRECT(\"'\"&$B55&\"'!$u$9\"),\"(\"&INDIRECT(\"'\"&$B55&\"'!$U$8\")&\")\"),\"\")","v":""},{"$f":"IF(L55,\"This site has incomplete Cost and Revenue data.  \",\"\")&IF(M55,\"WFRS data for previous quarters is incomplete.  \",\"\")&IF(K55,IFERROR(INDIRECT(\"'\"&$B55&\"'!$g$9\"),\"\"),\"\")","v":""},false,{"$f":"IFERROR(INDIRECT(\"'\"&$B55&\"'!$u$7\"),FALSE)","v":false},{"$f":"IFERROR(INDIRECT(\"'\"&$B55&\"'!$u$10\"),FALSE)","v":false},{"$f":"IFERROR(INDIRECT(\"'\"&$B55&\"'!$AC$12\"),FALSE)","v":false},{"$f":"IFERROR(INDIRECT(\"'\"&$B55&\"'!$ad$12\"),FALSE)","v":false},null,{"$f":"IFERROR(INDIRECT(\"'\"&$B55&\"'!$d$10\"),\"\")","v":""},{"$f":"IFERROR(INDIRECT(\"'\"&$B55&\"'!$d$33\"),\"\")","v":""},{"$f":"IFERROR(INDIRECT(\"'\"&$B55&\"'!$j$33\")+INDIRECT(\"'\"&$B55&\"'!$k$33\"),\"\")","v":""},{"$f":"IFERROR(INDIRECT(\"'\"&$B55&\"'!$q$33\"),\"\")","v":""},{"$f":"IFERROR(INDIRECT(\"'\"&$B55&\"'!$e$33\"),\"\")","v":""},{"$f":"IFERROR(INDIRECT(\"'\"&$B55&\"'!$L$33\"),\"\")","v":""},{"$f":"IFERROR(INDIRECT(\"'\"&$B55&\"'!$g$33\")+INDIRECT(\"'\"&$B55&\"'!$h$33\")+INDIRECT(\"'\"&$B55&\"'!$i$33\"),\"\")","v":""}]
[20,{"$f":"IFERROR(IF(OR(SHEETNAME(A56)=\"HIDE\",SHEETNAME(A56)=\"Start Here\",SHEETNAME(A56)=\"Template\"),\"\",SHEETNAME(A56)),\"\")","v":""},{"$f":"IFERROR(INDIRECT(\"'\"&$B56&\"'!$d$6\"),\"\")","v":""},{"$f":"IFERROR(INDIRECT(\"'\"&$B56&\"'!$d$7\"),\"\")","v":""},{"$f":"IFERROR(INDIRECT(\"'\"&$B56&\"'!$d$8\"),\"\")","v":""},{"$f":"IFERROR(IF(OR(SHEETNAME($A56)=\"HIDE\",SHEETNAME($A56)=\"Start Here\",SHEETNAME($A56)=\"Template\"),\"\",HYPERLINK(\"#'\"&B56&\"'!A1\",\"Go to Sheet\")),\"\")","v":""},{"$f":"IFERROR(IF(INDIRECT(\"'\"&$B56&\"'!$U$7\"),INDIRECT(\"'\"&$B56&\"'!$u$9\"),\"(\"&INDIRECT(\"'\"&$B56&\"'!$U$8\")&\")\"),\"\")","v":""},{"$f":"IF(L56,\"This site has incomplete Cost and Revenue data.  \",\"\")&IF(M56,\"WFRS data for previous quarters is incomplete.  \",\"\")&IF(K56,IFERROR(INDIRECT(\"'\"&$B56&\"'!$g$9\"),\"\"),\"\")","v":""},false,{"$f":"IFERROR(INDIRECT(\"'\"&$B56&\"'!$u$7\"),FALSE)","v":false},{"$f":"IFERROR(INDIRECT(\"'\"&$B56&\"'!$u$10\"),FALSE)","v":false},{"$f":"IFERROR(INDIRECT(\"'\"&$B56&\"'!$AC$12\"),FALSE)","v":false},{"$f":"IFERROR(INDIRECT(\"'\"&$B56&\"'!$ad$12\"),FALSE)","v":false},null,{"$f":"IFERROR(INDIRECT(\"'\"&$B56&\"'!$d$10\"),\"\")","v":""},{"$f":"IFERROR(INDIRECT(\"'\"&$B56&\"'!$d$33\"),\"\")","v":""},{"$f":"IFERROR(INDIRECT(\"'\"&$B56&\"'!$j$33\")+INDIRECT(\"'\"&$B56&\"'!$k$33\"),\"\")","v":""},{"$f":"IFERROR(INDIRECT(\"'\"&$B56&\"'!$q$33\"),\"\")","v":""},{"$f":"IFERROR(INDIRECT(\"'\"&$B56&\"'!$e$33\"),\"\")","v":""},{"$f":"IFERROR(INDIRECT(\"'\"&$B56&\"'!$L$33\"),\"\")","v":""},{"$f":"IFERROR(INDIRECT(\"'\"&$B56&\"'!$g$33\")+INDIRECT(\"'\"&$B56&\"'!$h$33\")+INDIRECT(\"'\"&$B56&\"'!$i$33\"),\"\")","v":""}]
[21,{"$f":"IFERROR(IF(OR(SHEETNAME(A57)=\"HIDE\",SHEETNAME(A57)=\"Start Here\",SHEETNAME(A57)=\"Template\"),\"\",SHEETNAME(A57)),\"\")","v":""},{"$f":"IFERROR(INDIRECT(\"'\"&$B57&\"'!$d$6\"),\"\")","v":""},{"$f":"IFERROR(INDIRECT(\"'\"&$B57&\"'!$d$7\"),\"\")","v":""},{"$f":"IFERROR(INDIRECT(\"'\"&$B57&\"'!$d$8\"),\"\")","v":""},{"$f":"IFERROR(IF(OR(SHEETNAME($A57)=\"HIDE\",SHEETNAME($A57)=\"Start Here\",SHEETNAME($A57)=\"Template\"),\"\",HYPERLINK(\"#'\"&B57&\"'!A1\",\"Go to Sheet\")),\"\")","v":""},{"$f":"IFERROR(IF(INDIRECT(\"'\"&$B57&\"'!$U$7\"),INDIRECT(\"'\"&$B57&\"'!$u$9\"),\"(\"&INDIRECT(\"'\"&$B57&\"'!$U$8\")&\")\"),\"\")","v":""},{"$f":"IF(L57,\"This site has incomplete Cost and Revenue data.  \",\"\")&IF(M57,\"WFRS data for previous quarters is incomplete.  \",\"\")&IF(K57,IFERROR(INDIRECT(\"'\"&$B57&\"'!$g$9\"),\"\"),\"\")","v":""},false,{"$f":"IFERROR(INDIRECT(\"'\"&$B57&\"'!$u$7\"),FALSE)","v":false},{"$f":"IFERROR(INDIRECT(\"'\"&$B57&\"'!$u$10\"),FALSE)","v":false},{"$f":"IFERROR(INDIRECT(\"'\"&$B57&\"'!$AC$12\"),FALSE)","v":false},{"$f":"IFERROR(INDIRECT(\"'\"&$B57&\"'!$ad$12\"),FALSE)","v":false},null,{"$f":"IFERROR(INDIRECT(\"'\"&$B57&\"'!$d$10\"),\"\")","v":""},{"$f":"IFERROR(INDIRECT(\"'\"&$B57&\"'!$d$33\"),\"\")","v":""},{"$f":"IFERROR(INDIRECT(\"'\"&$B57&\"'!$j$33\")+INDIRECT(\"'\"&$B57&\"'!$k$33\"),\"\")","v":""},{"$f":"IFERROR(INDIRECT(\"'\"&$B57&\"'!$q$33\"),\"\")","v":""},{"$f":"IFERROR(INDIRECT(\"'\"&$B57&\"'!$e$33\"),\"\")","v":""},{"$f":"IFERROR(INDIRECT(\"'\"&$B57&\"'!$L$33\"),\"\")","v":""},{"$f":"IFERROR(INDIRECT(\"'\"&$B57&\"'!$g$33\")+INDIRECT(\"'\"&$B57&\"'!$h$33\")+INDIRECT(\"'\"&$B57&\"'!$i$33\"),\"\")","v":""}]
[22,{"$f":"IFERROR(IF(OR(SHEETNAME(A58)=\"HIDE\",SHEETNAME(A58)=\"Start Here\",SHEETNAME(A58)=\"Template\"),\"\",SHEETNAME(A58)),\"\")","v":""},{"$f":"IFERROR(INDIRECT(\"'\"&$B58&\"'!$d$6\"),\"\")","v":""},{"$f":"IFERROR(INDIRECT(\"'\"&$B58&\"'!$d$7\"),\"\")","v":""},{"$f":"IFERROR(INDIRECT(\"'\"&$B58&\"'!$d$8\"),\"\")","v":""},{"$f":"IFERROR(IF(OR(SHEETNAME($A58)=\"HIDE\",SHEETNAME($A58)=\"Start Here\",SHEETNAME($A58)=\"Template\"),\"\",HYPERLINK(\"#'\"&B58&\"'!A1\",\"Go to Sheet\")),\"\")","v":""},{"$f":"IFERROR(IF(INDIRECT(\"'\"&$B58&\"'!$U$7\"),INDIRECT(\"'\"&$B58&\"'!$u$9\"),\"(\"&INDIRECT(\"'\"&$B58&\"'!$U$8\")&\")\"),\"\")","v":""},{"$f":"IF(L58,\"This site has incomplete Cost and Revenue data.  \",\"\")&IF(M58,\"WFRS data for previous quarters is incomplete.  \",\"\")&IF(K58,IFERROR(INDIRECT(\"'\"&$B58&\"'!$g$9\"),\"\"),\"\")","v":""},false,{"$f":"IFERROR(INDIRECT(\"'\"&$B58&\"'!$u$7\"),FALSE)","v":false},{"$f":"IFERROR(INDIRECT(\"'\"&$B58&\"'!$u$10\"),FALSE)","v":false},{"$f":"IFERROR(INDIRECT(\"'\"&$B58&\"'!$AC$12\"),FALSE)","v":false},{"$f":"IFERROR(INDIRECT(\"'\"&$B58&\"'!$ad$12\"),FALSE)","v":false},null,{"$f":"IFERROR(INDIRECT(\"'\"&$B58&\"'!$d$10\"),\"\")","v":""},{"$f":"IFERROR(INDIRECT(\"'\"&$B58&\"'!$d$33\"),\"\")","v":""},{"$f":"IFERROR(INDIRECT(\"'\"&$B58&\"'!$j$33\")+INDIRECT(\"'\"&$B58&\"'!$k$33\"),\"\")","v":""},{"$f":"IFERROR(INDIRECT(\"'\"&$B58&\"'!$q$33\"),\"\")","v":""},{"$f":"IFERROR(INDIRECT(\"'\"&$B58&\"'!$e$33\"),\"\")","v":""},{"$f":"IFERROR(INDIRECT(\"'\"&$B58&\"'!$L$33\"),\"\")","v":""},{"$f":"IFERROR(INDIRECT(\"'\"&$B58&\"'!$g$33\")+INDIRECT(\"'\"&$B58&\"'!$h$33\")+INDIRECT(\"'\"&$B58&\"'!$i$33\"),\"\")","v":""}]
[23,{"$f":"IFERROR(IF(OR(SHEETNAME(A59)=\"HIDE\",SHEETNAME(A59)=\"Start Here\",SHEETNAME(A59)=\"Template\"),\"\",SHEETNAME(A59)),\"\")","v":""},{"$f":"IFERROR(INDIRECT(\"'\"&$B59&\"'!$d$6\"),\"\")","v":""},{"$f":"IFERROR(INDIRECT(\"'\"&$B59&\"'!$d$7\"),\"\")","v":""},{"$f":"IFERROR(INDIRECT(\"'\"&$B59&\"'!$d$8\"),\"\")","v":""},{"$f":"IFERROR(IF(OR(SHEETNAME($A59)=\"HIDE\",SHEETNAME($A59)=\"Start Here\",SHEETNAME($A59)=\"Template\"),\"\",HYPERLINK(\"#'\"&B59&\"'!A1\",\"Go to Sheet\")),\"\")","v":""},{"$f":"IFERROR(IF(INDIRECT(\"'\"&$B59&\"'!$U$7\"),INDIRECT(\"'\"&$B59&\"'!$u$9\"),\"(\"&INDIRECT(\"'\"&$B59&\"'!$U$8\")&\")\"),\"\")","v":""},{"$f":"IF(L59,\"This site has incomplete Cost and Revenue data.  \",\"\")&IF(M59,\"WFRS data for previous quarters is incomplete.  \",\"\")&IF(K59,IFERROR(INDIRECT(\"'\"&$B59&\"'!$g$9\"),\"\"),\"\")","v":""},false,{"$f":"IFERROR(INDIRECT(\"'\"&$B59&\"'!$u$7\"),FALSE)","v":false},{"$f":"IFERROR(INDIRECT(\"'\"&$B59&\"'!$u$10\"),FALSE)","v":false},{"$f":"IFERROR(INDIRECT(\"'\"&$B59&\"'!$AC$12\"),FALSE)","v":false},{"$f":"IFERROR(INDIRECT(\"'\"&$B59&\"'!$ad$12\"),FALSE)","v":false},null,{"$f":"IFERROR(INDIRECT(\"'\"&$B59&\"'!$d$10\"),\"\")","v":""},{"$f":"IFERROR(INDIRECT(\"'\"&$B59&\"'!$d$33\"),\"\")","v":""},{"$f":"IFERROR(INDIRECT(\"'\"&$B59&\"'!$j$33\")+INDIRECT(\"'\"&$B59&\"'!$k$33\"),\"\")","v":""},{"$f":"IFERROR(INDIRECT(\"'\"&$B59&\"'!$q$33\"),\"\")","v":""},{"$f":"IFERROR(INDIRECT(\"'\"&$B59&\"'!$e$33\"),\"\")","v":""},{"$f":"IFERROR(INDIRECT(\"'\"&$B59&\"'!$L$33\"),\"\")","v":""},{"$f":"IFERROR(INDIRECT(\"'\"&$B59&\"'!$g$33\")+INDIRECT(\"'\"&$B59&\"'!$h$33\")+INDIRECT(\"'\"&$B59&\"'!$i$33\"),\"\")","v":""}]
[24,{"$f":"IFERROR(IF(OR(SHEETNAME(A60)=\"HIDE\",SHEETNAME(A60)=\"Start Here\",SHEETNAME(A60)=\"Template\"),\"\",SHEETNAME(A60)),\"\")","v":""},{"$f":"IFERROR(INDIRECT(\"'\"&$B60&\"'!$d$6\"),\"\")","v":""},{"$f":"IFERROR(INDIRECT(\"'\"&$B60&\"'!$d$7\"),\"\")","v":""},{"$f":"IFERROR(INDIRECT(\"'\"&$B60&\"'!$d$8\"),\"\")","v":""},{"$f":"IFERROR(IF(OR(SHEETNAME($A60)=\"HIDE\",SHEETNAME($A60)=\"Start Here\",SHEETNAME($A60)=\"Template\"),\"\",HYPERLINK(\"#'\"&B60&\"'!A1\",\"Go to Sheet\")),\"\")","v":""},{"$f":"IFERROR(IF(INDIRECT(\"'\"&$B60&\"'!$U$7\"),INDIRECT(\"'\"&$B60&\"'!$u$9\"),\"(\"&INDIRECT(\"'\"&$B60&\"'!$U$8\")&\")\"),\"\")","v":""},{"$f":"IF(L60,\"This site has incomplete Cost and Revenue data.  \",\"\")&IF(M60,\"WFRS data for previous quarters is incomplete.  \",\"\")&IF(K60,IFERROR(INDIRECT(\"'\"&$B60&\"'!$g$9\"),\"\"),\"\")","v":""},false,{"$f":"IFERROR(INDIRECT(\"'\"&$B60&\"'!$u$7\"),FALSE)","v":false},{"$f":"IFERROR(INDIRECT(\"'\"&$B60&\"'!$u$10\"),FALSE)","v":false},{"$f":"IFERROR(INDIRECT(\"'\"&$B60&\"'!$AC$12\"),FALSE)","v":false},{"$f":"IFERROR(INDIRECT(\"'\"&$B60&\"'!$ad$12\"),FALSE)","v":false},null,{"$f":"IFERROR(INDIRECT(\"'\"&$B60&\"'!$d$10\"),\"\")","v":""},{"$f":"IFERROR(INDIRECT(\"'\"&$B60&\"'!$d$33\"),\"\")","v":""},{"$f":"IFERROR(INDIRECT(\"'\"&$B60&\"'!$j$33\")+INDIRECT(\"'\"&$B60&\"'!$k$33\"),\"\")","v":""},{"$f":"IFERROR(INDIRECT(\"'\"&$B60&\"'!$q$33\"),\"\")","v":""},{"$f":"IFERROR(INDIRECT(\"'\"&$B60&\"'!$e$33\"),\"\")","v":""},{"$f":"IFERROR(INDIRECT(\"'\"&$B60&\"'!$L$33\"),\"\")","v":""},{"$f":"IFERROR(INDIRECT(\"'\"&$B60&\"'!$g$33\")+INDIRECT(\"'\"&$B60&\"'!$h$33\")+INDIRECT(\"'\"&$B60&\"'!$i$33\"),\"\")","v":""}]
[25,{"$f":"IFERROR(IF(OR(SHEETNAME(A61)=\"HIDE\",SHEETNAME(A61)=\"Start Here\",SHEETNAME(A61)=\"Template\"),\"\",SHEETNAME(A61)),\"\")","v":""},{"$f":"IFERROR(INDIRECT(\"'\"&$B61&\"'!$d$6\"),\"\")","v":""},{"$f":"IFERROR(INDIRECT(\"'\"&$B61&\"'!$d$7\"),\"\")","v":""},{"$f":"IFERROR(INDIRECT(\"'\"&$B61&\"'!$d$8\"),\"\")","v":""},{"$f":"IFERROR(IF(OR(SHEETNAME($A61)=\"HIDE\",SHEETNAME($A61)=\"Start Here\",SHEETNAME($A61)=\"Template\"),\"\",HYPERLINK(\"#'\"&B61&\"'!A1\",\"Go to Sheet\")),\"\")","v":""},{"$f":"IFERROR(IF(INDIRECT(\"'\"&$B61&\"'!$U$7\"),INDIRECT(\"'\"&$B61&\"'!$u$9\"),\"(\"&INDIRECT(\"'\"&$B61&\"'!$U$8\")&\")\"),\"\")","v":""},{"$f":"IF(L61,\"This site has incomplete Cost and Revenue data.  \",\"\")&IF(M61,\"WFRS data for previous quarters is incomplete.  \",\"\")&IF(K61,IFERROR(INDIRECT(\"'\"&$B61&\"'!$g$9\"),\"\"),\"\")","v":""},false,{"$f":"IFERROR(INDIRECT(\"'\"&$B61&\"'!$u$7\"),FALSE)","v":false},{"$f":"IFERROR(INDIRECT(\"'\"&$B61&\"'!$u$10\"),FALSE)","v":false},{"$f":"IFERROR(INDIRECT(\"'\"&$B61&\"'!$AC$12\"),FALSE)","v":false},{"$f":"IFERROR(INDIRECT(\"'\"&$B61&\"'!$ad$12\"),FALSE)","v":false},null,{"$f":"IFERROR(INDIRECT(\"'\"&$B61&\"'!$d$10\"),\"\")","v":""},{"$f":"IFERROR(INDIRECT(\"'\"&$B61&\"'!$d$33\"),\"\")","v":""},{"$f":"IFERROR(INDIRECT(\"'\"&$B61&\"'!$j$33\")+INDIRECT(\"'\"&$B61&\"'!$k$33\"),\"\")","v":""},{"$f":"IFERROR(INDIRECT(\"'\"&$B61&\"'!$q$33\"),\"\")","v":""},{"$f":"IFERROR(INDIRECT(\"'\"&$B61&\"'!$e$33\"),\"\")","v":""},{"$f":"IFERROR(INDIRECT(\"'\"&$B61&\"'!$L$33\"),\"\")","v":""},{"$f":"IFERROR(INDIRECT(\"'\"&$B61&\"'!$g$33\")+INDIRECT(\"'\"&$B61&\"'!$h$33\")+INDIRECT(\"'\"&$B61&\"'!$i$33\"),\"\")","v":""}]
[26,{"$f":"IFERROR(IF(OR(SHEETNAME(A62)=\"HIDE\",SHEETNAME(A62)=\"Start Here\",SHEETNAME(A62)=\"Template\"),\"\",SHEETNAME(A62)),\"\")","v":""},{"$f":"IFERROR(INDIRECT(\"'\"&$B62&\"'!$d$6\"),\"\")","v":""},{"$f":"IFERROR(INDIRECT(\"'\"&$B62&\"'!$d$7\"),\"\")","v":""},{"$f":"IFERROR(INDIRECT(\"'\"&$B62&\"'!$d$8\"),\"\")","v":""},{"$f":"IFERROR(IF(OR(SHEETNAME($A62)=\"HIDE\",SHEETNAME($A62)=\"Start Here\",SHEETNAME($A62)=\"Template\"),\"\",HYPERLINK(\"#'\"&B62&\"'!A1\",\"Go to Sheet\")),\"\")","v":""},{"$f":"IFERROR(IF(INDIRECT(\"'\"&$B62&\"'!$U$7\"),INDIRECT(\"'\"&$B62&\"'!$u$9\"),\"(\"&INDIRECT(\"'\"&$B62&\"'!$U$8\")&\")\"),\"\")","v":""},{"$f":"IF(L62,\"This site has incomplete Cost and Revenue data.  \",\"\")&IF(M62,\"WFRS data for previous quarters is incomplete.  \",\"\")&IF(K62,IFERROR(INDIRECT(\"'\"&$B62&\"'!$g$9\"),\"\"),\"\")","v":""},false,{"$f":"IFERROR(INDIRECT(\"'\"&$B62&\"'!$u$7\"),FALSE)","v":false},{"$f":"IFERROR(INDIRECT(\"'\"&$B62&\"'!$u$10\"),FALSE)","v":false},{"$f":"IFERROR(INDIRECT(\"'\"&$B62&\"'!$AC$12\"),FALSE)","v":false},{"$f":"IFERROR(INDIRECT(\"'\"&$B62&\"'!$ad$12\"),FALSE)","v":false},null,{"$f":"IFERROR(INDIRECT(\"'\"&$B62&\"'!$d$10\"),\"\")","v":""},{"$f":"IFERROR(INDIRECT(\"'\"&$B62&\"'!$d$33\"),\"\")","v":""},{"$f":"IFERROR(INDIRECT(\"'\"&$B62&\"'!$j$33\")+INDIRECT(\"'\"&$B62&\"'!$k$33\"),\"\")","v":""},{"$f":"IFERROR(INDIRECT(\"'\"&$B62&\"'!$q$33\"),\"\")","v":""},{"$f":"IFERROR(INDIRECT(\"'\"&$B62&\"'!$e$33\"),\"\")","v":""},{"$f":"IFERROR(INDIRECT(\"'\"&$B62&\"'!$L$33\"),\"\")","v":""},{"$f":"IFERROR(INDIRECT(\"'\"&$B62&\"'!$g$33\")+INDIRECT(\"'\"&$B62&\"'!$h$33\")+INDIRECT(\"'\"&$B62&\"'!$i$33\"),\"\")","v":""}]
[27,{"$f":"IFERROR(IF(OR(SHEETNAME(A63)=\"HIDE\",SHEETNAME(A63)=\"Start Here\",SHEETNAME(A63)=\"Template\"),\"\",SHEETNAME(A63)),\"\")","v":""},{"$f":"IFERROR(INDIRECT(\"'\"&$B63&\"'!$d$6\"),\"\")","v":""},{"$f":"IFERROR(INDIRECT(\"'\"&$B63&\"'!$d$7\"),\"\")","v":""},{"$f":"IFERROR(INDIRECT(\"'\"&$B63&\"'!$d$8\"),\"\")","v":""},{"$f":"IFERROR(IF(OR(SHEETNAME($A63)=\"HIDE\",SHEETNAME($A63)=\"Start Here\",SHEETNAME($A63)=\"Template\"),\"\",HYPERLINK(\"#'\"&B63&\"'!A1\",\"Go to Sheet\")),\"\")","v":""},{"$f":"IFERROR(IF(INDIRECT(\"'\"&$B63&\"'!$U$7\"),INDIRECT(\"'\"&$B63&\"'!$u$9\"),\"(\"&INDIRECT(\"'\"&$B63&\"'!$U$8\")&\")\"),\"\")","v":""},{"$f":"IF(L63,\"This site has incomplete Cost and Revenue data.  \",\"\")&IF(M63,\"WFRS data for previous quarters is incomplete.  \",\"\")&IF(K63,IFERROR(INDIRECT(\"'\"&$B63&\"'!$g$9\"),\"\"),\"\")","v":""},false,{"$f":"IFERROR(INDIRECT(\"'\"&$B63&\"'!$u$7\"),FALSE)","v":false},{"$f":"IFERROR(INDIRECT(\"'\"&$B63&\"'!$u$10\"),FALSE)","v":false},{"$f":"IFERROR(INDIRECT(\"'\"&$B63&\"'!$AC$12\"),FALSE)","v":false},{"$f":"IFERROR(INDIRECT(\"'\"&$B63&\"'!$ad$12\"),FALSE)","v":false},null,{"$f":"IFERROR(INDIRECT(\"'\"&$B63&\"'!$d$10\"),\"\")","v":""},{"$f":"IFERROR(INDIRECT(\"'\"&$B63&\"'!$d$33\"),\"\")","v":""},{"$f":"IFERROR(INDIRECT(\"'\"&$B63&\"'!$j$33\")+INDIRECT(\"'\"&$B63&\"'!$k$33\"),\"\")","v":""},{"$f":"IFERROR(INDIRECT(\"'\"&$B63&\"'!$q$33\"),\"\")","v":""},{"$f":"IFERROR(INDIRECT(\"'\"&$B63&\"'!$e$33\"),\"\")","v":""},{"$f":"IFERROR(INDIRECT(\"'\"&$B63&\"'!$L$33\"),\"\")","v":""},{"$f":"IFERROR(INDIRECT(\"'\"&$B63&\"'!$g$33\")+INDIRECT(\"'\"&$B63&\"'!$h$33\")+INDIRECT(\"'\"&$B63&\"'!$i$33\"),\"\")","v":""}]
[28,{"$f":"IFERROR(IF(OR(SHEETNAME(A64)=\"HIDE\",SHEETNAME(A64)=\"Start Here\",SHEETNAME(A64)=\"Template\"),\"\",SHEETNAME(A64)),\"\")","v":""},{"$f":"IFERROR(INDIRECT(\"'\"&$B64&\"'!$d$6\"),\"\")","v":""},{"$f":"IFERROR(INDIRECT(\"'\"&$B64&\"'!$d$7\"),\"\")","v":""},{"$f":"IFERROR(INDIRECT(\"'\"&$B64&\"'!$d$8\"),\"\")","v":""},{"$f":"IFERROR(IF(OR(SHEETNAME($A64)=\"HIDE\",SHEETNAME($A64)=\"Start Here\",SHEETNAME($A64)=\"Template\"),\"\",HYPERLINK(\"#'\"&B64&\"'!A1\",\"Go to Sheet\")),\"\")","v":""},{"$f":"IFERROR(IF(INDIRECT(\"'\"&$B64&\"'!$U$7\"),INDIRECT(\"'\"&$B64&\"'!$u$9\"),\"(\"&INDIRECT(\"'\"&$B64&\"'!$U$8\")&\")\"),\"\")","v":""},{"$f":"IF(L64,\"This site has incomplete Cost and Revenue data.  \",\"\")&IF(M64,\"WFRS data for previous quarters is incomplete.  \",\"\")&IF(K64,IFERROR(INDIRECT(\"'\"&$B64&\"'!$g$9\"),\"\"),\"\")","v":""},false,{"$f":"IFERROR(INDIRECT(\"'\"&$B64&\"'!$u$7\"),FALSE)","v":false},{"$f":"IFERROR(INDIRECT(\"'\"&$B64&\"'!$u$10\"),FALSE)","v":false},{"$f":"IFERROR(INDIRECT(\"'\"&$B64&\"'!$AC$12\"),FALSE)","v":false},{"$f":"IFERROR(INDIRECT(\"'\"&$B64&\"'!$ad$12\"),FALSE)","v":false},null,{"$f":"IFERROR(INDIRECT(\"'\"&$B64&\"'!$d$10\"),\"\")","v":""},{"$f":"IFERROR(INDIRECT(\"'\"&$B64&\"'!$d$33\"),\"\")","v":""},{"$f":"IFERROR(INDIRECT(\"'\"&$B64&\"'!$j$33\")+INDIRECT(\"'\"&$B64&\"'!$k$33\"),\"\")","v":""},{"$f":"IFERROR(INDIRECT(\"'\"&$B64&\"'!$q$33\"),\"\")","v":""},{"$f":"IFERROR(INDIRECT(\"'\"&$B64&\"'!$e$33\"),\"\")","v":""},{"$f":"IFERROR(INDIRECT(\"'\"&$B64&\"'!$L$33\"),\"\")","v":""},{"$f":"IFERROR(INDIRECT(\"'\"&$B64&\"'!$g$33\")+INDIRECT(\"'\"&$B64&\"'!$h$33\")+INDIRECT(\"'\"&$B64&\"'!$i$33\"),\"\")","v":""}]
[29,{"$f":"IFERROR(IF(OR(SHEETNAME(A65)=\"HIDE\",SHEETNAME(A65)=\"Start Here\",SHEETNAME(A65)=\"Template\"),\"\",SHEETNAME(A65)),\"\")","v":""},{"$f":"IFERROR(INDIRECT(\"'\"&$B65&\"'!$d$6\"),\"\")","v":""},{"$f":"IFERROR(INDIRECT(\"'\"&$B65&\"'!$d$7\"),\"\")","v":""},{"$f":"IFERROR(INDIRECT(\"'\"&$B65&\"'!$d$8\"),\"\")","v":""},{"$f":"IFERROR(IF(OR(SHEETNAME($A65)=\"HIDE\",SHEETNAME($A65)=\"Start Here\",SHEETNAME($A65)=\"Template\"),\"\",HYPERLINK(\"#'\"&B65&\"'!A1\",\"Go to Sheet\")),\"\")","v":""},{"$f":"IFERROR(IF(INDIRECT(\"'\"&$B65&\"'!$U$7\"),INDIRECT(\"'\"&$B65&\"'!$u$9\"),\"(\"&INDIRECT(\"'\"&$B65&\"'!$U$8\")&\")\"),\"\")","v":""},{"$f":"IF(L65,\"This site has incomplete Cost and Revenue data.  \",\"\")&IF(M65,\"WFRS data for previous quarters is incomplete.  \",\"\")&IF(K65,IFERROR(INDIRECT(\"'\"&$B65&\"'!$g$9\"),\"\"),\"\")","v":""},false,{"$f":"IFERROR(INDIRECT(\"'\"&$B65&\"'!$u$7\"),FALSE)","v":false},{"$f":"IFERROR(INDIRECT(\"'\"&$B65&\"'!$u$10\"),FALSE)","v":false},{"$f":"IFERROR(INDIRECT(\"'\"&$B65&\"'!$AC$12\"),FALSE)","v":false},{"$f":"IFERROR(INDIRECT(\"'\"&$B65&\"'!$ad$12\"),FALSE)","v":false},null,{"$f":"IFERROR(INDIRECT(\"'\"&$B65&\"'!$d$10\"),\"\")","v":""},{"$f":"IFERROR(INDIRECT(\"'\"&$B65&\"'!$d$33\"),\"\")","v":""},{"$f":"IFERROR(INDIRECT(\"'\"&$B65&\"'!$j$33\")+INDIRECT(\"'\"&$B65&\"'!$k$33\"),\"\")","v":""},{"$f":"IFERROR(INDIRECT(\"'\"&$B65&\"'!$q$33\"),\"\")","v":""},{"$f":"IFERROR(INDIRECT(\"'\"&$B65&\"'!$e$33\"),\"\")","v":""},{"$f":"IFERROR(INDIRECT(\"'\"&$B65&\"'!$L$33\"),\"\")","v":""},{"$f":"IFERROR(INDIRECT(\"'\"&$B65&\"'!$g$33\")+INDIRECT(\"'\"&$B65&\"'!$h$33\")+INDIRECT(\"'\"&$B65&\"'!$i$33\"),\"\")","v":""}]
[30,{"$f":"IFERROR(IF(OR(SHEETNAME(A66)=\"HIDE\",SHEETNAME(A66)=\"Start Here\",SHEETNAME(A66)=\"Template\"),\"\",SHEETNAME(A66)),\"\")","v":""},{"$f":"IFERROR(INDIRECT(\"'\"&$B66&\"'!$d$6\"),\"\")","v":""},{"$f":"IFERROR(INDIRECT(\"'\"&$B66&\"'!$d$7\"),\"\")","v":""},{"$f":"IFERROR(INDIRECT(\"'\"&$B66&\"'!$d$8\"),\"\")","v":""},{"$f":"IFERROR(IF(OR(SHEETNAME($A66)=\"HIDE\",SHEETNAME($A66)=\"Start Here\",SHEETNAME($A66)=\"Template\"),\"\",HYPERLINK(\"#'\"&B66&\"'!A1\",\"Go to Sheet\")),\"\")","v":""},{"$f":"IFERROR(IF(INDIRECT(\"'\"&$B66&\"'!$U$7\"),INDIRECT(\"'\"&$B66&\"'!$u$9\"),\"(\"&INDIRECT(\"'\"&$B66&\"'!$U$8\")&\")\"),\"\")","v":""},{"$f":"IF(L66,\"This site has incomplete Cost and Revenue data.  \",\"\")&IF(M66,\"WFRS data for previous quarters is incomplete.  \",\"\")&IF(K66,IFERROR(INDIRECT(\"'\"&$B66&\"'!$g$9\"),\"\"),\"\")","v":""},false,{"$f":"IFERROR(INDIRECT(\"'\"&$B66&\"'!$u$7\"),FALSE)","v":false},{"$f":"IFERROR(INDIRECT(\"'\"&$B66&\"'!$u$10\"),FALSE)","v":false},{"$f":"IFERROR(INDIRECT(\"'\"&$B66&\"'!$AC$12\"),FALSE)","v":false},{"$f":"IFERROR(INDIRECT(\"'\"&$B66&\"'!$ad$12\"),FALSE)","v":false},null,{"$f":"IFERROR(INDIRECT(\"'\"&$B66&\"'!$d$10\"),\"\")","v":""},{"$f":"IFERROR(INDIRECT(\"'\"&$B66&\"'!$d$33\"),\"\")","v":""},{"$f":"IFERROR(INDIRECT(\"'\"&$B66&\"'!$j$33\")+INDIRECT(\"'\"&$B66&\"'!$k$33\"),\"\")","v":""},{"$f":"IFERROR(INDIRECT(\"'\"&$B66&\"'!$q$33\"),\"\")","v":""},{"$f":"IFERROR(INDIRECT(\"'\"&$B66&\"'!$e$33\"),\"\")","v":""},{"$f":"IFERROR(INDIRECT(\"'\"&$B66&\"'!$L$33\"),\"\")","v":""},{"$f":"IFERROR(INDIRECT(\"'\"&$B66&\"'!$g$33\")+INDIRECT(\"'\"&$B66&\"'!$h$33\")+INDIRECT(\"'\"&$B66&\"'!$i$33\"),\"\")","v":""}]
[31,{"$f":"IFERROR(IF(OR(SHEETNAME(A67)=\"HIDE\",SHEETNAME(A67)=\"Start Here\",SHEETNAME(A67)=\"Template\"),\"\",SHEETNAME(A67)),\"\")","v":""},{"$f":"IFERROR(INDIRECT(\"'\"&$B67&\"'!$d$6\"),\"\")","v":""},{"$f":"IFERROR(INDIRECT(\"'\"&$B67&\"'!$d$7\"),\"\")","v":""},{"$f":"IFERROR(INDIRECT(\"'\"&$B67&\"'!$d$8\"),\"\")","v":""},{"$f":"IFERROR(IF(OR(SHEETNAME($A67)=\"HIDE\",SHEETNAME($A67)=\"Start Here\",SHEETNAME($A67)=\"Template\"),\"\",HYPERLINK(\"#'\"&B67&\"'!A1\",\"Go to Sheet\")),\"\")","v":""},{"$f":"IFERROR(IF(INDIRECT(\"'\"&$B67&\"'!$U$7\"),INDIRECT(\"'\"&$B67&\"'!$u$9\"),\"(\"&INDIRECT(\"'\"&$B67&\"'!$U$8\")&\")\"),\"\")","v":""},{"$f":"IF(L67,\"This site has incomplete Cost and Revenue data.  \",\"\")&IF(M67,\"WFRS data for previous quarters is incomplete.  \",\"\")&IF(K67,IFERROR(INDIRECT(\"'\"&$B67&\"'!$g$9\"),\"\"),\"\")","v":""},false,{"$f":"IFERROR(INDIRECT(\"'\"&$B67&\"'!$u$7\"),FALSE)","v":false},{"$f":"IFERROR(INDIRECT(\"'\"&$B67&\"'!$u$10\"),FALSE)","v":false},{"$f":"IFERROR(INDIRECT(\"'\"&$B67&\"'!$AC$12\"),FALSE)","v":false},{"$f":"IFERROR(INDIRECT(\"'\"&$B67&\"'!$ad$12\"),FALSE)","v":false},null,{"$f":"IFERROR(INDIRECT(\"'\"&$B67&\"'!$d$10\"),\"\")","v":""},{"$f":"IFERROR(INDIRECT(\"'\"&$B67&\"'!$d$33\"),\"\")","v":""},{"$f":"IFERROR(INDIRECT(\"'\"&$B67&\"'!$j$33\")+INDIRECT(\"'\"&$B67&\"'!$k$33\"),\"\")","v":""},{"$f":"IFERROR(INDIRECT(\"'\"&$B67&\"'!$q$33\"),\"\")","v":""},{"$f":"IFERROR(INDIRECT(\"'\"&$B67&\"'!$e$33\"),\"\")","v":""},{"$f":"IFERROR(INDIRECT(\"'\"&$B67&\"'!$L$33\"),\"\")","v":""},{"$f":"IFERROR(INDIRECT(\"'\"&$B67&\"'!$g$33\")+INDIRECT(\"'\"&$B67&\"'!$h$33\")+INDIRECT(\"'\"&$B67&\"'!$i$33\"),\"\")","v":""}]
[32,{"$f":"IFERROR(IF(OR(SHEETNAME(A68)=\"HIDE\",SHEETNAME(A68)=\"Start Here\",SHEETNAME(A68)=\"Template\"),\"\",SHEETNAME(A68)),\"\")","v":""},{"$f":"IFERROR(INDIRECT(\"'\"&$B68&\"'!$d$6\"),\"\")","v":""},{"$f":"IFERROR(INDIRECT(\"'\"&$B68&\"'!$d$7\"),\"\")","v":""},{"$f":"IFERROR(INDIRECT(\"'\"&$B68&\"'!$d$8\"),\"\")","v":""},{"$f":"IFERROR(IF(OR(SHEETNAME($A68)=\"HIDE\",SHEETNAME($A68)=\"Start Here\",SHEETNAME($A68)=\"Template\"),\"\",HYPERLINK(\"#'\"&B68&\"'!A1\",\"Go to Sheet\")),\"\")","v":""},{"$f":"IFERROR(IF(INDIRECT(\"'\"&$B68&\"'!$U$7\"),INDIRECT(\"'\"&$B68&\"'!$u$9\"),\"(\"&INDIRECT(\"'\"&$B68&\"'!$U$8\")&\")\"),\"\")","v":""},{"$f":"IF(L68,\"This site has incomplete Cost and Revenue data.  \",\"\")&IF(M68,\"WFRS data for previous quarters is incomplete.  \",\"\")&IF(K68,IFERROR(INDIRECT(\"'\"&$B68&\"'!$g$9\"),\"\"),\"\")","v":""},false,{"$f":"IFERROR(INDIRECT(\"'\"&$B68&\"'!$u$7\"),FALSE)","v":false},{"$f":"IFERROR(INDIRECT(\"'\"&$B68&\"'!$u$10\"),FALSE)","v":false},{"$f":"IFERROR(INDIRECT(\"'\"&$B68&\"'!$AC$12\"),FALSE)","v":false},{"$f":"IFERROR(INDIRECT(\"'\"&$B68&\"'!$ad$12\"),FALSE)","v":false},null,{"$f":"IFERROR(INDIRECT(\"'\"&$B68&\"'!$d$10\"),\"\")","v":""},{"$f":"IFERROR(INDIRECT(\"'\"&$B68&\"'!$d$33\"),\"\")","v":""},{"$f":"IFERROR(INDIRECT(\"'\"&$B68&\"'!$j$33\")+INDIRECT(\"'\"&$B68&\"'!$k$33\"),\"\")","v":""},{"$f":"IFERROR(INDIRECT(\"'\"&$B68&\"'!$q$33\"),\"\")","v":""},{"$f":"IFERROR(INDIRECT(\"'\"&$B68&\"'!$e$33\"),\"\")","v":""},{"$f":"IFERROR(INDIRECT(\"'\"&$B68&\"'!$L$33\"),\"\")","v":""},{"$f":"IFERROR(INDIRECT(\"'\"&$B68&\"'!$g$33\")+INDIRECT(\"'\"&$B68&\"'!$h$33\")+INDIRECT(\"'\"&$B68&\"'!$i$33\"),\"\")","v":""}]
[33,{"$f":"IFERROR(IF(OR(SHEETNAME(A69)=\"HIDE\",SHEETNAME(A69)=\"Start Here\",SHEETNAME(A69)=\"Template\"),\"\",SHEETNAME(A69)),\"\")","v":""},{"$f":"IFERROR(INDIRECT(\"'\"&$B69&\"'!$d$6\"),\"\")","v":""},{"$f":"IFERROR(INDIRECT(\"'\"&$B69&\"'!$d$7\"),\"\")","v":""},{"$f":"IFERROR(INDIRECT(\"'\"&$B69&\"'!$d$8\"),\"\")","v":""},{"$f":"IFERROR(IF(OR(SHEETNAME($A69)=\"HIDE\",SHEETNAME($A69)=\"Start Here\",SHEETNAME($A69)=\"Template\"),\"\",HYPERLINK(\"#'\"&B69&\"'!A1\",\"Go to Sheet\")),\"\")","v":""},{"$f":"IFERROR(IF(INDIRECT(\"'\"&$B69&\"'!$U$7\"),INDIRECT(\"'\"&$B69&\"'!$u$9\"),\"(\"&INDIRECT(\"'\"&$B69&\"'!$U$8\")&\")\"),\"\")","v":""},{"$f":"IF(L69,\"This site has incomplete Cost and Revenue data.  \",\"\")&IF(M69,\"WFRS data for previous quarters is incomplete.  \",\"\")&IF(K69,IFERROR(INDIRECT(\"'\"&$B69&\"'!$g$9\"),\"\"),\"\")","v":""},false,{"$f":"IFERROR(INDIRECT(\"'\"&$B69&\"'!$u$7\"),FALSE)","v":false},{"$f":"IFERROR(INDIRECT(\"'\"&$B69&\"'!$u$10\"),FALSE)","v":false},{"$f":"IFERROR(INDIRECT(\"'\"&$B69&\"'!$AC$12\"),FALSE)","v":false},{"$f":"IFERROR(INDIRECT(\"'\"&$B69&\"'!$ad$12\"),FALSE)","v":false},null,{"$f":"IFERROR(INDIRECT(\"'\"&$B69&\"'!$d$10\"),\"\")","v":""},{"$f":"IFERROR(INDIRECT(\"'\"&$B69&\"'!$d$33\"),\"\")","v":""},{"$f":"IFERROR(INDIRECT(\"'\"&$B69&\"'!$j$33\")+INDIRECT(\"'\"&$B69&\"'!$k$33\"),\"\")","v":""},{"$f":"IFERROR(INDIRECT(\"'\"&$B69&\"'!$q$33\"),\"\")","v":""},{"$f":"IFERROR(INDIRECT(\"'\"&$B69&\"'!$e$33\"),\"\")","v":""},{"$f":"IFERROR(INDIRECT(\"'\"&$B69&\"'!$L$33\"),\"\")","v":""},{"$f":"IFERROR(INDIRECT(\"'\"&$B69&\"'!$g$33\")+INDIRECT(\"'\"&$B69&\"'!$h$33\")+INDIRECT(\"'\"&$B69&\"'!$i$33\"),\"\")","v":""}]
[34,{"$f":"IFERROR(IF(OR(SHEETNAME(A70)=\"HIDE\",SHEETNAME(A70)=\"Start Here\",SHEETNAME(A70)=\"Template\"),\"\",SHEETNAME(A70)),\"\")","v":""},{"$f":"IFERROR(INDIRECT(\"'\"&$B70&\"'!$d$6\"),\"\")","v":""},{"$f":"IFERROR(INDIRECT(\"'\"&$B70&\"'!$d$7\"),\"\")","v":""},{"$f":"IFERROR(INDIRECT(\"'\"&$B70&\"'!$d$8\"),\"\")","v":""},{"$f":"IFERROR(IF(OR(SHEETNAME($A70)=\"HIDE\",SHEETNAME($A70)=\"Start Here\",SHEETNAME($A70)=\"Template\"),\"\",HYPERLINK(\"#'\"&B70&\"'!A1\",\"Go to Sheet\")),\"\")","v":""},{"$f":"IFERROR(IF(INDIRECT(\"'\"&$B70&\"'!$U$7\"),INDIRECT(\"'\"&$B70&\"'!$u$9\"),\"(\"&INDIRECT(\"'\"&$B70&\"'!$U$8\")&\")\"),\"\")","v":""},{"$f":"IF(L70,\"This site has incomplete Cost and Revenue data.  \",\"\")&IF(M70,\"WFRS data for previous quarters is incomplete.  \",\"\")&IF(K70,IFERROR(INDIRECT(\"'\"&$B70&\"'!$g$9\"),\"\"),\"\")","v":""},false,{"$f":"IFERROR(INDIRECT(\"'\"&$B70&\"'!$u$7\"),FALSE)","v":false},{"$f":"IFERROR(INDIRECT(\"'\"&$B70&\"'!$u$10\"),FALSE)","v":false},{"$f":"IFERROR(INDIRECT(\"'\"&$B70&\"'!$AC$12\"),FALSE)","v":false},{"$f":"IFERROR(INDIRECT(\"'\"&$B70&\"'!$ad$12\"),FALSE)","v":false},null,{"$f":"IFERROR(INDIRECT(\"'\"&$B70&\"'!$d$10\"),\"\")","v":""},{"$f":"IFERROR(INDIRECT(\"'\"&$B70&\"'!$d$33\"),\"\")","v":""},{"$f":"IFERROR(INDIRECT(\"'\"&$B70&\"'!$j$33\")+INDIRECT(\"'\"&$B70&\"'!$k$33\"),\"\")","v":""},{"$f":"IFERROR(INDIRECT(\"'\"&$B70&\"'!$q$33\"),\"\")","v":""},{"$f":"IFERROR(INDIRECT(\"'\"&$B70&\"'!$e$33\"),\"\")","v":""},{"$f":"IFERROR(INDIRECT(\"'\"&$B70&\"'!$L$33\"),\"\")","v":""},{"$f":"IFERROR(INDIRECT(\"'\"&$B70&\"'!$g$33\")+INDIRECT(\"'\"&$B70&\"'!$h$33\")+INDIRECT(\"'\"&$B70&\"'!$i$33\"),\"\")","v":""}]
[35,{"$f":"IFERROR(IF(OR(SHEETNAME(A71)=\"HIDE\",SHEETNAME(A71)=\"Start Here\",SHEETNAME(A71)=\"Template\"),\"\",SHEETNAME(A71)),\"\")","v":""},{"$f":"IFERROR(INDIRECT(\"'\"&$B71&\"'!$d$6\"),\"\")","v":""},{"$f":"IFERROR(INDIRECT(\"'\"&$B71&\"'!$d$7\"),\"\")","v":""},{"$f":"IFERROR(INDIRECT(\"'\"&$B71&\"'!$d$8\"),\"\")","v":""},{"$f":"IFERROR(IF(OR(SHEETNAME($A71)=\"HIDE\",SHEETNAME($A71)=\"Start Here\",SHEETNAME($A71)=\"Template\"),\"\",HYPERLINK(\"#'\"&B71&\"'!A1\",\"Go to Sheet\")),\"\")","v":""},{"$f":"IFERROR(IF(INDIRECT(\"'\"&$B71&\"'!$U$7\"),INDIRECT(\"'\"&$B71&\"'!$u$9\"),\"(\"&INDIRECT(\"'\"&$B71&\"'!$U$8\")&\")\"),\"\")","v":""},{"$f":"IF(L71,\"This site has incomplete Cost and Revenue data.  \",\"\")&IF(M71,\"WFRS data for previous quarters is incomplete.  \",\"\")&IF(K71,IFERROR(INDIRECT(\"'\"&$B71&\"'!$g$9\"),\"\"),\"\")","v":""},false,{"$f":"IFERROR(INDIRECT(\"'\"&$B71&\"'!$u$7\"),FALSE)","v":false},{"$f":"IFERROR(INDIRECT(\"'\"&$B71&\"'!$u$10\"),FALSE)","v":false},{"$f":"IFERROR(INDIRECT(\"'\"&$B71&\"'!$AC$12\"),FALSE)","v":false},{"$f":"IFERROR(INDIRECT(\"'\"&$B71&\"'!$ad$12\"),FALSE)","v":false},null,{"$f":"IFERROR(INDIRECT(\"'\"&$B71&\"'!$d$10\"),\"\")","v":""},{"$f":"IFERROR(INDIRECT(\"'\"&$B71&\"'!$d$33\"),\"\")","v":""},{"$f":"IFERROR(INDIRECT(\"'\"&$B71&\"'!$j$33\")+INDIRECT(\"'\"&$B71&\"'!$k$33\"),\"\")","v":""},{"$f":"IFERROR(INDIRECT(\"'\"&$B71&\"'!$q$33\"),\"\")","v":""},{"$f":"IFERROR(INDIRECT(\"'\"&$B71&\"'!$e$33\"),\"\")","v":""},{"$f":"IFERROR(INDIRECT(\"'\"&$B71&\"'!$L$33\"),\"\")","v":""},{"$f":"IFERROR(INDIRECT(\"'\"&$B71&\"'!$g$33\")+INDIRECT(\"'\"&$B71&\"'!$h$33\")+INDIRECT(\"'\"&$B71&\"'!$i$33\"),\"\")","v":""}]
[36,{"$f":"IFERROR(IF(OR(SHEETNAME(A72)=\"HIDE\",SHEETNAME(A72)=\"Start Here\",SHEETNAME(A72)=\"Template\"),\"\",SHEETNAME(A72)),\"\")","v":""},{"$f":"IFERROR(INDIRECT(\"'\"&$B72&\"'!$d$6\"),\"\")","v":""},{"$f":"IFERROR(INDIRECT(\"'\"&$B72&\"'!$d$7\"),\"\")","v":""},{"$f":"IFERROR(INDIRECT(\"'\"&$B72&\"'!$d$8\"),\"\")","v":""},{"$f":"IFERROR(IF(OR(SHEETNAME($A72)=\"HIDE\",SHEETNAME($A72)=\"Start Here\",SHEETNAME($A72)=\"Template\"),\"\",HYPERLINK(\"#'\"&B72&\"'!A1\",\"Go to Sheet\")),\"\")","v":""},{"$f":"IFERROR(IF(INDIRECT(\"'\"&$B72&\"'!$U$7\"),INDIRECT(\"'\"&$B72&\"'!$u$9\"),\"(\"&INDIRECT(\"'\"&$B72&\"'!$U$8\")&\")\"),\"\")","v":""},{"$f":"IF(L72,\"This site has incomplete Cost and Revenue data.  \",\"\")&IF(M72,\"WFRS data for previous quarters is incomplete.  \",\"\")&IF(K72,IFERROR(INDIRECT(\"'\"&$B72&\"'!$g$9\"),\"\"),\"\")","v":""},false,{"$f":"IFERROR(INDIRECT(\"'\"&$B72&\"'!$u$7\"),FALSE)","v":false},{"$f":"IFERROR(INDIRECT(\"'\"&$B72&\"'!$u$10\"),FALSE)","v":false},{"$f":"IFERROR(INDIRECT(\"'\"&$B72&\"'!$AC$12\"),FALSE)","v":false},{"$f":"IFERROR(INDIRECT(\"'\"&$B72&\"'!$ad$12\"),FALSE)","v":false},null,{"$f":"IFERROR(INDIRECT(\"'\"&$B72&\"'!$d$10\"),\"\")","v":""},{"$f":"IFERROR(INDIRECT(\"'\"&$B72&\"'!$d$33\"),\"\")","v":""},{"$f":"IFERROR(INDIRECT(\"'\"&$B72&\"'!$j$33\")+INDIRECT(\"'\"&$B72&\"'!$k$33\"),\"\")","v":""},{"$f":"IFERROR(INDIRECT(\"'\"&$B72&\"'!$q$33\"),\"\")","v":""},{"$f":"IFERROR(INDIRECT(\"'\"&$B72&\"'!$e$33\"),\"\")","v":""},{"$f":"IFERROR(INDIRECT(\"'\"&$B72&\"'!$L$33\"),\"\")","v":""},{"$f":"IFERROR(INDIRECT(\"'\"&$B72&\"'!$g$33\")+INDIRECT(\"'\"&$B72&\"'!$h$33\")+INDIRECT(\"'\"&$B72&\"'!$i$33\"),\"\")","v":""}]
[37,{"$f":"IFERROR(IF(OR(SHEETNAME(A73)=\"HIDE\",SHEETNAME(A73)=\"Start Here\",SHEETNAME(A73)=\"Template\"),\"\",SHEETNAME(A73)),\"\")","v":""},{"$f":"IFERROR(INDIRECT(\"'\"&$B73&\"'!$d$6\"),\"\")","v":""},{"$f":"IFERROR(INDIRECT(\"'\"&$B73&\"'!$d$7\"),\"\")","v":""},{"$f":"IFERROR(INDIRECT(\"'\"&$B73&\"'!$d$8\"),\"\")","v":""},{"$f":"IFERROR(IF(OR(SHEETNAME($A73)=\"HIDE\",SHEETNAME($A73)=\"Start Here\",SHEETNAME($A73)=\"Template\"),\"\",HYPERLINK(\"#'\"&B73&\"'!A1\",\"Go to Sheet\")),\"\")","v":""},{"$f":"IFERROR(IF(INDIRECT(\"'\"&$B73&\"'!$U$7\"),INDIRECT(\"'\"&$B73&\"'!$u$9\"),\"(\"&INDIRECT(\"'\"&$B73&\"'!$U$8\")&\")\"),\"\")","v":""},{"$f":"IF(L73,\"This site has incomplete Cost and Revenue data.  \",\"\")&IF(M73,\"WFRS data for previous quarters is incomplete.  \",\"\")&IF(K73,IFERROR(INDIRECT(\"'\"&$B73&\"'!$g$9\"),\"\"),\"\")","v":""},false,{"$f":"IFERROR(INDIRECT(\"'\"&$B73&\"'!$u$7\"),FALSE)","v":false},{"$f":"IFERROR(INDIRECT(\"'\"&$B73&\"'!$u$10\"),FALSE)","v":false},{"$f":"IFERROR(INDIRECT(\"'\"&$B73&\"'!$AC$12\"),FALSE)","v":false},{"$f":"IFERROR(INDIRECT(\"'\"&$B73&\"'!$ad$12\"),FALSE)","v":false},null,{"$f":"IFERROR(INDIRECT(\"'\"&$B73&\"'!$d$10\"),\"\")","v":""},{"$f":"IFERROR(INDIRECT(\"'\"&$B73&\"'!$d$33\"),\"\")","v":""},{"$f":"IFERROR(INDIRECT(\"'\"&$B73&\"'!$j$33\")+INDIRECT(\"'\"&$B73&\"'!$k$33\"),\"\")","v":""},{"$f":"IFERROR(INDIRECT(\"'\"&$B73&\"'!$q$33\"),\"\")","v":""},{"$f":"IFERROR(INDIRECT(\"'\"&$B73&\"'!$e$33\"),\"\")","v":""},{"$f":"IFERROR(INDIRECT(\"'\"&$B73&\"'!$L$33\"),\"\")","v":""},{"$f":"IFERROR(INDIRECT(\"'\"&$B73&\"'!$g$33\")+INDIRECT(\"'\"&$B73&\"'!$h$33\")+INDIRECT(\"'\"&$B73&\"'!$i$33\"),\"\")","v":""}]
[38,{"$f":"IFERROR(IF(OR(SHEETNAME(A74)=\"HIDE\",SHEETNAME(A74)=\"Start Here\",SHEETNAME(A74)=\"Template\"),\"\",SHEETNAME(A74)),\"\")","v":""},{"$f":"IFERROR(INDIRECT(\"'\"&$B74&\"'!$d$6\"),\"\")","v":""},{"$f":"IFERROR(INDIRECT(\"'\"&$B74&\"'!$d$7\"),\"\")","v":""},{"$f":"IFERROR(INDIRECT(\"'\"&$B74&\"'!$d$8\"),\"\")","v":""},{"$f":"IFERROR(IF(OR(SHEETNAME($A74)=\"HIDE\",SHEETNAME($A74)=\"Start Here\",SHEETNAME($A74)=\"Template\"),\"\",HYPERLINK(\"#'\"&B74&\"'!A1\",\"Go to Sheet\")),\"\")","v":""},{"$f":"IFERROR(IF(INDIRECT(\"'\"&$B74&\"'!$U$7\"),INDIRECT(\"'\"&$B74&\"'!$u$9\"),\"(\"&INDIRECT(\"'\"&$B74&\"'!$U$8\")&\")\"),\"\")","v":""},{"$f":"IF(L74,\"This site has incomplete Cost and Revenue data.  \",\"\")&IF(M74,\"WFRS data for previous quarters is incomplete.  \",\"\")&IF(K74,IFERROR(INDIRECT(\"'\"&$B74&\"'!$g$9\"),\"\"),\"\")","v":""},false,{"$f":"IFERROR(INDIRECT(\"'\"&$B74&\"'!$u$7\"),FALSE)","v":false},{"$f":"IFERROR(INDIRECT(\"'\"&$B74&\"'!$u$10\"),FALSE)","v":false},{"$f":"IFERROR(INDIRECT(\"'\"&$B74&\"'!$AC$12\"),FALSE)","v":false},{"$f":"IFERROR(INDIRECT(\"'\"&$B74&\"'!$ad$12\"),FALSE)","v":false},null,{"$f":"IFERROR(INDIRECT(\"'\"&$B74&\"'!$d$10\"),\"\")","v":""},{"$f":"IFERROR(INDIRECT(\"'\"&$B74&\"'!$d$33\"),\"\")","v":""},{"$f":"IFERROR(INDIRECT(\"'\"&$B74&\"'!$j$33\")+INDIRECT(\"'\"&$B74&\"'!$k$33\"),\"\")","v":""},{"$f":"IFERROR(INDIRECT(\"'\"&$B74&\"'!$q$33\"),\"\")","v":""},{"$f":"IFERROR(INDIRECT(\"'\"&$B74&\"'!$e$33\"),\"\")","v":""},{"$f":"IFERROR(INDIRECT(\"'\"&$B74&\"'!$L$33\"),\"\")","v":""},{"$f":"IFERROR(INDIRECT(\"'\"&$B74&\"'!$g$33\")+INDIRECT(\"'\"&$B74&\"'!$h$33\")+INDIRECT(\"'\"&$B74&\"'!$i$33\"),\"\")","v":""}]
[39,{"$f":"IFERROR(IF(OR(SHEETNAME(A75)=\"HIDE\",SHEETNAME(A75)=\"Start Here\",SHEETNAME(A75)=\"Template\"),\"\",SHEETNAME(A75)),\"\")","v":""},{"$f":"IFERROR(INDIRECT(\"'\"&$B75&\"'!$d$6\"),\"\")","v":""},{"$f":"IFERROR(INDIRECT(\"'\"&$B75&\"'!$d$7\"),\"\")","v":""},{"$f":"IFERROR(INDIRECT(\"'\"&$B75&\"'!$d$8\"),\"\")","v":""},{"$f":"IFERROR(IF(OR(SHEETNAME($A75)=\"HIDE\",SHEETNAME($A75)=\"Start Here\",SHEETNAME($A75)=\"Template\"),\"\",HYPERLINK(\"#'\"&B75&\"'!A1\",\"Go to Sheet\")),\"\")","v":""},{"$f":"IFERROR(IF(INDIRECT(\"'\"&$B75&\"'!$U$7\"),INDIRECT(\"'\"&$B75&\"'!$u$9\"),\"(\"&INDIRECT(\"'\"&$B75&\"'!$U$8\")&\")\"),\"\")","v":""},{"$f":"IF(L75,\"This site has incomplete Cost and Revenue data.  \",\"\")&IF(M75,\"WFRS data for previous quarters is incomplete.  \",\"\")&IF(K75,IFERROR(INDIRECT(\"'\"&$B75&\"'!$g$9\"),\"\"),\"\")","v":""},false,{"$f":"IFERROR(INDIRECT(\"'\"&$B75&\"'!$u$7\"),FALSE)","v":false},{"$f":"IFERROR(INDIRECT(\"'\"&$B75&\"'!$u$10\"),FALSE)","v":false},{"$f":"IFERROR(INDIRECT(\"'\"&$B75&\"'!$AC$12\"),FALSE)","v":false},{"$f":"IFERROR(INDIRECT(\"'\"&$B75&\"'!$ad$12\"),FALSE)","v":false},null,{"$f":"IFERROR(INDIRECT(\"'\"&$B75&\"'!$d$10\"),\"\")","v":""},{"$f":"IFERROR(INDIRECT(\"'\"&$B75&\"'!$d$33\"),\"\")","v":""},{"$f":"IFERROR(INDIRECT(\"'\"&$B75&\"'!$j$33\")+INDIRECT(\"'\"&$B75&\"'!$k$33\"),\"\")","v":""},{"$f":"IFERROR(INDIRECT(\"'\"&$B75&\"'!$q$33\"),\"\")","v":""},{"$f":"IFERROR(INDIRECT(\"'\"&$B75&\"'!$e$33\"),\"\")","v":""},{"$f":"IFERROR(INDIRECT(\"'\"&$B75&\"'!$L$33\"),\"\")","v":""},{"$f":"IFERROR(INDIRECT(\"'\"&$B75&\"'!$g$33\")+INDIRECT(\"'\"&$B75&\"'!$h$33\")+INDIRECT(\"'\"&$B75&\"'!$i$33\"),\"\")","v":""}]
[40,{"$f":"IFERROR(IF(OR(SHEETNAME(A76)=\"HIDE\",SHEETNAME(A76)=\"Start Here\",SHEETNAME(A76)=\"Template\"),\"\",SHEETNAME(A76)),\"\")","v":""},{"$f":"IFERROR(INDIRECT(\"'\"&$B76&\"'!$d$6\"),\"\")","v":""},{"$f":"IFERROR(INDIRECT(\"'\"&$B76&\"'!$d$7\"),\"\")","v":""},{"$f":"IFERROR(INDIRECT(\"'\"&$B76&\"'!$d$8\"),\"\")","v":""},{"$f":"IFERROR(IF(OR(SHEETNAME($A76)=\"HIDE\",SHEETNAME($A76)=\"Start Here\",SHEETNAME($A76)=\"Template\"),\"\",HYPERLINK(\"#'\"&B76&\"'!A1\",\"Go to Sheet\")),\"\")","v":""},{"$f":"IFERROR(IF(INDIRECT(\"'\"&$B76&\"'!$U$7\"),INDIRECT(\"'\"&$B76&\"'!$u$9\"),\"(\"&INDIRECT(\"'\"&$B76&\"'!$U$8\")&\")\"),\"\")","v":""},{"$f":"IF(L76,\"This site has incomplete Cost and Revenue data.  \",\"\")&IF(M76,\"WFRS data for previous quarters is incomplete.  \",\"\")&IF(K76,IFERROR(INDIRECT(\"'\"&$B76&\"'!$g$9\"),\"\"),\"\")","v":""},false,{"$f":"IFERROR(INDIRECT(\"'\"&$B76&\"'!$u$7\"),FALSE)","v":false},{"$f":"IFERROR(INDIRECT(\"'\"&$B76&\"'!$u$10\"),FALSE)","v":false},{"$f":"IFERROR(INDIRECT(\"'\"&$B76&\"'!$AC$12\"),FALSE)","v":false},{"$f":"IFERROR(INDIRECT(\"'\"&$B76&\"'!$ad$12\"),FALSE)","v":false},null,{"$f":"IFERROR(INDIRECT(\"'\"&$B76&\"'!$d$10\"),\"\")","v":""},{"$f":"IFERROR(INDIRECT(\"'\"&$B76&\"'!$d$33\"),\"\")","v":""},{"$f":"IFERROR(INDIRECT(\"'\"&$B76&\"'!$j$33\")+INDIRECT(\"'\"&$B76&\"'!$k$33\"),\"\")","v":""},{"$f":"IFERROR(INDIRECT(\"'\"&$B76&\"'!$q$33\"),\"\")","v":""},{"$f":"IFERROR(INDIRECT(\"'\"&$B76&\"'!$e$33\"),\"\")","v":""},{"$f":"IFERROR(INDIRECT(\"'\"&$B76&\"'!$L$33\"),\"\")","v":""},{"$f":"IFERROR(INDIRECT(\"'\"&$B76&\"'!$g$33\")+INDIRECT(\"'\"&$B76&\"'!$h$33\")+INDIRECT(\"'\"&$B76&\"'!$i$33\"),\"\")","v":""}]
[41,{"$f":"IFERROR(IF(OR(SHEETNAME(A77)=\"HIDE\",SHEETNAME(A77)=\"Start Here\",SHEETNAME(A77)=\"Template\"),\"\",SHEETNAME(A77)),\"\")","v":""},{"$f":"IFERROR(INDIRECT(\"'\"&$B77&\"'!$d$6\"),\"\")","v":""},{"$f":"IFERROR(INDIRECT(\"'\"&$B77&\"'!$d$7\"),\"\")","v":""},{"$f":"IFERROR(INDIRECT(\"'\"&$B77&\"'!$d$8\"),\"\")","v":""},{"$f":"IFERROR(IF(OR(SHEETNAME($A77)=\"HIDE\",SHEETNAME($A77)=\"Start Here\",SHEETNAME($A77)=\"Template\"),\"\",HYPERLINK(\"#'\"&B77&\"'!A1\",\"Go to Sheet\")),\"\")","v":""},{"$f":"IFERROR(IF(INDIRECT(\"'\"&$B77&\"'!$U$7\"),INDIRECT(\"'\"&$B77&\"'!$u$9\"),\"(\"&INDIRECT(\"'\"&$B77&\"'!$U$8\")&\")\"),\"\")","v":""},{"$f":"IF(L77,\"This site has incomplete Cost and Revenue data.  \",\"\")&IF(M77,\"WFRS data for previous quarters is incomplete.  \",\"\")&IF(K77,IFERROR(INDIRECT(\"'\"&$B77&\"'!$g$9\"),\"\"),\"\")","v":""},false,{"$f":"IFERROR(INDIRECT(\"'\"&$B77&\"'!$u$7\"),FALSE)","v":false},{"$f":"IFERROR(INDIRECT(\"'\"&$B77&\"'!$u$10\"),FALSE)","v":false},{"$f":"IFERROR(INDIRECT(\"'\"&$B77&\"'!$AC$12\"),FALSE)","v":false},{"$f":"IFERROR(INDIRECT(\"'\"&$B77&\"'!$ad$12\"),FALSE)","v":false},null,{"$f":"IFERROR(INDIRECT(\"'\"&$B77&\"'!$d$10\"),\"\")","v":""},{"$f":"IFERROR(INDIRECT(\"'\"&$B77&\"'!$d$33\"),\"\")","v":""},{"$f":"IFERROR(INDIRECT(\"'\"&$B77&\"'!$j$33\")+INDIRECT(\"'\"&$B77&\"'!$k$33\"),\"\")","v":""},{"$f":"IFERROR(INDIRECT(\"'\"&$B77&\"'!$q$33\"),\"\")","v":""},{"$f":"IFERROR(INDIRECT(\"'\"&$B77&\"'!$e$33\"),\"\")","v":""},{"$f":"IFERROR(INDIRECT(\"'\"&$B77&\"'!$L$33\"),\"\")","v":""},{"$f":"IFERROR(INDIRECT(\"'\"&$B77&\"'!$g$33\")+INDIRECT(\"'\"&$B77&\"'!$h$33\")+INDIRECT(\"'\"&$B77&\"'!$i$33\"),\"\")","v":""}]
[42,{"$f":"IFERROR(IF(OR(SHEETNAME(A78)=\"HIDE\",SHEETNAME(A78)=\"Start Here\",SHEETNAME(A78)=\"Template\"),\"\",SHEETNAME(A78)),\"\")","v":""},{"$f":"IFERROR(INDIRECT(\"'\"&$B78&\"'!$d$6\"),\"\")","v":""},{"$f":"IFERROR(INDIRECT(\"'\"&$B78&\"'!$d$7\"),\"\")","v":""},{"$f":"IFERROR(INDIRECT(\"'\"&$B78&\"'!$d$8\"),\"\")","v":""},{"$f":"IFERROR(IF(OR(SHEETNAME($A78)=\"HIDE\",SHEETNAME($A78)=\"Start Here\",SHEETNAME($A78)=\"Template\"),\"\",HYPERLINK(\"#'\"&B78&\"'!A1\",\"Go to Sheet\")),\"\")","v":""},{"$f":"IFERROR(IF(INDIRECT(\"'\"&$B78&\"'!$U$7\"),INDIRECT(\"'\"&$B78&\"'!$u$9\"),\"(\"&INDIRECT(\"'\"&$B78&\"'!$U$8\")&\")\"),\"\")","v":""},{"$f":"IF(L78,\"This site has incomplete Cost and Revenue data.  \",\"\")&IF(M78,\"WFRS data for previous quarters is incomplete.  \",\"\")&IF(K78,IFERROR(INDIRECT(\"'\"&$B78&\"'!$g$9\"),\"\"),\"\")","v":""},false,{"$f":"IFERROR(INDIRECT(\"'\"&$B78&\"'!$u$7\"),FALSE)","v":false},{"$f":"IFERROR(INDIRECT(\"'\"&$B78&\"'!$u$10\"),FALSE)","v":false},{"$f":"IFERROR(INDIRECT(\"'\"&$B78&\"'!$AC$12\"),FALSE)","v":false},{"$f":"IFERROR(INDIRECT(\"'\"&$B78&\"'!$ad$12\"),FALSE)","v":false},null,{"$f":"IFERROR(INDIRECT(\"'\"&$B78&\"'!$d$10\"),\"\")","v":""},{"$f":"IFERROR(INDIRECT(\"'\"&$B78&\"'!$d$33\"),\"\")","v":""},{"$f":"IFERROR(INDIRECT(\"'\"&$B78&\"'!$j$33\")+INDIRECT(\"'\"&$B78&\"'!$k$33\"),\"\")","v":""},{"$f":"IFERROR(INDIRECT(\"'\"&$B78&\"'!$q$33\"),\"\")","v":""},{"$f":"IFERROR(INDIRECT(\"'\"&$B78&\"'!$e$33\"),\"\")","v":""},{"$f":"IFERROR(INDIRECT(\"'\"&$B78&\"'!$L$33\"),\"\")","v":""},{"$f":"IFERROR(INDIRECT(\"'\"&$B78&\"'!$g$33\")+INDIRECT(\"'\"&$B78&\"'!$h$33\")+INDIRECT(\"'\"&$B78&\"'!$i$33\"),\"\")","v":""}]
[43,{"$f":"IFERROR(IF(OR(SHEETNAME(A79)=\"HIDE\",SHEETNAME(A79)=\"Start Here\",SHEETNAME(A79)=\"Template\"),\"\",SHEETNAME(A79)),\"\")","v":""},{"$f":"IFERROR(INDIRECT(\"'\"&$B79&\"'!$d$6\"),\"\")","v":""},{"$f":"IFERROR(INDIRECT(\"'\"&$B79&\"'!$d$7\"),\"\")","v":""},{"$f":"IFERROR(INDIRECT(\"'\"&$B79&\"'!$d$8\"),\"\")","v":""},{"$f":"IFERROR(IF(OR(SHEETNAME($A79)=\"HIDE\",SHEETNAME($A79)=\"Start Here\",SHEETNAME($A79)=\"Template\"),\"\",HYPERLINK(\"#'\"&B79&\"'!A1\",\"Go to Sheet\")),\"\")","v":""},{"$f":"IFERROR(IF(INDIRECT(\"'\"&$B79&\"'!$U$7\"),INDIRECT(\"'\"&$B79&\"'!$u$9\"),\"(\"&INDIRECT(\"'\"&$B79&\"'!$U$8\")&\")\"),\"\")","v":""},{"$f":"IF(L79,\"This site has incomplete Cost and Revenue data.  \",\"\")&IF(M79,\"WFRS data for previous quarters is incomplete.  \",\"\")&IF(K79,IFERROR(INDIRECT(\"'\"&$B79&\"'!$g$9\"),\"\"),\"\")","v":""},false,{"$f":"IFERROR(INDIRECT(\"'\"&$B79&\"'!$u$7\"),FALSE)","v":false},{"$f":"IFERROR(INDIRECT(\"'\"&$B79&\"'!$u$10\"),FALSE)","v":false},{"$f":"IFERROR(INDIRECT(\"'\"&$B79&\"'!$AC$12\"),FALSE)","v":false},{"$f":"IFERROR(INDIRECT(\"'\"&$B79&\"'!$ad$12\"),FALSE)","v":false},null,{"$f":"IFERROR(INDIRECT(\"'\"&$B79&\"'!$d$10\"),\"\")","v":""},{"$f":"IFERROR(INDIRECT(\"'\"&$B79&\"'!$d$33\"),\"\")","v":""},{"$f":"IFERROR(INDIRECT(\"'\"&$B79&\"'!$j$33\")+INDIRECT(\"'\"&$B79&\"'!$k$33\"),\"\")","v":""},{"$f":"IFERROR(INDIRECT(\"'\"&$B79&\"'!$q$33\"),\"\")","v":""},{"$f":"IFERROR(INDIRECT(\"'\"&$B79&\"'!$e$33\"),\"\")","v":""},{"$f":"IFERROR(INDIRECT(\"'\"&$B79&\"'!$L$33\"),\"\")","v":""},{"$f":"IFERROR(INDIRECT(\"'\"&$B79&\"'!$g$33\")+INDIRECT(\"'\"&$B79&\"'!$h$33\")+INDIRECT(\"'\"&$B79&\"'!$i$33\"),\"\")","v":""}]
[44,{"$f":"IFERROR(IF(OR(SHEETNAME(A80)=\"HIDE\",SHEETNAME(A80)=\"Start Here\",SHEETNAME(A80)=\"Template\"),\"\",SHEETNAME(A80)),\"\")","v":""},{"$f":"IFERROR(INDIRECT(\"'\"&$B80&\"'!$d$6\"),\"\")","v":""},{"$f":"IFERROR(INDIRECT(\"'\"&$B80&\"'!$d$7\"),\"\")","v":""},{"$f":"IFERROR(INDIRECT(\"'\"&$B80&\"'!$d$8\"),\"\")","v":""},{"$f":"IFERROR(IF(OR(SHEETNAME($A80)=\"HIDE\",SHEETNAME($A80)=\"Start Here\",SHEETNAME($A80)=\"Template\"),\"\",HYPERLINK(\"#'\"&B80&\"'!A1\",\"Go to Sheet\")),\"\")","v":""},{"$f":"IFERROR(IF(INDIRECT(\"'\"&$B80&\"'!$U$7\"),INDIRECT(\"'\"&$B80&\"'!$u$9\"),\"(\"&INDIRECT(\"'\"&$B80&\"'!$U$8\")&\")\"),\"\")","v":""},{"$f":"IF(L80,\"This site has incomplete Cost and Revenue data.  \",\"\")&IF(M80,\"WFRS data for previous quarters is incomplete.  \",\"\")&IF(K80,IFERROR(INDIRECT(\"'\"&$B80&\"'!$g$9\"),\"\"),\"\")","v":""},false,{"$f":"IFERROR(INDIRECT(\"'\"&$B80&\"'!$u$7\"),FALSE)","v":false},{"$f":"IFERROR(INDIRECT(\"'\"&$B80&\"'!$u$10\"),FALSE)","v":false},{"$f":"IFERROR(INDIRECT(\"'\"&$B80&\"'!$AC$12\"),FALSE)","v":false},{"$f":"IFERROR(INDIRECT(\"'\"&$B80&\"'!$ad$12\"),FALSE)","v":false},null,{"$f":"IFERROR(INDIRECT(\"'\"&$B80&\"'!$d$10\"),\"\")","v":""},{"$f":"IFERROR(INDIRECT(\"'\"&$B80&\"'!$d$33\"),\"\")","v":""},{"$f":"IFERROR(INDIRECT(\"'\"&$B80&\"'!$j$33\")+INDIRECT(\"'\"&$B80&\"'!$k$33\"),\"\")","v":""},{"$f":"IFERROR(INDIRECT(\"'\"&$B80&\"'!$q$33\"),\"\")","v":""},{"$f":"IFERROR(INDIRECT(\"'\"&$B80&\"'!$e$33\"),\"\")","v":""},{"$f":"IFERROR(INDIRECT(\"'\"&$B80&\"'!$L$33\"),\"\")","v":""},{"$f":"IFERROR(INDIRECT(\"'\"&$B80&\"'!$g$33\")+INDIRECT(\"'\"&$B80&\"'!$h$33\")+INDIRECT(\"'\"&$B80&\"'!$i$33\"),\"\")","v":""}]
[45,{"$f":"IFERROR(IF(OR(SHEETNAME(A81)=\"HIDE\",SHEETNAME(A81)=\"Start Here\",SHEETNAME(A81)=\"Template\"),\"\",SHEETNAME(A81)),\"\")","v":""},{"$f":"IFERROR(INDIRECT(\"'\"&$B81&\"'!$d$6\"),\"\")","v":""},{"$f":"IFERROR(INDIRECT(\"'\"&$B81&\"'!$d$7\"),\"\")","v":""},{"$f":"IFERROR(INDIRECT(\"'\"&$B81&\"'!$d$8\"),\"\")","v":""},{"$f":"IFERROR(IF(OR(SHEETNAME($A81)=\"HIDE\",SHEETNAME($A81)=\"Start Here\",SHEETNAME($A81)=\"Template\"),\"\",HYPERLINK(\"#'\"&B81&\"'!A1\",\"Go to Sheet\")),\"\")","v":""},{"$f":"IFERROR(IF(INDIRECT(\"'\"&$B81&\"'!$U$7\"),INDIRECT(\"'\"&$B81&\"'!$u$9\"),\"(\"&INDIRECT(\"'\"&$B81&\"'!$U$8\")&\")\"),\"\")","v":""},{"$f":"IF(L81,\"This site has incomplete Cost and Revenue data.  \",\"\")&IF(M81,\"WFRS data for previous quarters is incomplete.  \",\"\")&IF(K81,IFERROR(INDIRECT(\"'\"&$B81&\"'!$g$9\"),\"\"),\"\")","v":""},false,{"$f":"IFERROR(INDIRECT(\"'\"&$B81&\"'!$u$7\"),FALSE)","v":false},{"$f":"IFERROR(INDIRECT(\"'\"&$B81&\"'!$u$10\"),FALSE)","v":false},{"$f":"IFERROR(INDIRECT(\"'\"&$B81&\"'!$AC$12\"),FALSE)","v":false},{"$f":"IFERROR(INDIRECT(\"'\"&$B81&\"'!$ad$12\"),FALSE)","v":false},null,{"$f":"IFERROR(INDIRECT(\"'\"&$B81&\"'!$d$10\"),\"\")","v":""},{"$f":"IFERROR(INDIRECT(\"'\"&$B81&\"'!$d$33\"),\"\")","v":""},{"$f":"IFERROR(INDIRECT(\"'\"&$B81&\"'!$j$33\")+INDIRECT(\"'\"&$B81&\"'!$k$33\"),\"\")","v":""},{"$f":"IFERROR(INDIRECT(\"'\"&$B81&\"'!$q$33\"),\"\")","v":""},{"$f":"IFERROR(INDIRECT(\"'\"&$B81&\"'!$e$33\"),\"\")","v":""},{"$f":"IFERROR(INDIRECT(\"'\"&$B81&\"'!$L$33\"),\"\")","v":""},{"$f":"IFERROR(INDIRECT(\"'\"&$B81&\"'!$g$33\")+INDIRECT(\"'\"&$B81&\"'!$h$33\")+INDIRECT(\"'\"&$B81&\"'!$i$33\"),\"\")","v":""}]
[46,{"$f":"IFERROR(IF(OR(SHEETNAME(A82)=\"HIDE\",SHEETNAME(A82)=\"Start Here\",SHEETNAME(A82)=\"Template\"),\"\",SHEETNAME(A82)),\"\")","v":""},{"$f":"IFERROR(INDIRECT(\"'\"&$B82&\"'!$d$6\"),\"\")","v":""},{"$f":"IFERROR(INDIRECT(\"'\"&$B82&\"'!$d$7\"),\"\")","v":""},{"$f":"IFERROR(INDIRECT(\"'\"&$B82&\"'!$d$8\"),\"\")","v":""},{"$f":"IFERROR(IF(OR(SHEETNAME($A82)=\"HIDE\",SHEETNAME($A82)=\"Start Here\",SHEETNAME($A82)=\"Template\"),\"\",HYPERLINK(\"#'\"&B82&\"'!A1\",\"Go to Sheet\")),\"\")","v":""},{"$f":"IFERROR(IF(INDIRECT(\"'\"&$B82&\"'!$U$7\"),INDIRECT(\"'\"&$B82&\"'!$u$9\"),\"(\"&INDIRECT(\"'\"&$B82&\"'!$U$8\")&\")\"),\"\")","v":""},{"$f":"IF(L82,\"This site has incomplete Cost and Revenue data.  \",\"\")&IF(M82,\"WFRS data for previous quarters is incomplete.  \",\"\")&IF(K82,IFERROR(INDIRECT(\"'\"&$B82&\"'!$g$9\"),\"\"),\"\")","v":""},false,{"$f":"IFERROR(INDIRECT(\"'\"&$B82&\"'!$u$7\"),FALSE)","v":false},{"$f":"IFERROR(INDIRECT(\"'\"&$B82&\"'!$u$10\"),FALSE)","v":false},{"$f":"IFERROR(INDIRECT(\"'\"&$B82&\"'!$AC$12\"),FALSE)","v":false},{"$f":"IFERROR(INDIRECT(\"'\"&$B82&\"'!$ad$12\"),FALSE)","v":false},null,{"$f":"IFERROR(INDIRECT(\"'\"&$B82&\"'!$d$10\"),\"\")","v":""},{"$f":"IFERROR(INDIRECT(\"'\"&$B82&\"'!$d$33\"),\"\")","v":""},{"$f":"IFERROR(INDIRECT(\"'\"&$B82&\"'!$j$33\")+INDIRECT(\"'\"&$B82&\"'!$k$33\"),\"\")","v":""},{"$f":"IFERROR(INDIRECT(\"'\"&$B82&\"'!$q$33\"),\"\")","v":""},{"$f":"IFERROR(INDIRECT(\"'\"&$B82&\"'!$e$33\"),\"\")","v":""},{"$f":"IFERROR(INDIRECT(\"'\"&$B82&\"'!$L$33\"),\"\")","v":""},{"$f":"IFERROR(INDIRECT(\"'\"&$B82&\"'!$g$33\")+INDIRECT(\"'\"&$B82&\"'!$h$33\")+INDIRECT(\"'\"&$B82&\"'!$i$33\"),\"\")","v":""}]
[47,{"$f":"IFERROR(IF(OR(SHEETNAME(A83)=\"HIDE\",SHEETNAME(A83)=\"Start Here\",SHEETNAME(A83)=\"Template\"),\"\",SHEETNAME(A83)),\"\")","v":""},{"$f":"IFERROR(INDIRECT(\"'\"&$B83&\"'!$d$6\"),\"\")","v":""},{"$f":"IFERROR(INDIRECT(\"'\"&$B83&\"'!$d$7\"),\"\")","v":""},{"$f":"IFERROR(INDIRECT(\"'\"&$B83&\"'!$d$8\"),\"\")","v":""},{"$f":"IFERROR(IF(OR(SHEETNAME($A83)=\"HIDE\",SHEETNAME($A83)=\"Start Here\",SHEETNAME($A83)=\"Template\"),\"\",HYPERLINK(\"#'\"&B83&\"'!A1\",\"Go to Sheet\")),\"\")","v":""},{"$f":"IFERROR(IF(INDIRECT(\"'\"&$B83&\"'!$U$7\"),INDIRECT(\"'\"&$B83&\"'!$u$9\"),\"(\"&INDIRECT(\"'\"&$B83&\"'!$U$8\")&\")\"),\"\")","v":""},{"$f":"IF(L83,\"This site has incomplete Cost and Revenue data.  \",\"\")&IF(M83,\"WFRS data for previous quarters is incomplete.  \",\"\")&IF(K83,IFERROR(INDIRECT(\"'\"&$B83&\"'!$g$9\"),\"\"),\"\")","v":""},false,{"$f":"IFERROR(INDIRECT(\"'\"&$B83&\"'!$u$7\"),FALSE)","v":false},{"$f":"IFERROR(INDIRECT(\"'\"&$B83&\"'!$u$10\"),FALSE)","v":false},{"$f":"IFERROR(INDIRECT(\"'\"&$B83&\"'!$AC$12\"),FALSE)","v":false},{"$f":"IFERROR(INDIRECT(\"'\"&$B83&\"'!$ad$12\"),FALSE)","v":false},null,{"$f":"IFERROR(INDIRECT(\"'\"&$B83&\"'!$d$10\"),\"\")","v":""},{"$f":"IFERROR(INDIRECT(\"'\"&$B83&\"'!$d$33\"),\"\")","v":""},{"$f":"IFERROR(INDIRECT(\"'\"&$B83&\"'!$j$33\")+INDIRECT(\"'\"&$B83&\"'!$k$33\"),\"\")","v":""},{"$f":"IFERROR(INDIRECT(\"'\"&$B83&\"'!$q$33\"),\"\")","v":""},{"$f":"IFERROR(INDIRECT(\"'\"&$B83&\"'!$e$33\"),\"\")","v":""},{"$f":"IFERROR(INDIRECT(\"'\"&$B83&\"'!$L$33\"),\"\")","v":""},{"$f":"IFERROR(INDIRECT(\"'\"&$B83&\"'!$g$33\")+INDIRECT(\"'\"&$B83&\"'!$h$33\")+INDIRECT(\"'\"&$B83&\"'!$i$33\"),\"\")","v":""}]
[48,{"$f":"IFERROR(IF(OR(SHEETNAME(A84)=\"HIDE\",SHEETNAME(A84)=\"Start Here\",SHEETNAME(A84)=\"Template\"),\"\",SHEETNAME(A84)),\"\")","v":""},{"$f":"IFERROR(INDIRECT(\"'\"&$B84&\"'!$d$6\"),\"\")","v":""},{"$f":"IFERROR(INDIRECT(\"'\"&$B84&\"'!$d$7\"),\"\")","v":""},{"$f":"IFERROR(INDIRECT(\"'\"&$B84&\"'!$d$8\"),\"\")","v":""},{"$f":"IFERROR(IF(OR(SHEETNAME($A84)=\"HIDE\",SHEETNAME($A84)=\"Start Here\",SHEETNAME($A84)=\"Template\"),\"\",HYPERLINK(\"#'\"&B84&\"'!A1\",\"Go to Sheet\")),\"\")","v":""},{"$f":"IFERROR(IF(INDIRECT(\"'\"&$B84&\"'!$U$7\"),INDIRECT(\"'\"&$B84&\"'!$u$9\"),\"(\"&INDIRECT(\"'\"&$B84&\"'!$U$8\")&\")\"),\"\")","v":""},{"$f":"IF(L84,\"This site has incomplete Cost and Revenue data.  \",\"\")&IF(M84,\"WFRS data for previous quarters is incomplete.  \",\"\")&IF(K84,IFERROR(INDIRECT(\"'\"&$B84&\"'!$g$9\"),\"\"),\"\")","v":""},false,{"$f":"IFERROR(INDIRECT(\"'\"&$B84&\"'!$u$7\"),FALSE)","v":false},{"$f":"IFERROR(INDIRECT(\"'\"&$B84&\"'!$u$10\"),FALSE)","v":false},{"$f":"IFERROR(INDIRECT(\"'\"&$B84&\"'!$AC$12\"),FALSE)","v":false},{"$f":"IFERROR(INDIRECT(\"'\"&$B84&\"'!$ad$12\"),FALSE)","v":false},null,{"$f":"IFERROR(INDIRECT(\"'\"&$B84&\"'!$d$10\"),\"\")","v":""},{"$f":"IFERROR(INDIRECT(\"'\"&$B84&\"'!$d$33\"),\"\")","v":""},{"$f":"IFERROR(INDIRECT(\"'\"&$B84&\"'!$j$33\")+INDIRECT(\"'\"&$B84&\"'!$k$33\"),\"\")","v":""},{"$f":"IFERROR(INDIRECT(\"'\"&$B84&\"'!$q$33\"),\"\")","v":""},{"$f":"IFERROR(INDIRECT(\"'\"&$B84&\"'!$e$33\"),\"\")","v":""},{"$f":"IFERROR(INDIRECT(\"'\"&$B84&\"'!$L$33\"),\"\")","v":""},{"$f":"IFERROR(INDIRECT(\"'\"&$B84&\"'!$g$33\")+INDIRECT(\"'\"&$B84&\"'!$h$33\")+INDIRECT(\"'\"&$B84&\"'!$i$33\"),\"\")","v":""}]
[49,{"$f":"IFERROR(IF(OR(SHEETNAME(A85)=\"HIDE\",SHEETNAME(A85)=\"Start Here\",SHEETNAME(A85)=\"Template\"),\"\",SHEETNAME(A85)),\"\")","v":""},{"$f":"IFERROR(INDIRECT(\"'\"&$B85&\"'!$d$6\"),\"\")","v":""},{"$f":"IFERROR(INDIRECT(\"'\"&$B85&\"'!$d$7\"),\"\")","v":""},{"$f":"IFERROR(INDIRECT(\"'\"&$B85&\"'!$d$8\"),\"\")","v":""},{"$f":"IFERROR(IF(OR(SHEETNAME($A85)=\"HIDE\",SHEETNAME($A85)=\"Start Here\",SHEETNAME($A85)=\"Template\"),\"\",HYPERLINK(\"#'\"&B85&\"'!A1\",\"Go to Sheet\")),\"\")","v":""},{"$f":"IFERROR(IF(INDIRECT(\"'\"&$B85&\"'!$U$7\"),INDIRECT(\"'\"&$B85&\"'!$u$9\"),\"(\"&INDIRECT(\"'\"&$B85&\"'!$U$8\")&\")\"),\"\")","v":""},{"$f":"IF(L85,\"This site has incomplete Cost and Revenue data.  \",\"\")&IF(M85,\"WFRS data for previous quarters is incomplete.  \",\"\")&IF(K85,IFERROR(INDIRECT(\"'\"&$B85&\"'!$g$9\"),\"\"),\"\")","v":""},false,{"$f":"IFERROR(INDIRECT(\"'\"&$B85&\"'!$u$7\"),FALSE)","v":false},{"$f":"IFERROR(INDIRECT(\"'\"&$B85&\"'!$u$10\"),FALSE)","v":false},{"$f":"IFERROR(INDIRECT(\"'\"&$B85&\"'!$AC$12\"),FALSE)","v":false},{"$f":"IFERROR(INDIRECT(\"'\"&$B85&\"'!$ad$12\"),FALSE)","v":false},null,{"$f":"IFERROR(INDIRECT(\"'\"&$B85&\"'!$d$10\"),\"\")","v":""},{"$f":"IFERROR(INDIRECT(\"'\"&$B85&\"'!$d$33\"),\"\")","v":""},{"$f":"IFERROR(INDIRECT(\"'\"&$B85&\"'!$j$33\")+INDIRECT(\"'\"&$B85&\"'!$k$33\"),\"\")","v":""},{"$f":"IFERROR(INDIRECT(\"'\"&$B85&\"'!$q$33\"),\"\")","v":""},{"$f":"IFERROR(INDIRECT(\"'\"&$B85&\"'!$e$33\"),\"\")","v":""},{"$f":"IFERROR(INDIRECT(\"'\"&$B85&\"'!$L$33\"),\"\")","v":""},{"$f":"IFERROR(INDIRECT(\"'\"&$B85&\"'!$g$33\")+INDIRECT(\"'\"&$B85&\"'!$h$33\")+INDIRECT(\"'\"&$B85&\"'!$i$33\"),\"\")","v":""}]
[50,{"$f":"IFERROR(IF(OR(SHEETNAME(A86)=\"HIDE\",SHEETNAME(A86)=\"Start Here\",SHEETNAME(A86)=\"Template\"),\"\",SHEETNAME(A86)),\"\")","v":""},{"$f":"IFERROR(INDIRECT(\"'\"&$B86&\"'!$d$6\"),\"\")","v":""},{"$f":"IFERROR(INDIRECT(\"'\"&$B86&\"'!$d$7\"),\"\")","v":""},{"$f":"IFERROR(INDIRECT(\"'\"&$B86&\"'!$d$8\"),\"\")","v":""},{"$f":"IFERROR(IF(OR(SHEETNAME($A86)=\"HIDE\",SHEETNAME($A86)=\"Start Here\",SHEETNAME($A86)=\"Template\"),\"\",HYPERLINK(\"#'\"&B86&\"'!A1\",\"Go to Sheet\")),\"\")","v":""},{"$f":"IFERROR(IF(INDIRECT(\"'\"&$B86&\"'!$U$7\"),INDIRECT(\"'\"&$B86&\"'!$u$9\"),\"(\"&INDIRECT(\"'\"&$B86&\"'!$U$8\")&\")\"),\"\")","v":""},{"$f":"IF(L86,\"This site has incomplete Cost and Revenue data.  \",\"\")&IF(M86,\"WFRS data for previous quarters is incomplete.  \",\"\")&IF(K86,IFERROR(INDIRECT(\"'\"&$B86&\"'!$g$9\"),\"\"),\"\")","v":""},false,{"$f":"IFERROR(INDIRECT(\"'\"&$B86&\"'!$u$7\"),FALSE)","v":false},{"$f":"IFERROR(INDIRECT(\"'\"&$B86&\"'!$u$10\"),FALSE)","v":false},{"$f":"IFERROR(INDIRECT(\"'\"&$B86&\"'!$AC$12\"),FALSE)","v":false},{"$f":"IFERROR(INDIRECT(\"'\"&$B86&\"'!$ad$12\"),FALSE)","v":false},null,{"$f":"IFERROR(INDIRECT(\"'\"&$B86&\"'!$d$10\"),\"\")","v":""},{"$f":"IFERROR(INDIRECT(\"'\"&$B86&\"'!$d$33\"),\"\")","v":""},{"$f":"IFERROR(INDIRECT(\"'\"&$B86&\"'!$j$33\")+INDIRECT(\"'\"&$B86&\"'!$k$33\"),\"\")","v":""},{"$f":"IFERROR(INDIRECT(\"'\"&$B86&\"'!$q$33\"),\"\")","v":""},{"$f":"IFERROR(INDIRECT(\"'\"&$B86&\"'!$e$33\"),\"\")","v":""},{"$f":"IFERROR(INDIRECT(\"'\"&$B86&\"'!$L$33\"),\"\")","v":""},{"$f":"IFERROR(INDIRECT(\"'\"&$B86&\"'!$g$33\")+INDIRECT(\"'\"&$B86&\"'!$h$33\")+INDIRECT(\"'\"&$B86&\"'!$i$33\"),\"\")","v":""}]
[51,{"$f":"IFERROR(IF(OR(SHEETNAME(A87)=\"HIDE\",SHEETNAME(A87)=\"Start Here\",SHEETNAME(A87)=\"Template\"),\"\",SHEETNAME(A87)),\"\")","v":""},{"$f":"IFERROR(INDIRECT(\"'\"&$B87&\"'!$d$6\"),\"\")","v":""},{"$f":"IFERROR(INDIRECT(\"'\"&$B87&\"'!$d$7\"),\"\")","v":""},{"$f":"IFERROR(INDIRECT(\"'\"&$B87&\"'!$d$8\"),\"\")","v":""},{"$f":"IFERROR(IF(OR(SHEETNAME($A87)=\"HIDE\",SHEETNAME($A87)=\"Start Here\",SHEETNAME($A87)=\"Template\"),\"\",HYPERLINK(\"#'\"&B87&\"'!A1\",\"Go to Sheet\")),\"\")","v":""},{"$f":"IFERROR(IF(INDIRECT(\"'\"&$B87&\"'!$U$7\"),INDIRECT(\"'\"&$B87&\"'!$u$9\"),\"(\"&INDIRECT(\"'\"&$B87&\"'!$U$8\")&\")\"),\"\")","v":""},{"$f":"IF(L87,\"This site has incomplete Cost and Revenue data.  \",\"\")&IF(M87,\"WFRS data for previous quarters is incomplete.  \",\"\")&IF(K87,IFERROR(INDIRECT(\"'\"&$B87&\"'!$g$9\"),\"\"),\"\")","v":""},false,{"$f":"IFERROR(INDIRECT(\"'\"&$B87&\"'!$u$7\"),FALSE)","v":false},{"$f":"IFERROR(INDIRECT(\"'\"&$B87&\"'!$u$10\"),FALSE)","v":false},{"$f":"IFERROR(INDIRECT(\"'\"&$B87&\"'!$AC$12\"),FALSE)","v":false},{"$f":"IFERROR(INDIRECT(\"'\"&$B87&\"'!$ad$12\"),FALSE)","v":false},null,{"$f":"IFERROR(INDIRECT(\"'\"&$B87&\"'!$d$10\"),\"\")","v":""},{"$f":"IFERROR(INDIRECT(\"'\"&$B87&\"'!$d$33\"),\"\")","v":""},{"$f":"IFERROR(INDIRECT(\"'\"&$B87&\"'!$j$33\")+INDIRECT(\"'\"&$B87&\"'!$k$33\"),\"\")","v":""},{"$f":"IFERROR(INDIRECT(\"'\"&$B87&\"'!$q$33\"),\"\")","v":""},{"$f":"IFERROR(INDIRECT(\"'\"&$B87&\"'!$e$33\"),\"\")","v":""},{"$f":"IFERROR(INDIRECT(\"'\"&$B87&\"'!$L$33\"),\"\")","v":""},{"$f":"IFERROR(INDIRECT(\"'\"&$B87&\"'!$g$33\")+INDIRECT(\"'\"&$B87&\"'!$h$33\")+INDIRECT(\"'\"&$B87&\"'!$i$33\"),\"\")","v":""}]
[52,{"$f":"IFERROR(IF(OR(SHEETNAME(A88)=\"HIDE\",SHEETNAME(A88)=\"Start Here\",SHEETNAME(A88)=\"Template\"),\"\",SHEETNAME(A88)),\"\")","v":""},{"$f":"IFERROR(INDIRECT(\"'\"&$B88&\"'!$d$6\"),\"\")","v":""},{"$f":"IFERROR(INDIRECT(\"'\"&$B88&\"'!$d$7\"),\"\")","v":""},{"$f":"IFERROR(INDIRECT(\"'\"&$B88&\"'!$d$8\"),\"\")","v":""},{"$f":"IFERROR(IF(OR(SHEETNAME($A88)=\"HIDE\",SHEETNAME($A88)=\"Start Here\",SHEETNAME($A88)=\"Template\"),\"\",HYPERLINK(\"#'\"&B88&\"'!A1\",\"Go to Sheet\")),\"\")","v":""},{"$f":"IFERROR(IF(INDIRECT(\"'\"&$B88&\"'!$U$7\"),INDIRECT(\"'\"&$B88&\"'!$u$9\"),\"(\"&INDIRECT(\"'\"&$B88&\"'!$U$8\")&\")\"),\"\")","v":""},{"$f":"IF(L88,\"This site has incomplete Cost and Revenue data.  \",\"\")&IF(M88,\"WFRS data for previous quarters is incomplete.  \",\"\")&IF(K88,IFERROR(INDIRECT(\"'\"&$B88&\"'!$g$9\"),\"\"),\"\")","v":""},false,{"$f":"IFERROR(INDIRECT(\"'\"&$B88&\"'!$u$7\"),FALSE)","v":false},{"$f":"IFERROR(INDIRECT(\"'\"&$B88&\"'!$u$10\"),FALSE)","v":false},{"$f":"IFERROR(INDIRECT(\"'\"&$B88&\"'!$AC$12\"),FALSE)","v":false},{"$f":"IFERROR(INDIRECT(\"'\"&$B88&\"'!$ad$12\"),FALSE)","v":false},null,{"$f":"IFERROR(INDIRECT(\"'\"&$B88&\"'!$d$10\"),\"\")","v":""},{"$f":"IFERROR(INDIRECT(\"'\"&$B88&\"'!$d$33\"),\"\")","v":""},{"$f":"IFERROR(INDIRECT(\"'\"&$B88&\"'!$j$33\")+INDIRECT(\"'\"&$B88&\"'!$k$33\"),\"\")","v":""},{"$f":"IFERROR(INDIRECT(\"'\"&$B88&\"'!$q$33\"),\"\")","v":""},{"$f":"IFERROR(INDIRECT(\"'\"&$B88&\"'!$e$33\"),\"\")","v":""},{"$f":"IFERROR(INDIRECT(\"'\"&$B88&\"'!$L$33\"),\"\")","v":""},{"$f":"IFERROR(INDIRECT(\"'\"&$B88&\"'!$g$33\")+INDIRECT(\"'\"&$B88&\"'!$h$33\")+INDIRECT(\"'\"&$B88&\"'!$i$33\"),\"\")","v":""}]
[53,{"$f":"IFERROR(IF(OR(SHEETNAME(A89)=\"HIDE\",SHEETNAME(A89)=\"Start Here\",SHEETNAME(A89)=\"Template\"),\"\",SHEETNAME(A89)),\"\")","v":""},{"$f":"IFERROR(INDIRECT(\"'\"&$B89&\"'!$d$6\"),\"\")","v":""},{"$f":"IFERROR(INDIRECT(\"'\"&$B89&\"'!$d$7\"),\"\")","v":""},{"$f":"IFERROR(INDIRECT(\"'\"&$B89&\"'!$d$8\"),\"\")","v":""},{"$f":"IFERROR(IF(OR(SHEETNAME($A89)=\"HIDE\",SHEETNAME($A89)=\"Start Here\",SHEETNAME($A89)=\"Template\"),\"\",HYPERLINK(\"#'\"&B89&\"'!A1\",\"Go to Sheet\")),\"\")","v":""},{"$f":"IFERROR(IF(INDIRECT(\"'\"&$B89&\"'!$U$7\"),INDIRECT(\"'\"&$B89&\"'!$u$9\"),\"(\"&INDIRECT(\"'\"&$B89&\"'!$U$8\")&\")\"),\"\")","v":""},{"$f":"IF(L89,\"This site has incomplete Cost and Revenue data.  \",\"\")&IF(M89,\"WFRS data for previous quarters is incomplete.  \",\"\")&IF(K89,IFERROR(INDIRECT(\"'\"&$B89&\"'!$g$9\"),\"\"),\"\")","v":""},false,{"$f":"IFERROR(INDIRECT(\"'\"&$B89&\"'!$u$7\"),FALSE)","v":false},{"$f":"IFERROR(INDIRECT(\"'\"&$B89&\"'!$u$10\"),FALSE)","v":false},{"$f":"IFERROR(INDIRECT(\"'\"&$B89&\"'!$AC$12\"),FALSE)","v":false},{"$f":"IFERROR(INDIRECT(\"'\"&$B89&\"'!$ad$12\"),FALSE)","v":false},null,{"$f":"IFERROR(INDIRECT(\"'\"&$B89&\"'!$d$10\"),\"\")","v":""},{"$f":"IFERROR(INDIRECT(\"'\"&$B89&\"'!$d$33\"),\"\")","v":""},{"$f":"IFERROR(INDIRECT(\"'\"&$B89&\"'!$j$33\")+INDIRECT(\"'\"&$B89&\"'!$k$33\"),\"\")","v":""},{"$f":"IFERROR(INDIRECT(\"'\"&$B89&\"'!$q$33\"),\"\")","v":""},{"$f":"IFERROR(INDIRECT(\"'\"&$B89&\"'!$e$33\"),\"\")","v":""},{"$f":"IFERROR(INDIRECT(\"'\"&$B89&\"'!$L$33\"),\"\")","v":""},{"$f":"IFERROR(INDIRECT(\"'\"&$B89&\"'!$g$33\")+INDIRECT(\"'\"&$B89&\"'!$h$33\")+INDIRECT(\"'\"&$B89&\"'!$i$33\"),\"\")","v":""}]
[54,{"$f":"IFERROR(IF(OR(SHEETNAME(A90)=\"HIDE\",SHEETNAME(A90)=\"Start Here\",SHEETNAME(A90)=\"Template\"),\"\",SHEETNAME(A90)),\"\")","v":""},{"$f":"IFERROR(INDIRECT(\"'\"&$B90&\"'!$d$6\"),\"\")","v":""},{"$f":"IFERROR(INDIRECT(\"'\"&$B90&\"'!$d$7\"),\"\")","v":""},{"$f":"IFERROR(INDIRECT(\"'\"&$B90&\"'!$d$8\"),\"\")","v":""},{"$f":"IFERROR(IF(OR(SHEETNAME($A90)=\"HIDE\",SHEETNAME($A90)=\"Start Here\",SHEETNAME($A90)=\"Template\"),\"\",HYPERLINK(\"#'\"&B90&\"'!A1\",\"Go to Sheet\")),\"\")","v":""},{"$f":"IFERROR(IF(INDIRECT(\"'\"&$B90&\"'!$U$7\"),INDIRECT(\"'\"&$B90&\"'!$u$9\"),\"(\"&INDIRECT(\"'\"&$B90&\"'!$U$8\")&\")\"),\"\")","v":""},{"$f":"IF(L90,\"This site has incomplete Cost and Revenue data.  \",\"\")&IF(M90,\"WFRS data for previous quarters is incomplete.  \",\"\")&IF(K90,IFERROR(INDIRECT(\"'\"&$B90&\"'!$g$9\"),\"\"),\"\")","v":""},false,{"$f":"IFERROR(INDIRECT(\"'\"&$B90&\"'!$u$7\"),FALSE)","v":false},{"$f":"IFERROR(INDIRECT(\"'\"&$B90&\"'!$u$10\"),FALSE)","v":false},{"$f":"IFERROR(INDIRECT(\"'\"&$B90&\"'!$AC$12\"),FALSE)","v":false},{"$f":"IFERROR(INDIRECT(\"'\"&$B90&\"'!$ad$12\"),FALSE)","v":false},null,{"$f":"IFERROR(INDIRECT(\"'\"&$B90&\"'!$d$10\"),\"\")","v":""},{"$f":"IFERROR(INDIRECT(\"'\"&$B90&\"'!$d$33\"),\"\")","v":""},{"$f":"IFERROR(INDIRECT(\"'\"&$B90&\"'!$j$33\")+INDIRECT(\"'\"&$B90&\"'!$k$33\"),\"\")","v":""},{"$f":"IFERROR(INDIRECT(\"'\"&$B90&\"'!$q$33\"),\"\")","v":""},{"$f":"IFERROR(INDIRECT(\"'\"&$B90&\"'!$e$33\"),\"\")","v":""},{"$f":"IFERROR(INDIRECT(\"'\"&$B90&\"'!$L$33\"),\"\")","v":""},{"$f":"IFERROR(INDIRECT(\"'\"&$B90&\"'!$g$33\")+INDIRECT(\"'\"&$B90&\"'!$h$33\")+INDIRECT(\"'\"&$B90&\"'!$i$33\"),\"\")","v":""}]
[55,{"$f":"IFERROR(IF(OR(SHEETNAME(A91)=\"HIDE\",SHEETNAME(A91)=\"Start Here\",SHEETNAME(A91)=\"Template\"),\"\",SHEETNAME(A91)),\"\")","v":""},{"$f":"IFERROR(INDIRECT(\"'\"&$B91&\"'!$d$6\"),\"\")","v":""},{"$f":"IFERROR(INDIRECT(\"'\"&$B91&\"'!$d$7\"),\"\")","v":""},{"$f":"IFERROR(INDIRECT(\"'\"&$B91&\"'!$d$8\"),\"\")","v":""},{"$f":"IFERROR(IF(OR(SHEETNAME($A91)=\"HIDE\",SHEETNAME($A91)=\"Start Here\",SHEETNAME($A91)=\"Template\"),\"\",HYPERLINK(\"#'\"&B91&\"'!A1\",\"Go to Sheet\")),\"\")","v":""},{"$f":"IFERROR(IF(INDIRECT(\"'\"&$B91&\"'!$U$7\"),INDIRECT(\"'\"&$B91&\"'!$u$9\"),\"(\"&INDIRECT(\"'\"&$B91&\"'!$U$8\")&\")\"),\"\")","v":""},{"$f":"IF(L91,\"This site has incomplete Cost and Revenue data.  \",\"\")&IF(M91,\"WFRS data for previous quarters is incomplete.  \",\"\")&IF(K91,IFERROR(INDIRECT(\"'\"&$B91&\"'!$g$9\"),\"\"),\"\")","v":""},false,{"$f":"IFERROR(INDIRECT(\"'\"&$B91&\"'!$u$7\"),FALSE)","v":false},{"$f":"IFERROR(INDIRECT(\"'\"&$B91&\"'!$u$10\"),FALSE)","v":false},{"$f":"IFERROR(INDIRECT(\"'\"&$B91&\"'!$AC$12\"),FALSE)","v":false},{"$f":"IFERROR(INDIRECT(\"'\"&$B91&\"'!$ad$12\"),FALSE)","v":false},null,{"$f":"IFERROR(INDIRECT(\"'\"&$B91&\"'!$d$10\"),\"\")","v":""},{"$f":"IFERROR(INDIRECT(\"'\"&$B91&\"'!$d$33\"),\"\")","v":""},{"$f":"IFERROR(INDIRECT(\"'\"&$B91&\"'!$j$33\")+INDIRECT(\"'\"&$B91&\"'!$k$33\"),\"\")","v":""},{"$f":"IFERROR(INDIRECT(\"'\"&$B91&\"'!$q$33\"),\"\")","v":""},{"$f":"IFERROR(INDIRECT(\"'\"&$B91&\"'!$e$33\"),\"\")","v":""},{"$f":"IFERROR(INDIRECT(\"'\"&$B91&\"'!$L$33\"),\"\")","v":""},{"$f":"IFERROR(INDIRECT(\"'\"&$B91&\"'!$g$33\")+INDIRECT(\"'\"&$B91&\"'!$h$33\")+INDIRECT(\"'\"&$B91&\"'!$i$33\"),\"\")","v":""}]
[56,{"$f":"IFERROR(IF(OR(SHEETNAME(A92)=\"HIDE\",SHEETNAME(A92)=\"Start Here\",SHEETNAME(A92)=\"Template\"),\"\",SHEETNAME(A92)),\"\")","v":""},{"$f":"IFERROR(INDIRECT(\"'\"&$B92&\"'!$d$6\"),\"\")","v":""},{"$f":"IFERROR(INDIRECT(\"'\"&$B92&\"'!$d$7\"),\"\")","v":""},{"$f":"IFERROR(INDIRECT(\"'\"&$B92&\"'!$d$8\"),\"\")","v":""},{"$f":"IFERROR(IF(OR(SHEETNAME($A92)=\"HIDE\",SHEETNAME($A92)=\"Start Here\",SHEETNAME($A92)=\"Template\"),\"\",HYPERLINK(\"#'\"&B92&\"'!A1\",\"Go to Sheet\")),\"\")","v":""},{"$f":"IFERROR(IF(INDIRECT(\"'\"&$B92&\"'!$U$7\"),INDIRECT(\"'\"&$B92&\"'!$u$9\"),\"(\"&INDIRECT(\"'\"&$B92&\"'!$U$8\")&\")\"),\"\")","v":""},{"$f":"IF(L92,\"This site has incomplete Cost and Revenue data.  \",\"\")&IF(M92,\"WFRS data for previous quarters is incomplete.  \",\"\")&IF(K92,IFERROR(INDIRECT(\"'\"&$B92&\"'!$g$9\"),\"\"),\"\")","v":""},false,{"$f":"IFERROR(INDIRECT(\"'\"&$B92&\"'!$u$7\"),FALSE)","v":false},{"$f":"IFERROR(INDIRECT(\"'\"&$B92&\"'!$u$10\"),FALSE)","v":false},{"$f":"IFERROR(INDIRECT(\"'\"&$B92&\"'!$AC$12\"),FALSE)","v":false},{"$f":"IFERROR(INDIRECT(\"'\"&$B92&\"'!$ad$12\"),FALSE)","v":false},null,{"$f":"IFERROR(INDIRECT(\"'\"&$B92&\"'!$d$10\"),\"\")","v":""},{"$f":"IFERROR(INDIRECT(\"'\"&$B92&\"'!$d$33\"),\"\")","v":""},{"$f":"IFERROR(INDIRECT(\"'\"&$B92&\"'!$j$33\")+INDIRECT(\"'\"&$B92&\"'!$k$33\"),\"\")","v":""},{"$f":"IFERROR(INDIRECT(\"'\"&$B92&\"'!$q$33\"),\"\")","v":""},{"$f":"IFERROR(INDIRECT(\"'\"&$B92&\"'!$e$33\"),\"\")","v":""},{"$f":"IFERROR(INDIRECT(\"'\"&$B92&\"'!$L$33\"),\"\")","v":""},{"$f":"IFERROR(INDIRECT(\"'\"&$B92&\"'!$g$33\")+INDIRECT(\"'\"&$B92&\"'!$h$33\")+INDIRECT(\"'\"&$B92&\"'!$i$33\"),\"\")","v":""}]
[57,{"$f":"IFERROR(IF(OR(SHEETNAME(A93)=\"HIDE\",SHEETNAME(A93)=\"Start Here\",SHEETNAME(A93)=\"Template\"),\"\",SHEETNAME(A93)),\"\")","v":""},{"$f":"IFERROR(INDIRECT(\"'\"&$B93&\"'!$d$6\"),\"\")","v":""},{"$f":"IFERROR(INDIRECT(\"'\"&$B93&\"'!$d$7\"),\"\")","v":""},{"$f":"IFERROR(INDIRECT(\"'\"&$B93&\"'!$d$8\"),\"\")","v":""},{"$f":"IFERROR(IF(OR(SHEETNAME($A93)=\"HIDE\",SHEETNAME($A93)=\"Start Here\",SHEETNAME($A93)=\"Template\"),\"\",HYPERLINK(\"#'\"&B93&\"'!A1\",\"Go to Sheet\")),\"\")","v":""},{"$f":"IFERROR(IF(INDIRECT(\"'\"&$B93&\"'!$U$7\"),INDIRECT(\"'\"&$B93&\"'!$u$9\"),\"(\"&INDIRECT(\"'\"&$B93&\"'!$U$8\")&\")\"),\"\")","v":""},{"$f":"IF(L93,\"This site has incomplete Cost and Revenue data.  \",\"\")&IF(M93,\"WFRS data for previous quarters is incomplete.  \",\"\")&IF(K93,IFERROR(INDIRECT(\"'\"&$B93&\"'!$g$9\"),\"\"),\"\")","v":""},false,{"$f":"IFERROR(INDIRECT(\"'\"&$B93&\"'!$u$7\"),FALSE)","v":false},{"$f":"IFERROR(INDIRECT(\"'\"&$B93&\"'!$u$10\"),FALSE)","v":false},{"$f":"IFERROR(INDIRECT(\"'\"&$B93&\"'!$AC$12\"),FALSE)","v":false},{"$f":"IFERROR(INDIRECT(\"'\"&$B93&\"'!$ad$12\"),FALSE)","v":false},null,{"$f":"IFERROR(INDIRECT(\"'\"&$B93&\"'!$d$10\"),\"\")","v":""},{"$f":"IFERROR(INDIRECT(\"'\"&$B93&\"'!$d$33\"),\"\")","v":""},{"$f":"IFERROR(INDIRECT(\"'\"&$B93&\"'!$j$33\")+INDIRECT(\"'\"&$B93&\"'!$k$33\"),\"\")","v":""},{"$f":"IFERROR(INDIRECT(\"'\"&$B93&\"'!$q$33\"),\"\")","v":""},{"$f":"IFERROR(INDIRECT(\"'\"&$B93&\"'!$e$33\"),\"\")","v":""},{"$f":"IFERROR(INDIRECT(\"'\"&$B93&\"'!$L$33\"),\"\")","v":""},{"$f":"IFERROR(INDIRECT(\"'\"&$B93&\"'!$g$33\")+INDIRECT(\"'\"&$B93&\"'!$h$33\")+INDIRECT(\"'\"&$B93&\"'!$i$33\"),\"\")","v":""}]
[58,{"$f":"IFERROR(IF(OR(SHEETNAME(A94)=\"HIDE\",SHEETNAME(A94)=\"Start Here\",SHEETNAME(A94)=\"Template\"),\"\",SHEETNAME(A94)),\"\")","v":""},{"$f":"IFERROR(INDIRECT(\"'\"&$B94&\"'!$d$6\"),\"\")","v":""},{"$f":"IFERROR(INDIRECT(\"'\"&$B94&\"'!$d$7\"),\"\")","v":""},{"$f":"IFERROR(INDIRECT(\"'\"&$B94&\"'!$d$8\"),\"\")","v":""},{"$f":"IFERROR(IF(OR(SHEETNAME($A94)=\"HIDE\",SHEETNAME($A94)=\"Start Here\",SHEETNAME($A94)=\"Template\"),\"\",HYPERLINK(\"#'\"&B94&\"'!A1\",\"Go to Sheet\")),\"\")","v":""},{"$f":"IFERROR(IF(INDIRECT(\"'\"&$B94&\"'!$U$7\"),INDIRECT(\"'\"&$B94&\"'!$u$9\"),\"(\"&INDIRECT(\"'\"&$B94&\"'!$U$8\")&\")\"),\"\")","v":""},{"$f":"IF(L94,\"This site has incomplete Cost and Revenue data.  \",\"\")&IF(M94,\"WFRS data for previous quarters is incomplete.  \",\"\")&IF(K94,IFERROR(INDIRECT(\"'\"&$B94&\"'!$g$9\"),\"\"),\"\")","v":""},false,{"$f":"IFERROR(INDIRECT(\"'\"&$B94&\"'!$u$7\"),FALSE)","v":false},{"$f":"IFERROR(INDIRECT(\"'\"&$B94&\"'!$u$10\"),FALSE)","v":false},{"$f":"IFERROR(INDIRECT(\"'\"&$B94&\"'!$AC$12\"),FALSE)","v":false},{"$f":"IFERROR(INDIRECT(\"'\"&$B94&\"'!$ad$12\"),FALSE)","v":false},null,{"$f":"IFERROR(INDIRECT(\"'\"&$B94&\"'!$d$10\"),\"\")","v":""},{"$f":"IFERROR(INDIRECT(\"'\"&$B94&\"'!$d$33\"),\"\")","v":""},{"$f":"IFERROR(INDIRECT(\"'\"&$B94&\"'!$j$33\")+INDIRECT(\"'\"&$B94&\"'!$k$33\"),\"\")","v":""},{"$f":"IFERROR(INDIRECT(\"'\"&$B94&\"'!$q$33\"),\"\")","v":""},{"$f":"IFERROR(INDIRECT(\"'\"&$B94&\"'!$e$33\"),\"\")","v":""},{"$f":"IFERROR(INDIRECT(\"'\"&$B94&\"'!$L$33\"),\"\")","v":""},{"$f":"IFERROR(INDIRECT(\"'\"&$B94&\"'!$g$33\")+INDIRECT(\"'\"&$B94&\"'!$h$33\")+INDIRECT(\"'\"&$B94&\"'!$i$33\"),\"\")","v":""}]
[59,{"$f":"IFERROR(IF(OR(SHEETNAME(A95)=\"HIDE\",SHEETNAME(A95)=\"Start Here\",SHEETNAME(A95)=\"Template\"),\"\",SHEETNAME(A95)),\"\")","v":""},{"$f":"IFERROR(INDIRECT(\"'\"&$B95&\"'!$d$6\"),\"\")","v":""},{"$f":"IFERROR(INDIRECT(\"'\"&$B95&\"'!$d$7\"),\"\")","v":""},{"$f":"IFERROR(INDIRECT(\"'\"&$B95&\"'!$d$8\"),\"\")","v":""},{"$f":"IFERROR(IF(OR(SHEETNAME($A95)=\"HIDE\",SHEETNAME($A95)=\"Start Here\",SHEETNAME($A95)=\"Template\"),\"\",HYPERLINK(\"#'\"&B95&\"'!A1\",\"Go to Sheet\")),\"\")","v":""},{"$f":"IFERROR(IF(INDIRECT(\"'\"&$B95&\"'!$U$7\"),INDIRECT(\"'\"&$B95&\"'!$u$9\"),\"(\"&INDIRECT(\"'\"&$B95&\"'!$U$8\")&\")\"),\"\")","v":""},{"$f":"IF(L95,\"This site has incomplete Cost and Revenue data.  \",\"\")&IF(M95,\"WFRS data for previous quarters is incomplete.  \",\"\")&IF(K95,IFERROR(INDIRECT(\"'\"&$B95&\"'!$g$9\"),\"\"),\"\")","v":""},false,{"$f":"IFERROR(INDIRECT(\"'\"&$B95&\"'!$u$7\"),FALSE)","v":false},{"$f":"IFERROR(INDIRECT(\"'\"&$B95&\"'!$u$10\"),FALSE)","v":false},{"$f":"IFERROR(INDIRECT(\"'\"&$B95&\"'!$AC$12\"),FALSE)","v":false},{"$f":"IFERROR(INDIRECT(\"'\"&$B95&\"'!$ad$12\"),FALSE)","v":false},null,{"$f":"IFERROR(INDIRECT(\"'\"&$B95&\"'!$d$10\"),\"\")","v":""},{"$f":"IFERROR(INDIRECT(\"'\"&$B95&\"'!$d$33\"),\"\")","v":""},{"$f":"IFERROR(INDIRECT(\"'\"&$B95&\"'!$j$33\")+INDIRECT(\"'\"&$B95&\"'!$k$33\"),\"\")","v":""},{"$f":"IFERROR(INDIRECT(\"'\"&$B95&\"'!$q$33\"),\"\")","v":""},{"$f":"IFERROR(INDIRECT(\"'\"&$B95&\"'!$e$33\"),\"\")","v":""},{"$f":"IFERROR(INDIRECT(\"'\"&$B95&\"'!$L$33\"),\"\")","v":""},{"$f":"IFERROR(INDIRECT(\"'\"&$B95&\"'!$g$33\")+INDIRECT(\"'\"&$B95&\"'!$h$33\")+INDIRECT(\"'\"&$B95&\"'!$i$33\"),\"\")","v":""}]
[60,{"$f":"IFERROR(IF(OR(SHEETNAME(A96)=\"HIDE\",SHEETNAME(A96)=\"Start Here\",SHEETNAME(A96)=\"Template\"),\"\",SHEETNAME(A96)),\"\")","v":""},{"$f":"IFERROR(INDIRECT(\"'\"&$B96&\"'!$d$6\"),\"\")","v":""},{"$f":"IFERROR(INDIRECT(\"'\"&$B96&\"'!$d$7\"),\"\")","v":""},{"$f":"IFERROR(INDIRECT(\"'\"&$B96&\"'!$d$8\"),\"\")","v":""},{"$f":"IFERROR(IF(OR(SHEETNAME($A96)=\"HIDE\",SHEETNAME($A96)=\"Start Here\",SHEETNAME($A96)=\"Template\"),\"\",HYPERLINK(\"#'\"&B96&\"'!A1\",\"Go to Sheet\")),\"\")","v":""},{"$f":"IFERROR(IF(INDIRECT(\"'\"&$B96&\"'!$U$7\"),INDIRECT(\"'\"&$B96&\"'!$u$9\"),\"(\"&INDIRECT(\"'\"&$B96&\"'!$U$8\")&\")\"),\"\")","v":""},{"$f":"IF(L96,\"This site has incomplete Cost and Revenue data.  \",\"\")&IF(M96,\"WFRS data for previous quarters is incomplete.  \",\"\")&IF(K96,IFERROR(INDIRECT(\"'\"&$B96&\"'!$g$9\"),\"\"),\"\")","v":""},false,{"$f":"IFERROR(INDIRECT(\"'\"&$B96&\"'!$u$7\"),FALSE)","v":false},{"$f":"IFERROR(INDIRECT(\"'\"&$B96&\"'!$u$10\"),FALSE)","v":false},{"$f":"IFERROR(INDIRECT(\"'\"&$B96&\"'!$AC$12\"),FALSE)","v":false},{"$f":"IFERROR(INDIRECT(\"'\"&$B96&\"'!$ad$12\"),FALSE)","v":false},null,{"$f":"IFERROR(INDIRECT(\"'\"&$B96&\"'!$d$10\"),\"\")","v":""},{"$f":"IFERROR(INDIRECT(\"'\"&$B96&\"'!$d$33\"),\"\")","v":""},{"$f":"IFERROR(INDIRECT(\"'\"&$B96&\"'!$j$33\")+INDIRECT(\"'\"&$B96&\"'!$k$33\"),\"\")","v":""},{"$f":"IFERROR(INDIRECT(\"'\"&$B96&\"'!$q$33\"),\"\")","v":""},{"$f":"IFERROR(INDIRECT(\"'\"&$B96&\"'!$e$33\"),\"\")","v":""},{"$f":"IFERROR(INDIRECT(\"'\"&$B96&\"'!$L$33\"),\"\")","v":""},{"$f":"IFERROR(INDIRECT(\"'\"&$B96&\"'!$g$33\")+INDIRECT(\"'\"&$B96&\"'!$h$33\")+INDIRECT(\"'\"&$B96&\"'!$i$33\"),\"\")","v":""}]
[61,{"$f":"IFERROR(IF(OR(SHEETNAME(A97)=\"HIDE\",SHEETNAME(A97)=\"Start Here\",SHEETNAME(A97)=\"Template\"),\"\",SHEETNAME(A97)),\"\")","v":""},{"$f":"IFERROR(INDIRECT(\"'\"&$B97&\"'!$d$6\"),\"\")","v":""},{"$f":"IFERROR(INDIRECT(\"'\"&$B97&\"'!$d$7\"),\"\")","v":""},{"$f":"IFERROR(INDIRECT(\"'\"&$B97&\"'!$d$8\"),\"\")","v":""},{"$f":"IFERROR(IF(OR(SHEETNAME($A97)=\"HIDE\",SHEETNAME($A97)=\"Start Here\",SHEETNAME($A97)=\"Template\"),\"\",HYPERLINK(\"#'\"&B97&\"'!A1\",\"Go to Sheet\")),\"\")","v":""},{"$f":"IFERROR(IF(INDIRECT(\"'\"&$B97&\"'!$U$7\"),INDIRECT(\"'\"&$B97&\"'!$u$9\"),\"(\"&INDIRECT(\"'\"&$B97&\"'!$U$8\")&\")\"),\"\")","v":""},{"$f":"IF(L97,\"This site has incomplete Cost and Revenue data.  \",\"\")&IF(M97,\"WFRS data for previous quarters is incomplete.  \",\"\")&IF(K97,IFERROR(INDIRECT(\"'\"&$B97&\"'!$g$9\"),\"\"),\"\")","v":""},false,{"$f":"IFERROR(INDIRECT(\"'\"&$B97&\"'!$u$7\"),FALSE)","v":false},{"$f":"IFERROR(INDIRECT(\"'\"&$B97&\"'!$u$10\"),FALSE)","v":false},{"$f":"IFERROR(INDIRECT(\"'\"&$B97&\"'!$AC$12\"),FALSE)","v":false},{"$f":"IFERROR(INDIRECT(\"'\"&$B97&\"'!$ad$12\"),FALSE)","v":false},null,{"$f":"IFERROR(INDIRECT(\"'\"&$B97&\"'!$d$10\"),\"\")","v":""},{"$f":"IFERROR(INDIRECT(\"'\"&$B97&\"'!$d$33\"),\"\")","v":""},{"$f":"IFERROR(INDIRECT(\"'\"&$B97&\"'!$j$33\")+INDIRECT(\"'\"&$B97&\"'!$k$33\"),\"\")","v":""},{"$f":"IFERROR(INDIRECT(\"'\"&$B97&\"'!$q$33\"),\"\")","v":""},{"$f":"IFERROR(INDIRECT(\"'\"&$B97&\"'!$e$33\"),\"\")","v":""},{"$f":"IFERROR(INDIRECT(\"'\"&$B97&\"'!$L$33\"),\"\")","v":""},{"$f":"IFERROR(INDIRECT(\"'\"&$B97&\"'!$g$33\")+INDIRECT(\"'\"&$B97&\"'!$h$33\")+INDIRECT(\"'\"&$B97&\"'!$i$33\"),\"\")","v":""}]
[62,{"$f":"IFERROR(IF(OR(SHEETNAME(A98)=\"HIDE\",SHEETNAME(A98)=\"Start Here\",SHEETNAME(A98)=\"Template\"),\"\",SHEETNAME(A98)),\"\")","v":""},{"$f":"IFERROR(INDIRECT(\"'\"&$B98&\"'!$d$6\"),\"\")","v":""},{"$f":"IFERROR(INDIRECT(\"'\"&$B98&\"'!$d$7\"),\"\")","v":""},{"$f":"IFERROR(INDIRECT(\"'\"&$B98&\"'!$d$8\"),\"\")","v":""},{"$f":"IFERROR(IF(OR(SHEETNAME($A98)=\"HIDE\",SHEETNAME($A98)=\"Start Here\",SHEETNAME($A98)=\"Template\"),\"\",HYPERLINK(\"#'\"&B98&\"'!A1\",\"Go to Sheet\")),\"\")","v":""},{"$f":"IFERROR(IF(INDIRECT(\"'\"&$B98&\"'!$U$7\"),INDIRECT(\"'\"&$B98&\"'!$u$9\"),\"(\"&INDIRECT(\"'\"&$B98&\"'!$U$8\")&\")\"),\"\")","v":""},{"$f":"IF(L98,\"This site has incomplete Cost and Revenue data.  \",\"\")&IF(M98,\"WFRS data for previous quarters is incomplete.  \",\"\")&IF(K98,IFERROR(INDIRECT(\"'\"&$B98&\"'!$g$9\"),\"\"),\"\")","v":""},false,{"$f":"IFERROR(INDIRECT(\"'\"&$B98&\"'!$u$7\"),FALSE)","v":false},{"$f":"IFERROR(INDIRECT(\"'\"&$B98&\"'!$u$10\"),FALSE)","v":false},{"$f":"IFERROR(INDIRECT(\"'\"&$B98&\"'!$AC$12\"),FALSE)","v":false},{"$f":"IFERROR(INDIRECT(\"'\"&$B98&\"'!$ad$12\"),FALSE)","v":false},null,{"$f":"IFERROR(INDIRECT(\"'\"&$B98&\"'!$d$10\"),\"\")","v":""},{"$f":"IFERROR(INDIRECT(\"'\"&$B98&\"'!$d$33\"),\"\")","v":""},{"$f":"IFERROR(INDIRECT(\"'\"&$B98&\"'!$j$33\")+INDIRECT(\"'\"&$B98&\"'!$k$33\"),\"\")","v":""},{"$f":"IFERROR(INDIRECT(\"'\"&$B98&\"'!$q$33\"),\"\")","v":""},{"$f":"IFERROR(INDIRECT(\"'\"&$B98&\"'!$e$33\"),\"\")","v":""},{"$f":"IFERROR(INDIRECT(\"'\"&$B98&\"'!$L$33\"),\"\")","v":""},{"$f":"IFERROR(INDIRECT(\"'\"&$B98&\"'!$g$33\")+INDIRECT(\"'\"&$B98&\"'!$h$33\")+INDIRECT(\"'\"&$B98&\"'!$i$33\"),\"\")","v":""}]
[63,{"$f":"IFERROR(IF(OR(SHEETNAME(A99)=\"HIDE\",SHEETNAME(A99)=\"Start Here\",SHEETNAME(A99)=\"Template\"),\"\",SHEETNAME(A99)),\"\")","v":""},{"$f":"IFERROR(INDIRECT(\"'\"&$B99&\"'!$d$6\"),\"\")","v":""},{"$f":"IFERROR(INDIRECT(\"'\"&$B99&\"'!$d$7\"),\"\")","v":""},{"$f":"IFERROR(INDIRECT(\"'\"&$B99&\"'!$d$8\"),\"\")","v":""},{"$f":"IFERROR(IF(OR(SHEETNAME($A99)=\"HIDE\",SHEETNAME($A99)=\"Start Here\",SHEETNAME($A99)=\"Template\"),\"\",HYPERLINK(\"#'\"&B99&\"'!A1\",\"Go to Sheet\")),\"\")","v":""},{"$f":"IFERROR(IF(INDIRECT(\"'\"&$B99&\"'!$U$7\"),INDIRECT(\"'\"&$B99&\"'!$u$9\"),\"(\"&INDIRECT(\"'\"&$B99&\"'!$U$8\")&\")\"),\"\")","v":""},{"$f":"IF(L99,\"This site has incomplete Cost and Revenue data.  \",\"\")&IF(M99,\"WFRS data for previous quarters is incomplete.  \",\"\")&IF(K99,IFERROR(INDIRECT(\"'\"&$B99&\"'!$g$9\"),\"\"),\"\")","v":""},false,{"$f":"IFERROR(INDIRECT(\"'\"&$B99&\"'!$u$7\"),FALSE)","v":false},{"$f":"IFERROR(INDIRECT(\"'\"&$B99&\"'!$u$10\"),FALSE)","v":false},{"$f":"IFERROR(INDIRECT(\"'\"&$B99&\"'!$AC$12\"),FALSE)","v":false},{"$f":"IFERROR(INDIRECT(\"'\"&$B99&\"'!$ad$12\"),FALSE)","v":false},null,{"$f":"IFERROR(INDIRECT(\"'\"&$B99&\"'!$d$10\"),\"\")","v":""},{"$f":"IFERROR(INDIRECT(\"'\"&$B99&\"'!$d$33\"),\"\")","v":""},{"$f":"IFERROR(INDIRECT(\"'\"&$B99&\"'!$j$33\")+INDIRECT(\"'\"&$B99&\"'!$k$33\"),\"\")","v":""},{"$f":"IFERROR(INDIRECT(\"'\"&$B99&\"'!$q$33\"),\"\")","v":""},{"$f":"IFERROR(INDIRECT(\"'\"&$B99&\"'!$e$33\"),\"\")","v":""},{"$f":"IFERROR(INDIRECT(\"'\"&$B99&\"'!$L$33\"),\"\")","v":""},{"$f":"IFERROR(INDIRECT(\"'\"&$B99&\"'!$g$33\")+INDIRECT(\"'\"&$B99&\"'!$h$33\")+INDIRECT(\"'\"&$B99&\"'!$i$33\"),\"\")","v":""}]
[64,{"$f":"IFERROR(IF(OR(SHEETNAME(A100)=\"HIDE\",SHEETNAME(A100)=\"Start Here\",SHEETNAME(A100)=\"Template\"),\"\",SHEETNAME(A100)),\"\")","v":""},{"$f":"IFERROR(INDIRECT(\"'\"&$B100&\"'!$d$6\"),\"\")","v":""},{"$f":"IFERROR(INDIRECT(\"'\"&$B100&\"'!$d$7\"),\"\")","v":""},{"$f":"IFERROR(INDIRECT(\"'\"&$B100&\"'!$d$8\"),\"\")","v":""},{"$f":"IFERROR(IF(OR(SHEETNAME($A100)=\"HIDE\",SHEETNAME($A100)=\"Start Here\",SHEETNAME($A100)=\"Template\"),\"\",HYPERLINK(\"#'\"&B100&\"'!A1\",\"Go to Sheet\")),\"\")","v":""},{"$f":"IFERROR(IF(INDIRECT(\"'\"&$B100&\"'!$U$7\"),INDIRECT(\"'\"&$B100&\"'!$u$9\"),\"(\"&INDIRECT(\"'\"&$B100&\"'!$U$8\")&\")\"),\"\")","v":""},{"$f":"IF(L100,\"This site has incomplete Cost and Revenue data.  \",\"\")&IF(M100,\"WFRS data for previous quarters is incomplete.  \",\"\")&IF(K100,IFERROR(INDIRECT(\"'\"&$B100&\"'!$g$9\"),\"\"),\"\")","v":""},false,{"$f":"IFERROR(INDIRECT(\"'\"&$B100&\"'!$u$7\"),FALSE)","v":false},{"$f":"IFERROR(INDIRECT(\"'\"&$B100&\"'!$u$10\"),FALSE)","v":false},{"$f":"IFERROR(INDIRECT(\"'\"&$B100&\"'!$AC$12\"),FALSE)","v":false},{"$f":"IFERROR(INDIRECT(\"'\"&$B100&\"'!$ad$12\"),FALSE)","v":false},null,{"$f":"IFERROR(INDIRECT(\"'\"&$B100&\"'!$d$10\"),\"\")","v":""},{"$f":"IFERROR(INDIRECT(\"'\"&$B100&\"'!$d$33\"),\"\")","v":""},{"$f":"IFERROR(INDIRECT(\"'\"&$B100&\"'!$j$33\")+INDIRECT(\"'\"&$B100&\"'!$k$33\"),\"\")","v":""},{"$f":"IFERROR(INDIRECT(\"'\"&$B100&\"'!$q$33\"),\"\")","v":""},{"$f":"IFERROR(INDIRECT(\"'\"&$B100&\"'!$e$33\"),\"\")","v":""},{"$f":"IFERROR(INDIRECT(\"'\"&$B100&\"'!$L$33\"),\"\")","v":""},{"$f":"IFERROR(INDIRECT(\"'\"&$B100&\"'!$g$33\")+INDIRECT(\"'\"&$B100&\"'!$h$33\")+INDIRECT(\"'\"&$B100&\"'!$i$33\"),\"\")","v":""}]
[65,{"$f":"IFERROR(IF(OR(SHEETNAME(A101)=\"HIDE\",SHEETNAME(A101)=\"Start Here\",SHEETNAME(A101)=\"Template\"),\"\",SHEETNAME(A101)),\"\")","v":""},{"$f":"IFERROR(INDIRECT(\"'\"&$B101&\"'!$d$6\"),\"\")","v":""},{"$f":"IFERROR(INDIRECT(\"'\"&$B101&\"'!$d$7\"),\"\")","v":""},{"$f":"IFERROR(INDIRECT(\"'\"&$B101&\"'!$d$8\"),\"\")","v":""},{"$f":"IFERROR(IF(OR(SHEETNAME($A101)=\"HIDE\",SHEETNAME($A101)=\"Start Here\",SHEETNAME($A101)=\"Template\"),\"\",HYPERLINK(\"#'\"&B101&\"'!A1\",\"Go to Sheet\")),\"\")","v":""},{"$f":"IFERROR(IF(INDIRECT(\"'\"&$B101&\"'!$U$7\"),INDIRECT(\"'\"&$B101&\"'!$u$9\"),\"(\"&INDIRECT(\"'\"&$B101&\"'!$U$8\")&\")\"),\"\")","v":""},{"$f":"IF(L101,\"This site has incomplete Cost and Revenue data.  \",\"\")&IF(M101,\"WFRS data for previous quarters is incomplete.  \",\"\")&IF(K101,IFERROR(INDIRECT(\"'\"&$B101&\"'!$g$9\"),\"\"),\"\")","v":""},false,{"$f":"IFERROR(INDIRECT(\"'\"&$B101&\"'!$u$7\"),FALSE)","v":false},{"$f":"IFERROR(INDIRECT(\"'\"&$B101&\"'!$u$10\"),FALSE)","v":false},{"$f":"IFERROR(INDIRECT(\"'\"&$B101&\"'!$AC$12\"),FALSE)","v":false},{"$f":"IFERROR(INDIRECT(\"'\"&$B101&\"'!$ad$12\"),FALSE)","v":false},null,{"$f":"IFERROR(INDIRECT(\"'\"&$B101&\"'!$d$10\"),\"\")","v":""},{"$f":"IFERROR(INDIRECT(\"'\"&$B101&\"'!$d$33\"),\"\")","v":""},{"$f":"IFERROR(INDIRECT(\"'\"&$B101&\"'!$j$33\")+INDIRECT(\"'\"&$B101&\"'!$k$33\"),\"\")","v":""},{"$f":"IFERROR(INDIRECT(\"'\"&$B101&\"'!$q$33\"),\"\")","v":""},{"$f":"IFERROR(INDIRECT(\"'\"&$B101&\"'!$e$33\"),\"\")","v":""},{"$f":"IFERROR(INDIRECT(\"'\"&$B101&\"'!$L$33\"),\"\")","v":""},{"$f":"IFERROR(INDIRECT(\"'\"&$B101&\"'!$g$33\")+INDIRECT(\"'\"&$B101&\"'!$h$33\")+INDIRECT(\"'\"&$B101&\"'!$i$33\"),\"\")","v":""}]
[66,{"$f":"IFERROR(IF(OR(SHEETNAME(A102)=\"HIDE\",SHEETNAME(A102)=\"Start Here\",SHEETNAME(A102)=\"Template\"),\"\",SHEETNAME(A102)),\"\")","v":""},{"$f":"IFERROR(INDIRECT(\"'\"&$B102&\"'!$d$6\"),\"\")","v":""},{"$f":"IFERROR(INDIRECT(\"'\"&$B102&\"'!$d$7\"),\"\")","v":""},{"$f":"IFERROR(INDIRECT(\"'\"&$B102&\"'!$d$8\"),\"\")","v":""},{"$f":"IFERROR(IF(OR(SHEETNAME($A102)=\"HIDE\",SHEETNAME($A102)=\"Start Here\",SHEETNAME($A102)=\"Template\"),\"\",HYPERLINK(\"#'\"&B102&\"'!A1\",\"Go to Sheet\")),\"\")","v":""},{"$f":"IFERROR(IF(INDIRECT(\"'\"&$B102&\"'!$U$7\"),INDIRECT(\"'\"&$B102&\"'!$u$9\"),\"(\"&INDIRECT(\"'\"&$B102&\"'!$U$8\")&\")\"),\"\")","v":""},{"$f":"IF(L102,\"This site has incomplete Cost and Revenue data.  \",\"\")&IF(M102,\"WFRS data for previous quarters is incomplete.  \",\"\")&IF(K102,IFERROR(INDIRECT(\"'\"&$B102&\"'!$g$9\"),\"\"),\"\")","v":""},{"$f":"NOT(E102=\"\")","v":false},{"$f":"IFERROR(INDIRECT(\"'\"&$B102&\"'!$u$7\"),FALSE)","v":false},{"$f":"IFERROR(INDIRECT(\"'\"&$B102&\"'!$u$10\"),FALSE)","v":false},{"$f":"IFERROR(INDIRECT(\"'\"&$B102&\"'!$AC$12\"),FALSE)","v":false},{"$f":"IFERROR(INDIRECT(\"'\"&$B102&\"'!$ad$12\"),FALSE)","v":false},null,{"$f":"IFERROR(INDIRECT(\"'\"&$B102&\"'!$d$10\"),\"\")","v":""},{"$f":"IFERROR(INDIRECT(\"'\"&$B102&\"'!$d$33\"),\"\")","v":""},{"$f":"IFERROR(INDIRECT(\"'\"&$B102&\"'!$j$33\")+INDIRECT(\"'\"&$B102&\"'!$k$33\"),\"\")","v":""},{"$f":"IFERROR(INDIRECT(\"'\"&$B102&\"'!$q$33\"),\"\")","v":""},{"$f":"IFERROR(INDIRECT(\"'\"&$B102&\"'!$e$33\"),\"\")","v":""},{"$f":"IFERROR(INDIRECT(\"'\"&$B102&\"'!$L$33\"),\"\")","v":""},{"$f":"IFERROR(INDIRECT(\"'\"&$B102&\"'!$g$33\")+INDIRECT(\"'\"&$B102&\"'!$h$33\")+INDIRECT(\"'\"&$B102&\"'!$i$33\"),\"\")","v":""}]
[67,{"$f":"IFERROR(IF(OR(SHEETNAME(A103)=\"HIDE\",SHEETNAME(A103)=\"Start Here\",SHEETNAME(A103)=\"Template\"),\"\",SHEETNAME(A103)),\"\")","v":""},{"$f":"IFERROR(INDIRECT(\"'\"&$B103&\"'!$d$6\"),\"\")","v":""},{"$f":"IFERROR(INDIRECT(\"'\"&$B103&\"'!$d$7\"),\"\")","v":""},{"$f":"IFERROR(INDIRECT(\"'\"&$B103&\"'!$d$8\"),\"\")","v":""},{"$f":"IFERROR(IF(OR(SHEETNAME($A103)=\"HIDE\",SHEETNAME($A103)=\"Start Here\",SHEETNAME($A103)=\"Template\"),\"\",HYPERLINK(\"#'\"&B103&\"'!A1\",\"Go to Sheet\")),\"\")","v":""},{"$f":"IFERROR(IF(INDIRECT(\"'\"&$B103&\"'!$U$7\"),INDIRECT(\"'\"&$B103&\"'!$u$9\"),\"(\"&INDIRECT(\"'\"&$B103&\"'!$U$8\")&\")\"),\"\")","v":""},{"$f":"IF(L103,\"This site has incomplete Cost and Revenue data.  \",\"\")&IF(M103,\"WFRS data for previous quarters is incomplete.  \",\"\")&IF(K103,IFERROR(INDIRECT(\"'\"&$B103&\"'!$g$9\"),\"\"),\"\")","v":""},false,{"$f":"IFERROR(INDIRECT(\"'\"&$B103&\"'!$u$7\"),FALSE)","v":false},{"$f":"IFERROR(INDIRECT(\"'\"&$B103&\"'!$u$10\"),FALSE)","v":false},{"$f":"IFERROR(INDIRECT(\"'\"&$B103&\"'!$AC$12\"),FALSE)","v":false},{"$f":"IFERROR(INDIRECT(\"'\"&$B103&\"'!$ad$12\"),FALSE)","v":false},null,{"$f":"IFERROR(INDIRECT(\"'\"&$B103&\"'!$d$10\"),\"\")","v":""},{"$f":"IFERROR(INDIRECT(\"'\"&$B103&\"'!$d$33\"),\"\")","v":""},{"$f":"IFERROR(INDIRECT(\"'\"&$B103&\"'!$j$33\")+INDIRECT(\"'\"&$B103&\"'!$k$33\"),\"\")","v":""},{"$f":"IFERROR(INDIRECT(\"'\"&$B103&\"'!$q$33\"),\"\")","v":""},{"$f":"IFERROR(INDIRECT(\"'\"&$B103&\"'!$e$33\"),\"\")","v":""},{"$f":"IFERROR(INDIRECT(\"'\"&$B103&\"'!$L$33\"),\"\")","v":""},{"$f":"IFERROR(INDIRECT(\"'\"&$B103&\"'!$g$33\")+INDIRECT(\"'\"&$B103&\"'!$h$33\")+INDIRECT(\"'\"&$B103&\"'!$i$33\"),\"\")","v":""}]
[68,{"$f":"IFERROR(IF(OR(SHEETNAME(A104)=\"HIDE\",SHEETNAME(A104)=\"Start Here\",SHEETNAME(A104)=\"Template\"),\"\",SHEETNAME(A104)),\"\")","v":""},{"$f":"IFERROR(INDIRECT(\"'\"&$B104&\"'!$d$6\"),\"\")","v":""},{"$f":"IFERROR(INDIRECT(\"'\"&$B104&\"'!$d$7\"),\"\")","v":""},{"$f":"IFERROR(INDIRECT(\"'\"&$B104&\"'!$d$8\"),\"\")","v":""},{"$f":"IFERROR(IF(OR(SHEETNAME($A104)=\"HIDE\",SHEETNAME($A104)=\"Start Here\",SHEETNAME($A104)=\"Template\"),\"\",HYPERLINK(\"#'\"&B104&\"'!A1\",\"Go to Sheet\")),\"\")","v":""},{"$f":"IFERROR(IF(INDIRECT(\"'\"&$B104&\"'!$U$7\"),INDIRECT(\"'\"&$B104&\"'!$u$9\"),\"(\"&INDIRECT(\"'\"&$B104&\"'!$U$8\")&\")\"),\"\")","v":""},{"$f":"IF(L104,\"This site has incomplete Cost and Revenue data.  \",\"\")&IF(M104,\"WFRS data for previous quarters is incomplete.  \",\"\")&IF(K104,IFERROR(INDIRECT(\"'\"&$B104&\"'!$g$9\"),\"\"),\"\")","v":""},false,{"$f":"IFERROR(INDIRECT(\"'\"&$B104&\"'!$u$7\"),FALSE)","v":false},{"$f":"IFERROR(INDIRECT(\"'\"&$B104&\"'!$u$10\"),FALSE)","v":false},{"$f":"IFERROR(INDIRECT(\"'\"&$B104&\"'!$AC$12\"),FALSE)","v":false},{"$f":"IFERROR(INDIRECT(\"'\"&$B104&\"'!$ad$12\"),FALSE)","v":false},null,{"$f":"IFERROR(INDIRECT(\"'\"&$B104&\"'!$d$10\"),\"\")","v":""},{"$f":"IFERROR(INDIRECT(\"'\"&$B104&\"'!$d$33\"),\"\")","v":""},{"$f":"IFERROR(INDIRECT(\"'\"&$B104&\"'!$j$33\")+INDIRECT(\"'\"&$B104&\"'!$k$33\"),\"\")","v":""},{"$f":"IFERROR(INDIRECT(\"'\"&$B104&\"'!$q$33\"),\"\")","v":""},{"$f":"IFERROR(INDIRECT(\"'\"&$B104&\"'!$e$33\"),\"\")","v":""},{"$f":"IFERROR(INDIRECT(\"'\"&$B104&\"'!$L$33\"),\"\")","v":""},{"$f":"IFERROR(INDIRECT(\"'\"&$B104&\"'!$g$33\")+INDIRECT(\"'\"&$B104&\"'!$h$33\")+INDIRECT(\"'\"&$B104&\"'!$i$33\"),\"\")","v":""}]
[69,{"$f":"IFERROR(IF(OR(SHEETNAME(A105)=\"HIDE\",SHEETNAME(A105)=\"Start Here\",SHEETNAME(A105)=\"Template\"),\"\",SHEETNAME(A105)),\"\")","v":""},{"$f":"IFERROR(INDIRECT(\"'\"&$B105&\"'!$d$6\"),\"\")","v":""},{"$f":"IFERROR(INDIRECT(\"'\"&$B105&\"'!$d$7\"),\"\")","v":""},{"$f":"IFERROR(INDIRECT(\"'\"&$B105&\"'!$d$8\"),\"\")","v":""},{"$f":"IFERROR(IF(OR(SHEETNAME($A105)=\"HIDE\",SHEETNAME($A105)=\"Start Here\",SHEETNAME($A105)=\"Template\"),\"\",HYPERLINK(\"#'\"&B105&\"'!A1\",\"Go to Sheet\")),\"\")","v":""},{"$f":"IFERROR(IF(INDIRECT(\"'\"&$B105&\"'!$U$7\"),INDIRECT(\"'\"&$B105&\"'!$u$9\"),\"(\"&INDIRECT(\"'\"&$B105&\"'!$U$8\")&\")\"),\"\")","v":""},{"$f":"IF(L105,\"This site has incomplete Cost and Revenue data.  \",\"\")&IF(M105,\"WFRS data for previous quarters is incomplete.  \",\"\")&IF(K105,IFERROR(INDIRECT(\"'\"&$B105&\"'!$g$9\"),\"\"),\"\")","v":""},false,{"$f":"IFERROR(INDIRECT(\"'\"&$B105&\"'!$u$7\"),FALSE)","v":false},{"$f":"IFERROR(INDIRECT(\"'\"&$B105&\"'!$u$10\"),FALSE)","v":false},{"$f":"IFERROR(INDIRECT(\"'\"&$B105&\"'!$AC$12\"),FALSE)","v":false},{"$f":"IFERROR(INDIRECT(\"'\"&$B105&\"'!$ad$12\"),FALSE)","v":false},null,{"$f":"IFERROR(INDIRECT(\"'\"&$B105&\"'!$d$10\"),\"\")","v":""},{"$f":"IFERROR(INDIRECT(\"'\"&$B105&\"'!$d$33\"),\"\")","v":""},{"$f":"IFERROR(INDIRECT(\"'\"&$B105&\"'!$j$33\")+INDIRECT(\"'\"&$B105&\"'!$k$33\"),\"\")","v":""},{"$f":"IFERROR(INDIRECT(\"'\"&$B105&\"'!$q$33\"),\"\")","v":""},{"$f":"IFERROR(INDIRECT(\"'\"&$B105&\"'!$e$33\"),\"\")","v":""},{"$f":"IFERROR(INDIRECT(\"'\"&$B105&\"'!$L$33\"),\"\")","v":""},{"$f":"IFERROR(INDIRECT(\"'\"&$B105&\"'!$g$33\")+INDIRECT(\"'\"&$B105&\"'!$h$33\")+INDIRECT(\"'\"&$B105&\"'!$i$33\"),\"\")","v":""}]
[70,{"$f":"IFERROR(IF(OR(SHEETNAME(A106)=\"HIDE\",SHEETNAME(A106)=\"Start Here\",SHEETNAME(A106)=\"Template\"),\"\",SHEETNAME(A106)),\"\")","v":""},{"$f":"IFERROR(INDIRECT(\"'\"&$B106&\"'!$d$6\"),\"\")","v":""},{"$f":"IFERROR(INDIRECT(\"'\"&$B106&\"'!$d$7\"),\"\")","v":""},{"$f":"IFERROR(INDIRECT(\"'\"&$B106&\"'!$d$8\"),\"\")","v":""},{"$f":"IFERROR(IF(OR(SHEETNAME($A106)=\"HIDE\",SHEETNAME($A106)=\"Start Here\",SHEETNAME($A106)=\"Template\"),\"\",HYPERLINK(\"#'\"&B106&\"'!A1\",\"Go to Sheet\")),\"\")","v":""},{"$f":"IFERROR(IF(INDIRECT(\"'\"&$B106&\"'!$U$7\"),INDIRECT(\"'\"&$B106&\"'!$u$9\"),\"(\"&INDIRECT(\"'\"&$B106&\"'!$U$8\")&\")\"),\"\")","v":""},{"$f":"IF(L106,\"This site has incomplete Cost and Revenue data.  \",\"\")&IF(M106,\"WFRS data for previous quarters is incomplete.  \",\"\")&IF(K106,IFERROR(INDIRECT(\"'\"&$B106&\"'!$g$9\"),\"\"),\"\")","v":""},false,{"$f":"IFERROR(INDIRECT(\"'\"&$B106&\"'!$u$7\"),FALSE)","v":false},{"$f":"IFERROR(INDIRECT(\"'\"&$B106&\"'!$u$10\"),FALSE)","v":false},{"$f":"IFERROR(INDIRECT(\"'\"&$B106&\"'!$AC$12\"),FALSE)","v":false},{"$f":"IFERROR(INDIRECT(\"'\"&$B106&\"'!$ad$12\"),FALSE)","v":false},null,{"$f":"IFERROR(INDIRECT(\"'\"&$B106&\"'!$d$10\"),\"\")","v":""},{"$f":"IFERROR(INDIRECT(\"'\"&$B106&\"'!$d$33\"),\"\")","v":""},{"$f":"IFERROR(INDIRECT(\"'\"&$B106&\"'!$j$33\")+INDIRECT(\"'\"&$B106&\"'!$k$33\"),\"\")","v":""},{"$f":"IFERROR(INDIRECT(\"'\"&$B106&\"'!$q$33\"),\"\")","v":""},{"$f":"IFERROR(INDIRECT(\"'\"&$B106&\"'!$e$33\"),\"\")","v":""},{"$f":"IFERROR(INDIRECT(\"'\"&$B106&\"'!$L$33\"),\"\")","v":""},{"$f":"IFERROR(INDIRECT(\"'\"&$B106&\"'!$g$33\")+INDIRECT(\"'\"&$B106&\"'!$h$33\")+INDIRECT(\"'\"&$B106&\"'!$i$33\"),\"\")","v":""}]
[71,{"$f":"IFERROR(IF(OR(SHEETNAME(A107)=\"HIDE\",SHEETNAME(A107)=\"Start Here\",SHEETNAME(A107)=\"Template\"),\"\",SHEETNAME(A107)),\"\")","v":""},{"$f":"IFERROR(INDIRECT(\"'\"&$B107&\"'!$d$6\"),\"\")","v":""},{"$f":"IFERROR(INDIRECT(\"'\"&$B107&\"'!$d$7\"),\"\")","v":""},{"$f":"IFERROR(INDIRECT(\"'\"&$B107&\"'!$d$8\"),\"\")","v":""},{"$f":"IFERROR(IF(OR(SHEETNAME($A107)=\"HIDE\",SHEETNAME($A107)=\"Start Here\",SHEETNAME($A107)=\"Template\"),\"\",HYPERLINK(\"#'\"&B107&\"'!A1\",\"Go to Sheet\")),\"\")","v":""},{"$f":"IFERROR(IF(INDIRECT(\"'\"&$B107&\"'!$U$7\"),INDIRECT(\"'\"&$B107&\"'!$u$9\"),\"(\"&INDIRECT(\"'\"&$B107&\"'!$U$8\")&\")\"),\"\")","v":""},{"$f":"IF(L107,\"This site has incomplete Cost and Revenue data.  \",\"\")&IF(M107,\"WFRS data for previous quarters is incomplete.  \",\"\")&IF(K107,IFERROR(INDIRECT(\"'\"&$B107&\"'!$g$9\"),\"\"),\"\")","v":""},false,{"$f":"IFERROR(INDIRECT(\"'\"&$B107&\"'!$u$7\"),FALSE)","v":false},{"$f":"IFERROR(INDIRECT(\"'\"&$B107&\"'!$u$10\"),FALSE)","v":false},{"$f":"IFERROR(INDIRECT(\"'\"&$B107&\"'!$AC$12\"),FALSE)","v":false},{"$f":"IFERROR(INDIRECT(\"'\"&$B107&\"'!$ad$12\"),FALSE)","v":false},null,{"$f":"IFERROR(INDIRECT(\"'\"&$B107&\"'!$d$10\"),\"\")","v":""},{"$f":"IFERROR(INDIRECT(\"'\"&$B107&\"'!$d$33\"),\"\")","v":""},{"$f":"IFERROR(INDIRECT(\"'\"&$B107&\"'!$j$33\")+INDIRECT(\"'\"&$B107&\"'!$k$33\"),\"\")","v":""},{"$f":"IFERROR(INDIRECT(\"'\"&$B107&\"'!$q$33\"),\"\")","v":""},{"$f":"IFERROR(INDIRECT(\"'\"&$B107&\"'!$e$33\"),\"\")","v":""},{"$f":"IFERROR(INDIRECT(\"'\"&$B107&\"'!$L$33\"),\"\")","v":""},{"$f":"IFERROR(INDIRECT(\"'\"&$B107&\"'!$g$33\")+INDIRECT(\"'\"&$B107&\"'!$h$33\")+INDIRECT(\"'\"&$B107&\"'!$i$33\"),\"\")","v":""}]
[72,{"$f":"IFERROR(IF(OR(SHEETNAME(A108)=\"HIDE\",SHEETNAME(A108)=\"Start Here\",SHEETNAME(A108)=\"Template\"),\"\",SHEETNAME(A108)),\"\")","v":""},{"$f":"IFERROR(INDIRECT(\"'\"&$B108&\"'!$d$6\"),\"\")","v":""},{"$f":"IFERROR(INDIRECT(\"'\"&$B108&\"'!$d$7\"),\"\")","v":""},{"$f":"IFERROR(INDIRECT(\"'\"&$B108&\"'!$d$8\"),\"\")","v":""},{"$f":"IFERROR(IF(OR(SHEETNAME($A108)=\"HIDE\",SHEETNAME($A108)=\"Start Here\",SHEETNAME($A108)=\"Template\"),\"\",HYPERLINK(\"#'\"&B108&\"'!A1\",\"Go to Sheet\")),\"\")","v":""},{"$f":"IFERROR(IF(INDIRECT(\"'\"&$B108&\"'!$U$7\"),INDIRECT(\"'\"&$B108&\"'!$u$9\"),\"(\"&INDIRECT(\"'\"&$B108&\"'!$U$8\")&\")\"),\"\")","v":""},{"$f":"IF(L108,\"This site has incomplete Cost and Revenue data.  \",\"\")&IF(M108,\"WFRS data for previous quarters is incomplete.  \",\"\")&IF(K108,IFERROR(INDIRECT(\"'\"&$B108&\"'!$g$9\"),\"\"),\"\")","v":""},false,{"$f":"IFERROR(INDIRECT(\"'\"&$B108&\"'!$u$7\"),FALSE)","v":false},{"$f":"IFERROR(INDIRECT(\"'\"&$B108&\"'!$u$10\"),FALSE)","v":false},{"$f":"IFERROR(INDIRECT(\"'\"&$B108&\"'!$AC$12\"),FALSE)","v":false},{"$f":"IFERROR(INDIRECT(\"'\"&$B108&\"'!$ad$12\"),FALSE)","v":false},null,{"$f":"IFERROR(INDIRECT(\"'\"&$B108&\"'!$d$10\"),\"\")","v":""},{"$f":"IFERROR(INDIRECT(\"'\"&$B108&\"'!$d$33\"),\"\")","v":""},{"$f":"IFERROR(INDIRECT(\"'\"&$B108&\"'!$j$33\")+INDIRECT(\"'\"&$B108&\"'!$k$33\"),\"\")","v":""},{"$f":"IFERROR(INDIRECT(\"'\"&$B108&\"'!$q$33\"),\"\")","v":""},{"$f":"IFERROR(INDIRECT(\"'\"&$B108&\"'!$e$33\"),\"\")","v":""},{"$f":"IFERROR(INDIRECT(\"'\"&$B108&\"'!$L$33\"),\"\")","v":""},{"$f":"IFERROR(INDIRECT(\"'\"&$B108&\"'!$g$33\")+INDIRECT(\"'\"&$B108&\"'!$h$33\")+INDIRECT(\"'\"&$B108&\"'!$i$33\"),\"\")","v":""}]
[73,{"$f":"IFERROR(IF(OR(SHEETNAME(A109)=\"HIDE\",SHEETNAME(A109)=\"Start Here\",SHEETNAME(A109)=\"Template\"),\"\",SHEETNAME(A109)),\"\")","v":""},{"$f":"IFERROR(INDIRECT(\"'\"&$B109&\"'!$d$6\"),\"\")","v":""},{"$f":"IFERROR(INDIRECT(\"'\"&$B109&\"'!$d$7\"),\"\")","v":""},{"$f":"IFERROR(INDIRECT(\"'\"&$B109&\"'!$d$8\"),\"\")","v":""},{"$f":"IFERROR(IF(OR(SHEETNAME($A109)=\"HIDE\",SHEETNAME($A109)=\"Start Here\",SHEETNAME($A109)=\"Template\"),\"\",HYPERLINK(\"#'\"&B109&\"'!A1\",\"Go to Sheet\")),\"\")","v":""},{"$f":"IFERROR(IF(INDIRECT(\"'\"&$B109&\"'!$U$7\"),INDIRECT(\"'\"&$B109&\"'!$u$9\"),\"(\"&INDIRECT(\"'\"&$B109&\"'!$U$8\")&\")\"),\"\")","v":""},{"$f":"IF(L109,\"This site has incomplete Cost and Revenue data.  \",\"\")&IF(M109,\"WFRS data for previous quarters is incomplete.  \",\"\")&IF(K109,IFERROR(INDIRECT(\"'\"&$B109&\"'!$g$9\"),\"\"),\"\")","v":""},false,{"$f":"IFERROR(INDIRECT(\"'\"&$B109&\"'!$u$7\"),FALSE)","v":false},{"$f":"IFERROR(INDIRECT(\"'\"&$B109&\"'!$u$10\"),FALSE)","v":false},{"$f":"IFERROR(INDIRECT(\"'\"&$B109&\"'!$AC$12\"),FALSE)","v":false},{"$f":"IFERROR(INDIRECT(\"'\"&$B109&\"'!$ad$12\"),FALSE)","v":false},null,{"$f":"IFERROR(INDIRECT(\"'\"&$B109&\"'!$d$10\"),\"\")","v":""},{"$f":"IFERROR(INDIRECT(\"'\"&$B109&\"'!$d$33\"),\"\")","v":""},{"$f":"IFERROR(INDIRECT(\"'\"&$B109&\"'!$j$33\")+INDIRECT(\"'\"&$B109&\"'!$k$33\"),\"\")","v":""},{"$f":"IFERROR(INDIRECT(\"'\"&$B109&\"'!$q$33\"),\"\")","v":""},{"$f":"IFERROR(INDIRECT(\"'\"&$B109&\"'!$e$33\"),\"\")","v":""},{"$f":"IFERROR(INDIRECT(\"'\"&$B109&\"'!$L$33\"),\"\")","v":""},{"$f":"IFERROR(INDIRECT(\"'\"&$B109&\"'!$g$33\")+INDIRECT(\"'\"&$B109&\"'!$h$33\")+INDIRECT(\"'\"&$B109&\"'!$i$33\"),\"\")","v":""}]
[74,{"$f":"IFERROR(IF(OR(SHEETNAME(A110)=\"HIDE\",SHEETNAME(A110)=\"Start Here\",SHEETNAME(A110)=\"Template\"),\"\",SHEETNAME(A110)),\"\")","v":""},{"$f":"IFERROR(INDIRECT(\"'\"&$B110&\"'!$d$6\"),\"\")","v":""},{"$f":"IFERROR(INDIRECT(\"'\"&$B110&\"'!$d$7\"),\"\")","v":""},{"$f":"IFERROR(INDIRECT(\"'\"&$B110&\"'!$d$8\"),\"\")","v":""},{"$f":"IFERROR(IF(OR(SHEETNAME($A110)=\"HIDE\",SHEETNAME($A110)=\"Start Here\",SHEETNAME($A110)=\"Template\"),\"\",HYPERLINK(\"#'\"&B110&\"'!A1\",\"Go to Sheet\")),\"\")","v":""},{"$f":"IFERROR(IF(INDIRECT(\"'\"&$B110&\"'!$U$7\"),INDIRECT(\"'\"&$B110&\"'!$u$9\"),\"(\"&INDIRECT(\"'\"&$B110&\"'!$U$8\")&\")\"),\"\")","v":""},{"$f":"IF(L110,\"This site has incomplete Cost and Revenue data.  \",\"\")&IF(M110,\"WFRS data for previous quarters is incomplete.  \",\"\")&IF(K110,IFERROR(INDIRECT(\"'\"&$B110&\"'!$g$9\"),\"\"),\"\")","v":""},false,{"$f":"IFERROR(INDIRECT(\"'\"&$B110&\"'!$u$7\"),FALSE)","v":false},{"$f":"IFERROR(INDIRECT(\"'\"&$B110&\"'!$u$10\"),FALSE)","v":false},{"$f":"IFERROR(INDIRECT(\"'\"&$B110&\"'!$AC$12\"),FALSE)","v":false},{"$f":"IFERROR(INDIRECT(\"'\"&$B110&\"'!$ad$12\"),FALSE)","v":false},null,{"$f":"IFERROR(INDIRECT(\"'\"&$B110&\"'!$d$10\"),\"\")","v":""},{"$f":"IFERROR(INDIRECT(\"'\"&$B110&\"'!$d$33\"),\"\")","v":""},{"$f":"IFERROR(INDIRECT(\"'\"&$B110&\"'!$j$33\")+INDIRECT(\"'\"&$B110&\"'!$k$33\"),\"\")","v":""},{"$f":"IFERROR(INDIRECT(\"'\"&$B110&\"'!$q$33\"),\"\")","v":""},{"$f":"IFERROR(INDIRECT(\"'\"&$B110&\"'!$e$33\"),\"\")","v":""},{"$f":"IFERROR(INDIRECT(\"'\"&$B110&\"'!$L$33\"),\"\")","v":""},{"$f":"IFERROR(INDIRECT(\"'\"&$B110&\"'!$g$33\")+INDIRECT(\"'\"&$B110&\"'!$h$33\")+INDIRECT(\"'\"&$B110&\"'!$i$33\"),\"\")","v":""}]
[75,{"$f":"IFERROR(IF(OR(SHEETNAME(A111)=\"HIDE\",SHEETNAME(A111)=\"Start Here\",SHEETNAME(A111)=\"Template\"),\"\",SHEETNAME(A111)),\"\")","v":""},{"$f":"IFERROR(INDIRECT(\"'\"&$B111&\"'!$d$6\"),\"\")","v":""},{"$f":"IFERROR(INDIRECT(\"'\"&$B111&\"'!$d$7\"),\"\")","v":""},{"$f":"IFERROR(INDIRECT(\"'\"&$B111&\"'!$d$8\"),\"\")","v":""},{"$f":"IFERROR(IF(OR(SHEETNAME($A111)=\"HIDE\",SHEETNAME($A111)=\"Start Here\",SHEETNAME($A111)=\"Template\"),\"\",HYPERLINK(\"#'\"&B111&\"'!A1\",\"Go to Sheet\")),\"\")","v":""},{"$f":"IFERROR(IF(INDIRECT(\"'\"&$B111&\"'!$U$7\"),INDIRECT(\"'\"&$B111&\"'!$u$9\"),\"(\"&INDIRECT(\"'\"&$B111&\"'!$U$8\")&\")\"),\"\")","v":""},{"$f":"IF(L111,\"This site has incomplete Cost and Revenue data.  \",\"\")&IF(M111,\"WFRS data for previous quarters is incomplete.  \",\"\")&IF(K111,IFERROR(INDIRECT(\"'\"&$B111&\"'!$g$9\"),\"\"),\"\")","v":""},false,{"$f":"IFERROR(INDIRECT(\"'\"&$B111&\"'!$u$7\"),FALSE)","v":false},{"$f":"IFERROR(INDIRECT(\"'\"&$B111&\"'!$u$10\"),FALSE)","v":false},{"$f":"IFERROR(INDIRECT(\"'\"&$B111&\"'!$AC$12\"),FALSE)","v":false},{"$f":"IFERROR(INDIRECT(\"'\"&$B111&\"'!$ad$12\"),FALSE)","v":false},null,{"$f":"IFERROR(INDIRECT(\"'\"&$B111&\"'!$d$10\"),\"\")","v":""},{"$f":"IFERROR(INDIRECT(\"'\"&$B111&\"'!$d$33\"),\"\")","v":""},{"$f":"IFERROR(INDIRECT(\"'\"&$B111&\"'!$j$33\")+INDIRECT(\"'\"&$B111&\"'!$k$33\"),\"\")","v":""},{"$f":"IFERROR(INDIRECT(\"'\"&$B111&\"'!$q$33\"),\"\")","v":""},{"$f":"IFERROR(INDIRECT(\"'\"&$B111&\"'!$e$33\"),\"\")","v":""},{"$f":"IFERROR(INDIRECT(\"'\"&$B111&\"'!$L$33\"),\"\")","v":""},{"$f":"IFERROR(INDIRECT(\"'\"&$B111&\"'!$g$33\")+INDIRECT(\"'\"&$B111&\"'!$h$33\")+INDIRECT(\"'\"&$B111&\"'!$i$33\"),\"\")","v":""}]
[76,{"$f":"IFERROR(IF(OR(SHEETNAME(A112)=\"HIDE\",SHEETNAME(A112)=\"Start Here\",SHEETNAME(A112)=\"Template\"),\"\",SHEETNAME(A112)),\"\")","v":""},{"$f":"IFERROR(INDIRECT(\"'\"&$B112&\"'!$d$6\"),\"\")","v":""},{"$f":"IFERROR(INDIRECT(\"'\"&$B112&\"'!$d$7\"),\"\")","v":""},{"$f":"IFERROR(INDIRECT(\"'\"&$B112&\"'!$d$8\"),\"\")","v":""},{"$f":"IFERROR(IF(OR(SHEETNAME($A112)=\"HIDE\",SHEETNAME($A112)=\"Start Here\",SHEETNAME($A112)=\"Template\"),\"\",HYPERLINK(\"#'\"&B112&\"'!A1\",\"Go to Sheet\")),\"\")","v":""},{"$f":"IFERROR(IF(INDIRECT(\"'\"&$B112&\"'!$U$7\"),INDIRECT(\"'\"&$B112&\"'!$u$9\"),\"(\"&INDIRECT(\"'\"&$B112&\"'!$U$8\")&\")\"),\"\")","v":""},{"$f":"IF(L112,\"This site has incomplete Cost and Revenue data.  \",\"\")&IF(M112,\"WFRS data for previous quarters is incomplete.  \",\"\")&IF(K112,IFERROR(INDIRECT(\"'\"&$B112&\"'!$g$9\"),\"\"),\"\")","v":""},false,{"$f":"IFERROR(INDIRECT(\"'\"&$B112&\"'!$u$7\"),FALSE)","v":false},{"$f":"IFERROR(INDIRECT(\"'\"&$B112&\"'!$u$10\"),FALSE)","v":false},{"$f":"IFERROR(INDIRECT(\"'\"&$B112&\"'!$AC$12\"),FALSE)","v":false},{"$f":"IFERROR(INDIRECT(\"'\"&$B112&\"'!$ad$12\"),FALSE)","v":false},null,{"$f":"IFERROR(INDIRECT(\"'\"&$B112&\"'!$d$10\"),\"\")","v":""},{"$f":"IFERROR(INDIRECT(\"'\"&$B112&\"'!$d$33\"),\"\")","v":""},{"$f":"IFERROR(INDIRECT(\"'\"&$B112&\"'!$j$33\")+INDIRECT(\"'\"&$B112&\"'!$k$33\"),\"\")","v":""},{"$f":"IFERROR(INDIRECT(\"'\"&$B112&\"'!$q$33\"),\"\")","v":""},{"$f":"IFERROR(INDIRECT(\"'\"&$B112&\"'!$e$33\"),\"\")","v":""},{"$f":"IFERROR(INDIRECT(\"'\"&$B112&\"'!$L$33\"),\"\")","v":""},{"$f":"IFERROR(INDIRECT(\"'\"&$B112&\"'!$g$33\")+INDIRECT(\"'\"&$B112&\"'!$h$33\")+INDIRECT(\"'\"&$B112&\"'!$i$33\"),\"\")","v":""}]
[77,{"$f":"IFERROR(IF(OR(SHEETNAME(A113)=\"HIDE\",SHEETNAME(A113)=\"Start Here\",SHEETNAME(A113)=\"Template\"),\"\",SHEETNAME(A113)),\"\")","v":""},{"$f":"IFERROR(INDIRECT(\"'\"&$B113&\"'!$d$6\"),\"\")","v":""},{"$f":"IFERROR(INDIRECT(\"'\"&$B113&\"'!$d$7\"),\"\")","v":""},{"$f":"IFERROR(INDIRECT(\"'\"&$B113&\"'!$d$8\"),\"\")","v":""},{"$f":"IFERROR(IF(OR(SHEETNAME($A113)=\"HIDE\",SHEETNAME($A113)=\"Start Here\",SHEETNAME($A113)=\"Template\"),\"\",HYPERLINK(\"#'\"&B113&\"'!A1\",\"Go to Sheet\")),\"\")","v":""},{"$f":"IFERROR(IF(INDIRECT(\"'\"&$B113&\"'!$U$7\"),INDIRECT(\"'\"&$B113&\"'!$u$9\"),\"(\"&INDIRECT(\"'\"&$B113&\"'!$U$8\")&\")\"),\"\")","v":""},{"$f":"IF(L113,\"This site has incomplete Cost and Revenue data.  \",\"\")&IF(M113,\"WFRS data for previous quarters is incomplete.  \",\"\")&IF(K113,IFERROR(INDIRECT(\"'\"&$B113&\"'!$g$9\"),\"\"),\"\")","v":""},false,{"$f":"IFERROR(INDIRECT(\"'\"&$B113&\"'!$u$7\"),FALSE)","v":false},{"$f":"IFERROR(INDIRECT(\"'\"&$B113&\"'!$u$10\"),FALSE)","v":false},{"$f":"IFERROR(INDIRECT(\"'\"&$B113&\"'!$AC$12\"),FALSE)","v":false},{"$f":"IFERROR(INDIRECT(\"'\"&$B113&\"'!$ad$12\"),FALSE)","v":false},null,{"$f":"IFERROR(INDIRECT(\"'\"&$B113&\"'!$d$10\"),\"\")","v":""},{"$f":"IFERROR(INDIRECT(\"'\"&$B113&\"'!$d$33\"),\"\")","v":""},{"$f":"IFERROR(INDIRECT(\"'\"&$B113&\"'!$j$33\")+INDIRECT(\"'\"&$B113&\"'!$k$33\"),\"\")","v":""},{"$f":"IFERROR(INDIRECT(\"'\"&$B113&\"'!$q$33\"),\"\")","v":""},{"$f":"IFERROR(INDIRECT(\"'\"&$B113&\"'!$e$33\"),\"\")","v":""},{"$f":"IFERROR(INDIRECT(\"'\"&$B113&\"'!$L$33\"),\"\")","v":""},{"$f":"IFERROR(INDIRECT(\"'\"&$B113&\"'!$g$33\")+INDIRECT(\"'\"&$B113&\"'!$h$33\")+INDIRECT(\"'\"&$B113&\"'!$i$33\"),\"\")","v":""}]
[78,{"$f":"IFERROR(IF(OR(SHEETNAME(A114)=\"HIDE\",SHEETNAME(A114)=\"Start Here\",SHEETNAME(A114)=\"Template\"),\"\",SHEETNAME(A114)),\"\")","v":""},{"$f":"IFERROR(INDIRECT(\"'\"&$B114&\"'!$d$6\"),\"\")","v":""},{"$f":"IFERROR(INDIRECT(\"'\"&$B114&\"'!$d$7\"),\"\")","v":""},{"$f":"IFERROR(INDIRECT(\"'\"&$B114&\"'!$d$8\"),\"\")","v":""},{"$f":"IFERROR(IF(OR(SHEETNAME($A114)=\"HIDE\",SHEETNAME($A114)=\"Start Here\",SHEETNAME($A114)=\"Template\"),\"\",HYPERLINK(\"#'\"&B114&\"'!A1\",\"Go to Sheet\")),\"\")","v":""},{"$f":"IFERROR(IF(INDIRECT(\"'\"&$B114&\"'!$U$7\"),INDIRECT(\"'\"&$B114&\"'!$u$9\"),\"(\"&INDIRECT(\"'\"&$B114&\"'!$U$8\")&\")\"),\"\")","v":""},{"$f":"IF(L114,\"This site has incomplete Cost and Revenue data.  \",\"\")&IF(M114,\"WFRS data for previous quarters is incomplete.  \",\"\")&IF(K114,IFERROR(INDIRECT(\"'\"&$B114&\"'!$g$9\"),\"\"),\"\")","v":""},false,{"$f":"IFERROR(INDIRECT(\"'\"&$B114&\"'!$u$7\"),FALSE)","v":false},{"$f":"IFERROR(INDIRECT(\"'\"&$B114&\"'!$u$10\"),FALSE)","v":false},{"$f":"IFERROR(INDIRECT(\"'\"&$B114&\"'!$AC$12\"),FALSE)","v":false},{"$f":"IFERROR(INDIRECT(\"'\"&$B114&\"'!$ad$12\"),FALSE)","v":false},null,{"$f":"IFERROR(INDIRECT(\"'\"&$B114&\"'!$d$10\"),\"\")","v":""},{"$f":"IFERROR(INDIRECT(\"'\"&$B114&\"'!$d$33\"),\"\")","v":""},{"$f":"IFERROR(INDIRECT(\"'\"&$B114&\"'!$j$33\")+INDIRECT(\"'\"&$B114&\"'!$k$33\"),\"\")","v":""},{"$f":"IFERROR(INDIRECT(\"'\"&$B114&\"'!$q$33\"),\"\")","v":""},{"$f":"IFERROR(INDIRECT(\"'\"&$B114&\"'!$e$33\"),\"\")","v":""},{"$f":"IFERROR(INDIRECT(\"'\"&$B114&\"'!$L$33\"),\"\")","v":""},{"$f":"IFERROR(INDIRECT(\"'\"&$B114&\"'!$g$33\")+INDIRECT(\"'\"&$B114&\"'!$h$33\")+INDIRECT(\"'\"&$B114&\"'!$i$33\"),\"\")","v":""}]
[79,{"$f":"IFERROR(IF(OR(SHEETNAME(A115)=\"HIDE\",SHEETNAME(A115)=\"Start Here\",SHEETNAME(A115)=\"Template\"),\"\",SHEETNAME(A115)),\"\")","v":""},{"$f":"IFERROR(INDIRECT(\"'\"&$B115&\"'!$d$6\"),\"\")","v":""},{"$f":"IFERROR(INDIRECT(\"'\"&$B115&\"'!$d$7\"),\"\")","v":""},{"$f":"IFERROR(INDIRECT(\"'\"&$B115&\"'!$d$8\"),\"\")","v":""},{"$f":"IFERROR(IF(OR(SHEETNAME($A115)=\"HIDE\",SHEETNAME($A115)=\"Start Here\",SHEETNAME($A115)=\"Template\"),\"\",HYPERLINK(\"#'\"&B115&\"'!A1\",\"Go to Sheet\")),\"\")","v":""},{"$f":"IFERROR(IF(INDIRECT(\"'\"&$B115&\"'!$U$7\"),INDIRECT(\"'\"&$B115&\"'!$u$9\"),\"(\"&INDIRECT(\"'\"&$B115&\"'!$U$8\")&\")\"),\"\")","v":""},{"$f":"IF(L115,\"This site has incomplete Cost and Revenue data.  \",\"\")&IF(M115,\"WFRS data for previous quarters is incomplete.  \",\"\")&IF(K115,IFERROR(INDIRECT(\"'\"&$B115&\"'!$g$9\"),\"\"),\"\")","v":""},false,{"$f":"IFERROR(INDIRECT(\"'\"&$B115&\"'!$u$7\"),FALSE)","v":false},{"$f":"IFERROR(INDIRECT(\"'\"&$B115&\"'!$u$10\"),FALSE)","v":false},{"$f":"IFERROR(INDIRECT(\"'\"&$B115&\"'!$AC$12\"),FALSE)","v":false},{"$f":"IFERROR(INDIRECT(\"'\"&$B115&\"'!$ad$12\"),FALSE)","v":false},null,{"$f":"IFERROR(INDIRECT(\"'\"&$B115&\"'!$d$10\"),\"\")","v":""},{"$f":"IFERROR(INDIRECT(\"'\"&$B115&\"'!$d$33\"),\"\")","v":""},{"$f":"IFERROR(INDIRECT(\"'\"&$B115&\"'!$j$33\")+INDIRECT(\"'\"&$B115&\"'!$k$33\"),\"\")","v":""},{"$f":"IFERROR(INDIRECT(\"'\"&$B115&\"'!$q$33\"),\"\")","v":""},{"$f":"IFERROR(INDIRECT(\"'\"&$B115&\"'!$e$33\"),\"\")","v":""},{"$f":"IFERROR(INDIRECT(\"'\"&$B115&\"'!$L$33\"),\"\")","v":""},{"$f":"IFERROR(INDIRECT(\"'\"&$B115&\"'!$g$33\")+INDIRECT(\"'\"&$B115&\"'!$h$33\")+INDIRECT(\"'\"&$B115&\"'!$i$33\"),\"\")","v":""}]
[80,{"$f":"IFERROR(IF(OR(SHEETNAME(A116)=\"HIDE\",SHEETNAME(A116)=\"Start Here\",SHEETNAME(A116)=\"Template\"),\"\",SHEETNAME(A116)),\"\")","v":""},{"$f":"IFERROR(INDIRECT(\"'\"&$B116&\"'!$d$6\"),\"\")","v":""},{"$f":"IFERROR(INDIRECT(\"'\"&$B116&\"'!$d$7\"),\"\")","v":""},{"$f":"IFERROR(INDIRECT(\"'\"&$B116&\"'!$d$8\"),\"\")","v":""},{"$f":"IFERROR(IF(OR(SHEETNAME($A116)=\"HIDE\",SHEETNAME($A116)=\"Start Here\",SHEETNAME($A116)=\"Template\"),\"\",HYPERLINK(\"#'\"&B116&\"'!A1\",\"Go to Sheet\")),\"\")","v":""},{"$f":"IFERROR(IF(INDIRECT(\"'\"&$B116&\"'!$U$7\"),INDIRECT(\"'\"&$B116&\"'!$u$9\"),\"(\"&INDIRECT(\"'\"&$B116&\"'!$U$8\")&\")\"),\"\")","v":""},{"$f":"IF(L116,\"This site has incomplete Cost and Revenue data.  \",\"\")&IF(M116,\"WFRS data for previous quarters is incomplete.  \",\"\")&IF(K116,IFERROR(INDIRECT(\"'\"&$B116&\"'!$g$9\"),\"\"),\"\")","v":""},false,{"$f":"IFERROR(INDIRECT(\"'\"&$B116&\"'!$u$7\"),FALSE)","v":false},{"$f":"IFERROR(INDIRECT(\"'\"&$B116&\"'!$u$10\"),FALSE)","v":false},{"$f":"IFERROR(INDIRECT(\"'\"&$B116&\"'!$AC$12\"),FALSE)","v":false},{"$f":"IFERROR(INDIRECT(\"'\"&$B116&\"'!$ad$12\"),FALSE)","v":false},null,{"$f":"IFERROR(INDIRECT(\"'\"&$B116&\"'!$d$10\"),\"\")","v":""},{"$f":"IFERROR(INDIRECT(\"'\"&$B116&\"'!$d$33\"),\"\")","v":""},{"$f":"IFERROR(INDIRECT(\"'\"&$B116&\"'!$j$33\")+INDIRECT(\"'\"&$B116&\"'!$k$33\"),\"\")","v":""},{"$f":"IFERROR(INDIRECT(\"'\"&$B116&\"'!$q$33\"),\"\")","v":""},{"$f":"IFERROR(INDIRECT(\"'\"&$B116&\"'!$e$33\"),\"\")","v":""},{"$f":"IFERROR(INDIRECT(\"'\"&$B116&\"'!$L$33\"),\"\")","v":""},{"$f":"IFERROR(INDIRECT(\"'\"&$B116&\"'!$g$33\")+INDIRECT(\"'\"&$B116&\"'!$h$33\")+INDIRECT(\"'\"&$B116&\"'!$i$33\"),\"\")","v":""}]
[81,{"$f":"IFERROR(IF(OR(SHEETNAME(A117)=\"HIDE\",SHEETNAME(A117)=\"Start Here\",SHEETNAME(A117)=\"Template\"),\"\",SHEETNAME(A117)),\"\")","v":""},{"$f":"IFERROR(INDIRECT(\"'\"&$B117&\"'!$d$6\"),\"\")","v":""},{"$f":"IFERROR(INDIRECT(\"'\"&$B117&\"'!$d$7\"),\"\")","v":""},{"$f":"IFERROR(INDIRECT(\"'\"&$B117&\"'!$d$8\"),\"\")","v":""},{"$f":"IFERROR(IF(OR(SHEETNAME($A117)=\"HIDE\",SHEETNAME($A117)=\"Start Here\",SHEETNAME($A117)=\"Template\"),\"\",HYPERLINK(\"#'\"&B117&\"'!A1\",\"Go to Sheet\")),\"\")","v":""},{"$f":"IFERROR(IF(INDIRECT(\"'\"&$B117&\"'!$U$7\"),INDIRECT(\"'\"&$B117&\"'!$u$9\"),\"(\"&INDIRECT(\"'\"&$B117&\"'!$U$8\")&\")\"),\"\")","v":""},{"$f":"IF(L117,\"This site has incomplete Cost and Revenue data.  \",\"\")&IF(M117,\"WFRS data for previous quarters is incomplete.  \",\"\")&IF(K117,IFERROR(INDIRECT(\"'\"&$B117&\"'!$g$9\"),\"\"),\"\")","v":""},false,{"$f":"IFERROR(INDIRECT(\"'\"&$B117&\"'!$u$7\"),FALSE)","v":false},{"$f":"IFERROR(INDIRECT(\"'\"&$B117&\"'!$u$10\"),FALSE)","v":false},{"$f":"IFERROR(INDIRECT(\"'\"&$B117&\"'!$AC$12\"),FALSE)","v":false},{"$f":"IFERROR(INDIRECT(\"'\"&$B117&\"'!$ad$12\"),FALSE)","v":false},null,{"$f":"IFERROR(INDIRECT(\"'\"&$B117&\"'!$d$10\"),\"\")","v":""},{"$f":"IFERROR(INDIRECT(\"'\"&$B117&\"'!$d$33\"),\"\")","v":""},{"$f":"IFERROR(INDIRECT(\"'\"&$B117&\"'!$j$33\")+INDIRECT(\"'\"&$B117&\"'!$k$33\"),\"\")","v":""},{"$f":"IFERROR(INDIRECT(\"'\"&$B117&\"'!$q$33\"),\"\")","v":""},{"$f":"IFERROR(INDIRECT(\"'\"&$B117&\"'!$e$33\"),\"\")","v":""},{"$f":"IFERROR(INDIRECT(\"'\"&$B117&\"'!$L$33\"),\"\")","v":""},{"$f":"IFERROR(INDIRECT(\"'\"&$B117&\"'!$g$33\")+INDIRECT(\"'\"&$B117&\"'!$h$33\")+INDIRECT(\"'\"&$B117&\"'!$i$33\"),\"\")","v":""}]
[82,{"$f":"IFERROR(IF(OR(SHEETNAME(A118)=\"HIDE\",SHEETNAME(A118)=\"Start Here\",SHEETNAME(A118)=\"Template\"),\"\",SHEETNAME(A118)),\"\")","v":""},{"$f":"IFERROR(INDIRECT(\"'\"&$B118&\"'!$d$6\"),\"\")","v":""},{"$f":"IFERROR(INDIRECT(\"'\"&$B118&\"'!$d$7\"),\"\")","v":""},{"$f":"IFERROR(INDIRECT(\"'\"&$B118&\"'!$d$8\"),\"\")","v":""},{"$f":"IFERROR(IF(OR(SHEETNAME($A118)=\"HIDE\",SHEETNAME($A118)=\"Start Here\",SHEETNAME($A118)=\"Template\"),\"\",HYPERLINK(\"#'\"&B118&\"'!A1\",\"Go to Sheet\")),\"\")","v":""},{"$f":"IFERROR(IF(INDIRECT(\"'\"&$B118&\"'!$U$7\"),INDIRECT(\"'\"&$B118&\"'!$u$9\"),\"(\"&INDIRECT(\"'\"&$B118&\"'!$U$8\")&\")\"),\"\")","v":""},{"$f":"IF(L118,\"This site has incomplete Cost and Revenue data.  \",\"\")&IF(M118,\"WFRS data for previous quarters is incomplete.  \",\"\")&IF(K118,IFERROR(INDIRECT(\"'\"&$B118&\"'!$g$9\"),\"\"),\"\")","v":""},false,{"$f":"IFERROR(INDIRECT(\"'\"&$B118&\"'!$u$7\"),FALSE)","v":false},{"$f":"IFERROR(INDIRECT(\"'\"&$B118&\"'!$u$10\"),FALSE)","v":false},{"$f":"IFERROR(INDIRECT(\"'\"&$B118&\"'!$AC$12\"),FALSE)","v":false},{"$f":"IFERROR(INDIRECT(\"'\"&$B118&\"'!$ad$12\"),FALSE)","v":false},null,{"$f":"IFERROR(INDIRECT(\"'\"&$B118&\"'!$d$10\"),\"\")","v":""},{"$f":"IFERROR(INDIRECT(\"'\"&$B118&\"'!$d$33\"),\"\")","v":""},{"$f":"IFERROR(INDIRECT(\"'\"&$B118&\"'!$j$33\")+INDIRECT(\"'\"&$B118&\"'!$k$33\"),\"\")","v":""},{"$f":"IFERROR(INDIRECT(\"'\"&$B118&\"'!$q$33\"),\"\")","v":""},{"$f":"IFERROR(INDIRECT(\"'\"&$B118&\"'!$e$33\"),\"\")","v":""},{"$f":"IFERROR(INDIRECT(\"'\"&$B118&\"'!$L$33\"),\"\")","v":""},{"$f":"IFERROR(INDIRECT(\"'\"&$B118&\"'!$g$33\")+INDIRECT(\"'\"&$B118&\"'!$h$33\")+INDIRECT(\"'\"&$B118&\"'!$i$33\"),\"\")","v":""}]
[83,{"$f":"IFERROR(IF(OR(SHEETNAME(A119)=\"HIDE\",SHEETNAME(A119)=\"Start Here\",SHEETNAME(A119)=\"Template\"),\"\",SHEETNAME(A119)),\"\")","v":""},{"$f":"IFERROR(INDIRECT(\"'\"&$B119&\"'!$d$6\"),\"\")","v":""},{"$f":"IFERROR(INDIRECT(\"'\"&$B119&\"'!$d$7\"),\"\")","v":""},{"$f":"IFERROR(INDIRECT(\"'\"&$B119&\"'!$d$8\"),\"\")","v":""},{"$f":"IFERROR(IF(OR(SHEETNAME($A119)=\"HIDE\",SHEETNAME($A119)=\"Start Here\",SHEETNAME($A119)=\"Template\"),\"\",HYPERLINK(\"#'\"&B119&\"'!A1\",\"Go to Sheet\")),\"\")","v":""},{"$f":"IFERROR(IF(INDIRECT(\"'\"&$B119&\"'!$U$7\"),INDIRECT(\"'\"&$B119&\"'!$u$9\"),\"(\"&INDIRECT(\"'\"&$B119&\"'!$U$8\")&\")\"),\"\")","v":""},{"$f":"IF(L119,\"This site has incomplete Cost and Revenue data.  \",\"\")&IF(M119,\"WFRS data for previous quarters is incomplete.  \",\"\")&IF(K119,IFERROR(INDIRECT(\"'\"&$B119&\"'!$g$9\"),\"\"),\"\")","v":""},false,{"$f":"IFERROR(INDIRECT(\"'\"&$B119&\"'!$u$7\"),FALSE)","v":false},{"$f":"IFERROR(INDIRECT(\"'\"&$B119&\"'!$u$10\"),FALSE)","v":false},{"$f":"IFERROR(INDIRECT(\"'\"&$B119&\"'!$AC$12\"),FALSE)","v":false},{"$f":"IFERROR(INDIRECT(\"'\"&$B119&\"'!$ad$12\"),FALSE)","v":false},null,{"$f":"IFERROR(INDIRECT(\"'\"&$B119&\"'!$d$10\"),\"\")","v":""},{"$f":"IFERROR(INDIRECT(\"'\"&$B119&\"'!$d$33\"),\"\")","v":""},{"$f":"IFERROR(INDIRECT(\"'\"&$B119&\"'!$j$33\")+INDIRECT(\"'\"&$B119&\"'!$k$33\"),\"\")","v":""},{"$f":"IFERROR(INDIRECT(\"'\"&$B119&\"'!$q$33\"),\"\")","v":""},{"$f":"IFERROR(INDIRECT(\"'\"&$B119&\"'!$e$33\"),\"\")","v":""},{"$f":"IFERROR(INDIRECT(\"'\"&$B119&\"'!$L$33\"),\"\")","v":""},{"$f":"IFERROR(INDIRECT(\"'\"&$B119&\"'!$g$33\")+INDIRECT(\"'\"&$B119&\"'!$h$33\")+INDIRECT(\"'\"&$B119&\"'!$i$33\"),\"\")","v":""}]
[84,{"$f":"IFERROR(IF(OR(SHEETNAME(A120)=\"HIDE\",SHEETNAME(A120)=\"Start Here\",SHEETNAME(A120)=\"Template\"),\"\",SHEETNAME(A120)),\"\")","v":""},{"$f":"IFERROR(INDIRECT(\"'\"&$B120&\"'!$d$6\"),\"\")","v":""},{"$f":"IFERROR(INDIRECT(\"'\"&$B120&\"'!$d$7\"),\"\")","v":""},{"$f":"IFERROR(INDIRECT(\"'\"&$B120&\"'!$d$8\"),\"\")","v":""},{"$f":"IFERROR(IF(OR(SHEETNAME($A120)=\"HIDE\",SHEETNAME($A120)=\"Start Here\",SHEETNAME($A120)=\"Template\"),\"\",HYPERLINK(\"#'\"&B120&\"'!A1\",\"Go to Sheet\")),\"\")","v":""},{"$f":"IFERROR(IF(INDIRECT(\"'\"&$B120&\"'!$U$7\"),INDIRECT(\"'\"&$B120&\"'!$u$9\"),\"(\"&INDIRECT(\"'\"&$B120&\"'!$U$8\")&\")\"),\"\")","v":""},{"$f":"IF(L120,\"This site has incomplete Cost and Revenue data.  \",\"\")&IF(M120,\"WFRS data for previous quarters is incomplete.  \",\"\")&IF(K120,IFERROR(INDIRECT(\"'\"&$B120&\"'!$g$9\"),\"\"),\"\")","v":""},false,{"$f":"IFERROR(INDIRECT(\"'\"&$B120&\"'!$u$7\"),FALSE)","v":false},{"$f":"IFERROR(INDIRECT(\"'\"&$B120&\"'!$u$10\"),FALSE)","v":false},{"$f":"IFERROR(INDIRECT(\"'\"&$B120&\"'!$AC$12\"),FALSE)","v":false},{"$f":"IFERROR(INDIRECT(\"'\"&$B120&\"'!$ad$12\"),FALSE)","v":false},null,{"$f":"IFERROR(INDIRECT(\"'\"&$B120&\"'!$d$10\"),\"\")","v":""},{"$f":"IFERROR(INDIRECT(\"'\"&$B120&\"'!$d$33\"),\"\")","v":""},{"$f":"IFERROR(INDIRECT(\"'\"&$B120&\"'!$j$33\")+INDIRECT(\"'\"&$B120&\"'!$k$33\"),\"\")","v":""},{"$f":"IFERROR(INDIRECT(\"'\"&$B120&\"'!$q$33\"),\"\")","v":""},{"$f":"IFERROR(INDIRECT(\"'\"&$B120&\"'!$e$33\"),\"\")","v":""},{"$f":"IFERROR(INDIRECT(\"'\"&$B120&\"'!$L$33\"),\"\")","v":""},{"$f":"IFERROR(INDIRECT(\"'\"&$B120&\"'!$g$33\")+INDIRECT(\"'\"&$B120&\"'!$h$33\")+INDIRECT(\"'\"&$B120&\"'!$i$33\"),\"\")","v":""}]
[85,{"$f":"IFERROR(IF(OR(SHEETNAME(A121)=\"HIDE\",SHEETNAME(A121)=\"Start Here\",SHEETNAME(A121)=\"Template\"),\"\",SHEETNAME(A121)),\"\")","v":""},{"$f":"IFERROR(INDIRECT(\"'\"&$B121&\"'!$d$6\"),\"\")","v":""},{"$f":"IFERROR(INDIRECT(\"'\"&$B121&\"'!$d$7\"),\"\")","v":""},{"$f":"IFERROR(INDIRECT(\"'\"&$B121&\"'!$d$8\"),\"\")","v":""},{"$f":"IFERROR(IF(OR(SHEETNAME($A121)=\"HIDE\",SHEETNAME($A121)=\"Start Here\",SHEETNAME($A121)=\"Template\"),\"\",HYPERLINK(\"#'\"&B121&\"'!A1\",\"Go to Sheet\")),\"\")","v":""},{"$f":"IFERROR(IF(INDIRECT(\"'\"&$B121&\"'!$U$7\"),INDIRECT(\"'\"&$B121&\"'!$u$9\"),\"(\"&INDIRECT(\"'\"&$B121&\"'!$U$8\")&\")\"),\"\")","v":""},{"$f":"IF(L121,\"This site has incomplete Cost and Revenue data.  \",\"\")&IF(M121,\"WFRS data for previous quarters is incomplete.  \",\"\")&IF(K121,IFERROR(INDIRECT(\"'\"&$B121&\"'!$g$9\"),\"\"),\"\")","v":""},false,{"$f":"IFERROR(INDIRECT(\"'\"&$B121&\"'!$u$7\"),FALSE)","v":false},{"$f":"IFERROR(INDIRECT(\"'\"&$B121&\"'!$u$10\"),FALSE)","v":false},{"$f":"IFERROR(INDIRECT(\"'\"&$B121&\"'!$AC$12\"),FALSE)","v":false},{"$f":"IFERROR(INDIRECT(\"'\"&$B121&\"'!$ad$12\"),FALSE)","v":false},null,{"$f":"IFERROR(INDIRECT(\"'\"&$B121&\"'!$d$10\"),\"\")","v":""},{"$f":"IFERROR(INDIRECT(\"'\"&$B121&\"'!$d$33\"),\"\")","v":""},{"$f":"IFERROR(INDIRECT(\"'\"&$B121&\"'!$j$33\")+INDIRECT(\"'\"&$B121&\"'!$k$33\"),\"\")","v":""},{"$f":"IFERROR(INDIRECT(\"'\"&$B121&\"'!$q$33\"),\"\")","v":""},{"$f":"IFERROR(INDIRECT(\"'\"&$B121&\"'!$e$33\"),\"\")","v":""},{"$f":"IFERROR(INDIRECT(\"'\"&$B121&\"'!$L$33\"),\"\")","v":""},{"$f":"IFERROR(INDIRECT(\"'\"&$B121&\"'!$g$33\")+INDIRECT(\"'\"&$B121&\"'!$h$33\")+INDIRECT(\"'\"&$B121&\"'!$i$33\"),\"\")","v":""}]
[86,{"$f":"IFERROR(IF(OR(SHEETNAME(A122)=\"HIDE\",SHEETNAME(A122)=\"Start Here\",SHEETNAME(A122)=\"Template\"),\"\",SHEETNAME(A122)),\"\")","v":""},{"$f":"IFERROR(INDIRECT(\"'\"&$B122&\"'!$d$6\"),\"\")","v":""},{"$f":"IFERROR(INDIRECT(\"'\"&$B122&\"'!$d$7\"),\"\")","v":""},{"$f":"IFERROR(INDIRECT(\"'\"&$B122&\"'!$d$8\"),\"\")","v":""},{"$f":"IFERROR(IF(OR(SHEETNAME($A122)=\"HIDE\",SHEETNAME($A122)=\"Start Here\",SHEETNAME($A122)=\"Template\"),\"\",HYPERLINK(\"#'\"&B122&\"'!A1\",\"Go to Sheet\")),\"\")","v":""},{"$f":"IFERROR(IF(INDIRECT(\"'\"&$B122&\"'!$U$7\"),INDIRECT(\"'\"&$B122&\"'!$u$9\"),\"(\"&INDIRECT(\"'\"&$B122&\"'!$U$8\")&\")\"),\"\")","v":""},{"$f":"IF(L122,\"This site has incomplete Cost and Revenue data.  \",\"\")&IF(M122,\"WFRS data for previous quarters is incomplete.  \",\"\")&IF(K122,IFERROR(INDIRECT(\"'\"&$B122&\"'!$g$9\"),\"\"),\"\")","v":""},false,{"$f":"IFERROR(INDIRECT(\"'\"&$B122&\"'!$u$7\"),FALSE)","v":false},{"$f":"IFERROR(INDIRECT(\"'\"&$B122&\"'!$u$10\"),FALSE)","v":false},{"$f":"IFERROR(INDIRECT(\"'\"&$B122&\"'!$AC$12\"),FALSE)","v":false},{"$f":"IFERROR(INDIRECT(\"'\"&$B122&\"'!$ad$12\"),FALSE)","v":false},null,{"$f":"IFERROR(INDIRECT(\"'\"&$B122&\"'!$d$10\"),\"\")","v":""},{"$f":"IFERROR(INDIRECT(\"'\"&$B122&\"'!$d$33\"),\"\")","v":""},{"$f":"IFERROR(INDIRECT(\"'\"&$B122&\"'!$j$33\")+INDIRECT(\"'\"&$B122&\"'!$k$33\"),\"\")","v":""},{"$f":"IFERROR(INDIRECT(\"'\"&$B122&\"'!$q$33\"),\"\")","v":""},{"$f":"IFERROR(INDIRECT(\"'\"&$B122&\"'!$e$33\"),\"\")","v":""},{"$f":"IFERROR(INDIRECT(\"'\"&$B122&\"'!$L$33\"),\"\")","v":""},{"$f":"IFERROR(INDIRECT(\"'\"&$B122&\"'!$g$33\")+INDIRECT(\"'\"&$B122&\"'!$h$33\")+INDIRECT(\"'\"&$B122&\"'!$i$33\"),\"\")","v":""}]
[87,{"$f":"IFERROR(IF(OR(SHEETNAME(A123)=\"HIDE\",SHEETNAME(A123)=\"Start Here\",SHEETNAME(A123)=\"Template\"),\"\",SHEETNAME(A123)),\"\")","v":""},{"$f":"IFERROR(INDIRECT(\"'\"&$B123&\"'!$d$6\"),\"\")","v":""},{"$f":"IFERROR(INDIRECT(\"'\"&$B123&\"'!$d$7\"),\"\")","v":""},{"$f":"IFERROR(INDIRECT(\"'\"&$B123&\"'!$d$8\"),\"\")","v":""},{"$f":"IFERROR(IF(OR(SHEETNAME($A123)=\"HIDE\",SHEETNAME($A123)=\"Start Here\",SHEETNAME($A123)=\"Template\"),\"\",HYPERLINK(\"#'\"&B123&\"'!A1\",\"Go to Sheet\")),\"\")","v":""},{"$f":"IFERROR(IF(INDIRECT(\"'\"&$B123&\"'!$U$7\"),INDIRECT(\"'\"&$B123&\"'!$u$9\"),\"(\"&INDIRECT(\"'\"&$B123&\"'!$U$8\")&\")\"),\"\")","v":""},{"$f":"IF(L123,\"This site has incomplete Cost and Revenue data.  \",\"\")&IF(M123,\"WFRS data for previous quarters is incomplete.  \",\"\")&IF(K123,IFERROR(INDIRECT(\"'\"&$B123&\"'!$g$9\"),\"\"),\"\")","v":""},false,{"$f":"IFERROR(INDIRECT(\"'\"&$B123&\"'!$u$7\"),FALSE)","v":false},{"$f":"IFERROR(INDIRECT(\"'\"&$B123&\"'!$u$10\"),FALSE)","v":false},{"$f":"IFERROR(INDIRECT(\"'\"&$B123&\"'!$AC$12\"),FALSE)","v":false},{"$f":"IFERROR(INDIRECT(\"'\"&$B123&\"'!$ad$12\"),FALSE)","v":false},null,{"$f":"IFERROR(INDIRECT(\"'\"&$B123&\"'!$d$10\"),\"\")","v":""},{"$f":"IFERROR(INDIRECT(\"'\"&$B123&\"'!$d$33\"),\"\")","v":""},{"$f":"IFERROR(INDIRECT(\"'\"&$B123&\"'!$j$33\")+INDIRECT(\"'\"&$B123&\"'!$k$33\"),\"\")","v":""},{"$f":"IFERROR(INDIRECT(\"'\"&$B123&\"'!$q$33\"),\"\")","v":""},{"$f":"IFERROR(INDIRECT(\"'\"&$B123&\"'!$e$33\"),\"\")","v":""},{"$f":"IFERROR(INDIRECT(\"'\"&$B123&\"'!$L$33\"),\"\")","v":""},{"$f":"IFERROR(INDIRECT(\"'\"&$B123&\"'!$g$33\")+INDIRECT(\"'\"&$B123&\"'!$h$33\")+INDIRECT(\"'\"&$B123&\"'!$i$33\"),\"\")","v":""}]
[88,{"$f":"IFERROR(IF(OR(SHEETNAME(A124)=\"HIDE\",SHEETNAME(A124)=\"Start Here\",SHEETNAME(A124)=\"Template\"),\"\",SHEETNAME(A124)),\"\")","v":""},{"$f":"IFERROR(INDIRECT(\"'\"&$B124&\"'!$d$6\"),\"\")","v":""},{"$f":"IFERROR(INDIRECT(\"'\"&$B124&\"'!$d$7\"),\"\")","v":""},{"$f":"IFERROR(INDIRECT(\"'\"&$B124&\"'!$d$8\"),\"\")","v":""},{"$f":"IFERROR(IF(OR(SHEETNAME($A124)=\"HIDE\",SHEETNAME($A124)=\"Start Here\",SHEETNAME($A124)=\"Template\"),\"\",HYPERLINK(\"#'\"&B124&\"'!A1\",\"Go to Sheet\")),\"\")","v":""},{"$f":"IFERROR(IF(INDIRECT(\"'\"&$B124&\"'!$U$7\"),INDIRECT(\"'\"&$B124&\"'!$u$9\"),\"(\"&INDIRECT(\"'\"&$B124&\"'!$U$8\")&\")\"),\"\")","v":""},{"$f":"IF(L124,\"This site has incomplete Cost and Revenue data.  \",\"\")&IF(M124,\"WFRS data for previous quarters is incomplete.  \",\"\")&IF(K124,IFERROR(INDIRECT(\"'\"&$B124&\"'!$g$9\"),\"\"),\"\")","v":""},false,{"$f":"IFERROR(INDIRECT(\"'\"&$B124&\"'!$u$7\"),FALSE)","v":false},{"$f":"IFERROR(INDIRECT(\"'\"&$B124&\"'!$u$10\"),FALSE)","v":false},{"$f":"IFERROR(INDIRECT(\"'\"&$B124&\"'!$AC$12\"),FALSE)","v":false},{"$f":"IFERROR(INDIRECT(\"'\"&$B124&\"'!$ad$12\"),FALSE)","v":false},null,{"$f":"IFERROR(INDIRECT(\"'\"&$B124&\"'!$d$10\"),\"\")","v":""},{"$f":"IFERROR(INDIRECT(\"'\"&$B124&\"'!$d$33\"),\"\")","v":""},{"$f":"IFERROR(INDIRECT(\"'\"&$B124&\"'!$j$33\")+INDIRECT(\"'\"&$B124&\"'!$k$33\"),\"\")","v":""},{"$f":"IFERROR(INDIRECT(\"'\"&$B124&\"'!$q$33\"),\"\")","v":""},{"$f":"IFERROR(INDIRECT(\"'\"&$B124&\"'!$e$33\"),\"\")","v":""},{"$f":"IFERROR(INDIRECT(\"'\"&$B124&\"'!$L$33\"),\"\")","v":""},{"$f":"IFERROR(INDIRECT(\"'\"&$B124&\"'!$g$33\")+INDIRECT(\"'\"&$B124&\"'!$h$33\")+INDIRECT(\"'\"&$B124&\"'!$i$33\"),\"\")","v":""}]
[89,{"$f":"IFERROR(IF(OR(SHEETNAME(A125)=\"HIDE\",SHEETNAME(A125)=\"Start Here\",SHEETNAME(A125)=\"Template\"),\"\",SHEETNAME(A125)),\"\")","v":""},{"$f":"IFERROR(INDIRECT(\"'\"&$B125&\"'!$d$6\"),\"\")","v":""},{"$f":"IFERROR(INDIRECT(\"'\"&$B125&\"'!$d$7\"),\"\")","v":""},{"$f":"IFERROR(INDIRECT(\"'\"&$B125&\"'!$d$8\"),\"\")","v":""},{"$f":"IFERROR(IF(OR(SHEETNAME($A125)=\"HIDE\",SHEETNAME($A125)=\"Start Here\",SHEETNAME($A125)=\"Template\"),\"\",HYPERLINK(\"#'\"&B125&\"'!A1\",\"Go to Sheet\")),\"\")","v":""},{"$f":"IFERROR(IF(INDIRECT(\"'\"&$B125&\"'!$U$7\"),INDIRECT(\"'\"&$B125&\"'!$u$9\"),\"(\"&INDIRECT(\"'\"&$B125&\"'!$U$8\")&\")\"),\"\")","v":""},{"$f":"IF(L125,\"This site has incomplete Cost and Revenue data.  \",\"\")&IF(M125,\"WFRS data for previous quarters is incomplete.  \",\"\")&IF(K125,IFERROR(INDIRECT(\"'\"&$B125&\"'!$g$9\"),\"\"),\"\")","v":""},false,{"$f":"IFERROR(INDIRECT(\"'\"&$B125&\"'!$u$7\"),FALSE)","v":false},{"$f":"IFERROR(INDIRECT(\"'\"&$B125&\"'!$u$10\"),FALSE)","v":false},{"$f":"IFERROR(INDIRECT(\"'\"&$B125&\"'!$AC$12\"),FALSE)","v":false},{"$f":"IFERROR(INDIRECT(\"'\"&$B125&\"'!$ad$12\"),FALSE)","v":false},null,{"$f":"IFERROR(INDIRECT(\"'\"&$B125&\"'!$d$10\"),\"\")","v":""},{"$f":"IFERROR(INDIRECT(\"'\"&$B125&\"'!$d$33\"),\"\")","v":""},{"$f":"IFERROR(INDIRECT(\"'\"&$B125&\"'!$j$33\")+INDIRECT(\"'\"&$B125&\"'!$k$33\"),\"\")","v":""},{"$f":"IFERROR(INDIRECT(\"'\"&$B125&\"'!$q$33\"),\"\")","v":""},{"$f":"IFERROR(INDIRECT(\"'\"&$B125&\"'!$e$33\"),\"\")","v":""},{"$f":"IFERROR(INDIRECT(\"'\"&$B125&\"'!$L$33\"),\"\")","v":""},{"$f":"IFERROR(INDIRECT(\"'\"&$B125&\"'!$g$33\")+INDIRECT(\"'\"&$B125&\"'!$h$33\")+INDIRECT(\"'\"&$B125&\"'!$i$33\"),\"\")","v":""}]
[90,{"$f":"IFERROR(IF(OR(SHEETNAME(A126)=\"HIDE\",SHEETNAME(A126)=\"Start Here\",SHEETNAME(A126)=\"Template\"),\"\",SHEETNAME(A126)),\"\")","v":""},{"$f":"IFERROR(INDIRECT(\"'\"&$B126&\"'!$d$6\"),\"\")","v":""},{"$f":"IFERROR(INDIRECT(\"'\"&$B126&\"'!$d$7\"),\"\")","v":""},{"$f":"IFERROR(INDIRECT(\"'\"&$B126&\"'!$d$8\"),\"\")","v":""},{"$f":"IFERROR(IF(OR(SHEETNAME($A126)=\"HIDE\",SHEETNAME($A126)=\"Start Here\",SHEETNAME($A126)=\"Template\"),\"\",HYPERLINK(\"#'\"&B126&\"'!A1\",\"Go to Sheet\")),\"\")","v":""},{"$f":"IFERROR(IF(INDIRECT(\"'\"&$B126&\"'!$U$7\"),INDIRECT(\"'\"&$B126&\"'!$u$9\"),\"(\"&INDIRECT(\"'\"&$B126&\"'!$U$8\")&\")\"),\"\")","v":""},{"$f":"IF(L126,\"This site has incomplete Cost and Revenue data.  \",\"\")&IF(M126,\"WFRS data for previous quarters is incomplete.  \",\"\")&IF(K126,IFERROR(INDIRECT(\"'\"&$B126&\"'!$g$9\"),\"\"),\"\")","v":""},false,{"$f":"IFERROR(INDIRECT(\"'\"&$B126&\"'!$u$7\"),FALSE)","v":false},{"$f":"IFERROR(INDIRECT(\"'\"&$B126&\"'!$u$10\"),FALSE)","v":false},{"$f":"IFERROR(INDIRECT(\"'\"&$B126&\"'!$AC$12\"),FALSE)","v":false},{"$f":"IFERROR(INDIRECT(\"'\"&$B126&\"'!$ad$12\"),FALSE)","v":false},null,{"$f":"IFERROR(INDIRECT(\"'\"&$B126&\"'!$d$10\"),\"\")","v":""},{"$f":"IFERROR(INDIRECT(\"'\"&$B126&\"'!$d$33\"),\"\")","v":""},{"$f":"IFERROR(INDIRECT(\"'\"&$B126&\"'!$j$33\")+INDIRECT(\"'\"&$B126&\"'!$k$33\"),\"\")","v":""},{"$f":"IFERROR(INDIRECT(\"'\"&$B126&\"'!$q$33\"),\"\")","v":""},{"$f":"IFERROR(INDIRECT(\"'\"&$B126&\"'!$e$33\"),\"\")","v":""},{"$f":"IFERROR(INDIRECT(\"'\"&$B126&\"'!$L$33\"),\"\")","v":""},{"$f":"IFERROR(INDIRECT(\"'\"&$B126&\"'!$g$33\")+INDIRECT(\"'\"&$B126&\"'!$h$33\")+INDIRECT(\"'\"&$B126&\"'!$i$33\"),\"\")","v":""}]
[91,{"$f":"IFERROR(IF(OR(SHEETNAME(A127)=\"HIDE\",SHEETNAME(A127)=\"Start Here\",SHEETNAME(A127)=\"Template\"),\"\",SHEETNAME(A127)),\"\")","v":""},{"$f":"IFERROR(INDIRECT(\"'\"&$B127&\"'!$d$6\"),\"\")","v":""},{"$f":"IFERROR(INDIRECT(\"'\"&$B127&\"'!$d$7\"),\"\")","v":""},{"$f":"IFERROR(INDIRECT(\"'\"&$B127&\"'!$d$8\"),\"\")","v":""},{"$f":"IFERROR(IF(OR(SHEETNAME($A127)=\"HIDE\",SHEETNAME($A127)=\"Start Here\",SHEETNAME($A127)=\"Template\"),\"\",HYPERLINK(\"#'\"&B127&\"'!A1\",\"Go to Sheet\")),\"\")","v":""},{"$f":"IFERROR(IF(INDIRECT(\"'\"&$B127&\"'!$U$7\"),INDIRECT(\"'\"&$B127&\"'!$u$9\"),\"(\"&INDIRECT(\"'\"&$B127&\"'!$U$8\")&\")\"),\"\")","v":""},{"$f":"IF(L127,\"This site has incomplete Cost and Revenue data.  \",\"\")&IF(M127,\"WFRS data for previous quarters is incomplete.  \",\"\")&IF(K127,IFERROR(INDIRECT(\"'\"&$B127&\"'!$g$9\"),\"\"),\"\")","v":""},false,{"$f":"IFERROR(INDIRECT(\"'\"&$B127&\"'!$u$7\"),FALSE)","v":false},{"$f":"IFERROR(INDIRECT(\"'\"&$B127&\"'!$u$10\"),FALSE)","v":false},{"$f":"IFERROR(INDIRECT(\"'\"&$B127&\"'!$AC$12\"),FALSE)","v":false},{"$f":"IFERROR(INDIRECT(\"'\"&$B127&\"'!$ad$12\"),FALSE)","v":false},null,{"$f":"IFERROR(INDIRECT(\"'\"&$B127&\"'!$d$10\"),\"\")","v":""},{"$f":"IFERROR(INDIRECT(\"'\"&$B127&\"'!$d$33\"),\"\")","v":""},{"$f":"IFERROR(INDIRECT(\"'\"&$B127&\"'!$j$33\")+INDIRECT(\"'\"&$B127&\"'!$k$33\"),\"\")","v":""},{"$f":"IFERROR(INDIRECT(\"'\"&$B127&\"'!$q$33\"),\"\")","v":""},{"$f":"IFERROR(INDIRECT(\"'\"&$B127&\"'!$e$33\"),\"\")","v":""},{"$f":"IFERROR(INDIRECT(\"'\"&$B127&\"'!$L$33\"),\"\")","v":""},{"$f":"IFERROR(INDIRECT(\"'\"&$B127&\"'!$g$33\")+INDIRECT(\"'\"&$B127&\"'!$h$33\")+INDIRECT(\"'\"&$B127&\"'!$i$33\"),\"\")","v":""}]
[92,{"$f":"IFERROR(IF(OR(SHEETNAME(A128)=\"HIDE\",SHEETNAME(A128)=\"Start Here\",SHEETNAME(A128)=\"Template\"),\"\",SHEETNAME(A128)),\"\")","v":""},{"$f":"IFERROR(INDIRECT(\"'\"&$B128&\"'!$d$6\"),\"\")","v":""},{"$f":"IFERROR(INDIRECT(\"'\"&$B128&\"'!$d$7\"),\"\")","v":""},{"$f":"IFERROR(INDIRECT(\"'\"&$B128&\"'!$d$8\"),\"\")","v":""},{"$f":"IFERROR(IF(OR(SHEETNAME($A128)=\"HIDE\",SHEETNAME($A128)=\"Start Here\",SHEETNAME($A128)=\"Template\"),\"\",HYPERLINK(\"#'\"&B128&\"'!A1\",\"Go to Sheet\")),\"\")","v":""},{"$f":"IFERROR(IF(INDIRECT(\"'\"&$B128&\"'!$U$7\"),INDIRECT(\"'\"&$B128&\"'!$u$9\"),\"(\"&INDIRECT(\"'\"&$B128&\"'!$U$8\")&\")\"),\"\")","v":""},{"$f":"IF(L128,\"This site has incomplete Cost and Revenue data.  \",\"\")&IF(M128,\"WFRS data for previous quarters is incomplete.  \",\"\")&IF(K128,IFERROR(INDIRECT(\"'\"&$B128&\"'!$g$9\"),\"\"),\"\")","v":""},false,{"$f":"IFERROR(INDIRECT(\"'\"&$B128&\"'!$u$7\"),FALSE)","v":false},{"$f":"IFERROR(INDIRECT(\"'\"&$B128&\"'!$u$10\"),FALSE)","v":false},{"$f":"IFERROR(INDIRECT(\"'\"&$B128&\"'!$AC$12\"),FALSE)","v":false},{"$f":"IFERROR(INDIRECT(\"'\"&$B128&\"'!$ad$12\"),FALSE)","v":false},null,{"$f":"IFERROR(INDIRECT(\"'\"&$B128&\"'!$d$10\"),\"\")","v":""},{"$f":"IFERROR(INDIRECT(\"'\"&$B128&\"'!$d$33\"),\"\")","v":""},{"$f":"IFERROR(INDIRECT(\"'\"&$B128&\"'!$j$33\")+INDIRECT(\"'\"&$B128&\"'!$k$33\"),\"\")","v":""},{"$f":"IFERROR(INDIRECT(\"'\"&$B128&\"'!$q$33\"),\"\")","v":""},{"$f":"IFERROR(INDIRECT(\"'\"&$B128&\"'!$e$33\"),\"\")","v":""},{"$f":"IFERROR(INDIRECT(\"'\"&$B128&\"'!$L$33\"),\"\")","v":""},{"$f":"IFERROR(INDIRECT(\"'\"&$B128&\"'!$g$33\")+INDIRECT(\"'\"&$B128&\"'!$h$33\")+INDIRECT(\"'\"&$B128&\"'!$i$33\"),\"\")","v":""}]
[93,{"$f":"IFERROR(IF(OR(SHEETNAME(A129)=\"HIDE\",SHEETNAME(A129)=\"Start Here\",SHEETNAME(A129)=\"Template\"),\"\",SHEETNAME(A129)),\"\")","v":""},{"$f":"IFERROR(INDIRECT(\"'\"&$B129&\"'!$d$6\"),\"\")","v":""},{"$f":"IFERROR(INDIRECT(\"'\"&$B129&\"'!$d$7\"),\"\")","v":""},{"$f":"IFERROR(INDIRECT(\"'\"&$B129&\"'!$d$8\"),\"\")","v":""},{"$f":"IFERROR(IF(OR(SHEETNAME($A129)=\"HIDE\",SHEETNAME($A129)=\"Start Here\",SHEETNAME($A129)=\"Template\"),\"\",HYPERLINK(\"#'\"&B129&\"'!A1\",\"Go to Sheet\")),\"\")","v":""},{"$f":"IFERROR(IF(INDIRECT(\"'\"&$B129&\"'!$U$7\"),INDIRECT(\"'\"&$B129&\"'!$u$9\"),\"(\"&INDIRECT(\"'\"&$B129&\"'!$U$8\")&\")\"),\"\")","v":""},{"$f":"IF(L129,\"This site has incomplete Cost and Revenue data.  \",\"\")&IF(M129,\"WFRS data for previous quarters is incomplete.  \",\"\")&IF(K129,IFERROR(INDIRECT(\"'\"&$B129&\"'!$g$9\"),\"\"),\"\")","v":""},false,{"$f":"IFERROR(INDIRECT(\"'\"&$B129&\"'!$u$7\"),FALSE)","v":false},{"$f":"IFERROR(INDIRECT(\"'\"&$B129&\"'!$u$10\"),FALSE)","v":false},{"$f":"IFERROR(INDIRECT(\"'\"&$B129&\"'!$AC$12\"),FALSE)","v":false},{"$f":"IFERROR(INDIRECT(\"'\"&$B129&\"'!$ad$12\"),FALSE)","v":false},null,{"$f":"IFERROR(INDIRECT(\"'\"&$B129&\"'!$d$10\"),\"\")","v":""},{"$f":"IFERROR(INDIRECT(\"'\"&$B129&\"'!$d$33\"),\"\")","v":""},{"$f":"IFERROR(INDIRECT(\"'\"&$B129&\"'!$j$33\")+INDIRECT(\"'\"&$B129&\"'!$k$33\"),\"\")","v":""},{"$f":"IFERROR(INDIRECT(\"'\"&$B129&\"'!$q$33\"),\"\")","v":""},{"$f":"IFERROR(INDIRECT(\"'\"&$B129&\"'!$e$33\"),\"\")","v":""},{"$f":"IFERROR(INDIRECT(\"'\"&$B129&\"'!$L$33\"),\"\")","v":""},{"$f":"IFERROR(INDIRECT(\"'\"&$B129&\"'!$g$33\")+INDIRECT(\"'\"&$B129&\"'!$h$33\")+INDIRECT(\"'\"&$B129&\"'!$i$33\"),\"\")","v":""}]
[94,{"$f":"IFERROR(IF(OR(SHEETNAME(A130)=\"HIDE\",SHEETNAME(A130)=\"Start Here\",SHEETNAME(A130)=\"Template\"),\"\",SHEETNAME(A130)),\"\")","v":""},{"$f":"IFERROR(INDIRECT(\"'\"&$B130&\"'!$d$6\"),\"\")","v":""},{"$f":"IFERROR(INDIRECT(\"'\"&$B130&\"'!$d$7\"),\"\")","v":""},{"$f":"IFERROR(INDIRECT(\"'\"&$B130&\"'!$d$8\"),\"\")","v":""},{"$f":"IFERROR(IF(OR(SHEETNAME($A130)=\"HIDE\",SHEETNAME($A130)=\"Start Here\",SHEETNAME($A130)=\"Template\"),\"\",HYPERLINK(\"#'\"&B130&\"'!A1\",\"Go to Sheet\")),\"\")","v":""},{"$f":"IFERROR(IF(INDIRECT(\"'\"&$B130&\"'!$U$7\"),INDIRECT(\"'\"&$B130&\"'!$u$9\"),\"(\"&INDIRECT(\"'\"&$B130&\"'!$U$8\")&\")\"),\"\")","v":""},{"$f":"IF(L130,\"This site has incomplete Cost and Revenue data.  \",\"\")&IF(M130,\"WFRS data for previous quarters is incomplete.  \",\"\")&IF(K130,IFERROR(INDIRECT(\"'\"&$B130&\"'!$g$9\"),\"\"),\"\")","v":""},false,{"$f":"IFERROR(INDIRECT(\"'\"&$B130&\"'!$u$7\"),FALSE)","v":false},{"$f":"IFERROR(INDIRECT(\"'\"&$B130&\"'!$u$10\"),FALSE)","v":false},{"$f":"IFERROR(INDIRECT(\"'\"&$B130&\"'!$AC$12\"),FALSE)","v":false},{"$f":"IFERROR(INDIRECT(\"'\"&$B130&\"'!$ad$12\"),FALSE)","v":false},null,{"$f":"IFERROR(INDIRECT(\"'\"&$B130&\"'!$d$10\"),\"\")","v":""},{"$f":"IFERROR(INDIRECT(\"'\"&$B130&\"'!$d$33\"),\"\")","v":""},{"$f":"IFERROR(INDIRECT(\"'\"&$B130&\"'!$j$33\")+INDIRECT(\"'\"&$B130&\"'!$k$33\"),\"\")","v":""},{"$f":"IFERROR(INDIRECT(\"'\"&$B130&\"'!$q$33\"),\"\")","v":""},{"$f":"IFERROR(INDIRECT(\"'\"&$B130&\"'!$e$33\"),\"\")","v":""},{"$f":"IFERROR(INDIRECT(\"'\"&$B130&\"'!$L$33\"),\"\")","v":""},{"$f":"IFERROR(INDIRECT(\"'\"&$B130&\"'!$g$33\")+INDIRECT(\"'\"&$B130&\"'!$h$33\")+INDIRECT(\"'\"&$B130&\"'!$i$33\"),\"\")","v":""}]
[95,{"$f":"IFERROR(IF(OR(SHEETNAME(A131)=\"HIDE\",SHEETNAME(A131)=\"Start Here\",SHEETNAME(A131)=\"Template\"),\"\",SHEETNAME(A131)),\"\")","v":""},{"$f":"IFERROR(INDIRECT(\"'\"&$B131&\"'!$d$6\"),\"\")","v":""},{"$f":"IFERROR(INDIRECT(\"'\"&$B131&\"'!$d$7\"),\"\")","v":""},{"$f":"IFERROR(INDIRECT(\"'\"&$B131&\"'!$d$8\"),\"\")","v":""},{"$f":"IFERROR(IF(OR(SHEETNAME($A131)=\"HIDE\",SHEETNAME($A131)=\"Start Here\",SHEETNAME($A131)=\"Template\"),\"\",HYPERLINK(\"#'\"&B131&\"'!A1\",\"Go to Sheet\")),\"\")","v":""},{"$f":"IFERROR(IF(INDIRECT(\"'\"&$B131&\"'!$U$7\"),INDIRECT(\"'\"&$B131&\"'!$u$9\"),\"(\"&INDIRECT(\"'\"&$B131&\"'!$U$8\")&\")\"),\"\")","v":""},{"$f":"IF(L131,\"This site has incomplete Cost and Revenue data.  \",\"\")&IF(M131,\"WFRS data for previous quarters is incomplete.  \",\"\")&IF(K131,IFERROR(INDIRECT(\"'\"&$B131&\"'!$g$9\"),\"\"),\"\")","v":""},false,{"$f":"IFERROR(INDIRECT(\"'\"&$B131&\"'!$u$7\"),FALSE)","v":false},{"$f":"IFERROR(INDIRECT(\"'\"&$B131&\"'!$u$10\"),FALSE)","v":false},{"$f":"IFERROR(INDIRECT(\"'\"&$B131&\"'!$AC$12\"),FALSE)","v":false},{"$f":"IFERROR(INDIRECT(\"'\"&$B131&\"'!$ad$12\"),FALSE)","v":false},null,{"$f":"IFERROR(INDIRECT(\"'\"&$B131&\"'!$d$10\"),\"\")","v":""},{"$f":"IFERROR(INDIRECT(\"'\"&$B131&\"'!$d$33\"),\"\")","v":""},{"$f":"IFERROR(INDIRECT(\"'\"&$B131&\"'!$j$33\")+INDIRECT(\"'\"&$B131&\"'!$k$33\"),\"\")","v":""},{"$f":"IFERROR(INDIRECT(\"'\"&$B131&\"'!$q$33\"),\"\")","v":""},{"$f":"IFERROR(INDIRECT(\"'\"&$B131&\"'!$e$33\"),\"\")","v":""},{"$f":"IFERROR(INDIRECT(\"'\"&$B131&\"'!$L$33\"),\"\")","v":""},{"$f":"IFERROR(INDIRECT(\"'\"&$B131&\"'!$g$33\")+INDIRECT(\"'\"&$B131&\"'!$h$33\")+INDIRECT(\"'\"&$B131&\"'!$i$33\"),\"\")","v":""}]
[96,{"$f":"IFERROR(IF(OR(SHEETNAME(A132)=\"HIDE\",SHEETNAME(A132)=\"Start Here\",SHEETNAME(A132)=\"Template\"),\"\",SHEETNAME(A132)),\"\")","v":""},{"$f":"IFERROR(INDIRECT(\"'\"&$B132&\"'!$d$6\"),\"\")","v":""},{"$f":"IFERROR(INDIRECT(\"'\"&$B132&\"'!$d$7\"),\"\")","v":""},{"$f":"IFERROR(INDIRECT(\"'\"&$B132&\"'!$d$8\"),\"\")","v":""},{"$f":"IFERROR(IF(OR(SHEETNAME($A132)=\"HIDE\",SHEETNAME($A132)=\"Start Here\",SHEETNAME($A132)=\"Template\"),\"\",HYPERLINK(\"#'\"&B132&\"'!A1\",\"Go to Sheet\")),\"\")","v":""},{"$f":"IFERROR(IF(INDIRECT(\"'\"&$B132&\"'!$U$7\"),INDIRECT(\"'\"&$B132&\"'!$u$9\"),\"(\"&INDIRECT(\"'\"&$B132&\"'!$U$8\")&\")\"),\"\")","v":""},{"$f":"IF(L132,\"This site has incomplete Cost and Revenue data.  \",\"\")&IF(M132,\"WFRS data for previous quarters is incomplete.  \",\"\")&IF(K132,IFERROR(INDIRECT(\"'\"&$B132&\"'!$g$9\"),\"\"),\"\")","v":""},false,{"$f":"IFERROR(INDIRECT(\"'\"&$B132&\"'!$u$7\"),FALSE)","v":false},{"$f":"IFERROR(INDIRECT(\"'\"&$B132&\"'!$u$10\"),FALSE)","v":false},{"$f":"IFERROR(INDIRECT(\"'\"&$B132&\"'!$AC$12\"),FALSE)","v":false},{"$f":"IFERROR(INDIRECT(\"'\"&$B132&\"'!$ad$12\"),FALSE)","v":false},null,{"$f":"IFERROR(INDIRECT(\"'\"&$B132&\"'!$d$10\"),\"\")","v":""},{"$f":"IFERROR(INDIRECT(\"'\"&$B132&\"'!$d$33\"),\"\")","v":""},{"$f":"IFERROR(INDIRECT(\"'\"&$B132&\"'!$j$33\")+INDIRECT(\"'\"&$B132&\"'!$k$33\"),\"\")","v":""},{"$f":"IFERROR(INDIRECT(\"'\"&$B132&\"'!$q$33\"),\"\")","v":""},{"$f":"IFERROR(INDIRECT(\"'\"&$B132&\"'!$e$33\"),\"\")","v":""},{"$f":"IFERROR(INDIRECT(\"'\"&$B132&\"'!$L$33\"),\"\")","v":""},{"$f":"IFERROR(INDIRECT(\"'\"&$B132&\"'!$g$33\")+INDIRECT(\"'\"&$B132&\"'!$h$33\")+INDIRECT(\"'\"&$B132&\"'!$i$33\"),\"\")","v":""}]
[97,{"$f":"IFERROR(IF(OR(SHEETNAME(A133)=\"HIDE\",SHEETNAME(A133)=\"Start Here\",SHEETNAME(A133)=\"Template\"),\"\",SHEETNAME(A133)),\"\")","v":""},{"$f":"IFERROR(INDIRECT(\"'\"&$B133&\"'!$d$6\"),\"\")","v":""},{"$f":"IFERROR(INDIRECT(\"'\"&$B133&\"'!$d$7\"),\"\")","v":""},{"$f":"IFERROR(INDIRECT(\"'\"&$B133&\"'!$d$8\"),\"\")","v":""},{"$f":"IFERROR(IF(OR(SHEETNAME($A133)=\"HIDE\",SHEETNAME($A133)=\"Start Here\",SHEETNAME($A133)=\"Template\"),\"\",HYPERLINK(\"#'\"&B133&\"'!A1\",\"Go to Sheet\")),\"\")","v":""},{"$f":"IFERROR(IF(INDIRECT(\"'\"&$B133&\"'!$U$7\"),INDIRECT(\"'\"&$B133&\"'!$u$9\"),\"(\"&INDIRECT(\"'\"&$B133&\"'!$U$8\")&\")\"),\"\")","v":""},{"$f":"IF(L133,\"This site has incomplete Cost and Revenue data.  \",\"\")&IF(M133,\"WFRS data for previous quarters is incomplete.  \",\"\")&IF(K133,IFERROR(INDIRECT(\"'\"&$B133&\"'!$g$9\"),\"\"),\"\")","v":""},false,{"$f":"IFERROR(INDIRECT(\"'\"&$B133&\"'!$u$7\"),FALSE)","v":false},{"$f":"IFERROR(INDIRECT(\"'\"&$B133&\"'!$u$10\"),FALSE)","v":false},{"$f":"IFERROR(INDIRECT(\"'\"&$B133&\"'!$AC$12\"),FALSE)","v":false},{"$f":"IFERROR(INDIRECT(\"'\"&$B133&\"'!$ad$12\"),FALSE)","v":false},null,{"$f":"IFERROR(INDIRECT(\"'\"&$B133&\"'!$d$10\"),\"\")","v":""},{"$f":"IFERROR(INDIRECT(\"'\"&$B133&\"'!$d$33\"),\"\")","v":""},{"$f":"IFERROR(INDIRECT(\"'\"&$B133&\"'!$j$33\")+INDIRECT(\"'\"&$B133&\"'!$k$33\"),\"\")","v":""},{"$f":"IFERROR(INDIRECT(\"'\"&$B133&\"'!$q$33\"),\"\")","v":""},{"$f":"IFERROR(INDIRECT(\"'\"&$B133&\"'!$e$33\"),\"\")","v":""},{"$f":"IFERROR(INDIRECT(\"'\"&$B133&\"'!$L$33\"),\"\")","v":""},{"$f":"IFERROR(INDIRECT(\"'\"&$B133&\"'!$g$33\")+INDIRECT(\"'\"&$B133&\"'!$h$33\")+INDIRECT(\"'\"&$B133&\"'!$i$33\"),\"\")","v":""}]
[98,{"$f":"IFERROR(IF(OR(SHEETNAME(A134)=\"HIDE\",SHEETNAME(A134)=\"Start Here\",SHEETNAME(A134)=\"Template\"),\"\",SHEETNAME(A134)),\"\")","v":""},{"$f":"IFERROR(INDIRECT(\"'\"&$B134&\"'!$d$6\"),\"\")","v":""},{"$f":"IFERROR(INDIRECT(\"'\"&$B134&\"'!$d$7\"),\"\")","v":""},{"$f":"IFERROR(INDIRECT(\"'\"&$B134&\"'!$d$8\"),\"\")","v":""},{"$f":"IFERROR(IF(OR(SHEETNAME($A134)=\"HIDE\",SHEETNAME($A134)=\"Start Here\",SHEETNAME($A134)=\"Template\"),\"\",HYPERLINK(\"#'\"&B134&\"'!A1\",\"Go to Sheet\")),\"\")","v":""},{"$f":"IFERROR(IF(INDIRECT(\"'\"&$B134&\"'!$U$7\"),INDIRECT(\"'\"&$B134&\"'!$u$9\"),\"(\"&INDIRECT(\"'\"&$B134&\"'!$U$8\")&\")\"),\"\")","v":""},{"$f":"IF(L134,\"This site has incomplete Cost and Revenue data.  \",\"\")&IF(M134,\"WFRS data for previous quarters is incomplete.  \",\"\")&IF(K134,IFERROR(INDIRECT(\"'\"&$B134&\"'!$g$9\"),\"\"),\"\")","v":""},false,{"$f":"IFERROR(INDIRECT(\"'\"&$B134&\"'!$u$7\"),FALSE)","v":false},{"$f":"IFERROR(INDIRECT(\"'\"&$B134&\"'!$u$10\"),FALSE)","v":false},{"$f":"IFERROR(INDIRECT(\"'\"&$B134&\"'!$AC$12\"),FALSE)","v":false},{"$f":"IFERROR(INDIRECT(\"'\"&$B134&\"'!$ad$12\"),FALSE)","v":false},null,{"$f":"IFERROR(INDIRECT(\"'\"&$B134&\"'!$d$10\"),\"\")","v":""},{"$f":"IFERROR(INDIRECT(\"'\"&$B134&\"'!$d$33\"),\"\")","v":""},{"$f":"IFERROR(INDIRECT(\"'\"&$B134&\"'!$j$33\")+INDIRECT(\"'\"&$B134&\"'!$k$33\"),\"\")","v":""},{"$f":"IFERROR(INDIRECT(\"'\"&$B134&\"'!$q$33\"),\"\")","v":""},{"$f":"IFERROR(INDIRECT(\"'\"&$B134&\"'!$e$33\"),\"\")","v":""},{"$f":"IFERROR(INDIRECT(\"'\"&$B134&\"'!$L$33\"),\"\")","v":""},{"$f":"IFERROR(INDIRECT(\"'\"&$B134&\"'!$g$33\")+INDIRECT(\"'\"&$B134&\"'!$h$33\")+INDIRECT(\"'\"&$B134&\"'!$i$33\"),\"\")","v":""}]
[99,{"$f":"IFERROR(IF(OR(SHEETNAME(A135)=\"HIDE\",SHEETNAME(A135)=\"Start Here\",SHEETNAME(A135)=\"Template\"),\"\",SHEETNAME(A135)),\"\")","v":""},{"$f":"IFERROR(INDIRECT(\"'\"&$B135&\"'!$d$6\"),\"\")","v":""},{"$f":"IFERROR(INDIRECT(\"'\"&$B135&\"'!$d$7\"),\"\")","v":""},{"$f":"IFERROR(INDIRECT(\"'\"&$B135&\"'!$d$8\"),\"\")","v":""},{"$f":"IFERROR(IF(OR(SHEETNAME($A135)=\"HIDE\",SHEETNAME($A135)=\"Start Here\",SHEETNAME($A135)=\"Template\"),\"\",HYPERLINK(\"#'\"&B135&\"'!A1\",\"Go to Sheet\")),\"\")","v":""},{"$f":"IFERROR(IF(INDIRECT(\"'\"&$B135&\"'!$U$7\"),INDIRECT(\"'\"&$B135&\"'!$u$9\"),\"(\"&INDIRECT(\"'\"&$B135&\"'!$U$8\")&\")\"),\"\")","v":""},{"$f":"IF(L135,\"This site has incomplete Cost and Revenue data.  \",\"\")&IF(M135,\"WFRS data for previous quarters is incomplete.  \",\"\")&IF(K135,IFERROR(INDIRECT(\"'\"&$B135&\"'!$g$9\"),\"\"),\"\")","v":""},false,{"$f":"IFERROR(INDIRECT(\"'\"&$B135&\"'!$u$7\"),FALSE)","v":false},{"$f":"IFERROR(INDIRECT(\"'\"&$B135&\"'!$u$10\"),FALSE)","v":false},{"$f":"IFERROR(INDIRECT(\"'\"&$B135&\"'!$AC$12\"),FALSE)","v":false},{"$f":"IFERROR(INDIRECT(\"'\"&$B135&\"'!$ad$12\"),FALSE)","v":false},null,{"$f":"IFERROR(INDIRECT(\"'\"&$B135&\"'!$d$10\"),\"\")","v":""},{"$f":"IFERROR(INDIRECT(\"'\"&$B135&\"'!$d$33\"),\"\")","v":""},{"$f":"IFERROR(INDIRECT(\"'\"&$B135&\"'!$j$33\")+INDIRECT(\"'\"&$B135&\"'!$k$33\"),\"\")","v":""},{"$f":"IFERROR(INDIRECT(\"'\"&$B135&\"'!$q$33\"),\"\")","v":""},{"$f":"IFERROR(INDIRECT(\"'\"&$B135&\"'!$e$33\"),\"\")","v":""},{"$f":"IFERROR(INDIRECT(\"'\"&$B135&\"'!$L$33\"),\"\")","v":""},{"$f":"IFERROR(INDIRECT(\"'\"&$B135&\"'!$g$33\")+INDIRECT(\"'\"&$B135&\"'!$h$33\")+INDIRECT(\"'\"&$B135&\"'!$i$33\"),\"\")","v":""}]
[100,{"$f":"IFERROR(IF(OR(SHEETNAME(A136)=\"HIDE\",SHEETNAME(A136)=\"Start Here\",SHEETNAME(A136)=\"Template\"),\"\",SHEETNAME(A136)),\"\")","v":""},{"$f":"IFERROR(INDIRECT(\"'\"&$B136&\"'!$d$6\"),\"\")","v":""},{"$f":"IFERROR(INDIRECT(\"'\"&$B136&\"'!$d$7\"),\"\")","v":""},{"$f":"IFERROR(INDIRECT(\"'\"&$B136&\"'!$d$8\"),\"\")","v":""},{"$f":"IFERROR(IF(OR(SHEETNAME($A136)=\"HIDE\",SHEETNAME($A136)=\"Start Here\",SHEETNAME($A136)=\"Template\"),\"\",HYPERLINK(\"#'\"&B136&\"'!A1\",\"Go to Sheet\")),\"\")","v":""},{"$f":"IFERROR(IF(INDIRECT(\"'\"&$B136&\"'!$U$7\"),INDIRECT(\"'\"&$B136&\"'!$u$9\"),\"(\"&INDIRECT(\"'\"&$B136&\"'!$U$8\")&\")\"),\"\")","v":""},{"$f":"IF(L136,\"This site has incomplete Cost and Revenue data.  \",\"\")&IF(M136,\"WFRS data for previous quarters is incomplete.  \",\"\")&IF(K136,IFERROR(INDIRECT(\"'\"&$B136&\"'!$g$9\"),\"\"),\"\")","v":""},false,{"$f":"IFERROR(INDIRECT(\"'\"&$B136&\"'!$u$7\"),FALSE)","v":false},{"$f":"IFERROR(INDIRECT(\"'\"&$B136&\"'!$u$10\"),FALSE)","v":false},{"$f":"IFERROR(INDIRECT(\"'\"&$B136&\"'!$AC$12\"),FALSE)","v":false},{"$f":"IFERROR(INDIRECT(\"'\"&$B136&\"'!$ad$12\"),FALSE)","v":false},null,{"$f":"IFERROR(INDIRECT(\"'\"&$B136&\"'!$d$10\"),\"\")","v":""},{"$f":"IFERROR(INDIRECT(\"'\"&$B136&\"'!$d$33\"),\"\")","v":""},{"$f":"IFERROR(INDIRECT(\"'\"&$B136&\"'!$j$33\")+INDIRECT(\"'\"&$B136&\"'!$k$33\"),\"\")","v":""},{"$f":"IFERROR(INDIRECT(\"'\"&$B136&\"'!$q$33\"),\"\")","v":""},{"$f":"IFERROR(INDIRECT(\"'\"&$B136&\"'!$e$33\"),\"\")","v":""},{"$f":"IFERROR(INDIRECT(\"'\"&$B136&\"'!$L$33\"),\"\")","v":""},{"$f":"IFERROR(INDIRECT(\"'\"&$B136&\"'!$g$33\")+INDIRECT(\"'\"&$B136&\"'!$h$33\")+INDIRECT(\"'\"&$B136&\"'!$i$33\"),\"\")","v":""}]
[101,{"$f":"IFERROR(IF(OR(SHEETNAME(A137)=\"HIDE\",SHEETNAME(A137)=\"Start Here\",SHEETNAME(A137)=\"Template\"),\"\",SHEETNAME(A137)),\"\")","v":""},{"$f":"IFERROR(INDIRECT(\"'\"&$B137&\"'!$d$6\"),\"\")","v":""},{"$f":"IFERROR(INDIRECT(\"'\"&$B137&\"'!$d$7\"),\"\")","v":""},{"$f":"IFERROR(INDIRECT(\"'\"&$B137&\"'!$d$8\"),\"\")","v":""},{"$f":"IFERROR(IF(OR(SHEETNAME($A137)=\"HIDE\",SHEETNAME($A137)=\"Start Here\",SHEETNAME($A137)=\"Template\"),\"\",HYPERLINK(\"#'\"&B137&\"'!A1\",\"Go to Sheet\")),\"\")","v":""},{"$f":"IFERROR(IF(INDIRECT(\"'\"&$B137&\"'!$U$7\"),INDIRECT(\"'\"&$B137&\"'!$u$9\"),\"(\"&INDIRECT(\"'\"&$B137&\"'!$U$8\")&\")\"),\"\")","v":""},{"$f":"IF(L137,\"This site has incomplete Cost and Revenue data.  \",\"\")&IF(M137,\"WFRS data for previous quarters is incomplete.  \",\"\")&IF(K137,IFERROR(INDIRECT(\"'\"&$B137&\"'!$g$9\"),\"\"),\"\")","v":""},false,{"$f":"IFERROR(INDIRECT(\"'\"&$B137&\"'!$u$7\"),FALSE)","v":false},{"$f":"IFERROR(INDIRECT(\"'\"&$B137&\"'!$u$10\"),FALSE)","v":false},{"$f":"IFERROR(INDIRECT(\"'\"&$B137&\"'!$AC$12\"),FALSE)","v":false},{"$f":"IFERROR(INDIRECT(\"'\"&$B137&\"'!$ad$12\"),FALSE)","v":false},null,{"$f":"IFERROR(INDIRECT(\"'\"&$B137&\"'!$d$10\"),\"\")","v":""},{"$f":"IFERROR(INDIRECT(\"'\"&$B137&\"'!$d$33\"),\"\")","v":""},{"$f":"IFERROR(INDIRECT(\"'\"&$B137&\"'!$j$33\")+INDIRECT(\"'\"&$B137&\"'!$k$33\"),\"\")","v":""},{"$f":"IFERROR(INDIRECT(\"'\"&$B137&\"'!$q$33\"),\"\")","v":""},{"$f":"IFERROR(INDIRECT(\"'\"&$B137&\"'!$e$33\"),\"\")","v":""},{"$f":"IFERROR(INDIRECT(\"'\"&$B137&\"'!$L$33\"),\"\")","v":""},{"$f":"IFERROR(INDIRECT(\"'\"&$B137&\"'!$g$33\")+INDIRECT(\"'\"&$B137&\"'!$h$33\")+INDIRECT(\"'\"&$B137&\"'!$i$33\"),\"\")","v":""}]
[102,{"$f":"IFERROR(IF(OR(SHEETNAME(A138)=\"HIDE\",SHEETNAME(A138)=\"Start Here\",SHEETNAME(A138)=\"Template\"),\"\",SHEETNAME(A138)),\"\")","v":""},{"$f":"IFERROR(INDIRECT(\"'\"&$B138&\"'!$d$6\"),\"\")","v":""},{"$f":"IFERROR(INDIRECT(\"'\"&$B138&\"'!$d$7\"),\"\")","v":""},{"$f":"IFERROR(INDIRECT(\"'\"&$B138&\"'!$d$8\"),\"\")","v":""},{"$f":"IFERROR(IF(OR(SHEETNAME($A138)=\"HIDE\",SHEETNAME($A138)=\"Start Here\",SHEETNAME($A138)=\"Template\"),\"\",HYPERLINK(\"#'\"&B138&\"'!A1\",\"Go to Sheet\")),\"\")","v":""},{"$f":"IFERROR(IF(INDIRECT(\"'\"&$B138&\"'!$U$7\"),INDIRECT(\"'\"&$B138&\"'!$u$9\"),\"(\"&INDIRECT(\"'\"&$B138&\"'!$U$8\")&\")\"),\"\")","v":""},{"$f":"IF(L138,\"This site has incomplete Cost and Revenue data.  \",\"\")&IF(M138,\"WFRS data for previous quarters is incomplete.  \",\"\")&IF(K138,IFERROR(INDIRECT(\"'\"&$B138&\"'!$g$9\"),\"\"),\"\")","v":""},false,{"$f":"IFERROR(INDIRECT(\"'\"&$B138&\"'!$u$7\"),FALSE)","v":false},{"$f":"IFERROR(INDIRECT(\"'\"&$B138&\"'!$u$10\"),FALSE)","v":false},{"$f":"IFERROR(INDIRECT(\"'\"&$B138&\"'!$AC$12\"),FALSE)","v":false},{"$f":"IFERROR(INDIRECT(\"'\"&$B138&\"'!$ad$12\"),FALSE)","v":false},null,{"$f":"IFERROR(INDIRECT(\"'\"&$B138&\"'!$d$10\"),\"\")","v":""},{"$f":"IFERROR(INDIRECT(\"'\"&$B138&\"'!$d$33\"),\"\")","v":""},{"$f":"IFERROR(INDIRECT(\"'\"&$B138&\"'!$j$33\")+INDIRECT(\"'\"&$B138&\"'!$k$33\"),\"\")","v":""},{"$f":"IFERROR(INDIRECT(\"'\"&$B138&\"'!$q$33\"),\"\")","v":""},{"$f":"IFERROR(INDIRECT(\"'\"&$B138&\"'!$e$33\"),\"\")","v":""},{"$f":"IFERROR(INDIRECT(\"'\"&$B138&\"'!$L$33\"),\"\")","v":""},{"$f":"IFERROR(INDIRECT(\"'\"&$B138&\"'!$g$33\")+INDIRECT(\"'\"&$B138&\"'!$h$33\")+INDIRECT(\"'\"&$B138&\"'!$i$33\"),\"\")","v":""}]
[103,{"$f":"IFERROR(IF(OR(SHEETNAME(A139)=\"HIDE\",SHEETNAME(A139)=\"Start Here\",SHEETNAME(A139)=\"Template\"),\"\",SHEETNAME(A139)),\"\")","v":""},{"$f":"IFERROR(INDIRECT(\"'\"&$B139&\"'!$d$6\"),\"\")","v":""},{"$f":"IFERROR(INDIRECT(\"'\"&$B139&\"'!$d$7\"),\"\")","v":""},{"$f":"IFERROR(INDIRECT(\"'\"&$B139&\"'!$d$8\"),\"\")","v":""},{"$f":"IFERROR(IF(OR(SHEETNAME($A139)=\"HIDE\",SHEETNAME($A139)=\"Start Here\",SHEETNAME($A139)=\"Template\"),\"\",HYPERLINK(\"#'\"&B139&\"'!A1\",\"Go to Sheet\")),\"\")","v":""},{"$f":"IFERROR(IF(INDIRECT(\"'\"&$B139&\"'!$U$7\"),INDIRECT(\"'\"&$B139&\"'!$u$9\"),\"(\"&INDIRECT(\"'\"&$B139&\"'!$U$8\")&\")\"),\"\")","v":""},{"$f":"IF(L139,\"This site has incomplete Cost and Revenue data.  \",\"\")&IF(M139,\"WFRS data for previous quarters is incomplete.  \",\"\")&IF(K139,IFERROR(INDIRECT(\"'\"&$B139&\"'!$g$9\"),\"\"),\"\")","v":""},false,{"$f":"IFERROR(INDIRECT(\"'\"&$B139&\"'!$u$7\"),FALSE)","v":false},{"$f":"IFERROR(INDIRECT(\"'\"&$B139&\"'!$u$10\"),FALSE)","v":false},{"$f":"IFERROR(INDIRECT(\"'\"&$B139&\"'!$AC$12\"),FALSE)","v":false},{"$f":"IFERROR(INDIRECT(\"'\"&$B139&\"'!$ad$12\"),FALSE)","v":false},null,{"$f":"IFERROR(INDIRECT(\"'\"&$B139&\"'!$d$10\"),\"\")","v":""},{"$f":"IFERROR(INDIRECT(\"'\"&$B139&\"'!$d$33\"),\"\")","v":""},{"$f":"IFERROR(INDIRECT(\"'\"&$B139&\"'!$j$33\")+INDIRECT(\"'\"&$B139&\"'!$k$33\"),\"\")","v":""},{"$f":"IFERROR(INDIRECT(\"'\"&$B139&\"'!$q$33\"),\"\")","v":""},{"$f":"IFERROR(INDIRECT(\"'\"&$B139&\"'!$e$33\"),\"\")","v":""},{"$f":"IFERROR(INDIRECT(\"'\"&$B139&\"'!$L$33\"),\"\")","v":""},{"$f":"IFERROR(INDIRECT(\"'\"&$B139&\"'!$g$33\")+INDIRECT(\"'\"&$B139&\"'!$h$33\")+INDIRECT(\"'\"&$B139&\"'!$i$33\"),\"\")","v":""}]
[104,{"$f":"IFERROR(IF(OR(SHEETNAME(A140)=\"HIDE\",SHEETNAME(A140)=\"Start Here\",SHEETNAME(A140)=\"Template\"),\"\",SHEETNAME(A140)),\"\")","v":""},{"$f":"IFERROR(INDIRECT(\"'\"&$B140&\"'!$d$6\"),\"\")","v":""},{"$f":"IFERROR(INDIRECT(\"'\"&$B140&\"'!$d$7\"),\"\")","v":""},{"$f":"IFERROR(INDIRECT(\"'\"&$B140&\"'!$d$8\"),\"\")","v":""},{"$f":"IFERROR(IF(OR(SHEETNAME($A140)=\"HIDE\",SHEETNAME($A140)=\"Start Here\",SHEETNAME($A140)=\"Template\"),\"\",HYPERLINK(\"#'\"&B140&\"'!A1\",\"Go to Sheet\")),\"\")","v":""},{"$f":"IFERROR(IF(INDIRECT(\"'\"&$B140&\"'!$U$7\"),INDIRECT(\"'\"&$B140&\"'!$u$9\"),\"(\"&INDIRECT(\"'\"&$B140&\"'!$U$8\")&\")\"),\"\")","v":""},{"$f":"IF(L140,\"This site has incomplete Cost and Revenue data.  \",\"\")&IF(M140,\"WFRS data for previous quarters is incomplete.  \",\"\")&IF(K140,IFERROR(INDIRECT(\"'\"&$B140&\"'!$g$9\"),\"\"),\"\")","v":""},false,{"$f":"IFERROR(INDIRECT(\"'\"&$B140&\"'!$u$7\"),FALSE)","v":false},{"$f":"IFERROR(INDIRECT(\"'\"&$B140&\"'!$u$10\"),FALSE)","v":false},{"$f":"IFERROR(INDIRECT(\"'\"&$B140&\"'!$AC$12\"),FALSE)","v":false},{"$f":"IFERROR(INDIRECT(\"'\"&$B140&\"'!$ad$12\"),FALSE)","v":false},null,{"$f":"IFERROR(INDIRECT(\"'\"&$B140&\"'!$d$10\"),\"\")","v":""},{"$f":"IFERROR(INDIRECT(\"'\"&$B140&\"'!$d$33\"),\"\")","v":""},{"$f":"IFERROR(INDIRECT(\"'\"&$B140&\"'!$j$33\")+INDIRECT(\"'\"&$B140&\"'!$k$33\"),\"\")","v":""},{"$f":"IFERROR(INDIRECT(\"'\"&$B140&\"'!$q$33\"),\"\")","v":""},{"$f":"IFERROR(INDIRECT(\"'\"&$B140&\"'!$e$33\"),\"\")","v":""},{"$f":"IFERROR(INDIRECT(\"'\"&$B140&\"'!$L$33\"),\"\")","v":""},{"$f":"IFERROR(INDIRECT(\"'\"&$B140&\"'!$g$33\")+INDIRECT(\"'\"&$B140&\"'!$h$33\")+INDIRECT(\"'\"&$B140&\"'!$i$33\"),\"\")","v":""}]
[105,{"$f":"IFERROR(IF(OR(SHEETNAME(A141)=\"HIDE\",SHEETNAME(A141)=\"Start Here\",SHEETNAME(A141)=\"Template\"),\"\",SHEETNAME(A141)),\"\")","v":""},{"$f":"IFERROR(INDIRECT(\"'\"&$B141&\"'!$d$6\"),\"\")","v":""},{"$f":"IFERROR(INDIRECT(\"'\"&$B141&\"'!$d$7\"),\"\")","v":""},{"$f":"IFERROR(INDIRECT(\"'\"&$B141&\"'!$d$8\"),\"\")","v":""},{"$f":"IFERROR(IF(OR(SHEETNAME($A141)=\"HIDE\",SHEETNAME($A141)=\"Start Here\",SHEETNAME($A141)=\"Template\"),\"\",HYPERLINK(\"#'\"&B141&\"'!A1\",\"Go to Sheet\")),\"\")","v":""},{"$f":"IFERROR(IF(INDIRECT(\"'\"&$B141&\"'!$U$7\"),INDIRECT(\"'\"&$B141&\"'!$u$9\"),\"(\"&INDIRECT(\"'\"&$B141&\"'!$U$8\")&\")\"),\"\")","v":""},{"$f":"IF(L141,\"This site has incomplete Cost and Revenue data.  \",\"\")&IF(M141,\"WFRS data for previous quarters is incomplete.  \",\"\")&IF(K141,IFERROR(INDIRECT(\"'\"&$B141&\"'!$g$9\"),\"\"),\"\")","v":""},false,{"$f":"IFERROR(INDIRECT(\"'\"&$B141&\"'!$u$7\"),FALSE)","v":false},{"$f":"IFERROR(INDIRECT(\"'\"&$B141&\"'!$u$10\"),FALSE)","v":false},{"$f":"IFERROR(INDIRECT(\"'\"&$B141&\"'!$AC$12\"),FALSE)","v":false},{"$f":"IFERROR(INDIRECT(\"'\"&$B141&\"'!$ad$12\"),FALSE)","v":false},null,{"$f":"IFERROR(INDIRECT(\"'\"&$B141&\"'!$d$10\"),\"\")","v":""},{"$f":"IFERROR(INDIRECT(\"'\"&$B141&\"'!$d$33\"),\"\")","v":""},{"$f":"IFERROR(INDIRECT(\"'\"&$B141&\"'!$j$33\")+INDIRECT(\"'\"&$B141&\"'!$k$33\"),\"\")","v":""},{"$f":"IFERROR(INDIRECT(\"'\"&$B141&\"'!$q$33\"),\"\")","v":""},{"$f":"IFERROR(INDIRECT(\"'\"&$B141&\"'!$e$33\"),\"\")","v":""},{"$f":"IFERROR(INDIRECT(\"'\"&$B141&\"'!$L$33\"),\"\")","v":""},{"$f":"IFERROR(INDIRECT(\"'\"&$B141&\"'!$g$33\")+INDIRECT(\"'\"&$B141&\"'!$h$33\")+INDIRECT(\"'\"&$B141&\"'!$i$33\"),\"\")","v":""}]
[106,{"$f":"IFERROR(IF(OR(SHEETNAME(A142)=\"HIDE\",SHEETNAME(A142)=\"Start Here\",SHEETNAME(A142)=\"Template\"),\"\",SHEETNAME(A142)),\"\")","v":""},{"$f":"IFERROR(INDIRECT(\"'\"&$B142&\"'!$d$6\"),\"\")","v":""},{"$f":"IFERROR(INDIRECT(\"'\"&$B142&\"'!$d$7\"),\"\")","v":""},{"$f":"IFERROR(INDIRECT(\"'\"&$B142&\"'!$d$8\"),\"\")","v":""},{"$f":"IFERROR(IF(OR(SHEETNAME($A142)=\"HIDE\",SHEETNAME($A142)=\"Start Here\",SHEETNAME($A142)=\"Template\"),\"\",HYPERLINK(\"#'\"&B142&\"'!A1\",\"Go to Sheet\")),\"\")","v":""},{"$f":"IFERROR(IF(INDIRECT(\"'\"&$B142&\"'!$U$7\"),INDIRECT(\"'\"&$B142&\"'!$u$9\"),\"(\"&INDIRECT(\"'\"&$B142&\"'!$U$8\")&\")\"),\"\")","v":""},{"$f":"IF(L142,\"This site has incomplete Cost and Revenue data.  \",\"\")&IF(M142,\"WFRS data for previous quarters is incomplete.  \",\"\")&IF(K142,IFERROR(INDIRECT(\"'\"&$B142&\"'!$g$9\"),\"\"),\"\")","v":""},false,{"$f":"IFERROR(INDIRECT(\"'\"&$B142&\"'!$u$7\"),FALSE)","v":false},{"$f":"IFERROR(INDIRECT(\"'\"&$B142&\"'!$u$10\"),FALSE)","v":false},{"$f":"IFERROR(INDIRECT(\"'\"&$B142&\"'!$AC$12\"),FALSE)","v":false},{"$f":"IFERROR(INDIRECT(\"'\"&$B142&\"'!$ad$12\"),FALSE)","v":false},null,{"$f":"IFERROR(INDIRECT(\"'\"&$B142&\"'!$d$10\"),\"\")","v":""},{"$f":"IFERROR(INDIRECT(\"'\"&$B142&\"'!$d$33\"),\"\")","v":""},{"$f":"IFERROR(INDIRECT(\"'\"&$B142&\"'!$j$33\")+INDIRECT(\"'\"&$B142&\"'!$k$33\"),\"\")","v":""},{"$f":"IFERROR(INDIRECT(\"'\"&$B142&\"'!$q$33\"),\"\")","v":""},{"$f":"IFERROR(INDIRECT(\"'\"&$B142&\"'!$e$33\"),\"\")","v":""},{"$f":"IFERROR(INDIRECT(\"'\"&$B142&\"'!$L$33\"),\"\")","v":""},{"$f":"IFERROR(INDIRECT(\"'\"&$B142&\"'!$g$33\")+INDIRECT(\"'\"&$B142&\"'!$h$33\")+INDIRECT(\"'\"&$B142&\"'!$i$33\"),\"\")","v":""}]
[107,{"$f":"IFERROR(IF(OR(SHEETNAME(A143)=\"HIDE\",SHEETNAME(A143)=\"Start Here\",SHEETNAME(A143)=\"Template\"),\"\",SHEETNAME(A143)),\"\")","v":""},{"$f":"IFERROR(INDIRECT(\"'\"&$B143&\"'!$d$6\"),\"\")","v":""},{"$f":"IFERROR(INDIRECT(\"'\"&$B143&\"'!$d$7\"),\"\")","v":""},{"$f":"IFERROR(INDIRECT(\"'\"&$B143&\"'!$d$8\"),\"\")","v":""},{"$f":"IFERROR(IF(OR(SHEETNAME($A143)=\"HIDE\",SHEETNAME($A143)=\"Start Here\",SHEETNAME($A143)=\"Template\"),\"\",HYPERLINK(\"#'\"&B143&\"'!A1\",\"Go to Sheet\")),\"\")","v":""},{"$f":"IFERROR(IF(INDIRECT(\"'\"&$B143&\"'!$U$7\"),INDIRECT(\"'\"&$B143&\"'!$u$9\"),\"(\"&INDIRECT(\"'\"&$B143&\"'!$U$8\")&\")\"),\"\")","v":""},{"$f":"IF(L143,\"This site has incomplete Cost and Revenue data.  \",\"\")&IF(M143,\"WFRS data for previous quarters is incomplete.  \",\"\")&IF(K143,IFERROR(INDIRECT(\"'\"&$B143&\"'!$g$9\"),\"\"),\"\")","v":""},false,{"$f":"IFERROR(INDIRECT(\"'\"&$B143&\"'!$u$7\"),FALSE)","v":false},{"$f":"IFERROR(INDIRECT(\"'\"&$B143&\"'!$u$10\"),FALSE)","v":false},{"$f":"IFERROR(INDIRECT(\"'\"&$B143&\"'!$AC$12\"),FALSE)","v":false},{"$f":"IFERROR(INDIRECT(\"'\"&$B143&\"'!$ad$12\"),FALSE)","v":false},null,{"$f":"IFERROR(INDIRECT(\"'\"&$B143&\"'!$d$10\"),\"\")","v":""},{"$f":"IFERROR(INDIRECT(\"'\"&$B143&\"'!$d$33\"),\"\")","v":""},{"$f":"IFERROR(INDIRECT(\"'\"&$B143&\"'!$j$33\")+INDIRECT(\"'\"&$B143&\"'!$k$33\"),\"\")","v":""},{"$f":"IFERROR(INDIRECT(\"'\"&$B143&\"'!$q$33\"),\"\")","v":""},{"$f":"IFERROR(INDIRECT(\"'\"&$B143&\"'!$e$33\"),\"\")","v":""},{"$f":"IFERROR(INDIRECT(\"'\"&$B143&\"'!$L$33\"),\"\")","v":""},{"$f":"IFERROR(INDIRECT(\"'\"&$B143&\"'!$g$33\")+INDIRECT(\"'\"&$B143&\"'!$h$33\")+INDIRECT(\"'\"&$B143&\"'!$i$33\"),\"\")","v":""}]
[108,{"$f":"IFERROR(IF(OR(SHEETNAME(A144)=\"HIDE\",SHEETNAME(A144)=\"Start Here\",SHEETNAME(A144)=\"Template\"),\"\",SHEETNAME(A144)),\"\")","v":""},{"$f":"IFERROR(INDIRECT(\"'\"&$B144&\"'!$d$6\"),\"\")","v":""},{"$f":"IFERROR(INDIRECT(\"'\"&$B144&\"'!$d$7\"),\"\")","v":""},{"$f":"IFERROR(INDIRECT(\"'\"&$B144&\"'!$d$8\"),\"\")","v":""},{"$f":"IFERROR(IF(OR(SHEETNAME($A144)=\"HIDE\",SHEETNAME($A144)=\"Start Here\",SHEETNAME($A144)=\"Template\"),\"\",HYPERLINK(\"#'\"&B144&\"'!A1\",\"Go to Sheet\")),\"\")","v":""},{"$f":"IFERROR(IF(INDIRECT(\"'\"&$B144&\"'!$U$7\"),INDIRECT(\"'\"&$B144&\"'!$u$9\"),\"(\"&INDIRECT(\"'\"&$B144&\"'!$U$8\")&\")\"),\"\")","v":""},{"$f":"IF(L144,\"This site has incomplete Cost and Revenue data.  \",\"\")&IF(M144,\"WFRS data for previous quarters is incomplete.  \",\"\")&IF(K144,IFERROR(INDIRECT(\"'\"&$B144&\"'!$g$9\"),\"\"),\"\")","v":""},false,{"$f":"IFERROR(INDIRECT(\"'\"&$B144&\"'!$u$7\"),FALSE)","v":false},{"$f":"IFERROR(INDIRECT(\"'\"&$B144&\"'!$u$10\"),FALSE)","v":false},{"$f":"IFERROR(INDIRECT(\"'\"&$B144&\"'!$AC$12\"),FALSE)","v":false},{"$f":"IFERROR(INDIRECT(\"'\"&$B144&\"'!$ad$12\"),FALSE)","v":false},null,{"$f":"IFERROR(INDIRECT(\"'\"&$B144&\"'!$d$10\"),\"\")","v":""},{"$f":"IFERROR(INDIRECT(\"'\"&$B144&\"'!$d$33\"),\"\")","v":""},{"$f":"IFERROR(INDIRECT(\"'\"&$B144&\"'!$j$33\")+INDIRECT(\"'\"&$B144&\"'!$k$33\"),\"\")","v":""},{"$f":"IFERROR(INDIRECT(\"'\"&$B144&\"'!$q$33\"),\"\")","v":""},{"$f":"IFERROR(INDIRECT(\"'\"&$B144&\"'!$e$33\"),\"\")","v":""},{"$f":"IFERROR(INDIRECT(\"'\"&$B144&\"'!$L$33\"),\"\")","v":""},{"$f":"IFERROR(INDIRECT(\"'\"&$B144&\"'!$g$33\")+INDIRECT(\"'\"&$B144&\"'!$h$33\")+INDIRECT(\"'\"&$B144&\"'!$i$33\"),\"\")","v":""}]
[109,{"$f":"IFERROR(IF(OR(SHEETNAME(A145)=\"HIDE\",SHEETNAME(A145)=\"Start Here\",SHEETNAME(A145)=\"Template\"),\"\",SHEETNAME(A145)),\"\")","v":""},{"$f":"IFERROR(INDIRECT(\"'\"&$B145&\"'!$d$6\"),\"\")","v":""},{"$f":"IFERROR(INDIRECT(\"'\"&$B145&\"'!$d$7\"),\"\")","v":""},{"$f":"IFERROR(INDIRECT(\"'\"&$B145&\"'!$d$8\"),\"\")","v":""},{"$f":"IFERROR(IF(OR(SHEETNAME($A145)=\"HIDE\",SHEETNAME($A145)=\"Start Here\",SHEETNAME($A145)=\"Template\"),\"\",HYPERLINK(\"#'\"&B145&\"'!A1\",\"Go to Sheet\")),\"\")","v":""},{"$f":"IFERROR(IF(INDIRECT(\"'\"&$B145&\"'!$U$7\"),INDIRECT(\"'\"&$B145&\"'!$u$9\"),\"(\"&INDIRECT(\"'\"&$B145&\"'!$U$8\")&\")\"),\"\")","v":""},{"$f":"IF(L145,\"This site has incomplete Cost and Revenue data.  \",\"\")&IF(M145,\"WFRS data for previous quarters is incomplete.  \",\"\")&IF(K145,IFERROR(INDIRECT(\"'\"&$B145&\"'!$g$9\"),\"\"),\"\")","v":""},false,{"$f":"IFERROR(INDIRECT(\"'\"&$B145&\"'!$u$7\"),FALSE)","v":false},{"$f":"IFERROR(INDIRECT(\"'\"&$B145&\"'!$u$10\"),FALSE)","v":false},{"$f":"IFERROR(INDIRECT(\"'\"&$B145&\"'!$AC$12\"),FALSE)","v":false},{"$f":"IFERROR(INDIRECT(\"'\"&$B145&\"'!$ad$12\"),FALSE)","v":false},null,{"$f":"IFERROR(INDIRECT(\"'\"&$B145&\"'!$d$10\"),\"\")","v":""},{"$f":"IFERROR(INDIRECT(\"'\"&$B145&\"'!$d$33\"),\"\")","v":""},{"$f":"IFERROR(INDIRECT(\"'\"&$B145&\"'!$j$33\")+INDIRECT(\"'\"&$B145&\"'!$k$33\"),\"\")","v":""},{"$f":"IFERROR(INDIRECT(\"'\"&$B145&\"'!$q$33\"),\"\")","v":""},{"$f":"IFERROR(INDIRECT(\"'\"&$B145&\"'!$e$33\"),\"\")","v":""},{"$f":"IFERROR(INDIRECT(\"'\"&$B145&\"'!$L$33\"),\"\")","v":""},{"$f":"IFERROR(INDIRECT(\"'\"&$B145&\"'!$g$33\")+INDIRECT(\"'\"&$B145&\"'!$h$33\")+INDIRECT(\"'\"&$B145&\"'!$i$33\"),\"\")","v":""}]
[110,{"$f":"IFERROR(IF(OR(SHEETNAME(A146)=\"HIDE\",SHEETNAME(A146)=\"Start Here\",SHEETNAME(A146)=\"Template\"),\"\",SHEETNAME(A146)),\"\")","v":""},{"$f":"IFERROR(INDIRECT(\"'\"&$B146&\"'!$d$6\"),\"\")","v":""},{"$f":"IFERROR(INDIRECT(\"'\"&$B146&\"'!$d$7\"),\"\")","v":""},{"$f":"IFERROR(INDIRECT(\"'\"&$B146&\"'!$d$8\"),\"\")","v":""},{"$f":"IFERROR(IF(OR(SHEETNAME($A146)=\"HIDE\",SHEETNAME($A146)=\"Start Here\",SHEETNAME($A146)=\"Template\"),\"\",HYPERLINK(\"#'\"&B146&\"'!A1\",\"Go to Sheet\")),\"\")","v":""},{"$f":"IFERROR(IF(INDIRECT(\"'\"&$B146&\"'!$U$7\"),INDIRECT(\"'\"&$B146&\"'!$u$9\"),\"(\"&INDIRECT(\"'\"&$B146&\"'!$U$8\")&\")\"),\"\")","v":""},{"$f":"IF(L146,\"This site has incomplete Cost and Revenue data.  \",\"\")&IF(M146,\"WFRS data for previous quarters is incomplete.  \",\"\")&IF(K146,IFERROR(INDIRECT(\"'\"&$B146&\"'!$g$9\"),\"\"),\"\")","v":""},false,{"$f":"IFERROR(INDIRECT(\"'\"&$B146&\"'!$u$7\"),FALSE)","v":false},{"$f":"IFERROR(INDIRECT(\"'\"&$B146&\"'!$u$10\"),FALSE)","v":false},{"$f":"IFERROR(INDIRECT(\"'\"&$B146&\"'!$AC$12\"),FALSE)","v":false},{"$f":"IFERROR(INDIRECT(\"'\"&$B146&\"'!$ad$12\"),FALSE)","v":false},null,{"$f":"IFERROR(INDIRECT(\"'\"&$B146&\"'!$d$10\"),\"\")","v":""},{"$f":"IFERROR(INDIRECT(\"'\"&$B146&\"'!$d$33\"),\"\")","v":""},{"$f":"IFERROR(INDIRECT(\"'\"&$B146&\"'!$j$33\")+INDIRECT(\"'\"&$B146&\"'!$k$33\"),\"\")","v":""},{"$f":"IFERROR(INDIRECT(\"'\"&$B146&\"'!$q$33\"),\"\")","v":""},{"$f":"IFERROR(INDIRECT(\"'\"&$B146&\"'!$e$33\"),\"\")","v":""},{"$f":"IFERROR(INDIRECT(\"'\"&$B146&\"'!$L$33\"),\"\")","v":""},{"$f":"IFERROR(INDIRECT(\"'\"&$B146&\"'!$g$33\")+INDIRECT(\"'\"&$B146&\"'!$h$33\")+INDIRECT(\"'\"&$B146&\"'!$i$33\"),\"\")","v":""}]
[111,{"$f":"IFERROR(IF(OR(SHEETNAME(A147)=\"HIDE\",SHEETNAME(A147)=\"Start Here\",SHEETNAME(A147)=\"Template\"),\"\",SHEETNAME(A147)),\"\")","v":""},{"$f":"IFERROR(INDIRECT(\"'\"&$B147&\"'!$d$6\"),\"\")","v":""},{"$f":"IFERROR(INDIRECT(\"'\"&$B147&\"'!$d$7\"),\"\")","v":""},{"$f":"IFERROR(INDIRECT(\"'\"&$B147&\"'!$d$8\"),\"\")","v":""},{"$f":"IFERROR(IF(OR(SHEETNAME($A147)=\"HIDE\",SHEETNAME($A147)=\"Start Here\",SHEETNAME($A147)=\"Template\"),\"\",HYPERLINK(\"#'\"&B147&\"'!A1\",\"Go to Sheet\")),\"\")","v":""},{"$f":"IFERROR(IF(INDIRECT(\"'\"&$B147&\"'!$U$7\"),INDIRECT(\"'\"&$B147&\"'!$u$9\"),\"(\"&INDIRECT(\"'\"&$B147&\"'!$U$8\")&\")\"),\"\")","v":""},{"$f":"IF(L147,\"This site has incomplete Cost and Revenue data.  \",\"\")&IF(M147,\"WFRS data for previous quarters is incomplete.  \",\"\")&IF(K147,IFERROR(INDIRECT(\"'\"&$B147&\"'!$g$9\"),\"\"),\"\")","v":""},false,{"$f":"IFERROR(INDIRECT(\"'\"&$B147&\"'!$u$7\"),FALSE)","v":false},{"$f":"IFERROR(INDIRECT(\"'\"&$B147&\"'!$u$10\"),FALSE)","v":false},{"$f":"IFERROR(INDIRECT(\"'\"&$B147&\"'!$AC$12\"),FALSE)","v":false},{"$f":"IFERROR(INDIRECT(\"'\"&$B147&\"'!$ad$12\"),FALSE)","v":false},null,{"$f":"IFERROR(INDIRECT(\"'\"&$B147&\"'!$d$10\"),\"\")","v":""},{"$f":"IFERROR(INDIRECT(\"'\"&$B147&\"'!$d$33\"),\"\")","v":""},{"$f":"IFERROR(INDIRECT(\"'\"&$B147&\"'!$j$33\")+INDIRECT(\"'\"&$B147&\"'!$k$33\"),\"\")","v":""},{"$f":"IFERROR(INDIRECT(\"'\"&$B147&\"'!$q$33\"),\"\")","v":""},{"$f":"IFERROR(INDIRECT(\"'\"&$B147&\"'!$e$33\"),\"\")","v":""},{"$f":"IFERROR(INDIRECT(\"'\"&$B147&\"'!$L$33\"),\"\")","v":""},{"$f":"IFERROR(INDIRECT(\"'\"&$B147&\"'!$g$33\")+INDIRECT(\"'\"&$B147&\"'!$h$33\")+INDIRECT(\"'\"&$B147&\"'!$i$33\"),\"\")","v":""}]
[112,{"$f":"IFERROR(IF(OR(SHEETNAME(A148)=\"HIDE\",SHEETNAME(A148)=\"Start Here\",SHEETNAME(A148)=\"Template\"),\"\",SHEETNAME(A148)),\"\")","v":""},{"$f":"IFERROR(INDIRECT(\"'\"&$B148&\"'!$d$6\"),\"\")","v":""},{"$f":"IFERROR(INDIRECT(\"'\"&$B148&\"'!$d$7\"),\"\")","v":""},{"$f":"IFERROR(INDIRECT(\"'\"&$B148&\"'!$d$8\"),\"\")","v":""},{"$f":"IFERROR(IF(OR(SHEETNAME($A148)=\"HIDE\",SHEETNAME($A148)=\"Start Here\",SHEETNAME($A148)=\"Template\"),\"\",HYPERLINK(\"#'\"&B148&\"'!A1\",\"Go to Sheet\")),\"\")","v":""},{"$f":"IFERROR(IF(INDIRECT(\"'\"&$B148&\"'!$U$7\"),INDIRECT(\"'\"&$B148&\"'!$u$9\"),\"(\"&INDIRECT(\"'\"&$B148&\"'!$U$8\")&\")\"),\"\")","v":""},{"$f":"IF(L148,\"This site has incomplete Cost and Revenue data.  \",\"\")&IF(M148,\"WFRS data for previous quarters is incomplete.  \",\"\")&IF(K148,IFERROR(INDIRECT(\"'\"&$B148&\"'!$g$9\"),\"\"),\"\")","v":""},false,{"$f":"IFERROR(INDIRECT(\"'\"&$B148&\"'!$u$7\"),FALSE)","v":false},{"$f":"IFERROR(INDIRECT(\"'\"&$B148&\"'!$u$10\"),FALSE)","v":false},{"$f":"IFERROR(INDIRECT(\"'\"&$B148&\"'!$AC$12\"),FALSE)","v":false},{"$f":"IFERROR(INDIRECT(\"'\"&$B148&\"'!$ad$12\"),FALSE)","v":false},null,{"$f":"IFERROR(INDIRECT(\"'\"&$B148&\"'!$d$10\"),\"\")","v":""},{"$f":"IFERROR(INDIRECT(\"'\"&$B148&\"'!$d$33\"),\"\")","v":""},{"$f":"IFERROR(INDIRECT(\"'\"&$B148&\"'!$j$33\")+INDIRECT(\"'\"&$B148&\"'!$k$33\"),\"\")","v":""},{"$f":"IFERROR(INDIRECT(\"'\"&$B148&\"'!$q$33\"),\"\")","v":""},{"$f":"IFERROR(INDIRECT(\"'\"&$B148&\"'!$e$33\"),\"\")","v":""},{"$f":"IFERROR(INDIRECT(\"'\"&$B148&\"'!$L$33\"),\"\")","v":""},{"$f":"IFERROR(INDIRECT(\"'\"&$B148&\"'!$g$33\")+INDIRECT(\"'\"&$B148&\"'!$h$33\")+INDIRECT(\"'\"&$B148&\"'!$i$33\"),\"\")","v":""}]
[113,{"$f":"IFERROR(IF(OR(SHEETNAME(A149)=\"HIDE\",SHEETNAME(A149)=\"Start Here\",SHEETNAME(A149)=\"Template\"),\"\",SHEETNAME(A149)),\"\")","v":""},{"$f":"IFERROR(INDIRECT(\"'\"&$B149&\"'!$d$6\"),\"\")","v":""},{"$f":"IFERROR(INDIRECT(\"'\"&$B149&\"'!$d$7\"),\"\")","v":""},{"$f":"IFERROR(INDIRECT(\"'\"&$B149&\"'!$d$8\"),\"\")","v":""},{"$f":"IFERROR(IF(OR(SHEETNAME($A149)=\"HIDE\",SHEETNAME($A149)=\"Start Here\",SHEETNAME($A149)=\"Template\"),\"\",HYPERLINK(\"#'\"&B149&\"'!A1\",\"Go to Sheet\")),\"\")","v":""},{"$f":"IFERROR(IF(INDIRECT(\"'\"&$B149&\"'!$U$7\"),INDIRECT(\"'\"&$B149&\"'!$u$9\"),\"(\"&INDIRECT(\"'\"&$B149&\"'!$U$8\")&\")\"),\"\")","v":""},{"$f":"IF(L149,\"This site has incomplete Cost and Revenue data.  \",\"\")&IF(M149,\"WFRS data for previous quarters is incomplete.  \",\"\")&IF(K149,IFERROR(INDIRECT(\"'\"&$B149&\"'!$g$9\"),\"\"),\"\")","v":""},false,{"$f":"IFERROR(INDIRECT(\"'\"&$B149&\"'!$u$7\"),FALSE)","v":false},{"$f":"IFERROR(INDIRECT(\"'\"&$B149&\"'!$u$10\"),FALSE)","v":false},{"$f":"IFERROR(INDIRECT(\"'\"&$B149&\"'!$AC$12\"),FALSE)","v":false},{"$f":"IFERROR(INDIRECT(\"'\"&$B149&\"'!$ad$12\"),FALSE)","v":false},null,{"$f":"IFERROR(INDIRECT(\"'\"&$B149&\"'!$d$10\"),\"\")","v":""},{"$f":"IFERROR(INDIRECT(\"'\"&$B149&\"'!$d$33\"),\"\")","v":""},{"$f":"IFERROR(INDIRECT(\"'\"&$B149&\"'!$j$33\")+INDIRECT(\"'\"&$B149&\"'!$k$33\"),\"\")","v":""},{"$f":"IFERROR(INDIRECT(\"'\"&$B149&\"'!$q$33\"),\"\")","v":""},{"$f":"IFERROR(INDIRECT(\"'\"&$B149&\"'!$e$33\"),\"\")","v":""},{"$f":"IFERROR(INDIRECT(\"'\"&$B149&\"'!$L$33\"),\"\")","v":""},{"$f":"IFERROR(INDIRECT(\"'\"&$B149&\"'!$g$33\")+INDIRECT(\"'\"&$B149&\"'!$h$33\")+INDIRECT(\"'\"&$B149&\"'!$i$33\"),\"\")","v":""}]
[114,{"$f":"IFERROR(IF(OR(SHEETNAME(A150)=\"HIDE\",SHEETNAME(A150)=\"Start Here\",SHEETNAME(A150)=\"Template\"),\"\",SHEETNAME(A150)),\"\")","v":""},{"$f":"IFERROR(INDIRECT(\"'\"&$B150&\"'!$d$6\"),\"\")","v":""},{"$f":"IFERROR(INDIRECT(\"'\"&$B150&\"'!$d$7\"),\"\")","v":""},{"$f":"IFERROR(INDIRECT(\"'\"&$B150&\"'!$d$8\"),\"\")","v":""},{"$f":"IFERROR(IF(OR(SHEETNAME($A150)=\"HIDE\",SHEETNAME($A150)=\"Start Here\",SHEETNAME($A150)=\"Template\"),\"\",HYPERLINK(\"#'\"&B150&\"'!A1\",\"Go to Sheet\")),\"\")","v":""},{"$f":"IFERROR(IF(INDIRECT(\"'\"&$B150&\"'!$U$7\"),INDIRECT(\"'\"&$B150&\"'!$u$9\"),\"(\"&INDIRECT(\"'\"&$B150&\"'!$U$8\")&\")\"),\"\")","v":""},{"$f":"IF(L150,\"This site has incomplete Cost and Revenue data.  \",\"\")&IF(M150,\"WFRS data for previous quarters is incomplete.  \",\"\")&IF(K150,IFERROR(INDIRECT(\"'\"&$B150&\"'!$g$9\"),\"\"),\"\")","v":""},false,{"$f":"IFERROR(INDIRECT(\"'\"&$B150&\"'!$u$7\"),FALSE)","v":false},{"$f":"IFERROR(INDIRECT(\"'\"&$B150&\"'!$u$10\"),FALSE)","v":false},{"$f":"IFERROR(INDIRECT(\"'\"&$B150&\"'!$AC$12\"),FALSE)","v":false},{"$f":"IFERROR(INDIRECT(\"'\"&$B150&\"'!$ad$12\"),FALSE)","v":false},null,{"$f":"IFERROR(INDIRECT(\"'\"&$B150&\"'!$d$10\"),\"\")","v":""},{"$f":"IFERROR(INDIRECT(\"'\"&$B150&\"'!$d$33\"),\"\")","v":""},{"$f":"IFERROR(INDIRECT(\"'\"&$B150&\"'!$j$33\")+INDIRECT(\"'\"&$B150&\"'!$k$33\"),\"\")","v":""},{"$f":"IFERROR(INDIRECT(\"'\"&$B150&\"'!$q$33\"),\"\")","v":""},{"$f":"IFERROR(INDIRECT(\"'\"&$B150&\"'!$e$33\"),\"\")","v":""},{"$f":"IFERROR(INDIRECT(\"'\"&$B150&\"'!$L$33\"),\"\")","v":""},{"$f":"IFERROR(INDIRECT(\"'\"&$B150&\"'!$g$33\")+INDIRECT(\"'\"&$B150&\"'!$h$33\")+INDIRECT(\"'\"&$B150&\"'!$i$33\"),\"\")","v":""}]
[115,{"$f":"IFERROR(IF(OR(SHEETNAME(A151)=\"HIDE\",SHEETNAME(A151)=\"Start Here\",SHEETNAME(A151)=\"Template\"),\"\",SHEETNAME(A151)),\"\")","v":""},{"$f":"IFERROR(INDIRECT(\"'\"&$B151&\"'!$d$6\"),\"\")","v":""},{"$f":"IFERROR(INDIRECT(\"'\"&$B151&\"'!$d$7\"),\"\")","v":""},{"$f":"IFERROR(INDIRECT(\"'\"&$B151&\"'!$d$8\"),\"\")","v":""},{"$f":"IFERROR(IF(OR(SHEETNAME($A151)=\"HIDE\",SHEETNAME($A151)=\"Start Here\",SHEETNAME($A151)=\"Template\"),\"\",HYPERLINK(\"#'\"&B151&\"'!A1\",\"Go to Sheet\")),\"\")","v":""},{"$f":"IFERROR(IF(INDIRECT(\"'\"&$B151&\"'!$U$7\"),INDIRECT(\"'\"&$B151&\"'!$u$9\"),\"(\"&INDIRECT(\"'\"&$B151&\"'!$U$8\")&\")\"),\"\")","v":""},{"$f":"IF(L151,\"This site has incomplete Cost and Revenue data.  \",\"\")&IF(M151,\"WFRS data for previous quarters is incomplete.  \",\"\")&IF(K151,IFERROR(INDIRECT(\"'\"&$B151&\"'!$g$9\"),\"\"),\"\")","v":""},false,{"$f":"IFERROR(INDIRECT(\"'\"&$B151&\"'!$u$7\"),FALSE)","v":false},{"$f":"IFERROR(INDIRECT(\"'\"&$B151&\"'!$u$10\"),FALSE)","v":false},{"$f":"IFERROR(INDIRECT(\"'\"&$B151&\"'!$AC$12\"),FALSE)","v":false},{"$f":"IFERROR(INDIRECT(\"'\"&$B151&\"'!$ad$12\"),FALSE)","v":false},null,{"$f":"IFERROR(INDIRECT(\"'\"&$B151&\"'!$d$10\"),\"\")","v":""},{"$f":"IFERROR(INDIRECT(\"'\"&$B151&\"'!$d$33\"),\"\")","v":""},{"$f":"IFERROR(INDIRECT(\"'\"&$B151&\"'!$j$33\")+INDIRECT(\"'\"&$B151&\"'!$k$33\"),\"\")","v":""},{"$f":"IFERROR(INDIRECT(\"'\"&$B151&\"'!$q$33\"),\"\")","v":""},{"$f":"IFERROR(INDIRECT(\"'\"&$B151&\"'!$e$33\"),\"\")","v":""},{"$f":"IFERROR(INDIRECT(\"'\"&$B151&\"'!$L$33\"),\"\")","v":""},{"$f":"IFERROR(INDIRECT(\"'\"&$B151&\"'!$g$33\")+INDIRECT(\"'\"&$B151&\"'!$h$33\")+INDIRECT(\"'\"&$B151&\"'!$i$33\"),\"\")","v":""}]
[116,{"$f":"IFERROR(IF(OR(SHEETNAME(A152)=\"HIDE\",SHEETNAME(A152)=\"Start Here\",SHEETNAME(A152)=\"Template\"),\"\",SHEETNAME(A152)),\"\")","v":""},{"$f":"IFERROR(INDIRECT(\"'\"&$B152&\"'!$d$6\"),\"\")","v":""},{"$f":"IFERROR(INDIRECT(\"'\"&$B152&\"'!$d$7\"),\"\")","v":""},{"$f":"IFERROR(INDIRECT(\"'\"&$B152&\"'!$d$8\"),\"\")","v":""},{"$f":"IFERROR(IF(OR(SHEETNAME($A152)=\"HIDE\",SHEETNAME($A152)=\"Start Here\",SHEETNAME($A152)=\"Template\"),\"\",HYPERLINK(\"#'\"&B152&\"'!A1\",\"Go to Sheet\")),\"\")","v":""},{"$f":"IFERROR(IF(INDIRECT(\"'\"&$B152&\"'!$U$7\"),INDIRECT(\"'\"&$B152&\"'!$u$9\"),\"(\"&INDIRECT(\"'\"&$B152&\"'!$U$8\")&\")\"),\"\")","v":""},{"$f":"IF(L152,\"This site has incomplete Cost and Revenue data.  \",\"\")&IF(M152,\"WFRS data for previous quarters is incomplete.  \",\"\")&IF(K152,IFERROR(INDIRECT(\"'\"&$B152&\"'!$g$9\"),\"\"),\"\")","v":""},false,{"$f":"IFERROR(INDIRECT(\"'\"&$B152&\"'!$u$7\"),FALSE)","v":false},{"$f":"IFERROR(INDIRECT(\"'\"&$B152&\"'!$u$10\"),FALSE)","v":false},{"$f":"IFERROR(INDIRECT(\"'\"&$B152&\"'!$AC$12\"),FALSE)","v":false},{"$f":"IFERROR(INDIRECT(\"'\"&$B152&\"'!$ad$12\"),FALSE)","v":false},null,{"$f":"IFERROR(INDIRECT(\"'\"&$B152&\"'!$d$10\"),\"\")","v":""},{"$f":"IFERROR(INDIRECT(\"'\"&$B152&\"'!$d$33\"),\"\")","v":""},{"$f":"IFERROR(INDIRECT(\"'\"&$B152&\"'!$j$33\")+INDIRECT(\"'\"&$B152&\"'!$k$33\"),\"\")","v":""},{"$f":"IFERROR(INDIRECT(\"'\"&$B152&\"'!$q$33\"),\"\")","v":""},{"$f":"IFERROR(INDIRECT(\"'\"&$B152&\"'!$e$33\"),\"\")","v":""},{"$f":"IFERROR(INDIRECT(\"'\"&$B152&\"'!$L$33\"),\"\")","v":""},{"$f":"IFERROR(INDIRECT(\"'\"&$B152&\"'!$g$33\")+INDIRECT(\"'\"&$B152&\"'!$h$33\")+INDIRECT(\"'\"&$B152&\"'!$i$33\"),\"\")","v":""}]
[117,{"$f":"IFERROR(IF(OR(SHEETNAME(A153)=\"HIDE\",SHEETNAME(A153)=\"Start Here\",SHEETNAME(A153)=\"Template\"),\"\",SHEETNAME(A153)),\"\")","v":""},{"$f":"IFERROR(INDIRECT(\"'\"&$B153&\"'!$d$6\"),\"\")","v":""},{"$f":"IFERROR(INDIRECT(\"'\"&$B153&\"'!$d$7\"),\"\")","v":""},{"$f":"IFERROR(INDIRECT(\"'\"&$B153&\"'!$d$8\"),\"\")","v":""},{"$f":"IFERROR(IF(OR(SHEETNAME($A153)=\"HIDE\",SHEETNAME($A153)=\"Start Here\",SHEETNAME($A153)=\"Template\"),\"\",HYPERLINK(\"#'\"&B153&\"'!A1\",\"Go to Sheet\")),\"\")","v":""},{"$f":"IFERROR(IF(INDIRECT(\"'\"&$B153&\"'!$U$7\"),INDIRECT(\"'\"&$B153&\"'!$u$9\"),\"(\"&INDIRECT(\"'\"&$B153&\"'!$U$8\")&\")\"),\"\")","v":""},{"$f":"IF(L153,\"This site has incomplete Cost and Revenue data.  \",\"\")&IF(M153,\"WFRS data for previous quarters is incomplete.  \",\"\")&IF(K153,IFERROR(INDIRECT(\"'\"&$B153&\"'!$g$9\"),\"\"),\"\")","v":""},false,{"$f":"IFERROR(INDIRECT(\"'\"&$B153&\"'!$u$7\"),FALSE)","v":false},{"$f":"IFERROR(INDIRECT(\"'\"&$B153&\"'!$u$10\"),FALSE)","v":false},{"$f":"IFERROR(INDIRECT(\"'\"&$B153&\"'!$AC$12\"),FALSE)","v":false},{"$f":"IFERROR(INDIRECT(\"'\"&$B153&\"'!$ad$12\"),FALSE)","v":false},null,{"$f":"IFERROR(INDIRECT(\"'\"&$B153&\"'!$d$10\"),\"\")","v":""},{"$f":"IFERROR(INDIRECT(\"'\"&$B153&\"'!$d$33\"),\"\")","v":""},{"$f":"IFERROR(INDIRECT(\"'\"&$B153&\"'!$j$33\")+INDIRECT(\"'\"&$B153&\"'!$k$33\"),\"\")","v":""},{"$f":"IFERROR(INDIRECT(\"'\"&$B153&\"'!$q$33\"),\"\")","v":""},{"$f":"IFERROR(INDIRECT(\"'\"&$B153&\"'!$e$33\"),\"\")","v":""},{"$f":"IFERROR(INDIRECT(\"'\"&$B153&\"'!$L$33\"),\"\")","v":""},{"$f":"IFERROR(INDIRECT(\"'\"&$B153&\"'!$g$33\")+INDIRECT(\"'\"&$B153&\"'!$h$33\")+INDIRECT(\"'\"&$B153&\"'!$i$33\"),\"\")","v":""}]
[118,{"$f":"IFERROR(IF(OR(SHEETNAME(A154)=\"HIDE\",SHEETNAME(A154)=\"Start Here\",SHEETNAME(A154)=\"Template\"),\"\",SHEETNAME(A154)),\"\")","v":""},{"$f":"IFERROR(INDIRECT(\"'\"&$B154&\"'!$d$6\"),\"\")","v":""},{"$f":"IFERROR(INDIRECT(\"'\"&$B154&\"'!$d$7\"),\"\")","v":""},{"$f":"IFERROR(INDIRECT(\"'\"&$B154&\"'!$d$8\"),\"\")","v":""},{"$f":"IFERROR(IF(OR(SHEETNAME($A154)=\"HIDE\",SHEETNAME($A154)=\"Start Here\",SHEETNAME($A154)=\"Template\"),\"\",HYPERLINK(\"#'\"&B154&\"'!A1\",\"Go to Sheet\")),\"\")","v":""},{"$f":"IFERROR(IF(INDIRECT(\"'\"&$B154&\"'!$U$7\"),INDIRECT(\"'\"&$B154&\"'!$u$9\"),\"(\"&INDIRECT(\"'\"&$B154&\"'!$U$8\")&\")\"),\"\")","v":""},{"$f":"IF(L154,\"This site has incomplete Cost and Revenue data.  \",\"\")&IF(M154,\"WFRS data for previous quarters is incomplete.  \",\"\")&IF(K154,IFERROR(INDIRECT(\"'\"&$B154&\"'!$g$9\"),\"\"),\"\")","v":""},false,{"$f":"IFERROR(INDIRECT(\"'\"&$B154&\"'!$u$7\"),FALSE)","v":false},{"$f":"IFERROR(INDIRECT(\"'\"&$B154&\"'!$u$10\"),FALSE)","v":false},{"$f":"IFERROR(INDIRECT(\"'\"&$B154&\"'!$AC$12\"),FALSE)","v":false},{"$f":"IFERROR(INDIRECT(\"'\"&$B154&\"'!$ad$12\"),FALSE)","v":false},null,{"$f":"IFERROR(INDIRECT(\"'\"&$B154&\"'!$d$10\"),\"\")","v":""},{"$f":"IFERROR(INDIRECT(\"'\"&$B154&\"'!$d$33\"),\"\")","v":""},{"$f":"IFERROR(INDIRECT(\"'\"&$B154&\"'!$j$33\")+INDIRECT(\"'\"&$B154&\"'!$k$33\"),\"\")","v":""},{"$f":"IFERROR(INDIRECT(\"'\"&$B154&\"'!$q$33\"),\"\")","v":""},{"$f":"IFERROR(INDIRECT(\"'\"&$B154&\"'!$e$33\"),\"\")","v":""},{"$f":"IFERROR(INDIRECT(\"'\"&$B154&\"'!$L$33\"),\"\")","v":""},{"$f":"IFERROR(INDIRECT(\"'\"&$B154&\"'!$g$33\")+INDIRECT(\"'\"&$B154&\"'!$h$33\")+INDIRECT(\"'\"&$B154&\"'!$i$33\"),\"\")","v":""}]
[119,{"$f":"IFERROR(IF(OR(SHEETNAME(A155)=\"HIDE\",SHEETNAME(A155)=\"Start Here\",SHEETNAME(A155)=\"Template\"),\"\",SHEETNAME(A155)),\"\")","v":""},{"$f":"IFERROR(INDIRECT(\"'\"&$B155&\"'!$d$6\"),\"\")","v":""},{"$f":"IFERROR(INDIRECT(\"'\"&$B155&\"'!$d$7\"),\"\")","v":""},{"$f":"IFERROR(INDIRECT(\"'\"&$B155&\"'!$d$8\"),\"\")","v":""},{"$f":"IFERROR(IF(OR(SHEETNAME($A155)=\"HIDE\",SHEETNAME($A155)=\"Start Here\",SHEETNAME($A155)=\"Template\"),\"\",HYPERLINK(\"#'\"&B155&\"'!A1\",\"Go to Sheet\")),\"\")","v":""},{"$f":"IFERROR(IF(INDIRECT(\"'\"&$B155&\"'!$U$7\"),INDIRECT(\"'\"&$B155&\"'!$u$9\"),\"(\"&INDIRECT(\"'\"&$B155&\"'!$U$8\")&\")\"),\"\")","v":""},{"$f":"IF(L155,\"This site has incomplete Cost and Revenue data.  \",\"\")&IF(M155,\"WFRS data for previous quarters is incomplete.  \",\"\")&IF(K155,IFERROR(INDIRECT(\"'\"&$B155&\"'!$g$9\"),\"\"),\"\")","v":""},false,{"$f":"IFERROR(INDIRECT(\"'\"&$B155&\"'!$u$7\"),FALSE)","v":false},{"$f":"IFERROR(INDIRECT(\"'\"&$B155&\"'!$u$10\"),FALSE)","v":false},{"$f":"IFERROR(INDIRECT(\"'\"&$B155&\"'!$AC$12\"),FALSE)","v":false},{"$f":"IFERROR(INDIRECT(\"'\"&$B155&\"'!$ad$12\"),FALSE)","v":false},null,{"$f":"IFERROR(INDIRECT(\"'\"&$B155&\"'!$d$10\"),\"\")","v":""},{"$f":"IFERROR(INDIRECT(\"'\"&$B155&\"'!$d$33\"),\"\")","v":""},{"$f":"IFERROR(INDIRECT(\"'\"&$B155&\"'!$j$33\")+INDIRECT(\"'\"&$B155&\"'!$k$33\"),\"\")","v":""},{"$f":"IFERROR(INDIRECT(\"'\"&$B155&\"'!$q$33\"),\"\")","v":""},{"$f":"IFERROR(INDIRECT(\"'\"&$B155&\"'!$e$33\"),\"\")","v":""},{"$f":"IFERROR(INDIRECT(\"'\"&$B155&\"'!$L$33\"),\"\")","v":""},{"$f":"IFERROR(INDIRECT(\"'\"&$B155&\"'!$g$33\")+INDIRECT(\"'\"&$B155&\"'!$h$33\")+INDIRECT(\"'\"&$B155&\"'!$i$33\"),\"\")","v":""}]
[120,{"$f":"IFERROR(IF(OR(SHEETNAME(A156)=\"HIDE\",SHEETNAME(A156)=\"Start Here\",SHEETNAME(A156)=\"Template\"),\"\",SHEETNAME(A156)),\"\")","v":""},{"$f":"IFERROR(INDIRECT(\"'\"&$B156&\"'!$d$6\"),\"\")","v":""},{"$f":"IFERROR(INDIRECT(\"'\"&$B156&\"'!$d$7\"),\"\")","v":""},{"$f":"IFERROR(INDIRECT(\"'\"&$B156&\"'!$d$8\"),\"\")","v":""},{"$f":"IFERROR(IF(OR(SHEETNAME($A156)=\"HIDE\",SHEETNAME($A156)=\"Start Here\",SHEETNAME($A156)=\"Template\"),\"\",HYPERLINK(\"#'\"&B156&\"'!A1\",\"Go to Sheet\")),\"\")","v":""},{"$f":"IFERROR(IF(INDIRECT(\"'\"&$B156&\"'!$U$7\"),INDIRECT(\"'\"&$B156&\"'!$u$9\"),\"(\"&INDIRECT(\"'\"&$B156&\"'!$U$8\")&\")\"),\"\")","v":""},{"$f":"IF(L156,\"This site has incomplete Cost and Revenue data.  \",\"\")&IF(M156,\"WFRS data for previous quarters is incomplete.  \",\"\")&IF(K156,IFERROR(INDIRECT(\"'\"&$B156&\"'!$g$9\"),\"\"),\"\")","v":""},false,{"$f":"IFERROR(INDIRECT(\"'\"&$B156&\"'!$u$7\"),FALSE)","v":false},{"$f":"IFERROR(INDIRECT(\"'\"&$B156&\"'!$u$10\"),FALSE)","v":false},{"$f":"IFERROR(INDIRECT(\"'\"&$B156&\"'!$AC$12\"),FALSE)","v":false},{"$f":"IFERROR(INDIRECT(\"'\"&$B156&\"'!$ad$12\"),FALSE)","v":false},null,{"$f":"IFERROR(INDIRECT(\"'\"&$B156&\"'!$d$10\"),\"\")","v":""},{"$f":"IFERROR(INDIRECT(\"'\"&$B156&\"'!$d$33\"),\"\")","v":""},{"$f":"IFERROR(INDIRECT(\"'\"&$B156&\"'!$j$33\")+INDIRECT(\"'\"&$B156&\"'!$k$33\"),\"\")","v":""},{"$f":"IFERROR(INDIRECT(\"'\"&$B156&\"'!$q$33\"),\"\")","v":""},{"$f":"IFERROR(INDIRECT(\"'\"&$B156&\"'!$e$33\"),\"\")","v":""},{"$f":"IFERROR(INDIRECT(\"'\"&$B156&\"'!$L$33\"),\"\")","v":""},{"$f":"IFERROR(INDIRECT(\"'\"&$B156&\"'!$g$33\")+INDIRECT(\"'\"&$B156&\"'!$h$33\")+INDIRECT(\"'\"&$B156&\"'!$i$33\"),\"\")","v":""}]
[121,{"$f":"IFERROR(IF(OR(SHEETNAME(A157)=\"HIDE\",SHEETNAME(A157)=\"Start Here\",SHEETNAME(A157)=\"Template\"),\"\",SHEETNAME(A157)),\"\")","v":""},{"$f":"IFERROR(INDIRECT(\"'\"&$B157&\"'!$d$6\"),\"\")","v":""},{"$f":"IFERROR(INDIRECT(\"'\"&$B157&\"'!$d$7\"),\"\")","v":""},{"$f":"IFERROR(INDIRECT(\"'\"&$B157&\"'!$d$8\"),\"\")","v":""},{"$f":"IFERROR(IF(OR(SHEETNAME($A157)=\"HIDE\",SHEETNAME($A157)=\"Start Here\",SHEETNAME($A157)=\"Template\"),\"\",HYPERLINK(\"#'\"&B157&\"'!A1\",\"Go to Sheet\")),\"\")","v":""},{"$f":"IFERROR(IF(INDIRECT(\"'\"&$B157&\"'!$U$7\"),INDIRECT(\"'\"&$B157&\"'!$u$9\"),\"(\"&INDIRECT(\"'\"&$B157&\"'!$U$8\")&\")\"),\"\")","v":""},{"$f":"IF(L157,\"This site has incomplete Cost and Revenue data.  \",\"\")&IF(M157,\"WFRS data for previous quarters is incomplete.  \",\"\")&IF(K157,IFERROR(INDIRECT(\"'\"&$B157&\"'!$g$9\"),\"\"),\"\")","v":""},false,{"$f":"IFERROR(INDIRECT(\"'\"&$B157&\"'!$u$7\"),FALSE)","v":false},{"$f":"IFERROR(INDIRECT(\"'\"&$B157&\"'!$u$10\"),FALSE)","v":false},{"$f":"IFERROR(INDIRECT(\"'\"&$B157&\"'!$AC$12\"),FALSE)","v":false},{"$f":"IFERROR(INDIRECT(\"'\"&$B157&\"'!$ad$12\"),FALSE)","v":false},null,{"$f":"IFERROR(INDIRECT(\"'\"&$B157&\"'!$d$10\"),\"\")","v":""},{"$f":"IFERROR(INDIRECT(\"'\"&$B157&\"'!$d$33\"),\"\")","v":""},{"$f":"IFERROR(INDIRECT(\"'\"&$B157&\"'!$j$33\")+INDIRECT(\"'\"&$B157&\"'!$k$33\"),\"\")","v":""},{"$f":"IFERROR(INDIRECT(\"'\"&$B157&\"'!$q$33\"),\"\")","v":""},{"$f":"IFERROR(INDIRECT(\"'\"&$B157&\"'!$e$33\"),\"\")","v":""},{"$f":"IFERROR(INDIRECT(\"'\"&$B157&\"'!$L$33\"),\"\")","v":""},{"$f":"IFERROR(INDIRECT(\"'\"&$B157&\"'!$g$33\")+INDIRECT(\"'\"&$B157&\"'!$h$33\")+INDIRECT(\"'\"&$B157&\"'!$i$33\"),\"\")","v":""}]
[122,{"$f":"IFERROR(IF(OR(SHEETNAME(A158)=\"HIDE\",SHEETNAME(A158)=\"Start Here\",SHEETNAME(A158)=\"Template\"),\"\",SHEETNAME(A158)),\"\")","v":""},{"$f":"IFERROR(INDIRECT(\"'\"&$B158&\"'!$d$6\"),\"\")","v":""},{"$f":"IFERROR(INDIRECT(\"'\"&$B158&\"'!$d$7\"),\"\")","v":""},{"$f":"IFERROR(INDIRECT(\"'\"&$B158&\"'!$d$8\"),\"\")","v":""},{"$f":"IFERROR(IF(OR(SHEETNAME($A158)=\"HIDE\",SHEETNAME($A158)=\"Start Here\",SHEETNAME($A158)=\"Template\"),\"\",HYPERLINK(\"#'\"&B158&\"'!A1\",\"Go to Sheet\")),\"\")","v":""},{"$f":"IFERROR(IF(INDIRECT(\"'\"&$B158&\"'!$U$7\"),INDIRECT(\"'\"&$B158&\"'!$u$9\"),\"(\"&INDIRECT(\"'\"&$B158&\"'!$U$8\")&\")\"),\"\")","v":""},{"$f":"IF(L158,\"This site has incomplete Cost and Revenue data.  \",\"\")&IF(M158,\"WFRS data for previous quarters is incomplete.  \",\"\")&IF(K158,IFERROR(INDIRECT(\"'\"&$B158&\"'!$g$9\"),\"\"),\"\")","v":""},false,{"$f":"IFERROR(INDIRECT(\"'\"&$B158&\"'!$u$7\"),FALSE)","v":false},{"$f":"IFERROR(INDIRECT(\"'\"&$B158&\"'!$u$10\"),FALSE)","v":false},{"$f":"IFERROR(INDIRECT(\"'\"&$B158&\"'!$AC$12\"),FALSE)","v":false},{"$f":"IFERROR(INDIRECT(\"'\"&$B158&\"'!$ad$12\"),FALSE)","v":false},null,{"$f":"IFERROR(INDIRECT(\"'\"&$B158&\"'!$d$10\"),\"\")","v":""},{"$f":"IFERROR(INDIRECT(\"'\"&$B158&\"'!$d$33\"),\"\")","v":""},{"$f":"IFERROR(INDIRECT(\"'\"&$B158&\"'!$j$33\")+INDIRECT(\"'\"&$B158&\"'!$k$33\"),\"\")","v":""},{"$f":"IFERROR(INDIRECT(\"'\"&$B158&\"'!$q$33\"),\"\")","v":""},{"$f":"IFERROR(INDIRECT(\"'\"&$B158&\"'!$e$33\"),\"\")","v":""},{"$f":"IFERROR(INDIRECT(\"'\"&$B158&\"'!$L$33\"),\"\")","v":""},{"$f":"IFERROR(INDIRECT(\"'\"&$B158&\"'!$g$33\")+INDIRECT(\"'\"&$B158&\"'!$h$33\")+INDIRECT(\"'\"&$B158&\"'!$i$33\"),\"\")","v":""}]
[123,{"$f":"IFERROR(IF(OR(SHEETNAME(A159)=\"HIDE\",SHEETNAME(A159)=\"Start Here\",SHEETNAME(A159)=\"Template\"),\"\",SHEETNAME(A159)),\"\")","v":""},{"$f":"IFERROR(INDIRECT(\"'\"&$B159&\"'!$d$6\"),\"\")","v":""},{"$f":"IFERROR(INDIRECT(\"'\"&$B159&\"'!$d$7\"),\"\")","v":""},{"$f":"IFERROR(INDIRECT(\"'\"&$B159&\"'!$d$8\"),\"\")","v":""},{"$f":"IFERROR(IF(OR(SHEETNAME($A159)=\"HIDE\",SHEETNAME($A159)=\"Start Here\",SHEETNAME($A159)=\"Template\"),\"\",HYPERLINK(\"#'\"&B159&\"'!A1\",\"Go to Sheet\")),\"\")","v":""},{"$f":"IFERROR(IF(INDIRECT(\"'\"&$B159&\"'!$U$7\"),INDIRECT(\"'\"&$B159&\"'!$u$9\"),\"(\"&INDIRECT(\"'\"&$B159&\"'!$U$8\")&\")\"),\"\")","v":""},{"$f":"IF(L159,\"This site has incomplete Cost and Revenue data.  \",\"\")&IF(M159,\"WFRS data for previous quarters is incomplete.  \",\"\")&IF(K159,IFERROR(INDIRECT(\"'\"&$B159&\"'!$g$9\"),\"\"),\"\")","v":""},false,{"$f":"IFERROR(INDIRECT(\"'\"&$B159&\"'!$u$7\"),FALSE)","v":false},{"$f":"IFERROR(INDIRECT(\"'\"&$B159&\"'!$u$10\"),FALSE)","v":false},{"$f":"IFERROR(INDIRECT(\"'\"&$B159&\"'!$AC$12\"),FALSE)","v":false},{"$f":"IFERROR(INDIRECT(\"'\"&$B159&\"'!$ad$12\"),FALSE)","v":false},null,{"$f":"IFERROR(INDIRECT(\"'\"&$B159&\"'!$d$10\"),\"\")","v":""},{"$f":"IFERROR(INDIRECT(\"'\"&$B159&\"'!$d$33\"),\"\")","v":""},{"$f":"IFERROR(INDIRECT(\"'\"&$B159&\"'!$j$33\")+INDIRECT(\"'\"&$B159&\"'!$k$33\"),\"\")","v":""},{"$f":"IFERROR(INDIRECT(\"'\"&$B159&\"'!$q$33\"),\"\")","v":""},{"$f":"IFERROR(INDIRECT(\"'\"&$B159&\"'!$e$33\"),\"\")","v":""},{"$f":"IFERROR(INDIRECT(\"'\"&$B159&\"'!$L$33\"),\"\")","v":""},{"$f":"IFERROR(INDIRECT(\"'\"&$B159&\"'!$g$33\")+INDIRECT(\"'\"&$B159&\"'!$h$33\")+INDIRECT(\"'\"&$B159&\"'!$i$33\"),\"\")","v":""}]
[124,{"$f":"IFERROR(IF(OR(SHEETNAME(A160)=\"HIDE\",SHEETNAME(A160)=\"Start Here\",SHEETNAME(A160)=\"Template\"),\"\",SHEETNAME(A160)),\"\")","v":""},{"$f":"IFERROR(INDIRECT(\"'\"&$B160&\"'!$d$6\"),\"\")","v":""},{"$f":"IFERROR(INDIRECT(\"'\"&$B160&\"'!$d$7\"),\"\")","v":""},{"$f":"IFERROR(INDIRECT(\"'\"&$B160&\"'!$d$8\"),\"\")","v":""},{"$f":"IFERROR(IF(OR(SHEETNAME($A160)=\"HIDE\",SHEETNAME($A160)=\"Start Here\",SHEETNAME($A160)=\"Template\"),\"\",HYPERLINK(\"#'\"&B160&\"'!A1\",\"Go to Sheet\")),\"\")","v":""},{"$f":"IFERROR(IF(INDIRECT(\"'\"&$B160&\"'!$U$7\"),INDIRECT(\"'\"&$B160&\"'!$u$9\"),\"(\"&INDIRECT(\"'\"&$B160&\"'!$U$8\")&\")\"),\"\")","v":""},{"$f":"IF(L160,\"This site has incomplete Cost and Revenue data.  \",\"\")&IF(M160,\"WFRS data for previous quarters is incomplete.  \",\"\")&IF(K160,IFERROR(INDIRECT(\"'\"&$B160&\"'!$g$9\"),\"\"),\"\")","v":""},false,{"$f":"IFERROR(INDIRECT(\"'\"&$B160&\"'!$u$7\"),FALSE)","v":false},{"$f":"IFERROR(INDIRECT(\"'\"&$B160&\"'!$u$10\"),FALSE)","v":false},{"$f":"IFERROR(INDIRECT(\"'\"&$B160&\"'!$AC$12\"),FALSE)","v":false},{"$f":"IFERROR(INDIRECT(\"'\"&$B160&\"'!$ad$12\"),FALSE)","v":false},null,{"$f":"IFERROR(INDIRECT(\"'\"&$B160&\"'!$d$10\"),\"\")","v":""},{"$f":"IFERROR(INDIRECT(\"'\"&$B160&\"'!$d$33\"),\"\")","v":""},{"$f":"IFERROR(INDIRECT(\"'\"&$B160&\"'!$j$33\")+INDIRECT(\"'\"&$B160&\"'!$k$33\"),\"\")","v":""},{"$f":"IFERROR(INDIRECT(\"'\"&$B160&\"'!$q$33\"),\"\")","v":""},{"$f":"IFERROR(INDIRECT(\"'\"&$B160&\"'!$e$33\"),\"\")","v":""},{"$f":"IFERROR(INDIRECT(\"'\"&$B160&\"'!$L$33\"),\"\")","v":""},{"$f":"IFERROR(INDIRECT(\"'\"&$B160&\"'!$g$33\")+INDIRECT(\"'\"&$B160&\"'!$h$33\")+INDIRECT(\"'\"&$B160&\"'!$i$33\"),\"\")","v":""}]
[125,{"$f":"IFERROR(IF(OR(SHEETNAME(A161)=\"HIDE\",SHEETNAME(A161)=\"Start Here\",SHEETNAME(A161)=\"Template\"),\"\",SHEETNAME(A161)),\"\")","v":""},{"$f":"IFERROR(INDIRECT(\"'\"&$B161&\"'!$d$6\"),\"\")","v":""},{"$f":"IFERROR(INDIRECT(\"'\"&$B161&\"'!$d$7\"),\"\")","v":""},{"$f":"IFERROR(INDIRECT(\"'\"&$B161&\"'!$d$8\"),\"\")","v":""},{"$f":"IFERROR(IF(OR(SHEETNAME($A161)=\"HIDE\",SHEETNAME($A161)=\"Start Here\",SHEETNAME($A161)=\"Template\"),\"\",HYPERLINK(\"#'\"&B161&\"'!A1\",\"Go to Sheet\")),\"\")","v":""},{"$f":"IFERROR(IF(INDIRECT(\"'\"&$B161&\"'!$U$7\"),INDIRECT(\"'\"&$B161&\"'!$u$9\"),\"(\"&INDIRECT(\"'\"&$B161&\"'!$U$8\")&\")\"),\"\")","v":""},{"$f":"IF(L161,\"This site has incomplete Cost and Revenue data.  \",\"\")&IF(M161,\"WFRS data for previous quarters is incomplete.  \",\"\")&IF(K161,IFERROR(INDIRECT(\"'\"&$B161&\"'!$g$9\"),\"\"),\"\")","v":""},false,{"$f":"IFERROR(INDIRECT(\"'\"&$B161&\"'!$u$7\"),FALSE)","v":false},{"$f":"IFERROR(INDIRECT(\"'\"&$B161&\"'!$u$10\"),FALSE)","v":false},{"$f":"IFERROR(INDIRECT(\"'\"&$B161&\"'!$AC$12\"),FALSE)","v":false},{"$f":"IFERROR(INDIRECT(\"'\"&$B161&\"'!$ad$12\"),FALSE)","v":false},null,{"$f":"IFERROR(INDIRECT(\"'\"&$B161&\"'!$d$10\"),\"\")","v":""},{"$f":"IFERROR(INDIRECT(\"'\"&$B161&\"'!$d$33\"),\"\")","v":""},{"$f":"IFERROR(INDIRECT(\"'\"&$B161&\"'!$j$33\")+INDIRECT(\"'\"&$B161&\"'!$k$33\"),\"\")","v":""},{"$f":"IFERROR(INDIRECT(\"'\"&$B161&\"'!$q$33\"),\"\")","v":""},{"$f":"IFERROR(INDIRECT(\"'\"&$B161&\"'!$e$33\"),\"\")","v":""},{"$f":"IFERROR(INDIRECT(\"'\"&$B161&\"'!$L$33\"),\"\")","v":""},{"$f":"IFERROR(INDIRECT(\"'\"&$B161&\"'!$g$33\")+INDIRECT(\"'\"&$B161&\"'!$h$33\")+INDIRECT(\"'\"&$B161&\"'!$i$33\"),\"\")","v":""}]
[126,{"$f":"IFERROR(IF(OR(SHEETNAME(A162)=\"HIDE\",SHEETNAME(A162)=\"Start Here\",SHEETNAME(A162)=\"Template\"),\"\",SHEETNAME(A162)),\"\")","v":""},{"$f":"IFERROR(INDIRECT(\"'\"&$B162&\"'!$d$6\"),\"\")","v":""},{"$f":"IFERROR(INDIRECT(\"'\"&$B162&\"'!$d$7\"),\"\")","v":""},{"$f":"IFERROR(INDIRECT(\"'\"&$B162&\"'!$d$8\"),\"\")","v":""},{"$f":"IFERROR(IF(OR(SHEETNAME($A162)=\"HIDE\",SHEETNAME($A162)=\"Start Here\",SHEETNAME($A162)=\"Template\"),\"\",HYPERLINK(\"#'\"&B162&\"'!A1\",\"Go to Sheet\")),\"\")","v":""},{"$f":"IFERROR(IF(INDIRECT(\"'\"&$B162&\"'!$U$7\"),INDIRECT(\"'\"&$B162&\"'!$u$9\"),\"(\"&INDIRECT(\"'\"&$B162&\"'!$U$8\")&\")\"),\"\")","v":""},{"$f":"IF(L162,\"This site has incomplete Cost and Revenue data.  \",\"\")&IF(M162,\"WFRS data for previous quarters is incomplete.  \",\"\")&IF(K162,IFERROR(INDIRECT(\"'\"&$B162&\"'!$g$9\"),\"\"),\"\")","v":""},false,{"$f":"IFERROR(INDIRECT(\"'\"&$B162&\"'!$u$7\"),FALSE)","v":false},{"$f":"IFERROR(INDIRECT(\"'\"&$B162&\"'!$u$10\"),FALSE)","v":false},{"$f":"IFERROR(INDIRECT(\"'\"&$B162&\"'!$AC$12\"),FALSE)","v":false},{"$f":"IFERROR(INDIRECT(\"'\"&$B162&\"'!$ad$12\"),FALSE)","v":false},null,{"$f":"IFERROR(INDIRECT(\"'\"&$B162&\"'!$d$10\"),\"\")","v":""},{"$f":"IFERROR(INDIRECT(\"'\"&$B162&\"'!$d$33\"),\"\")","v":""},{"$f":"IFERROR(INDIRECT(\"'\"&$B162&\"'!$j$33\")+INDIRECT(\"'\"&$B162&\"'!$k$33\"),\"\")","v":""},{"$f":"IFERROR(INDIRECT(\"'\"&$B162&\"'!$q$33\"),\"\")","v":""},{"$f":"IFERROR(INDIRECT(\"'\"&$B162&\"'!$e$33\"),\"\")","v":""},{"$f":"IFERROR(INDIRECT(\"'\"&$B162&\"'!$L$33\"),\"\")","v":""},{"$f":"IFERROR(INDIRECT(\"'\"&$B162&\"'!$g$33\")+INDIRECT(\"'\"&$B162&\"'!$h$33\")+INDIRECT(\"'\"&$B162&\"'!$i$33\"),\"\")","v":""}]
[127,{"$f":"IFERROR(IF(OR(SHEETNAME(A163)=\"HIDE\",SHEETNAME(A163)=\"Start Here\",SHEETNAME(A163)=\"Template\"),\"\",SHEETNAME(A163)),\"\")","v":""},{"$f":"IFERROR(INDIRECT(\"'\"&$B163&\"'!$d$6\"),\"\")","v":""},{"$f":"IFERROR(INDIRECT(\"'\"&$B163&\"'!$d$7\"),\"\")","v":""},{"$f":"IFERROR(INDIRECT(\"'\"&$B163&\"'!$d$8\"),\"\")","v":""},{"$f":"IFERROR(IF(OR(SHEETNAME($A163)=\"HIDE\",SHEETNAME($A163)=\"Start Here\",SHEETNAME($A163)=\"Template\"),\"\",HYPERLINK(\"#'\"&B163&\"'!A1\",\"Go to Sheet\")),\"\")","v":""},{"$f":"IFERROR(IF(INDIRECT(\"'\"&$B163&\"'!$U$7\"),INDIRECT(\"'\"&$B163&\"'!$u$9\"),\"(\"&INDIRECT(\"'\"&$B163&\"'!$U$8\")&\")\"),\"\")","v":""},{"$f":"IF(L163,\"This site has incomplete Cost and Revenue data.  \",\"\")&IF(M163,\"WFRS data for previous quarters is incomplete.  \",\"\")&IF(K163,IFERROR(INDIRECT(\"'\"&$B163&\"'!$g$9\"),\"\"),\"\")","v":""},false,{"$f":"IFERROR(INDIRECT(\"'\"&$B163&\"'!$u$7\"),FALSE)","v":false},{"$f":"IFERROR(INDIRECT(\"'\"&$B163&\"'!$u$10\"),FALSE)","v":false},{"$f":"IFERROR(INDIRECT(\"'\"&$B163&\"'!$AC$12\"),FALSE)","v":false},{"$f":"IFERROR(INDIRECT(\"'\"&$B163&\"'!$ad$12\"),FALSE)","v":false},null,{"$f":"IFERROR(INDIRECT(\"'\"&$B163&\"'!$d$10\"),\"\")","v":""},{"$f":"IFERROR(INDIRECT(\"'\"&$B163&\"'!$d$33\"),\"\")","v":""},{"$f":"IFERROR(INDIRECT(\"'\"&$B163&\"'!$j$33\")+INDIRECT(\"'\"&$B163&\"'!$k$33\"),\"\")","v":""},{"$f":"IFERROR(INDIRECT(\"'\"&$B163&\"'!$q$33\"),\"\")","v":""},{"$f":"IFERROR(INDIRECT(\"'\"&$B163&\"'!$e$33\"),\"\")","v":""},{"$f":"IFERROR(INDIRECT(\"'\"&$B163&\"'!$L$33\"),\"\")","v":""},{"$f":"IFERROR(INDIRECT(\"'\"&$B163&\"'!$g$33\")+INDIRECT(\"'\"&$B163&\"'!$h$33\")+INDIRECT(\"'\"&$B163&\"'!$i$33\"),\"\")","v":""}]
[128,{"$f":"IFERROR(IF(OR(SHEETNAME(A164)=\"HIDE\",SHEETNAME(A164)=\"Start Here\",SHEETNAME(A164)=\"Template\"),\"\",SHEETNAME(A164)),\"\")","v":""},{"$f":"IFERROR(INDIRECT(\"'\"&$B164&\"'!$d$6\"),\"\")","v":""},{"$f":"IFERROR(INDIRECT(\"'\"&$B164&\"'!$d$7\"),\"\")","v":""},{"$f":"IFERROR(INDIRECT(\"'\"&$B164&\"'!$d$8\"),\"\")","v":""},{"$f":"IFERROR(IF(OR(SHEETNAME($A164)=\"HIDE\",SHEETNAME($A164)=\"Start Here\",SHEETNAME($A164)=\"Template\"),\"\",HYPERLINK(\"#'\"&B164&\"'!A1\",\"Go to Sheet\")),\"\")","v":""},{"$f":"IFERROR(IF(INDIRECT(\"'\"&$B164&\"'!$U$7\"),INDIRECT(\"'\"&$B164&\"'!$u$9\"),\"(\"&INDIRECT(\"'\"&$B164&\"'!$U$8\")&\")\"),\"\")","v":""},{"$f":"IF(L164,\"This site has incomplete Cost and Revenue data.  \",\"\")&IF(M164,\"WFRS data for previous quarters is incomplete.  \",\"\")&IF(K164,IFERROR(INDIRECT(\"'\"&$B164&\"'!$g$9\"),\"\"),\"\")","v":""},false,{"$f":"IFERROR(INDIRECT(\"'\"&$B164&\"'!$u$7\"),FALSE)","v":false},{"$f":"IFERROR(INDIRECT(\"'\"&$B164&\"'!$u$10\"),FALSE)","v":false},{"$f":"IFERROR(INDIRECT(\"'\"&$B164&\"'!$AC$12\"),FALSE)","v":false},{"$f":"IFERROR(INDIRECT(\"'\"&$B164&\"'!$ad$12\"),FALSE)","v":false},null,{"$f":"IFERROR(INDIRECT(\"'\"&$B164&\"'!$d$10\"),\"\")","v":""},{"$f":"IFERROR(INDIRECT(\"'\"&$B164&\"'!$d$33\"),\"\")","v":""},{"$f":"IFERROR(INDIRECT(\"'\"&$B164&\"'!$j$33\")+INDIRECT(\"'\"&$B164&\"'!$k$33\"),\"\")","v":""},{"$f":"IFERROR(INDIRECT(\"'\"&$B164&\"'!$q$33\"),\"\")","v":""},{"$f":"IFERROR(INDIRECT(\"'\"&$B164&\"'!$e$33\"),\"\")","v":""},{"$f":"IFERROR(INDIRECT(\"'\"&$B164&\"'!$L$33\"),\"\")","v":""},{"$f":"IFERROR(INDIRECT(\"'\"&$B164&\"'!$g$33\")+INDIRECT(\"'\"&$B164&\"'!$h$33\")+INDIRECT(\"'\"&$B164&\"'!$i$33\"),\"\")","v":""}]
[129,{"$f":"IFERROR(IF(OR(SHEETNAME(A165)=\"HIDE\",SHEETNAME(A165)=\"Start Here\",SHEETNAME(A165)=\"Template\"),\"\",SHEETNAME(A165)),\"\")","v":""},{"$f":"IFERROR(INDIRECT(\"'\"&$B165&\"'!$d$6\"),\"\")","v":""},{"$f":"IFERROR(INDIRECT(\"'\"&$B165&\"'!$d$7\"),\"\")","v":""},{"$f":"IFERROR(INDIRECT(\"'\"&$B165&\"'!$d$8\"),\"\")","v":""},{"$f":"IFERROR(IF(OR(SHEETNAME($A165)=\"HIDE\",SHEETNAME($A165)=\"Start Here\",SHEETNAME($A165)=\"Template\"),\"\",HYPERLINK(\"#'\"&B165&\"'!A1\",\"Go to Sheet\")),\"\")","v":""},{"$f":"IFERROR(IF(INDIRECT(\"'\"&$B165&\"'!$U$7\"),INDIRECT(\"'\"&$B165&\"'!$u$9\"),\"(\"&INDIRECT(\"'\"&$B165&\"'!$U$8\")&\")\"),\"\")","v":""},{"$f":"IF(L165,\"This site has incomplete Cost and Revenue data.  \",\"\")&IF(M165,\"WFRS data for previous quarters is incomplete.  \",\"\")&IF(K165,IFERROR(INDIRECT(\"'\"&$B165&\"'!$g$9\"),\"\"),\"\")","v":""},false,{"$f":"IFERROR(INDIRECT(\"'\"&$B165&\"'!$u$7\"),FALSE)","v":false},{"$f":"IFERROR(INDIRECT(\"'\"&$B165&\"'!$u$10\"),FALSE)","v":false},{"$f":"IFERROR(INDIRECT(\"'\"&$B165&\"'!$AC$12\"),FALSE)","v":false},{"$f":"IFERROR(INDIRECT(\"'\"&$B165&\"'!$ad$12\"),FALSE)","v":false},null,{"$f":"IFERROR(INDIRECT(\"'\"&$B165&\"'!$d$10\"),\"\")","v":""},{"$f":"IFERROR(INDIRECT(\"'\"&$B165&\"'!$d$33\"),\"\")","v":""},{"$f":"IFERROR(INDIRECT(\"'\"&$B165&\"'!$j$33\")+INDIRECT(\"'\"&$B165&\"'!$k$33\"),\"\")","v":""},{"$f":"IFERROR(INDIRECT(\"'\"&$B165&\"'!$q$33\"),\"\")","v":""},{"$f":"IFERROR(INDIRECT(\"'\"&$B165&\"'!$e$33\"),\"\")","v":""},{"$f":"IFERROR(INDIRECT(\"'\"&$B165&\"'!$L$33\"),\"\")","v":""},{"$f":"IFERROR(INDIRECT(\"'\"&$B165&\"'!$g$33\")+INDIRECT(\"'\"&$B165&\"'!$h$33\")+INDIRECT(\"'\"&$B165&\"'!$i$33\"),\"\")","v":""}]
[130,{"$f":"IFERROR(IF(OR(SHEETNAME(A166)=\"HIDE\",SHEETNAME(A166)=\"Start Here\",SHEETNAME(A166)=\"Template\"),\"\",SHEETNAME(A166)),\"\")","v":""},{"$f":"IFERROR(INDIRECT(\"'\"&$B166&\"'!$d$6\"),\"\")","v":""},{"$f":"IFERROR(INDIRECT(\"'\"&$B166&\"'!$d$7\"),\"\")","v":""},{"$f":"IFERROR(INDIRECT(\"'\"&$B166&\"'!$d$8\"),\"\")","v":""},{"$f":"IFERROR(IF(OR(SHEETNAME($A166)=\"HIDE\",SHEETNAME($A166)=\"Start Here\",SHEETNAME($A166)=\"Template\"),\"\",HYPERLINK(\"#'\"&B166&\"'!A1\",\"Go to Sheet\")),\"\")","v":""},{"$f":"IFERROR(IF(INDIRECT(\"'\"&$B166&\"'!$U$7\"),INDIRECT(\"'\"&$B166&\"'!$u$9\"),\"(\"&INDIRECT(\"'\"&$B166&\"'!$U$8\")&\")\"),\"\")","v":""},{"$f":"IF(L166,\"This site has incomplete Cost and Revenue data.  \",\"\")&IF(M166,\"WFRS data for previous quarters is incomplete.  \",\"\")&IF(K166,IFERROR(INDIRECT(\"'\"&$B166&\"'!$g$9\"),\"\"),\"\")","v":""},{"$f":"NOT(E166=\"\")","v":false},{"$f":"IFERROR(INDIRECT(\"'\"&$B166&\"'!$u$7\"),FALSE)","v":false},{"$f":"IFERROR(INDIRECT(\"'\"&$B166&\"'!$u$10\"),FALSE)","v":false},{"$f":"IFERROR(INDIRECT(\"'\"&$B166&\"'!$AC$12\"),FALSE)","v":false},{"$f":"IFERROR(INDIRECT(\"'\"&$B166&\"'!$ad$12\"),FALSE)","v":false},null,{"$f":"IFERROR(INDIRECT(\"'\"&$B166&\"'!$d$10\"),\"\")","v":""},{"$f":"IFERROR(INDIRECT(\"'\"&$B166&\"'!$d$33\"),\"\")","v":""},{"$f":"IFERROR(INDIRECT(\"'\"&$B166&\"'!$j$33\")+INDIRECT(\"'\"&$B166&\"'!$k$33\"),\"\")","v":""},{"$f":"IFERROR(INDIRECT(\"'\"&$B166&\"'!$q$33\"),\"\")","v":""},{"$f":"IFERROR(INDIRECT(\"'\"&$B166&\"'!$e$33\"),\"\")","v":""},{"$f":"IFERROR(INDIRECT(\"'\"&$B166&\"'!$L$33\"),\"\")","v":""},{"$f":"IFERROR(INDIRECT(\"'\"&$B166&\"'!$g$33\")+INDIRECT(\"'\"&$B166&\"'!$h$33\")+INDIRECT(\"'\"&$B166&\"'!$i$33\"),\"\")","v":""}]
[131,{"$f":"IFERROR(IF(OR(SHEETNAME(A167)=\"HIDE\",SHEETNAME(A167)=\"Start Here\",SHEETNAME(A167)=\"Template\"),\"\",SHEETNAME(A167)),\"\")","v":""},{"$f":"IFERROR(INDIRECT(\"'\"&$B167&\"'!$d$6\"),\"\")","v":""},{"$f":"IFERROR(INDIRECT(\"'\"&$B167&\"'!$d$7\"),\"\")","v":""},{"$f":"IFERROR(INDIRECT(\"'\"&$B167&\"'!$d$8\"),\"\")","v":""},{"$f":"IFERROR(IF(OR(SHEETNAME($A167)=\"HIDE\",SHEETNAME($A167)=\"Start Here\",SHEETNAME($A167)=\"Template\"),\"\",HYPERLINK(\"#'\"&B167&\"'!A1\",\"Go to Sheet\")),\"\")","v":""},{"$f":"IFERROR(IF(INDIRECT(\"'\"&$B167&\"'!$U$7\"),INDIRECT(\"'\"&$B167&\"'!$u$9\"),\"(\"&INDIRECT(\"'\"&$B167&\"'!$U$8\")&\")\"),\"\")","v":""},{"$f":"IF(L167,\"This site has incomplete Cost and Revenue data.  \",\"\")&IF(M167,\"WFRS data for previous quarters is incomplete.  \",\"\")&IF(K167,IFERROR(INDIRECT(\"'\"&$B167&\"'!$g$9\"),\"\"),\"\")","v":""},false,{"$f":"IFERROR(INDIRECT(\"'\"&$B167&\"'!$u$7\"),FALSE)","v":false},{"$f":"IFERROR(INDIRECT(\"'\"&$B167&\"'!$u$10\"),FALSE)","v":false},{"$f":"IFERROR(INDIRECT(\"'\"&$B167&\"'!$AC$12\"),FALSE)","v":false},{"$f":"IFERROR(INDIRECT(\"'\"&$B167&\"'!$ad$12\"),FALSE)","v":false},null,{"$f":"IFERROR(INDIRECT(\"'\"&$B167&\"'!$d$10\"),\"\")","v":""},{"$f":"IFERROR(INDIRECT(\"'\"&$B167&\"'!$d$33\"),\"\")","v":""},{"$f":"IFERROR(INDIRECT(\"'\"&$B167&\"'!$j$33\")+INDIRECT(\"'\"&$B167&\"'!$k$33\"),\"\")","v":""},{"$f":"IFERROR(INDIRECT(\"'\"&$B167&\"'!$q$33\"),\"\")","v":""},{"$f":"IFERROR(INDIRECT(\"'\"&$B167&\"'!$e$33\"),\"\")","v":""},{"$f":"IFERROR(INDIRECT(\"'\"&$B167&\"'!$L$33\"),\"\")","v":""},{"$f":"IFERROR(INDIRECT(\"'\"&$B167&\"'!$g$33\")+INDIRECT(\"'\"&$B167&\"'!$h$33\")+INDIRECT(\"'\"&$B167&\"'!$i$33\"),\"\")","v":""}]
[132,{"$f":"IFERROR(IF(OR(SHEETNAME(A168)=\"HIDE\",SHEETNAME(A168)=\"Start Here\",SHEETNAME(A168)=\"Template\"),\"\",SHEETNAME(A168)),\"\")","v":""},{"$f":"IFERROR(INDIRECT(\"'\"&$B168&\"'!$d$6\"),\"\")","v":""},{"$f":"IFERROR(INDIRECT(\"'\"&$B168&\"'!$d$7\"),\"\")","v":""},{"$f":"IFERROR(INDIRECT(\"'\"&$B168&\"'!$d$8\"),\"\")","v":""},{"$f":"IFERROR(IF(OR(SHEETNAME($A168)=\"HIDE\",SHEETNAME($A168)=\"Start Here\",SHEETNAME($A168)=\"Template\"),\"\",HYPERLINK(\"#'\"&B168&\"'!A1\",\"Go to Sheet\")),\"\")","v":""},{"$f":"IFERROR(IF(INDIRECT(\"'\"&$B168&\"'!$U$7\"),INDIRECT(\"'\"&$B168&\"'!$u$9\"),\"(\"&INDIRECT(\"'\"&$B168&\"'!$U$8\")&\")\"),\"\")","v":""},{"$f":"IF(L168,\"This site has incomplete Cost and Revenue data.  \",\"\")&IF(M168,\"WFRS data for previous quarters is incomplete.  \",\"\")&IF(K168,IFERROR(INDIRECT(\"'\"&$B168&\"'!$g$9\"),\"\"),\"\")","v":""},false,{"$f":"IFERROR(INDIRECT(\"'\"&$B168&\"'!$u$7\"),FALSE)","v":false},{"$f":"IFERROR(INDIRECT(\"'\"&$B168&\"'!$u$10\"),FALSE)","v":false},{"$f":"IFERROR(INDIRECT(\"'\"&$B168&\"'!$AC$12\"),FALSE)","v":false},{"$f":"IFERROR(INDIRECT(\"'\"&$B168&\"'!$ad$12\"),FALSE)","v":false},null,{"$f":"IFERROR(INDIRECT(\"'\"&$B168&\"'!$d$10\"),\"\")","v":""},{"$f":"IFERROR(INDIRECT(\"'\"&$B168&\"'!$d$33\"),\"\")","v":""},{"$f":"IFERROR(INDIRECT(\"'\"&$B168&\"'!$j$33\")+INDIRECT(\"'\"&$B168&\"'!$k$33\"),\"\")","v":""},{"$f":"IFERROR(INDIRECT(\"'\"&$B168&\"'!$q$33\"),\"\")","v":""},{"$f":"IFERROR(INDIRECT(\"'\"&$B168&\"'!$e$33\"),\"\")","v":""},{"$f":"IFERROR(INDIRECT(\"'\"&$B168&\"'!$L$33\"),\"\")","v":""},{"$f":"IFERROR(INDIRECT(\"'\"&$B168&\"'!$g$33\")+INDIRECT(\"'\"&$B168&\"'!$h$33\")+INDIRECT(\"'\"&$B168&\"'!$i$33\"),\"\")","v":""}]
[133,{"$f":"IFERROR(IF(OR(SHEETNAME(A169)=\"HIDE\",SHEETNAME(A169)=\"Start Here\",SHEETNAME(A169)=\"Template\"),\"\",SHEETNAME(A169)),\"\")","v":""},{"$f":"IFERROR(INDIRECT(\"'\"&$B169&\"'!$d$6\"),\"\")","v":""},{"$f":"IFERROR(INDIRECT(\"'\"&$B169&\"'!$d$7\"),\"\")","v":""},{"$f":"IFERROR(INDIRECT(\"'\"&$B169&\"'!$d$8\"),\"\")","v":""},{"$f":"IFERROR(IF(OR(SHEETNAME($A169)=\"HIDE\",SHEETNAME($A169)=\"Start Here\",SHEETNAME($A169)=\"Template\"),\"\",HYPERLINK(\"#'\"&B169&\"'!A1\",\"Go to Sheet\")),\"\")","v":""},{"$f":"IFERROR(IF(INDIRECT(\"'\"&$B169&\"'!$U$7\"),INDIRECT(\"'\"&$B169&\"'!$u$9\"),\"(\"&INDIRECT(\"'\"&$B169&\"'!$U$8\")&\")\"),\"\")","v":""},{"$f":"IF(L169,\"This site has incomplete Cost and Revenue data.  \",\"\")&IF(M169,\"WFRS data for previous quarters is incomplete.  \",\"\")&IF(K169,IFERROR(INDIRECT(\"'\"&$B169&\"'!$g$9\"),\"\"),\"\")","v":""},false,{"$f":"IFERROR(INDIRECT(\"'\"&$B169&\"'!$u$7\"),FALSE)","v":false},{"$f":"IFERROR(INDIRECT(\"'\"&$B169&\"'!$u$10\"),FALSE)","v":false},{"$f":"IFERROR(INDIRECT(\"'\"&$B169&\"'!$AC$12\"),FALSE)","v":false},{"$f":"IFERROR(INDIRECT(\"'\"&$B169&\"'!$ad$12\"),FALSE)","v":false},null,{"$f":"IFERROR(INDIRECT(\"'\"&$B169&\"'!$d$10\"),\"\")","v":""},{"$f":"IFERROR(INDIRECT(\"'\"&$B169&\"'!$d$33\"),\"\")","v":""},{"$f":"IFERROR(INDIRECT(\"'\"&$B169&\"'!$j$33\")+INDIRECT(\"'\"&$B169&\"'!$k$33\"),\"\")","v":""},{"$f":"IFERROR(INDIRECT(\"'\"&$B169&\"'!$q$33\"),\"\")","v":""},{"$f":"IFERROR(INDIRECT(\"'\"&$B169&\"'!$e$33\"),\"\")","v":""},{"$f":"IFERROR(INDIRECT(\"'\"&$B169&\"'!$L$33\"),\"\")","v":""},{"$f":"IFERROR(INDIRECT(\"'\"&$B169&\"'!$g$33\")+INDIRECT(\"'\"&$B169&\"'!$h$33\")+INDIRECT(\"'\"&$B169&\"'!$i$33\"),\"\")","v":""}]
[134,{"$f":"IFERROR(IF(OR(SHEETNAME(A170)=\"HIDE\",SHEETNAME(A170)=\"Start Here\",SHEETNAME(A170)=\"Template\"),\"\",SHEETNAME(A170)),\"\")","v":""},{"$f":"IFERROR(INDIRECT(\"'\"&$B170&\"'!$d$6\"),\"\")","v":""},{"$f":"IFERROR(INDIRECT(\"'\"&$B170&\"'!$d$7\"),\"\")","v":""},{"$f":"IFERROR(INDIRECT(\"'\"&$B170&\"'!$d$8\"),\"\")","v":""},{"$f":"IFERROR(IF(OR(SHEETNAME($A170)=\"HIDE\",SHEETNAME($A170)=\"Start Here\",SHEETNAME($A170)=\"Template\"),\"\",HYPERLINK(\"#'\"&B170&\"'!A1\",\"Go to Sheet\")),\"\")","v":""},{"$f":"IFERROR(IF(INDIRECT(\"'\"&$B170&\"'!$U$7\"),INDIRECT(\"'\"&$B170&\"'!$u$9\"),\"(\"&INDIRECT(\"'\"&$B170&\"'!$U$8\")&\")\"),\"\")","v":""},{"$f":"IF(L170,\"This site has incomplete Cost and Revenue data.  \",\"\")&IF(M170,\"WFRS data for previous quarters is incomplete.  \",\"\")&IF(K170,IFERROR(INDIRECT(\"'\"&$B170&\"'!$g$9\"),\"\"),\"\")","v":""},false,{"$f":"IFERROR(INDIRECT(\"'\"&$B170&\"'!$u$7\"),FALSE)","v":false},{"$f":"IFERROR(INDIRECT(\"'\"&$B170&\"'!$u$10\"),FALSE)","v":false},{"$f":"IFERROR(INDIRECT(\"'\"&$B170&\"'!$AC$12\"),FALSE)","v":false},{"$f":"IFERROR(INDIRECT(\"'\"&$B170&\"'!$ad$12\"),FALSE)","v":false},null,{"$f":"IFERROR(INDIRECT(\"'\"&$B170&\"'!$d$10\"),\"\")","v":""},{"$f":"IFERROR(INDIRECT(\"'\"&$B170&\"'!$d$33\"),\"\")","v":""},{"$f":"IFERROR(INDIRECT(\"'\"&$B170&\"'!$j$33\")+INDIRECT(\"'\"&$B170&\"'!$k$33\"),\"\")","v":""},{"$f":"IFERROR(INDIRECT(\"'\"&$B170&\"'!$q$33\"),\"\")","v":""},{"$f":"IFERROR(INDIRECT(\"'\"&$B170&\"'!$e$33\"),\"\")","v":""},{"$f":"IFERROR(INDIRECT(\"'\"&$B170&\"'!$L$33\"),\"\")","v":""},{"$f":"IFERROR(INDIRECT(\"'\"&$B170&\"'!$g$33\")+INDIRECT(\"'\"&$B170&\"'!$h$33\")+INDIRECT(\"'\"&$B170&\"'!$i$33\"),\"\")","v":""}]
[135,{"$f":"IFERROR(IF(OR(SHEETNAME(A171)=\"HIDE\",SHEETNAME(A171)=\"Start Here\",SHEETNAME(A171)=\"Template\"),\"\",SHEETNAME(A171)),\"\")","v":""},{"$f":"IFERROR(INDIRECT(\"'\"&$B171&\"'!$d$6\"),\"\")","v":""},{"$f":"IFERROR(INDIRECT(\"'\"&$B171&\"'!$d$7\"),\"\")","v":""},{"$f":"IFERROR(INDIRECT(\"'\"&$B171&\"'!$d$8\"),\"\")","v":""},{"$f":"IFERROR(IF(OR(SHEETNAME($A171)=\"HIDE\",SHEETNAME($A171)=\"Start Here\",SHEETNAME($A171)=\"Template\"),\"\",HYPERLINK(\"#'\"&B171&\"'!A1\",\"Go to Sheet\")),\"\")","v":""},{"$f":"IFERROR(IF(INDIRECT(\"'\"&$B171&\"'!$U$7\"),INDIRECT(\"'\"&$B171&\"'!$u$9\"),\"(\"&INDIRECT(\"'\"&$B171&\"'!$U$8\")&\")\"),\"\")","v":""},{"$f":"IF(L171,\"This site has incomplete Cost and Revenue data.  \",\"\")&IF(M171,\"WFRS data for previous quarters is incomplete.  \",\"\")&IF(K171,IFERROR(INDIRECT(\"'\"&$B171&\"'!$g$9\"),\"\"),\"\")","v":""},false,{"$f":"IFERROR(INDIRECT(\"'\"&$B171&\"'!$u$7\"),FALSE)","v":false},{"$f":"IFERROR(INDIRECT(\"'\"&$B171&\"'!$u$10\"),FALSE)","v":false},{"$f":"IFERROR(INDIRECT(\"'\"&$B171&\"'!$AC$12\"),FALSE)","v":false},{"$f":"IFERROR(INDIRECT(\"'\"&$B171&\"'!$ad$12\"),FALSE)","v":false},null,{"$f":"IFERROR(INDIRECT(\"'\"&$B171&\"'!$d$10\"),\"\")","v":""},{"$f":"IFERROR(INDIRECT(\"'\"&$B171&\"'!$d$33\"),\"\")","v":""},{"$f":"IFERROR(INDIRECT(\"'\"&$B171&\"'!$j$33\")+INDIRECT(\"'\"&$B171&\"'!$k$33\"),\"\")","v":""},{"$f":"IFERROR(INDIRECT(\"'\"&$B171&\"'!$q$33\"),\"\")","v":""},{"$f":"IFERROR(INDIRECT(\"'\"&$B171&\"'!$e$33\"),\"\")","v":""},{"$f":"IFERROR(INDIRECT(\"'\"&$B171&\"'!$L$33\"),\"\")","v":""},{"$f":"IFERROR(INDIRECT(\"'\"&$B171&\"'!$g$33\")+INDIRECT(\"'\"&$B171&\"'!$h$33\")+INDIRECT(\"'\"&$B171&\"'!$i$33\"),\"\")","v":""}]
[136,{"$f":"IFERROR(IF(OR(SHEETNAME(A172)=\"HIDE\",SHEETNAME(A172)=\"Start Here\",SHEETNAME(A172)=\"Template\"),\"\",SHEETNAME(A172)),\"\")","v":""},{"$f":"IFERROR(INDIRECT(\"'\"&$B172&\"'!$d$6\"),\"\")","v":""},{"$f":"IFERROR(INDIRECT(\"'\"&$B172&\"'!$d$7\"),\"\")","v":""},{"$f":"IFERROR(INDIRECT(\"'\"&$B172&\"'!$d$8\"),\"\")","v":""},{"$f":"IFERROR(IF(OR(SHEETNAME($A172)=\"HIDE\",SHEETNAME($A172)=\"Start Here\",SHEETNAME($A172)=\"Template\"),\"\",HYPERLINK(\"#'\"&B172&\"'!A1\",\"Go to Sheet\")),\"\")","v":""},{"$f":"IFERROR(IF(INDIRECT(\"'\"&$B172&\"'!$U$7\"),INDIRECT(\"'\"&$B172&\"'!$u$9\"),\"(\"&INDIRECT(\"'\"&$B172&\"'!$U$8\")&\")\"),\"\")","v":""},{"$f":"IF(L172,\"This site has incomplete Cost and Revenue data.  \",\"\")&IF(M172,\"WFRS data for previous quarters is incomplete.  \",\"\")&IF(K172,IFERROR(INDIRECT(\"'\"&$B172&\"'!$g$9\"),\"\"),\"\")","v":""},false,{"$f":"IFERROR(INDIRECT(\"'\"&$B172&\"'!$u$7\"),FALSE)","v":false},{"$f":"IFERROR(INDIRECT(\"'\"&$B172&\"'!$u$10\"),FALSE)","v":false},{"$f":"IFERROR(INDIRECT(\"'\"&$B172&\"'!$AC$12\"),FALSE)","v":false},{"$f":"IFERROR(INDIRECT(\"'\"&$B172&\"'!$ad$12\"),FALSE)","v":false},null,{"$f":"IFERROR(INDIRECT(\"'\"&$B172&\"'!$d$10\"),\"\")","v":""},{"$f":"IFERROR(INDIRECT(\"'\"&$B172&\"'!$d$33\"),\"\")","v":""},{"$f":"IFERROR(INDIRECT(\"'\"&$B172&\"'!$j$33\")+INDIRECT(\"'\"&$B172&\"'!$k$33\"),\"\")","v":""},{"$f":"IFERROR(INDIRECT(\"'\"&$B172&\"'!$q$33\"),\"\")","v":""},{"$f":"IFERROR(INDIRECT(\"'\"&$B172&\"'!$e$33\"),\"\")","v":""},{"$f":"IFERROR(INDIRECT(\"'\"&$B172&\"'!$L$33\"),\"\")","v":""},{"$f":"IFERROR(INDIRECT(\"'\"&$B172&\"'!$g$33\")+INDIRECT(\"'\"&$B172&\"'!$h$33\")+INDIRECT(\"'\"&$B172&\"'!$i$33\"),\"\")","v":""}]
[137,{"$f":"IFERROR(IF(OR(SHEETNAME(A173)=\"HIDE\",SHEETNAME(A173)=\"Start Here\",SHEETNAME(A173)=\"Template\"),\"\",SHEETNAME(A173)),\"\")","v":""},{"$f":"IFERROR(INDIRECT(\"'\"&$B173&\"'!$d$6\"),\"\")","v":""},{"$f":"IFERROR(INDIRECT(\"'\"&$B173&\"'!$d$7\"),\"\")","v":""},{"$f":"IFERROR(INDIRECT(\"'\"&$B173&\"'!$d$8\"),\"\")","v":""},{"$f":"IFERROR(IF(OR(SHEETNAME($A173)=\"HIDE\",SHEETNAME($A173)=\"Start Here\",SHEETNAME($A173)=\"Template\"),\"\",HYPERLINK(\"#'\"&B173&\"'!A1\",\"Go to Sheet\")),\"\")","v":""},{"$f":"IFERROR(IF(INDIRECT(\"'\"&$B173&\"'!$U$7\"),INDIRECT(\"'\"&$B173&\"'!$u$9\"),\"(\"&INDIRECT(\"'\"&$B173&\"'!$U$8\")&\")\"),\"\")","v":""},{"$f":"IF(L173,\"This site has incomplete Cost and Revenue data.  \",\"\")&IF(M173,\"WFRS data for previous quarters is incomplete.  \",\"\")&IF(K173,IFERROR(INDIRECT(\"'\"&$B173&\"'!$g$9\"),\"\"),\"\")","v":""},false,{"$f":"IFERROR(INDIRECT(\"'\"&$B173&\"'!$u$7\"),FALSE)","v":false},{"$f":"IFERROR(INDIRECT(\"'\"&$B173&\"'!$u$10\"),FALSE)","v":false},{"$f":"IFERROR(INDIRECT(\"'\"&$B173&\"'!$AC$12\"),FALSE)","v":false},{"$f":"IFERROR(INDIRECT(\"'\"&$B173&\"'!$ad$12\"),FALSE)","v":false},null,{"$f":"IFERROR(INDIRECT(\"'\"&$B173&\"'!$d$10\"),\"\")","v":""},{"$f":"IFERROR(INDIRECT(\"'\"&$B173&\"'!$d$33\"),\"\")","v":""},{"$f":"IFERROR(INDIRECT(\"'\"&$B173&\"'!$j$33\")+INDIRECT(\"'\"&$B173&\"'!$k$33\"),\"\")","v":""},{"$f":"IFERROR(INDIRECT(\"'\"&$B173&\"'!$q$33\"),\"\")","v":""},{"$f":"IFERROR(INDIRECT(\"'\"&$B173&\"'!$e$33\"),\"\")","v":""},{"$f":"IFERROR(INDIRECT(\"'\"&$B173&\"'!$L$33\"),\"\")","v":""},{"$f":"IFERROR(INDIRECT(\"'\"&$B173&\"'!$g$33\")+INDIRECT(\"'\"&$B173&\"'!$h$33\")+INDIRECT(\"'\"&$B173&\"'!$i$33\"),\"\")","v":""}]
[138,{"$f":"IFERROR(IF(OR(SHEETNAME(A174)=\"HIDE\",SHEETNAME(A174)=\"Start Here\",SHEETNAME(A174)=\"Template\"),\"\",SHEETNAME(A174)),\"\")","v":""},{"$f":"IFERROR(INDIRECT(\"'\"&$B174&\"'!$d$6\"),\"\")","v":""},{"$f":"IFERROR(INDIRECT(\"'\"&$B174&\"'!$d$7\"),\"\")","v":""},{"$f":"IFERROR(INDIRECT(\"'\"&$B174&\"'!$d$8\"),\"\")","v":""},{"$f":"IFERROR(IF(OR(SHEETNAME($A174)=\"HIDE\",SHEETNAME($A174)=\"Start Here\",SHEETNAME($A174)=\"Template\"),\"\",HYPERLINK(\"#'\"&B174&\"'!A1\",\"Go to Sheet\")),\"\")","v":""},{"$f":"IFERROR(IF(INDIRECT(\"'\"&$B174&\"'!$U$7\"),INDIRECT(\"'\"&$B174&\"'!$u$9\"),\"(\"&INDIRECT(\"'\"&$B174&\"'!$U$8\")&\")\"),\"\")","v":""},{"$f":"IF(L174,\"This site has incomplete Cost and Revenue data.  \",\"\")&IF(M174,\"WFRS data for previous quarters is incomplete.  \",\"\")&IF(K174,IFERROR(INDIRECT(\"'\"&$B174&\"'!$g$9\"),\"\"),\"\")","v":""},false,{"$f":"IFERROR(INDIRECT(\"'\"&$B174&\"'!$u$7\"),FALSE)","v":false},{"$f":"IFERROR(INDIRECT(\"'\"&$B174&\"'!$u$10\"),FALSE)","v":false},{"$f":"IFERROR(INDIRECT(\"'\"&$B174&\"'!$AC$12\"),FALSE)","v":false},{"$f":"IFERROR(INDIRECT(\"'\"&$B174&\"'!$ad$12\"),FALSE)","v":false},null,{"$f":"IFERROR(INDIRECT(\"'\"&$B174&\"'!$d$10\"),\"\")","v":""},{"$f":"IFERROR(INDIRECT(\"'\"&$B174&\"'!$d$33\"),\"\")","v":""},{"$f":"IFERROR(INDIRECT(\"'\"&$B174&\"'!$j$33\")+INDIRECT(\"'\"&$B174&\"'!$k$33\"),\"\")","v":""},{"$f":"IFERROR(INDIRECT(\"'\"&$B174&\"'!$q$33\"),\"\")","v":""},{"$f":"IFERROR(INDIRECT(\"'\"&$B174&\"'!$e$33\"),\"\")","v":""},{"$f":"IFERROR(INDIRECT(\"'\"&$B174&\"'!$L$33\"),\"\")","v":""},{"$f":"IFERROR(INDIRECT(\"'\"&$B174&\"'!$g$33\")+INDIRECT(\"'\"&$B174&\"'!$h$33\")+INDIRECT(\"'\"&$B174&\"'!$i$33\"),\"\")","v":""}]
[139,{"$f":"IFERROR(IF(OR(SHEETNAME(A175)=\"HIDE\",SHEETNAME(A175)=\"Start Here\",SHEETNAME(A175)=\"Template\"),\"\",SHEETNAME(A175)),\"\")","v":""},{"$f":"IFERROR(INDIRECT(\"'\"&$B175&\"'!$d$6\"),\"\")","v":""},{"$f":"IFERROR(INDIRECT(\"'\"&$B175&\"'!$d$7\"),\"\")","v":""},{"$f":"IFERROR(INDIRECT(\"'\"&$B175&\"'!$d$8\"),\"\")","v":""},{"$f":"IFERROR(IF(OR(SHEETNAME($A175)=\"HIDE\",SHEETNAME($A175)=\"Start Here\",SHEETNAME($A175)=\"Template\"),\"\",HYPERLINK(\"#'\"&B175&\"'!A1\",\"Go to Sheet\")),\"\")","v":""},{"$f":"IFERROR(IF(INDIRECT(\"'\"&$B175&\"'!$U$7\"),INDIRECT(\"'\"&$B175&\"'!$u$9\"),\"(\"&INDIRECT(\"'\"&$B175&\"'!$U$8\")&\")\"),\"\")","v":""},{"$f":"IF(L175,\"This site has incomplete Cost and Revenue data.  \",\"\")&IF(M175,\"WFRS data for previous quarters is incomplete.  \",\"\")&IF(K175,IFERROR(INDIRECT(\"'\"&$B175&\"'!$g$9\"),\"\"),\"\")","v":""},false,{"$f":"IFERROR(INDIRECT(\"'\"&$B175&\"'!$u$7\"),FALSE)","v":false},{"$f":"IFERROR(INDIRECT(\"'\"&$B175&\"'!$u$10\"),FALSE)","v":false},{"$f":"IFERROR(INDIRECT(\"'\"&$B175&\"'!$AC$12\"),FALSE)","v":false},{"$f":"IFERROR(INDIRECT(\"'\"&$B175&\"'!$ad$12\"),FALSE)","v":false},null,{"$f":"IFERROR(INDIRECT(\"'\"&$B175&\"'!$d$10\"),\"\")","v":""},{"$f":"IFERROR(INDIRECT(\"'\"&$B175&\"'!$d$33\"),\"\")","v":""},{"$f":"IFERROR(INDIRECT(\"'\"&$B175&\"'!$j$33\")+INDIRECT(\"'\"&$B175&\"'!$k$33\"),\"\")","v":""},{"$f":"IFERROR(INDIRECT(\"'\"&$B175&\"'!$q$33\"),\"\")","v":""},{"$f":"IFERROR(INDIRECT(\"'\"&$B175&\"'!$e$33\"),\"\")","v":""},{"$f":"IFERROR(INDIRECT(\"'\"&$B175&\"'!$L$33\"),\"\")","v":""},{"$f":"IFERROR(INDIRECT(\"'\"&$B175&\"'!$g$33\")+INDIRECT(\"'\"&$B175&\"'!$h$33\")+INDIRECT(\"'\"&$B175&\"'!$i$33\"),\"\")","v":""}]
[140,{"$f":"IFERROR(IF(OR(SHEETNAME(A176)=\"HIDE\",SHEETNAME(A176)=\"Start Here\",SHEETNAME(A176)=\"Template\"),\"\",SHEETNAME(A176)),\"\")","v":""},{"$f":"IFERROR(INDIRECT(\"'\"&$B176&\"'!$d$6\"),\"\")","v":""},{"$f":"IFERROR(INDIRECT(\"'\"&$B176&\"'!$d$7\"),\"\")","v":""},{"$f":"IFERROR(INDIRECT(\"'\"&$B176&\"'!$d$8\"),\"\")","v":""},{"$f":"IFERROR(IF(OR(SHEETNAME($A176)=\"HIDE\",SHEETNAME($A176)=\"Start Here\",SHEETNAME($A176)=\"Template\"),\"\",HYPERLINK(\"#'\"&B176&\"'!A1\",\"Go to Sheet\")),\"\")","v":""},{"$f":"IFERROR(IF(INDIRECT(\"'\"&$B176&\"'!$U$7\"),INDIRECT(\"'\"&$B176&\"'!$u$9\"),\"(\"&INDIRECT(\"'\"&$B176&\"'!$U$8\")&\")\"),\"\")","v":""},{"$f":"IF(L176,\"This site has incomplete Cost and Revenue data.  \",\"\")&IF(M176,\"WFRS data for previous quarters is incomplete.  \",\"\")&IF(K176,IFERROR(INDIRECT(\"'\"&$B176&\"'!$g$9\"),\"\"),\"\")","v":""},false,{"$f":"IFERROR(INDIRECT(\"'\"&$B176&\"'!$u$7\"),FALSE)","v":false},{"$f":"IFERROR(INDIRECT(\"'\"&$B176&\"'!$u$10\"),FALSE)","v":false},{"$f":"IFERROR(INDIRECT(\"'\"&$B176&\"'!$AC$12\"),FALSE)","v":false},{"$f":"IFERROR(INDIRECT(\"'\"&$B176&\"'!$ad$12\"),FALSE)","v":false},null,{"$f":"IFERROR(INDIRECT(\"'\"&$B176&\"'!$d$10\"),\"\")","v":""},{"$f":"IFERROR(INDIRECT(\"'\"&$B176&\"'!$d$33\"),\"\")","v":""},{"$f":"IFERROR(INDIRECT(\"'\"&$B176&\"'!$j$33\")+INDIRECT(\"'\"&$B176&\"'!$k$33\"),\"\")","v":""},{"$f":"IFERROR(INDIRECT(\"'\"&$B176&\"'!$q$33\"),\"\")","v":""},{"$f":"IFERROR(INDIRECT(\"'\"&$B176&\"'!$e$33\"),\"\")","v":""},{"$f":"IFERROR(INDIRECT(\"'\"&$B176&\"'!$L$33\"),\"\")","v":""},{"$f":"IFERROR(INDIRECT(\"'\"&$B176&\"'!$g$33\")+INDIRECT(\"'\"&$B176&\"'!$h$33\")+INDIRECT(\"'\"&$B176&\"'!$i$33\"),\"\")","v":""}]
[141,{"$f":"IFERROR(IF(OR(SHEETNAME(A177)=\"HIDE\",SHEETNAME(A177)=\"Start Here\",SHEETNAME(A177)=\"Template\"),\"\",SHEETNAME(A177)),\"\")","v":""},{"$f":"IFERROR(INDIRECT(\"'\"&$B177&\"'!$d$6\"),\"\")","v":""},{"$f":"IFERROR(INDIRECT(\"'\"&$B177&\"'!$d$7\"),\"\")","v":""},{"$f":"IFERROR(INDIRECT(\"'\"&$B177&\"'!$d$8\"),\"\")","v":""},{"$f":"IFERROR(IF(OR(SHEETNAME($A177)=\"HIDE\",SHEETNAME($A177)=\"Start Here\",SHEETNAME($A177)=\"Template\"),\"\",HYPERLINK(\"#'\"&B177&\"'!A1\",\"Go to Sheet\")),\"\")","v":""},{"$f":"IFERROR(IF(INDIRECT(\"'\"&$B177&\"'!$U$7\"),INDIRECT(\"'\"&$B177&\"'!$u$9\"),\"(\"&INDIRECT(\"'\"&$B177&\"'!$U$8\")&\")\"),\"\")","v":""},{"$f":"IF(L177,\"This site has incomplete Cost and Revenue data.  \",\"\")&IF(M177,\"WFRS data for previous quarters is incomplete.  \",\"\")&IF(K177,IFERROR(INDIRECT(\"'\"&$B177&\"'!$g$9\"),\"\"),\"\")","v":""},false,{"$f":"IFERROR(INDIRECT(\"'\"&$B177&\"'!$u$7\"),FALSE)","v":false},{"$f":"IFERROR(INDIRECT(\"'\"&$B177&\"'!$u$10\"),FALSE)","v":false},{"$f":"IFERROR(INDIRECT(\"'\"&$B177&\"'!$AC$12\"),FALSE)","v":false},{"$f":"IFERROR(INDIRECT(\"'\"&$B177&\"'!$ad$12\"),FALSE)","v":false},null,{"$f":"IFERROR(INDIRECT(\"'\"&$B177&\"'!$d$10\"),\"\")","v":""},{"$f":"IFERROR(INDIRECT(\"'\"&$B177&\"'!$d$33\"),\"\")","v":""},{"$f":"IFERROR(INDIRECT(\"'\"&$B177&\"'!$j$33\")+INDIRECT(\"'\"&$B177&\"'!$k$33\"),\"\")","v":""},{"$f":"IFERROR(INDIRECT(\"'\"&$B177&\"'!$q$33\"),\"\")","v":""},{"$f":"IFERROR(INDIRECT(\"'\"&$B177&\"'!$e$33\"),\"\")","v":""},{"$f":"IFERROR(INDIRECT(\"'\"&$B177&\"'!$L$33\"),\"\")","v":""},{"$f":"IFERROR(INDIRECT(\"'\"&$B177&\"'!$g$33\")+INDIRECT(\"'\"&$B177&\"'!$h$33\")+INDIRECT(\"'\"&$B177&\"'!$i$33\"),\"\")","v":""}]
[142,{"$f":"IFERROR(IF(OR(SHEETNAME(A178)=\"HIDE\",SHEETNAME(A178)=\"Start Here\",SHEETNAME(A178)=\"Template\"),\"\",SHEETNAME(A178)),\"\")","v":""},{"$f":"IFERROR(INDIRECT(\"'\"&$B178&\"'!$d$6\"),\"\")","v":""},{"$f":"IFERROR(INDIRECT(\"'\"&$B178&\"'!$d$7\"),\"\")","v":""},{"$f":"IFERROR(INDIRECT(\"'\"&$B178&\"'!$d$8\"),\"\")","v":""},{"$f":"IFERROR(IF(OR(SHEETNAME($A178)=\"HIDE\",SHEETNAME($A178)=\"Start Here\",SHEETNAME($A178)=\"Template\"),\"\",HYPERLINK(\"#'\"&B178&\"'!A1\",\"Go to Sheet\")),\"\")","v":""},{"$f":"IFERROR(IF(INDIRECT(\"'\"&$B178&\"'!$U$7\"),INDIRECT(\"'\"&$B178&\"'!$u$9\"),\"(\"&INDIRECT(\"'\"&$B178&\"'!$U$8\")&\")\"),\"\")","v":""},{"$f":"IF(L178,\"This site has incomplete Cost and Revenue data.  \",\"\")&IF(M178,\"WFRS data for previous quarters is incomplete.  \",\"\")&IF(K178,IFERROR(INDIRECT(\"'\"&$B178&\"'!$g$9\"),\"\"),\"\")","v":""},false,{"$f":"IFERROR(INDIRECT(\"'\"&$B178&\"'!$u$7\"),FALSE)","v":false},{"$f":"IFERROR(INDIRECT(\"'\"&$B178&\"'!$u$10\"),FALSE)","v":false},{"$f":"IFERROR(INDIRECT(\"'\"&$B178&\"'!$AC$12\"),FALSE)","v":false},{"$f":"IFERROR(INDIRECT(\"'\"&$B178&\"'!$ad$12\"),FALSE)","v":false},null,{"$f":"IFERROR(INDIRECT(\"'\"&$B178&\"'!$d$10\"),\"\")","v":""},{"$f":"IFERROR(INDIRECT(\"'\"&$B178&\"'!$d$33\"),\"\")","v":""},{"$f":"IFERROR(INDIRECT(\"'\"&$B178&\"'!$j$33\")+INDIRECT(\"'\"&$B178&\"'!$k$33\"),\"\")","v":""},{"$f":"IFERROR(INDIRECT(\"'\"&$B178&\"'!$q$33\"),\"\")","v":""},{"$f":"IFERROR(INDIRECT(\"'\"&$B178&\"'!$e$33\"),\"\")","v":""},{"$f":"IFERROR(INDIRECT(\"'\"&$B178&\"'!$L$33\"),\"\")","v":""},{"$f":"IFERROR(INDIRECT(\"'\"&$B178&\"'!$g$33\")+INDIRECT(\"'\"&$B178&\"'!$h$33\")+INDIRECT(\"'\"&$B178&\"'!$i$33\"),\"\")","v":""}]
[143,{"$f":"IFERROR(IF(OR(SHEETNAME(A179)=\"HIDE\",SHEETNAME(A179)=\"Start Here\",SHEETNAME(A179)=\"Template\"),\"\",SHEETNAME(A179)),\"\")","v":""},{"$f":"IFERROR(INDIRECT(\"'\"&$B179&\"'!$d$6\"),\"\")","v":""},{"$f":"IFERROR(INDIRECT(\"'\"&$B179&\"'!$d$7\"),\"\")","v":""},{"$f":"IFERROR(INDIRECT(\"'\"&$B179&\"'!$d$8\"),\"\")","v":""},{"$f":"IFERROR(IF(OR(SHEETNAME($A179)=\"HIDE\",SHEETNAME($A179)=\"Start Here\",SHEETNAME($A179)=\"Template\"),\"\",HYPERLINK(\"#'\"&B179&\"'!A1\",\"Go to Sheet\")),\"\")","v":""},{"$f":"IFERROR(IF(INDIRECT(\"'\"&$B179&\"'!$U$7\"),INDIRECT(\"'\"&$B179&\"'!$u$9\"),\"(\"&INDIRECT(\"'\"&$B179&\"'!$U$8\")&\")\"),\"\")","v":""},{"$f":"IF(L179,\"This site has incomplete Cost and Revenue data.  \",\"\")&IF(M179,\"WFRS data for previous quarters is incomplete.  \",\"\")&IF(K179,IFERROR(INDIRECT(\"'\"&$B179&\"'!$g$9\"),\"\"),\"\")","v":""},false,{"$f":"IFERROR(INDIRECT(\"'\"&$B179&\"'!$u$7\"),FALSE)","v":false},{"$f":"IFERROR(INDIRECT(\"'\"&$B179&\"'!$u$10\"),FALSE)","v":false},{"$f":"IFERROR(INDIRECT(\"'\"&$B179&\"'!$AC$12\"),FALSE)","v":false},{"$f":"IFERROR(INDIRECT(\"'\"&$B179&\"'!$ad$12\"),FALSE)","v":false},null,{"$f":"IFERROR(INDIRECT(\"'\"&$B179&\"'!$d$10\"),\"\")","v":""},{"$f":"IFERROR(INDIRECT(\"'\"&$B179&\"'!$d$33\"),\"\")","v":""},{"$f":"IFERROR(INDIRECT(\"'\"&$B179&\"'!$j$33\")+INDIRECT(\"'\"&$B179&\"'!$k$33\"),\"\")","v":""},{"$f":"IFERROR(INDIRECT(\"'\"&$B179&\"'!$q$33\"),\"\")","v":""},{"$f":"IFERROR(INDIRECT(\"'\"&$B179&\"'!$e$33\"),\"\")","v":""},{"$f":"IFERROR(INDIRECT(\"'\"&$B179&\"'!$L$33\"),\"\")","v":""},{"$f":"IFERROR(INDIRECT(\"'\"&$B179&\"'!$g$33\")+INDIRECT(\"'\"&$B179&\"'!$h$33\")+INDIRECT(\"'\"&$B179&\"'!$i$33\"),\"\")","v":""}]
[144,{"$f":"IFERROR(IF(OR(SHEETNAME(A180)=\"HIDE\",SHEETNAME(A180)=\"Start Here\",SHEETNAME(A180)=\"Template\"),\"\",SHEETNAME(A180)),\"\")","v":""},{"$f":"IFERROR(INDIRECT(\"'\"&$B180&\"'!$d$6\"),\"\")","v":""},{"$f":"IFERROR(INDIRECT(\"'\"&$B180&\"'!$d$7\"),\"\")","v":""},{"$f":"IFERROR(INDIRECT(\"'\"&$B180&\"'!$d$8\"),\"\")","v":""},{"$f":"IFERROR(IF(OR(SHEETNAME($A180)=\"HIDE\",SHEETNAME($A180)=\"Start Here\",SHEETNAME($A180)=\"Template\"),\"\",HYPERLINK(\"#'\"&B180&\"'!A1\",\"Go to Sheet\")),\"\")","v":""},{"$f":"IFERROR(IF(INDIRECT(\"'\"&$B180&\"'!$U$7\"),INDIRECT(\"'\"&$B180&\"'!$u$9\"),\"(\"&INDIRECT(\"'\"&$B180&\"'!$U$8\")&\")\"),\"\")","v":""},{"$f":"IF(L180,\"This site has incomplete Cost and Revenue data.  \",\"\")&IF(M180,\"WFRS data for previous quarters is incomplete.  \",\"\")&IF(K180,IFERROR(INDIRECT(\"'\"&$B180&\"'!$g$9\"),\"\"),\"\")","v":""},false,{"$f":"IFERROR(INDIRECT(\"'\"&$B180&\"'!$u$7\"),FALSE)","v":false},{"$f":"IFERROR(INDIRECT(\"'\"&$B180&\"'!$u$10\"),FALSE)","v":false},{"$f":"IFERROR(INDIRECT(\"'\"&$B180&\"'!$AC$12\"),FALSE)","v":false},{"$f":"IFERROR(INDIRECT(\"'\"&$B180&\"'!$ad$12\"),FALSE)","v":false},null,{"$f":"IFERROR(INDIRECT(\"'\"&$B180&\"'!$d$10\"),\"\")","v":""},{"$f":"IFERROR(INDIRECT(\"'\"&$B180&\"'!$d$33\"),\"\")","v":""},{"$f":"IFERROR(INDIRECT(\"'\"&$B180&\"'!$j$33\")+INDIRECT(\"'\"&$B180&\"'!$k$33\"),\"\")","v":""},{"$f":"IFERROR(INDIRECT(\"'\"&$B180&\"'!$q$33\"),\"\")","v":""},{"$f":"IFERROR(INDIRECT(\"'\"&$B180&\"'!$e$33\"),\"\")","v":""},{"$f":"IFERROR(INDIRECT(\"'\"&$B180&\"'!$L$33\"),\"\")","v":""},{"$f":"IFERROR(INDIRECT(\"'\"&$B180&\"'!$g$33\")+INDIRECT(\"'\"&$B180&\"'!$h$33\")+INDIRECT(\"'\"&$B180&\"'!$i$33\"),\"\")","v":""}]
[145,{"$f":"IFERROR(IF(OR(SHEETNAME(A181)=\"HIDE\",SHEETNAME(A181)=\"Start Here\",SHEETNAME(A181)=\"Template\"),\"\",SHEETNAME(A181)),\"\")","v":""},{"$f":"IFERROR(INDIRECT(\"'\"&$B181&\"'!$d$6\"),\"\")","v":""},{"$f":"IFERROR(INDIRECT(\"'\"&$B181&\"'!$d$7\"),\"\")","v":""},{"$f":"IFERROR(INDIRECT(\"'\"&$B181&\"'!$d$8\"),\"\")","v":""},{"$f":"IFERROR(IF(OR(SHEETNAME($A181)=\"HIDE\",SHEETNAME($A181)=\"Start Here\",SHEETNAME($A181)=\"Template\"),\"\",HYPERLINK(\"#'\"&B181&\"'!A1\",\"Go to Sheet\")),\"\")","v":""},{"$f":"IFERROR(IF(INDIRECT(\"'\"&$B181&\"'!$U$7\"),INDIRECT(\"'\"&$B181&\"'!$u$9\"),\"(\"&INDIRECT(\"'\"&$B181&\"'!$U$8\")&\")\"),\"\")","v":""},{"$f":"IF(L181,\"This site has incomplete Cost and Revenue data.  \",\"\")&IF(M181,\"WFRS data for previous quarters is incomplete.  \",\"\")&IF(K181,IFERROR(INDIRECT(\"'\"&$B181&\"'!$g$9\"),\"\"),\"\")","v":""},false,{"$f":"IFERROR(INDIRECT(\"'\"&$B181&\"'!$u$7\"),FALSE)","v":false},{"$f":"IFERROR(INDIRECT(\"'\"&$B181&\"'!$u$10\"),FALSE)","v":false},{"$f":"IFERROR(INDIRECT(\"'\"&$B181&\"'!$AC$12\"),FALSE)","v":false},{"$f":"IFERROR(INDIRECT(\"'\"&$B181&\"'!$ad$12\"),FALSE)","v":false},null,{"$f":"IFERROR(INDIRECT(\"'\"&$B181&\"'!$d$10\"),\"\")","v":""},{"$f":"IFERROR(INDIRECT(\"'\"&$B181&\"'!$d$33\"),\"\")","v":""},{"$f":"IFERROR(INDIRECT(\"'\"&$B181&\"'!$j$33\")+INDIRECT(\"'\"&$B181&\"'!$k$33\"),\"\")","v":""},{"$f":"IFERROR(INDIRECT(\"'\"&$B181&\"'!$q$33\"),\"\")","v":""},{"$f":"IFERROR(INDIRECT(\"'\"&$B181&\"'!$e$33\"),\"\")","v":""},{"$f":"IFERROR(INDIRECT(\"'\"&$B181&\"'!$L$33\"),\"\")","v":""},{"$f":"IFERROR(INDIRECT(\"'\"&$B181&\"'!$g$33\")+INDIRECT(\"'\"&$B181&\"'!$h$33\")+INDIRECT(\"'\"&$B181&\"'!$i$33\"),\"\")","v":""}]
[146,{"$f":"IFERROR(IF(OR(SHEETNAME(A182)=\"HIDE\",SHEETNAME(A182)=\"Start Here\",SHEETNAME(A182)=\"Template\"),\"\",SHEETNAME(A182)),\"\")","v":""},{"$f":"IFERROR(INDIRECT(\"'\"&$B182&\"'!$d$6\"),\"\")","v":""},{"$f":"IFERROR(INDIRECT(\"'\"&$B182&\"'!$d$7\"),\"\")","v":""},{"$f":"IFERROR(INDIRECT(\"'\"&$B182&\"'!$d$8\"),\"\")","v":""},{"$f":"IFERROR(IF(OR(SHEETNAME($A182)=\"HIDE\",SHEETNAME($A182)=\"Start Here\",SHEETNAME($A182)=\"Template\"),\"\",HYPERLINK(\"#'\"&B182&\"'!A1\",\"Go to Sheet\")),\"\")","v":""},{"$f":"IFERROR(IF(INDIRECT(\"'\"&$B182&\"'!$U$7\"),INDIRECT(\"'\"&$B182&\"'!$u$9\"),\"(\"&INDIRECT(\"'\"&$B182&\"'!$U$8\")&\")\"),\"\")","v":""},{"$f":"IF(L182,\"This site has incomplete Cost and Revenue data.  \",\"\")&IF(M182,\"WFRS data for previous quarters is incomplete.  \",\"\")&IF(K182,IFERROR(INDIRECT(\"'\"&$B182&\"'!$g$9\"),\"\"),\"\")","v":""},false,{"$f":"IFERROR(INDIRECT(\"'\"&$B182&\"'!$u$7\"),FALSE)","v":false},{"$f":"IFERROR(INDIRECT(\"'\"&$B182&\"'!$u$10\"),FALSE)","v":false},{"$f":"IFERROR(INDIRECT(\"'\"&$B182&\"'!$AC$12\"),FALSE)","v":false},{"$f":"IFERROR(INDIRECT(\"'\"&$B182&\"'!$ad$12\"),FALSE)","v":false},null,{"$f":"IFERROR(INDIRECT(\"'\"&$B182&\"'!$d$10\"),\"\")","v":""},{"$f":"IFERROR(INDIRECT(\"'\"&$B182&\"'!$d$33\"),\"\")","v":""},{"$f":"IFERROR(INDIRECT(\"'\"&$B182&\"'!$j$33\")+INDIRECT(\"'\"&$B182&\"'!$k$33\"),\"\")","v":""},{"$f":"IFERROR(INDIRECT(\"'\"&$B182&\"'!$q$33\"),\"\")","v":""},{"$f":"IFERROR(INDIRECT(\"'\"&$B182&\"'!$e$33\"),\"\")","v":""},{"$f":"IFERROR(INDIRECT(\"'\"&$B182&\"'!$L$33\"),\"\")","v":""},{"$f":"IFERROR(INDIRECT(\"'\"&$B182&\"'!$g$33\")+INDIRECT(\"'\"&$B182&\"'!$h$33\")+INDIRECT(\"'\"&$B182&\"'!$i$33\"),\"\")","v":""}]
[147,{"$f":"IFERROR(IF(OR(SHEETNAME(A183)=\"HIDE\",SHEETNAME(A183)=\"Start Here\",SHEETNAME(A183)=\"Template\"),\"\",SHEETNAME(A183)),\"\")","v":""},{"$f":"IFERROR(INDIRECT(\"'\"&$B183&\"'!$d$6\"),\"\")","v":""},{"$f":"IFERROR(INDIRECT(\"'\"&$B183&\"'!$d$7\"),\"\")","v":""},{"$f":"IFERROR(INDIRECT(\"'\"&$B183&\"'!$d$8\"),\"\")","v":""},{"$f":"IFERROR(IF(OR(SHEETNAME($A183)=\"HIDE\",SHEETNAME($A183)=\"Start Here\",SHEETNAME($A183)=\"Template\"),\"\",HYPERLINK(\"#'\"&B183&\"'!A1\",\"Go to Sheet\")),\"\")","v":""},{"$f":"IFERROR(IF(INDIRECT(\"'\"&$B183&\"'!$U$7\"),INDIRECT(\"'\"&$B183&\"'!$u$9\"),\"(\"&INDIRECT(\"'\"&$B183&\"'!$U$8\")&\")\"),\"\")","v":""},{"$f":"IF(L183,\"This site has incomplete Cost and Revenue data.  \",\"\")&IF(M183,\"WFRS data for previous quarters is incomplete.  \",\"\")&IF(K183,IFERROR(INDIRECT(\"'\"&$B183&\"'!$g$9\"),\"\"),\"\")","v":""},false,{"$f":"IFERROR(INDIRECT(\"'\"&$B183&\"'!$u$7\"),FALSE)","v":false},{"$f":"IFERROR(INDIRECT(\"'\"&$B183&\"'!$u$10\"),FALSE)","v":false},{"$f":"IFERROR(INDIRECT(\"'\"&$B183&\"'!$AC$12\"),FALSE)","v":false},{"$f":"IFERROR(INDIRECT(\"'\"&$B183&\"'!$ad$12\"),FALSE)","v":false},null,{"$f":"IFERROR(INDIRECT(\"'\"&$B183&\"'!$d$10\"),\"\")","v":""},{"$f":"IFERROR(INDIRECT(\"'\"&$B183&\"'!$d$33\"),\"\")","v":""},{"$f":"IFERROR(INDIRECT(\"'\"&$B183&\"'!$j$33\")+INDIRECT(\"'\"&$B183&\"'!$k$33\"),\"\")","v":""},{"$f":"IFERROR(INDIRECT(\"'\"&$B183&\"'!$q$33\"),\"\")","v":""},{"$f":"IFERROR(INDIRECT(\"'\"&$B183&\"'!$e$33\"),\"\")","v":""},{"$f":"IFERROR(INDIRECT(\"'\"&$B183&\"'!$L$33\"),\"\")","v":""},{"$f":"IFERROR(INDIRECT(\"'\"&$B183&\"'!$g$33\")+INDIRECT(\"'\"&$B183&\"'!$h$33\")+INDIRECT(\"'\"&$B183&\"'!$i$33\"),\"\")","v":""}]
[148,{"$f":"IFERROR(IF(OR(SHEETNAME(A184)=\"HIDE\",SHEETNAME(A184)=\"Start Here\",SHEETNAME(A184)=\"Template\"),\"\",SHEETNAME(A184)),\"\")","v":""},{"$f":"IFERROR(INDIRECT(\"'\"&$B184&\"'!$d$6\"),\"\")","v":""},{"$f":"IFERROR(INDIRECT(\"'\"&$B184&\"'!$d$7\"),\"\")","v":""},{"$f":"IFERROR(INDIRECT(\"'\"&$B184&\"'!$d$8\"),\"\")","v":""},{"$f":"IFERROR(IF(OR(SHEETNAME($A184)=\"HIDE\",SHEETNAME($A184)=\"Start Here\",SHEETNAME($A184)=\"Template\"),\"\",HYPERLINK(\"#'\"&B184&\"'!A1\",\"Go to Sheet\")),\"\")","v":""},{"$f":"IFERROR(IF(INDIRECT(\"'\"&$B184&\"'!$U$7\"),INDIRECT(\"'\"&$B184&\"'!$u$9\"),\"(\"&INDIRECT(\"'\"&$B184&\"'!$U$8\")&\")\"),\"\")","v":""},{"$f":"IF(L184,\"This site has incomplete Cost and Revenue data.  \",\"\")&IF(M184,\"WFRS data for previous quarters is incomplete.  \",\"\")&IF(K184,IFERROR(INDIRECT(\"'\"&$B184&\"'!$g$9\"),\"\"),\"\")","v":""},false,{"$f":"IFERROR(INDIRECT(\"'\"&$B184&\"'!$u$7\"),FALSE)","v":false},{"$f":"IFERROR(INDIRECT(\"'\"&$B184&\"'!$u$10\"),FALSE)","v":false},{"$f":"IFERROR(INDIRECT(\"'\"&$B184&\"'!$AC$12\"),FALSE)","v":false},{"$f":"IFERROR(INDIRECT(\"'\"&$B184&\"'!$ad$12\"),FALSE)","v":false},null,{"$f":"IFERROR(INDIRECT(\"'\"&$B184&\"'!$d$10\"),\"\")","v":""},{"$f":"IFERROR(INDIRECT(\"'\"&$B184&\"'!$d$33\"),\"\")","v":""},{"$f":"IFERROR(INDIRECT(\"'\"&$B184&\"'!$j$33\")+INDIRECT(\"'\"&$B184&\"'!$k$33\"),\"\")","v":""},{"$f":"IFERROR(INDIRECT(\"'\"&$B184&\"'!$q$33\"),\"\")","v":""},{"$f":"IFERROR(INDIRECT(\"'\"&$B184&\"'!$e$33\"),\"\")","v":""},{"$f":"IFERROR(INDIRECT(\"'\"&$B184&\"'!$L$33\"),\"\")","v":""},{"$f":"IFERROR(INDIRECT(\"'\"&$B184&\"'!$g$33\")+INDIRECT(\"'\"&$B184&\"'!$h$33\")+INDIRECT(\"'\"&$B184&\"'!$i$33\"),\"\")","v":""}]
[149,{"$f":"IFERROR(IF(OR(SHEETNAME(A185)=\"HIDE\",SHEETNAME(A185)=\"Start Here\",SHEETNAME(A185)=\"Template\"),\"\",SHEETNAME(A185)),\"\")","v":""},{"$f":"IFERROR(INDIRECT(\"'\"&$B185&\"'!$d$6\"),\"\")","v":""},{"$f":"IFERROR(INDIRECT(\"'\"&$B185&\"'!$d$7\"),\"\")","v":""},{"$f":"IFERROR(INDIRECT(\"'\"&$B185&\"'!$d$8\"),\"\")","v":""},{"$f":"IFERROR(IF(OR(SHEETNAME($A185)=\"HIDE\",SHEETNAME($A185)=\"Start Here\",SHEETNAME($A185)=\"Template\"),\"\",HYPERLINK(\"#'\"&B185&\"'!A1\",\"Go to Sheet\")),\"\")","v":""},{"$f":"IFERROR(IF(INDIRECT(\"'\"&$B185&\"'!$U$7\"),INDIRECT(\"'\"&$B185&\"'!$u$9\"),\"(\"&INDIRECT(\"'\"&$B185&\"'!$U$8\")&\")\"),\"\")","v":""},{"$f":"IF(L185,\"This site has incomplete Cost and Revenue data.  \",\"\")&IF(M185,\"WFRS data for previous quarters is incomplete.  \",\"\")&IF(K185,IFERROR(INDIRECT(\"'\"&$B185&\"'!$g$9\"),\"\"),\"\")","v":""},false,{"$f":"IFERROR(INDIRECT(\"'\"&$B185&\"'!$u$7\"),FALSE)","v":false},{"$f":"IFERROR(INDIRECT(\"'\"&$B185&\"'!$u$10\"),FALSE)","v":false},{"$f":"IFERROR(INDIRECT(\"'\"&$B185&\"'!$AC$12\"),FALSE)","v":false},{"$f":"IFERROR(INDIRECT(\"'\"&$B185&\"'!$ad$12\"),FALSE)","v":false},null,{"$f":"IFERROR(INDIRECT(\"'\"&$B185&\"'!$d$10\"),\"\")","v":""},{"$f":"IFERROR(INDIRECT(\"'\"&$B185&\"'!$d$33\"),\"\")","v":""},{"$f":"IFERROR(INDIRECT(\"'\"&$B185&\"'!$j$33\")+INDIRECT(\"'\"&$B185&\"'!$k$33\"),\"\")","v":""},{"$f":"IFERROR(INDIRECT(\"'\"&$B185&\"'!$q$33\"),\"\")","v":""},{"$f":"IFERROR(INDIRECT(\"'\"&$B185&\"'!$e$33\"),\"\")","v":""},{"$f":"IFERROR(INDIRECT(\"'\"&$B185&\"'!$L$33\"),\"\")","v":""},{"$f":"IFERROR(INDIRECT(\"'\"&$B185&\"'!$g$33\")+INDIRECT(\"'\"&$B185&\"'!$h$33\")+INDIRECT(\"'\"&$B185&\"'!$i$33\"),\"\")","v":""}]
[150,{"$f":"IFERROR(IF(OR(SHEETNAME(A186)=\"HIDE\",SHEETNAME(A186)=\"Start Here\",SHEETNAME(A186)=\"Template\"),\"\",SHEETNAME(A186)),\"\")","v":""},{"$f":"IFERROR(INDIRECT(\"'\"&$B186&\"'!$d$6\"),\"\")","v":""},{"$f":"IFERROR(INDIRECT(\"'\"&$B186&\"'!$d$7\"),\"\")","v":""},{"$f":"IFERROR(INDIRECT(\"'\"&$B186&\"'!$d$8\"),\"\")","v":""},{"$f":"IFERROR(IF(OR(SHEETNAME($A186)=\"HIDE\",SHEETNAME($A186)=\"Start Here\",SHEETNAME($A186)=\"Template\"),\"\",HYPERLINK(\"#'\"&B186&\"'!A1\",\"Go to Sheet\")),\"\")","v":""},{"$f":"IFERROR(IF(INDIRECT(\"'\"&$B186&\"'!$U$7\"),INDIRECT(\"'\"&$B186&\"'!$u$9\"),\"(\"&INDIRECT(\"'\"&$B186&\"'!$U$8\")&\")\"),\"\")","v":""},{"$f":"IF(L186,\"This site has incomplete Cost and Revenue data.  \",\"\")&IF(M186,\"WFRS data for previous quarters is incomplete.  \",\"\")&IF(K186,IFERROR(INDIRECT(\"'\"&$B186&\"'!$g$9\"),\"\"),\"\")","v":""},false,{"$f":"IFERROR(INDIRECT(\"'\"&$B186&\"'!$u$7\"),FALSE)","v":false},{"$f":"IFERROR(INDIRECT(\"'\"&$B186&\"'!$u$10\"),FALSE)","v":false},{"$f":"IFERROR(INDIRECT(\"'\"&$B186&\"'!$AC$12\"),FALSE)","v":false},{"$f":"IFERROR(INDIRECT(\"'\"&$B186&\"'!$ad$12\"),FALSE)","v":false},null,{"$f":"IFERROR(INDIRECT(\"'\"&$B186&\"'!$d$10\"),\"\")","v":""},{"$f":"IFERROR(INDIRECT(\"'\"&$B186&\"'!$d$33\"),\"\")","v":""},{"$f":"IFERROR(INDIRECT(\"'\"&$B186&\"'!$j$33\")+INDIRECT(\"'\"&$B186&\"'!$k$33\"),\"\")","v":""},{"$f":"IFERROR(INDIRECT(\"'\"&$B186&\"'!$q$33\"),\"\")","v":""},{"$f":"IFERROR(INDIRECT(\"'\"&$B186&\"'!$e$33\"),\"\")","v":""},{"$f":"IFERROR(INDIRECT(\"'\"&$B186&\"'!$L$33\"),\"\")","v":""},{"$f":"IFERROR(INDIRECT(\"'\"&$B186&\"'!$g$33\")+INDIRECT(\"'\"&$B186&\"'!$h$33\")+INDIRECT(\"'\"&$B186&\"'!$i$33\"),\"\")","v":""}]
[151,{"$f":"IFERROR(IF(OR(SHEETNAME(A187)=\"HIDE\",SHEETNAME(A187)=\"Start Here\",SHEETNAME(A187)=\"Template\"),\"\",SHEETNAME(A187)),\"\")","v":""},{"$f":"IFERROR(INDIRECT(\"'\"&$B187&\"'!$d$6\"),\"\")","v":""},{"$f":"IFERROR(INDIRECT(\"'\"&$B187&\"'!$d$7\"),\"\")","v":""},{"$f":"IFERROR(INDIRECT(\"'\"&$B187&\"'!$d$8\"),\"\")","v":""},{"$f":"IFERROR(IF(OR(SHEETNAME($A187)=\"HIDE\",SHEETNAME($A187)=\"Start Here\",SHEETNAME($A187)=\"Template\"),\"\",HYPERLINK(\"#'\"&B187&\"'!A1\",\"Go to Sheet\")),\"\")","v":""},{"$f":"IFERROR(IF(INDIRECT(\"'\"&$B187&\"'!$U$7\"),INDIRECT(\"'\"&$B187&\"'!$u$9\"),\"(\"&INDIRECT(\"'\"&$B187&\"'!$U$8\")&\")\"),\"\")","v":""},{"$f":"IF(L187,\"This site has incomplete Cost and Revenue data.  \",\"\")&IF(M187,\"WFRS data for previous quarters is incomplete.  \",\"\")&IF(K187,IFERROR(INDIRECT(\"'\"&$B187&\"'!$g$9\"),\"\"),\"\")","v":""},false,{"$f":"IFERROR(INDIRECT(\"'\"&$B187&\"'!$u$7\"),FALSE)","v":false},{"$f":"IFERROR(INDIRECT(\"'\"&$B187&\"'!$u$10\"),FALSE)","v":false},{"$f":"IFERROR(INDIRECT(\"'\"&$B187&\"'!$AC$12\"),FALSE)","v":false},{"$f":"IFERROR(INDIRECT(\"'\"&$B187&\"'!$ad$12\"),FALSE)","v":false},null,{"$f":"IFERROR(INDIRECT(\"'\"&$B187&\"'!$d$10\"),\"\")","v":""},{"$f":"IFERROR(INDIRECT(\"'\"&$B187&\"'!$d$33\"),\"\")","v":""},{"$f":"IFERROR(INDIRECT(\"'\"&$B187&\"'!$j$33\")+INDIRECT(\"'\"&$B187&\"'!$k$33\"),\"\")","v":""},{"$f":"IFERROR(INDIRECT(\"'\"&$B187&\"'!$q$33\"),\"\")","v":""},{"$f":"IFERROR(INDIRECT(\"'\"&$B187&\"'!$e$33\"),\"\")","v":""},{"$f":"IFERROR(INDIRECT(\"'\"&$B187&\"'!$L$33\"),\"\")","v":""},{"$f":"IFERROR(INDIRECT(\"'\"&$B187&\"'!$g$33\")+INDIRECT(\"'\"&$B187&\"'!$h$33\")+INDIRECT(\"'\"&$B187&\"'!$i$33\"),\"\")","v":""}]
[152,{"$f":"IFERROR(IF(OR(SHEETNAME(A188)=\"HIDE\",SHEETNAME(A188)=\"Start Here\",SHEETNAME(A188)=\"Template\"),\"\",SHEETNAME(A188)),\"\")","v":""},{"$f":"IFERROR(INDIRECT(\"'\"&$B188&\"'!$d$6\"),\"\")","v":""},{"$f":"IFERROR(INDIRECT(\"'\"&$B188&\"'!$d$7\"),\"\")","v":""},{"$f":"IFERROR(INDIRECT(\"'\"&$B188&\"'!$d$8\"),\"\")","v":""},{"$f":"IFERROR(IF(OR(SHEETNAME($A188)=\"HIDE\",SHEETNAME($A188)=\"Start Here\",SHEETNAME($A188)=\"Template\"),\"\",HYPERLINK(\"#'\"&B188&\"'!A1\",\"Go to Sheet\")),\"\")","v":""},{"$f":"IFERROR(IF(INDIRECT(\"'\"&$B188&\"'!$U$7\"),INDIRECT(\"'\"&$B188&\"'!$u$9\"),\"(\"&INDIRECT(\"'\"&$B188&\"'!$U$8\")&\")\"),\"\")","v":""},{"$f":"IF(L188,\"This site has incomplete Cost and Revenue data.  \",\"\")&IF(M188,\"WFRS data for previous quarters is incomplete.  \",\"\")&IF(K188,IFERROR(INDIRECT(\"'\"&$B188&\"'!$g$9\"),\"\"),\"\")","v":""},false,{"$f":"IFERROR(INDIRECT(\"'\"&$B188&\"'!$u$7\"),FALSE)","v":false},{"$f":"IFERROR(INDIRECT(\"'\"&$B188&\"'!$u$10\"),FALSE)","v":false},{"$f":"IFERROR(INDIRECT(\"'\"&$B188&\"'!$AC$12\"),FALSE)","v":false},{"$f":"IFERROR(INDIRECT(\"'\"&$B188&\"'!$ad$12\"),FALSE)","v":false},null,{"$f":"IFERROR(INDIRECT(\"'\"&$B188&\"'!$d$10\"),\"\")","v":""},{"$f":"IFERROR(INDIRECT(\"'\"&$B188&\"'!$d$33\"),\"\")","v":""},{"$f":"IFERROR(INDIRECT(\"'\"&$B188&\"'!$j$33\")+INDIRECT(\"'\"&$B188&\"'!$k$33\"),\"\")","v":""},{"$f":"IFERROR(INDIRECT(\"'\"&$B188&\"'!$q$33\"),\"\")","v":""},{"$f":"IFERROR(INDIRECT(\"'\"&$B188&\"'!$e$33\"),\"\")","v":""},{"$f":"IFERROR(INDIRECT(\"'\"&$B188&\"'!$L$33\"),\"\")","v":""},{"$f":"IFERROR(INDIRECT(\"'\"&$B188&\"'!$g$33\")+INDIRECT(\"'\"&$B188&\"'!$h$33\")+INDIRECT(\"'\"&$B188&\"'!$i$33\"),\"\")","v":""}]
[153,{"$f":"IFERROR(IF(OR(SHEETNAME(A189)=\"HIDE\",SHEETNAME(A189)=\"Start Here\",SHEETNAME(A189)=\"Template\"),\"\",SHEETNAME(A189)),\"\")","v":""},{"$f":"IFERROR(INDIRECT(\"'\"&$B189&\"'!$d$6\"),\"\")","v":""},{"$f":"IFERROR(INDIRECT(\"'\"&$B189&\"'!$d$7\"),\"\")","v":""},{"$f":"IFERROR(INDIRECT(\"'\"&$B189&\"'!$d$8\"),\"\")","v":""},{"$f":"IFERROR(IF(OR(SHEETNAME($A189)=\"HIDE\",SHEETNAME($A189)=\"Start Here\",SHEETNAME($A189)=\"Template\"),\"\",HYPERLINK(\"#'\"&B189&\"'!A1\",\"Go to Sheet\")),\"\")","v":""},{"$f":"IFERROR(IF(INDIRECT(\"'\"&$B189&\"'!$U$7\"),INDIRECT(\"'\"&$B189&\"'!$u$9\"),\"(\"&INDIRECT(\"'\"&$B189&\"'!$U$8\")&\")\"),\"\")","v":""},{"$f":"IF(L189,\"This site has incomplete Cost and Revenue data.  \",\"\")&IF(M189,\"WFRS data for previous quarters is incomplete.  \",\"\")&IF(K189,IFERROR(INDIRECT(\"'\"&$B189&\"'!$g$9\"),\"\"),\"\")","v":""},false,{"$f":"IFERROR(INDIRECT(\"'\"&$B189&\"'!$u$7\"),FALSE)","v":false},{"$f":"IFERROR(INDIRECT(\"'\"&$B189&\"'!$u$10\"),FALSE)","v":false},{"$f":"IFERROR(INDIRECT(\"'\"&$B189&\"'!$AC$12\"),FALSE)","v":false},{"$f":"IFERROR(INDIRECT(\"'\"&$B189&\"'!$ad$12\"),FALSE)","v":false},null,{"$f":"IFERROR(INDIRECT(\"'\"&$B189&\"'!$d$10\"),\"\")","v":""},{"$f":"IFERROR(INDIRECT(\"'\"&$B189&\"'!$d$33\"),\"\")","v":""},{"$f":"IFERROR(INDIRECT(\"'\"&$B189&\"'!$j$33\")+INDIRECT(\"'\"&$B189&\"'!$k$33\"),\"\")","v":""},{"$f":"IFERROR(INDIRECT(\"'\"&$B189&\"'!$q$33\"),\"\")","v":""},{"$f":"IFERROR(INDIRECT(\"'\"&$B189&\"'!$e$33\"),\"\")","v":""},{"$f":"IFERROR(INDIRECT(\"'\"&$B189&\"'!$L$33\"),\"\")","v":""},{"$f":"IFERROR(INDIRECT(\"'\"&$B189&\"'!$g$33\")+INDIRECT(\"'\"&$B189&\"'!$h$33\")+INDIRECT(\"'\"&$B189&\"'!$i$33\"),\"\")","v":""}]
[154,{"$f":"IFERROR(IF(OR(SHEETNAME(A190)=\"HIDE\",SHEETNAME(A190)=\"Start Here\",SHEETNAME(A190)=\"Template\"),\"\",SHEETNAME(A190)),\"\")","v":""},{"$f":"IFERROR(INDIRECT(\"'\"&$B190&\"'!$d$6\"),\"\")","v":""},{"$f":"IFERROR(INDIRECT(\"'\"&$B190&\"'!$d$7\"),\"\")","v":""},{"$f":"IFERROR(INDIRECT(\"'\"&$B190&\"'!$d$8\"),\"\")","v":""},{"$f":"IFERROR(IF(OR(SHEETNAME($A190)=\"HIDE\",SHEETNAME($A190)=\"Start Here\",SHEETNAME($A190)=\"Template\"),\"\",HYPERLINK(\"#'\"&B190&\"'!A1\",\"Go to Sheet\")),\"\")","v":""},{"$f":"IFERROR(IF(INDIRECT(\"'\"&$B190&\"'!$U$7\"),INDIRECT(\"'\"&$B190&\"'!$u$9\"),\"(\"&INDIRECT(\"'\"&$B190&\"'!$U$8\")&\")\"),\"\")","v":""},{"$f":"IF(L190,\"This site has incomplete Cost and Revenue data.  \",\"\")&IF(M190,\"WFRS data for previous quarters is incomplete.  \",\"\")&IF(K190,IFERROR(INDIRECT(\"'\"&$B190&\"'!$g$9\"),\"\"),\"\")","v":""},false,{"$f":"IFERROR(INDIRECT(\"'\"&$B190&\"'!$u$7\"),FALSE)","v":false},{"$f":"IFERROR(INDIRECT(\"'\"&$B190&\"'!$u$10\"),FALSE)","v":false},{"$f":"IFERROR(INDIRECT(\"'\"&$B190&\"'!$AC$12\"),FALSE)","v":false},{"$f":"IFERROR(INDIRECT(\"'\"&$B190&\"'!$ad$12\"),FALSE)","v":false},null,{"$f":"IFERROR(INDIRECT(\"'\"&$B190&\"'!$d$10\"),\"\")","v":""},{"$f":"IFERROR(INDIRECT(\"'\"&$B190&\"'!$d$33\"),\"\")","v":""},{"$f":"IFERROR(INDIRECT(\"'\"&$B190&\"'!$j$33\")+INDIRECT(\"'\"&$B190&\"'!$k$33\"),\"\")","v":""},{"$f":"IFERROR(INDIRECT(\"'\"&$B190&\"'!$q$33\"),\"\")","v":""},{"$f":"IFERROR(INDIRECT(\"'\"&$B190&\"'!$e$33\"),\"\")","v":""},{"$f":"IFERROR(INDIRECT(\"'\"&$B190&\"'!$L$33\"),\"\")","v":""},{"$f":"IFERROR(INDIRECT(\"'\"&$B190&\"'!$g$33\")+INDIRECT(\"'\"&$B190&\"'!$h$33\")+INDIRECT(\"'\"&$B190&\"'!$i$33\"),\"\")","v":""}]
[155,{"$f":"IFERROR(IF(OR(SHEETNAME(A191)=\"HIDE\",SHEETNAME(A191)=\"Start Here\",SHEETNAME(A191)=\"Template\"),\"\",SHEETNAME(A191)),\"\")","v":""},{"$f":"IFERROR(INDIRECT(\"'\"&$B191&\"'!$d$6\"),\"\")","v":""},{"$f":"IFERROR(INDIRECT(\"'\"&$B191&\"'!$d$7\"),\"\")","v":""},{"$f":"IFERROR(INDIRECT(\"'\"&$B191&\"'!$d$8\"),\"\")","v":""},{"$f":"IFERROR(IF(OR(SHEETNAME($A191)=\"HIDE\",SHEETNAME($A191)=\"Start Here\",SHEETNAME($A191)=\"Template\"),\"\",HYPERLINK(\"#'\"&B191&\"'!A1\",\"Go to Sheet\")),\"\")","v":""},{"$f":"IFERROR(IF(INDIRECT(\"'\"&$B191&\"'!$U$7\"),INDIRECT(\"'\"&$B191&\"'!$u$9\"),\"(\"&INDIRECT(\"'\"&$B191&\"'!$U$8\")&\")\"),\"\")","v":""},{"$f":"IF(L191,\"This site has incomplete Cost and Revenue data.  \",\"\")&IF(M191,\"WFRS data for previous quarters is incomplete.  \",\"\")&IF(K191,IFERROR(INDIRECT(\"'\"&$B191&\"'!$g$9\"),\"\"),\"\")","v":""},false,{"$f":"IFERROR(INDIRECT(\"'\"&$B191&\"'!$u$7\"),FALSE)","v":false},{"$f":"IFERROR(INDIRECT(\"'\"&$B191&\"'!$u$10\"),FALSE)","v":false},{"$f":"IFERROR(INDIRECT(\"'\"&$B191&\"'!$AC$12\"),FALSE)","v":false},{"$f":"IFERROR(INDIRECT(\"'\"&$B191&\"'!$ad$12\"),FALSE)","v":false},null,{"$f":"IFERROR(INDIRECT(\"'\"&$B191&\"'!$d$10\"),\"\")","v":""},{"$f":"IFERROR(INDIRECT(\"'\"&$B191&\"'!$d$33\"),\"\")","v":""},{"$f":"IFERROR(INDIRECT(\"'\"&$B191&\"'!$j$33\")+INDIRECT(\"'\"&$B191&\"'!$k$33\"),\"\")","v":""},{"$f":"IFERROR(INDIRECT(\"'\"&$B191&\"'!$q$33\"),\"\")","v":""},{"$f":"IFERROR(INDIRECT(\"'\"&$B191&\"'!$e$33\"),\"\")","v":""},{"$f":"IFERROR(INDIRECT(\"'\"&$B191&\"'!$L$33\"),\"\")","v":""},{"$f":"IFERROR(INDIRECT(\"'\"&$B191&\"'!$g$33\")+INDIRECT(\"'\"&$B191&\"'!$h$33\")+INDIRECT(\"'\"&$B191&\"'!$i$33\"),\"\")","v":""}]
[156,{"$f":"IFERROR(IF(OR(SHEETNAME(A192)=\"HIDE\",SHEETNAME(A192)=\"Start Here\",SHEETNAME(A192)=\"Template\"),\"\",SHEETNAME(A192)),\"\")","v":""},{"$f":"IFERROR(INDIRECT(\"'\"&$B192&\"'!$d$6\"),\"\")","v":""},{"$f":"IFERROR(INDIRECT(\"'\"&$B192&\"'!$d$7\"),\"\")","v":""},{"$f":"IFERROR(INDIRECT(\"'\"&$B192&\"'!$d$8\"),\"\")","v":""},{"$f":"IFERROR(IF(OR(SHEETNAME($A192)=\"HIDE\",SHEETNAME($A192)=\"Start Here\",SHEETNAME($A192)=\"Template\"),\"\",HYPERLINK(\"#'\"&B192&\"'!A1\",\"Go to Sheet\")),\"\")","v":""},{"$f":"IFERROR(IF(INDIRECT(\"'\"&$B192&\"'!$U$7\"),INDIRECT(\"'\"&$B192&\"'!$u$9\"),\"(\"&INDIRECT(\"'\"&$B192&\"'!$U$8\")&\")\"),\"\")","v":""},{"$f":"IF(L192,\"This site has incomplete Cost and Revenue data.  \",\"\")&IF(M192,\"WFRS data for previous quarters is incomplete.  \",\"\")&IF(K192,IFERROR(INDIRECT(\"'\"&$B192&\"'!$g$9\"),\"\"),\"\")","v":""},false,{"$f":"IFERROR(INDIRECT(\"'\"&$B192&\"'!$u$7\"),FALSE)","v":false},{"$f":"IFERROR(INDIRECT(\"'\"&$B192&\"'!$u$10\"),FALSE)","v":false},{"$f":"IFERROR(INDIRECT(\"'\"&$B192&\"'!$AC$12\"),FALSE)","v":false},{"$f":"IFERROR(INDIRECT(\"'\"&$B192&\"'!$ad$12\"),FALSE)","v":false},null,{"$f":"IFERROR(INDIRECT(\"'\"&$B192&\"'!$d$10\"),\"\")","v":""},{"$f":"IFERROR(INDIRECT(\"'\"&$B192&\"'!$d$33\"),\"\")","v":""},{"$f":"IFERROR(INDIRECT(\"'\"&$B192&\"'!$j$33\")+INDIRECT(\"'\"&$B192&\"'!$k$33\"),\"\")","v":""},{"$f":"IFERROR(INDIRECT(\"'\"&$B192&\"'!$q$33\"),\"\")","v":""},{"$f":"IFERROR(INDIRECT(\"'\"&$B192&\"'!$e$33\"),\"\")","v":""},{"$f":"IFERROR(INDIRECT(\"'\"&$B192&\"'!$L$33\"),\"\")","v":""},{"$f":"IFERROR(INDIRECT(\"'\"&$B192&\"'!$g$33\")+INDIRECT(\"'\"&$B192&\"'!$h$33\")+INDIRECT(\"'\"&$B192&\"'!$i$33\"),\"\")","v":""}]
[157,{"$f":"IFERROR(IF(OR(SHEETNAME(A193)=\"HIDE\",SHEETNAME(A193)=\"Start Here\",SHEETNAME(A193)=\"Template\"),\"\",SHEETNAME(A193)),\"\")","v":""},{"$f":"IFERROR(INDIRECT(\"'\"&$B193&\"'!$d$6\"),\"\")","v":""},{"$f":"IFERROR(INDIRECT(\"'\"&$B193&\"'!$d$7\"),\"\")","v":""},{"$f":"IFERROR(INDIRECT(\"'\"&$B193&\"'!$d$8\"),\"\")","v":""},{"$f":"IFERROR(IF(OR(SHEETNAME($A193)=\"HIDE\",SHEETNAME($A193)=\"Start Here\",SHEETNAME($A193)=\"Template\"),\"\",HYPERLINK(\"#'\"&B193&\"'!A1\",\"Go to Sheet\")),\"\")","v":""},{"$f":"IFERROR(IF(INDIRECT(\"'\"&$B193&\"'!$U$7\"),INDIRECT(\"'\"&$B193&\"'!$u$9\"),\"(\"&INDIRECT(\"'\"&$B193&\"'!$U$8\")&\")\"),\"\")","v":""},{"$f":"IF(L193,\"This site has incomplete Cost and Revenue data.  \",\"\")&IF(M193,\"WFRS data for previous quarters is incomplete.  \",\"\")&IF(K193,IFERROR(INDIRECT(\"'\"&$B193&\"'!$g$9\"),\"\"),\"\")","v":""},false,{"$f":"IFERROR(INDIRECT(\"'\"&$B193&\"'!$u$7\"),FALSE)","v":false},{"$f":"IFERROR(INDIRECT(\"'\"&$B193&\"'!$u$10\"),FALSE)","v":false},{"$f":"IFERROR(INDIRECT(\"'\"&$B193&\"'!$AC$12\"),FALSE)","v":false},{"$f":"IFERROR(INDIRECT(\"'\"&$B193&\"'!$ad$12\"),FALSE)","v":false},null,{"$f":"IFERROR(INDIRECT(\"'\"&$B193&\"'!$d$10\"),\"\")","v":""},{"$f":"IFERROR(INDIRECT(\"'\"&$B193&\"'!$d$33\"),\"\")","v":""},{"$f":"IFERROR(INDIRECT(\"'\"&$B193&\"'!$j$33\")+INDIRECT(\"'\"&$B193&\"'!$k$33\"),\"\")","v":""},{"$f":"IFERROR(INDIRECT(\"'\"&$B193&\"'!$q$33\"),\"\")","v":""},{"$f":"IFERROR(INDIRECT(\"'\"&$B193&\"'!$e$33\"),\"\")","v":""},{"$f":"IFERROR(INDIRECT(\"'\"&$B193&\"'!$L$33\"),\"\")","v":""},{"$f":"IFERROR(INDIRECT(\"'\"&$B193&\"'!$g$33\")+INDIRECT(\"'\"&$B193&\"'!$h$33\")+INDIRECT(\"'\"&$B193&\"'!$i$33\"),\"\")","v":""}]
[158,{"$f":"IFERROR(IF(OR(SHEETNAME(A194)=\"HIDE\",SHEETNAME(A194)=\"Start Here\",SHEETNAME(A194)=\"Template\"),\"\",SHEETNAME(A194)),\"\")","v":""},{"$f":"IFERROR(INDIRECT(\"'\"&$B194&\"'!$d$6\"),\"\")","v":""},{"$f":"IFERROR(INDIRECT(\"'\"&$B194&\"'!$d$7\"),\"\")","v":""},{"$f":"IFERROR(INDIRECT(\"'\"&$B194&\"'!$d$8\"),\"\")","v":""},{"$f":"IFERROR(IF(OR(SHEETNAME($A194)=\"HIDE\",SHEETNAME($A194)=\"Start Here\",SHEETNAME($A194)=\"Template\"),\"\",HYPERLINK(\"#'\"&B194&\"'!A1\",\"Go to Sheet\")),\"\")","v":""},{"$f":"IFERROR(IF(INDIRECT(\"'\"&$B194&\"'!$U$7\"),INDIRECT(\"'\"&$B194&\"'!$u$9\"),\"(\"&INDIRECT(\"'\"&$B194&\"'!$U$8\")&\")\"),\"\")","v":""},{"$f":"IF(L194,\"This site has incomplete Cost and Revenue data.  \",\"\")&IF(M194,\"WFRS data for previous quarters is incomplete.  \",\"\")&IF(K194,IFERROR(INDIRECT(\"'\"&$B194&\"'!$g$9\"),\"\"),\"\")","v":""},false,{"$f":"IFERROR(INDIRECT(\"'\"&$B194&\"'!$u$7\"),FALSE)","v":false},{"$f":"IFERROR(INDIRECT(\"'\"&$B194&\"'!$u$10\"),FALSE)","v":false},{"$f":"IFERROR(INDIRECT(\"'\"&$B194&\"'!$AC$12\"),FALSE)","v":false},{"$f":"IFERROR(INDIRECT(\"'\"&$B194&\"'!$ad$12\"),FALSE)","v":false},null,{"$f":"IFERROR(INDIRECT(\"'\"&$B194&\"'!$d$10\"),\"\")","v":""},{"$f":"IFERROR(INDIRECT(\"'\"&$B194&\"'!$d$33\"),\"\")","v":""},{"$f":"IFERROR(INDIRECT(\"'\"&$B194&\"'!$j$33\")+INDIRECT(\"'\"&$B194&\"'!$k$33\"),\"\")","v":""},{"$f":"IFERROR(INDIRECT(\"'\"&$B194&\"'!$q$33\"),\"\")","v":""},{"$f":"IFERROR(INDIRECT(\"'\"&$B194&\"'!$e$33\"),\"\")","v":""},{"$f":"IFERROR(INDIRECT(\"'\"&$B194&\"'!$L$33\"),\"\")","v":""},{"$f":"IFERROR(INDIRECT(\"'\"&$B194&\"'!$g$33\")+INDIRECT(\"'\"&$B194&\"'!$h$33\")+INDIRECT(\"'\"&$B194&\"'!$i$33\"),\"\")","v":""}]
[159,{"$f":"IFERROR(IF(OR(SHEETNAME(A195)=\"HIDE\",SHEETNAME(A195)=\"Start Here\",SHEETNAME(A195)=\"Template\"),\"\",SHEETNAME(A195)),\"\")","v":""},{"$f":"IFERROR(INDIRECT(\"'\"&$B195&\"'!$d$6\"),\"\")","v":""},{"$f":"IFERROR(INDIRECT(\"'\"&$B195&\"'!$d$7\"),\"\")","v":""},{"$f":"IFERROR(INDIRECT(\"'\"&$B195&\"'!$d$8\"),\"\")","v":""},{"$f":"IFERROR(IF(OR(SHEETNAME($A195)=\"HIDE\",SHEETNAME($A195)=\"Start Here\",SHEETNAME($A195)=\"Template\"),\"\",HYPERLINK(\"#'\"&B195&\"'!A1\",\"Go to Sheet\")),\"\")","v":""},{"$f":"IFERROR(IF(INDIRECT(\"'\"&$B195&\"'!$U$7\"),INDIRECT(\"'\"&$B195&\"'!$u$9\"),\"(\"&INDIRECT(\"'\"&$B195&\"'!$U$8\")&\")\"),\"\")","v":""},{"$f":"IF(L195,\"This site has incomplete Cost and Revenue data.  \",\"\")&IF(M195,\"WFRS data for previous quarters is incomplete.  \",\"\")&IF(K195,IFERROR(INDIRECT(\"'\"&$B195&\"'!$g$9\"),\"\"),\"\")","v":""},false,{"$f":"IFERROR(INDIRECT(\"'\"&$B195&\"'!$u$7\"),FALSE)","v":false},{"$f":"IFERROR(INDIRECT(\"'\"&$B195&\"'!$u$10\"),FALSE)","v":false},{"$f":"IFERROR(INDIRECT(\"'\"&$B195&\"'!$AC$12\"),FALSE)","v":false},{"$f":"IFERROR(INDIRECT(\"'\"&$B195&\"'!$ad$12\"),FALSE)","v":false},null,{"$f":"IFERROR(INDIRECT(\"'\"&$B195&\"'!$d$10\"),\"\")","v":""},{"$f":"IFERROR(INDIRECT(\"'\"&$B195&\"'!$d$33\"),\"\")","v":""},{"$f":"IFERROR(INDIRECT(\"'\"&$B195&\"'!$j$33\")+INDIRECT(\"'\"&$B195&\"'!$k$33\"),\"\")","v":""},{"$f":"IFERROR(INDIRECT(\"'\"&$B195&\"'!$q$33\"),\"\")","v":""},{"$f":"IFERROR(INDIRECT(\"'\"&$B195&\"'!$e$33\"),\"\")","v":""},{"$f":"IFERROR(INDIRECT(\"'\"&$B195&\"'!$L$33\"),\"\")","v":""},{"$f":"IFERROR(INDIRECT(\"'\"&$B195&\"'!$g$33\")+INDIRECT(\"'\"&$B195&\"'!$h$33\")+INDIRECT(\"'\"&$B195&\"'!$i$33\"),\"\")","v":""}]
[160,{"$f":"IFERROR(IF(OR(SHEETNAME(A196)=\"HIDE\",SHEETNAME(A196)=\"Start Here\",SHEETNAME(A196)=\"Template\"),\"\",SHEETNAME(A196)),\"\")","v":""},{"$f":"IFERROR(INDIRECT(\"'\"&$B196&\"'!$d$6\"),\"\")","v":""},{"$f":"IFERROR(INDIRECT(\"'\"&$B196&\"'!$d$7\"),\"\")","v":""},{"$f":"IFERROR(INDIRECT(\"'\"&$B196&\"'!$d$8\"),\"\")","v":""},{"$f":"IFERROR(IF(OR(SHEETNAME($A196)=\"HIDE\",SHEETNAME($A196)=\"Start Here\",SHEETNAME($A196)=\"Template\"),\"\",HYPERLINK(\"#'\"&B196&\"'!A1\",\"Go to Sheet\")),\"\")","v":""},{"$f":"IFERROR(IF(INDIRECT(\"'\"&$B196&\"'!$U$7\"),INDIRECT(\"'\"&$B196&\"'!$u$9\"),\"(\"&INDIRECT(\"'\"&$B196&\"'!$U$8\")&\")\"),\"\")","v":""},{"$f":"IF(L196,\"This site has incomplete Cost and Revenue data.  \",\"\")&IF(M196,\"WFRS data for previous quarters is incomplete.  \",\"\")&IF(K196,IFERROR(INDIRECT(\"'\"&$B196&\"'!$g$9\"),\"\"),\"\")","v":""},false,{"$f":"IFERROR(INDIRECT(\"'\"&$B196&\"'!$u$7\"),FALSE)","v":false},{"$f":"IFERROR(INDIRECT(\"'\"&$B196&\"'!$u$10\"),FALSE)","v":false},{"$f":"IFERROR(INDIRECT(\"'\"&$B196&\"'!$AC$12\"),FALSE)","v":false},{"$f":"IFERROR(INDIRECT(\"'\"&$B196&\"'!$ad$12\"),FALSE)","v":false},null,{"$f":"IFERROR(INDIRECT(\"'\"&$B196&\"'!$d$10\"),\"\")","v":""},{"$f":"IFERROR(INDIRECT(\"'\"&$B196&\"'!$d$33\"),\"\")","v":""},{"$f":"IFERROR(INDIRECT(\"'\"&$B196&\"'!$j$33\")+INDIRECT(\"'\"&$B196&\"'!$k$33\"),\"\")","v":""},{"$f":"IFERROR(INDIRECT(\"'\"&$B196&\"'!$q$33\"),\"\")","v":""},{"$f":"IFERROR(INDIRECT(\"'\"&$B196&\"'!$e$33\"),\"\")","v":""},{"$f":"IFERROR(INDIRECT(\"'\"&$B196&\"'!$L$33\"),\"\")","v":""},{"$f":"IFERROR(INDIRECT(\"'\"&$B196&\"'!$g$33\")+INDIRECT(\"'\"&$B196&\"'!$h$33\")+INDIRECT(\"'\"&$B196&\"'!$i$33\"),\"\")","v":""}]
[161,{"$f":"IFERROR(IF(OR(SHEETNAME(A197)=\"HIDE\",SHEETNAME(A197)=\"Start Here\",SHEETNAME(A197)=\"Template\"),\"\",SHEETNAME(A197)),\"\")","v":""},{"$f":"IFERROR(INDIRECT(\"'\"&$B197&\"'!$d$6\"),\"\")","v":""},{"$f":"IFERROR(INDIRECT(\"'\"&$B197&\"'!$d$7\"),\"\")","v":""},{"$f":"IFERROR(INDIRECT(\"'\"&$B197&\"'!$d$8\"),\"\")","v":""},{"$f":"IFERROR(IF(OR(SHEETNAME($A197)=\"HIDE\",SHEETNAME($A197)=\"Start Here\",SHEETNAME($A197)=\"Template\"),\"\",HYPERLINK(\"#'\"&B197&\"'!A1\",\"Go to Sheet\")),\"\")","v":""},{"$f":"IFERROR(IF(INDIRECT(\"'\"&$B197&\"'!$U$7\"),INDIRECT(\"'\"&$B197&\"'!$u$9\"),\"(\"&INDIRECT(\"'\"&$B197&\"'!$U$8\")&\")\"),\"\")","v":""},{"$f":"IF(L197,\"This site has incomplete Cost and Revenue data.  \",\"\")&IF(M197,\"WFRS data for previous quarters is incomplete.  \",\"\")&IF(K197,IFERROR(INDIRECT(\"'\"&$B197&\"'!$g$9\"),\"\"),\"\")","v":""},false,{"$f":"IFERROR(INDIRECT(\"'\"&$B197&\"'!$u$7\"),FALSE)","v":false},{"$f":"IFERROR(INDIRECT(\"'\"&$B197&\"'!$u$10\"),FALSE)","v":false},{"$f":"IFERROR(INDIRECT(\"'\"&$B197&\"'!$AC$12\"),FALSE)","v":false},{"$f":"IFERROR(INDIRECT(\"'\"&$B197&\"'!$ad$12\"),FALSE)","v":false},null,{"$f":"IFERROR(INDIRECT(\"'\"&$B197&\"'!$d$10\"),\"\")","v":""},{"$f":"IFERROR(INDIRECT(\"'\"&$B197&\"'!$d$33\"),\"\")","v":""},{"$f":"IFERROR(INDIRECT(\"'\"&$B197&\"'!$j$33\")+INDIRECT(\"'\"&$B197&\"'!$k$33\"),\"\")","v":""},{"$f":"IFERROR(INDIRECT(\"'\"&$B197&\"'!$q$33\"),\"\")","v":""},{"$f":"IFERROR(INDIRECT(\"'\"&$B197&\"'!$e$33\"),\"\")","v":""},{"$f":"IFERROR(INDIRECT(\"'\"&$B197&\"'!$L$33\"),\"\")","v":""},{"$f":"IFERROR(INDIRECT(\"'\"&$B197&\"'!$g$33\")+INDIRECT(\"'\"&$B197&\"'!$h$33\")+INDIRECT(\"'\"&$B197&\"'!$i$33\"),\"\")","v":""}]
[162,{"$f":"IFERROR(IF(OR(SHEETNAME(A198)=\"HIDE\",SHEETNAME(A198)=\"Start Here\",SHEETNAME(A198)=\"Template\"),\"\",SHEETNAME(A198)),\"\")","v":""},{"$f":"IFERROR(INDIRECT(\"'\"&$B198&\"'!$d$6\"),\"\")","v":""},{"$f":"IFERROR(INDIRECT(\"'\"&$B198&\"'!$d$7\"),\"\")","v":""},{"$f":"IFERROR(INDIRECT(\"'\"&$B198&\"'!$d$8\"),\"\")","v":""},{"$f":"IFERROR(IF(OR(SHEETNAME($A198)=\"HIDE\",SHEETNAME($A198)=\"Start Here\",SHEETNAME($A198)=\"Template\"),\"\",HYPERLINK(\"#'\"&B198&\"'!A1\",\"Go to Sheet\")),\"\")","v":""},{"$f":"IFERROR(IF(INDIRECT(\"'\"&$B198&\"'!$U$7\"),INDIRECT(\"'\"&$B198&\"'!$u$9\"),\"(\"&INDIRECT(\"'\"&$B198&\"'!$U$8\")&\")\"),\"\")","v":""},{"$f":"IF(L198,\"This site has incomplete Cost and Revenue data.  \",\"\")&IF(M198,\"WFRS data for previous quarters is incomplete.  \",\"\")&IF(K198,IFERROR(INDIRECT(\"'\"&$B198&\"'!$g$9\"),\"\"),\"\")","v":""},false,{"$f":"IFERROR(INDIRECT(\"'\"&$B198&\"'!$u$7\"),FALSE)","v":false},{"$f":"IFERROR(INDIRECT(\"'\"&$B198&\"'!$u$10\"),FALSE)","v":false},{"$f":"IFERROR(INDIRECT(\"'\"&$B198&\"'!$AC$12\"),FALSE)","v":false},{"$f":"IFERROR(INDIRECT(\"'\"&$B198&\"'!$ad$12\"),FALSE)","v":false},null,{"$f":"IFERROR(INDIRECT(\"'\"&$B198&\"'!$d$10\"),\"\")","v":""},{"$f":"IFERROR(INDIRECT(\"'\"&$B198&\"'!$d$33\"),\"\")","v":""},{"$f":"IFERROR(INDIRECT(\"'\"&$B198&\"'!$j$33\")+INDIRECT(\"'\"&$B198&\"'!$k$33\"),\"\")","v":""},{"$f":"IFERROR(INDIRECT(\"'\"&$B198&\"'!$q$33\"),\"\")","v":""},{"$f":"IFERROR(INDIRECT(\"'\"&$B198&\"'!$e$33\"),\"\")","v":""},{"$f":"IFERROR(INDIRECT(\"'\"&$B198&\"'!$L$33\"),\"\")","v":""},{"$f":"IFERROR(INDIRECT(\"'\"&$B198&\"'!$g$33\")+INDIRECT(\"'\"&$B198&\"'!$h$33\")+INDIRECT(\"'\"&$B198&\"'!$i$33\"),\"\")","v":""}]
[163,{"$f":"IFERROR(IF(OR(SHEETNAME(A199)=\"HIDE\",SHEETNAME(A199)=\"Start Here\",SHEETNAME(A199)=\"Template\"),\"\",SHEETNAME(A199)),\"\")","v":""},{"$f":"IFERROR(INDIRECT(\"'\"&$B199&\"'!$d$6\"),\"\")","v":""},{"$f":"IFERROR(INDIRECT(\"'\"&$B199&\"'!$d$7\"),\"\")","v":""},{"$f":"IFERROR(INDIRECT(\"'\"&$B199&\"'!$d$8\"),\"\")","v":""},{"$f":"IFERROR(IF(OR(SHEETNAME($A199)=\"HIDE\",SHEETNAME($A199)=\"Start Here\",SHEETNAME($A199)=\"Template\"),\"\",HYPERLINK(\"#'\"&B199&\"'!A1\",\"Go to Sheet\")),\"\")","v":""},{"$f":"IFERROR(IF(INDIRECT(\"'\"&$B199&\"'!$U$7\"),INDIRECT(\"'\"&$B199&\"'!$u$9\"),\"(\"&INDIRECT(\"'\"&$B199&\"'!$U$8\")&\")\"),\"\")","v":""},{"$f":"IF(L199,\"This site has incomplete Cost and Revenue data.  \",\"\")&IF(M199,\"WFRS data for previous quarters is incomplete.  \",\"\")&IF(K199,IFERROR(INDIRECT(\"'\"&$B199&\"'!$g$9\"),\"\"),\"\")","v":""},false,{"$f":"IFERROR(INDIRECT(\"'\"&$B199&\"'!$u$7\"),FALSE)","v":false},{"$f":"IFERROR(INDIRECT(\"'\"&$B199&\"'!$u$10\"),FALSE)","v":false},{"$f":"IFERROR(INDIRECT(\"'\"&$B199&\"'!$AC$12\"),FALSE)","v":false},{"$f":"IFERROR(INDIRECT(\"'\"&$B199&\"'!$ad$12\"),FALSE)","v":false},null,{"$f":"IFERROR(INDIRECT(\"'\"&$B199&\"'!$d$10\"),\"\")","v":""},{"$f":"IFERROR(INDIRECT(\"'\"&$B199&\"'!$d$33\"),\"\")","v":""},{"$f":"IFERROR(INDIRECT(\"'\"&$B199&\"'!$j$33\")+INDIRECT(\"'\"&$B199&\"'!$k$33\"),\"\")","v":""},{"$f":"IFERROR(INDIRECT(\"'\"&$B199&\"'!$q$33\"),\"\")","v":""},{"$f":"IFERROR(INDIRECT(\"'\"&$B199&\"'!$e$33\"),\"\")","v":""},{"$f":"IFERROR(INDIRECT(\"'\"&$B199&\"'!$L$33\"),\"\")","v":""},{"$f":"IFERROR(INDIRECT(\"'\"&$B199&\"'!$g$33\")+INDIRECT(\"'\"&$B199&\"'!$h$33\")+INDIRECT(\"'\"&$B199&\"'!$i$33\"),\"\")","v":""}]
[164,{"$f":"IFERROR(IF(OR(SHEETNAME(A200)=\"HIDE\",SHEETNAME(A200)=\"Start Here\",SHEETNAME(A200)=\"Template\"),\"\",SHEETNAME(A200)),\"\")","v":""},{"$f":"IFERROR(INDIRECT(\"'\"&$B200&\"'!$d$6\"),\"\")","v":""},{"$f":"IFERROR(INDIRECT(\"'\"&$B200&\"'!$d$7\"),\"\")","v":""},{"$f":"IFERROR(INDIRECT(\"'\"&$B200&\"'!$d$8\"),\"\")","v":""},{"$f":"IFERROR(IF(OR(SHEETNAME($A200)=\"HIDE\",SHEETNAME($A200)=\"Start Here\",SHEETNAME($A200)=\"Template\"),\"\",HYPERLINK(\"#'\"&B200&\"'!A1\",\"Go to Sheet\")),\"\")","v":""},{"$f":"IFERROR(IF(INDIRECT(\"'\"&$B200&\"'!$U$7\"),INDIRECT(\"'\"&$B200&\"'!$u$9\"),\"(\"&INDIRECT(\"'\"&$B200&\"'!$U$8\")&\")\"),\"\")","v":""},{"$f":"IF(L200,\"This site has incomplete Cost and Revenue data.  \",\"\")&IF(M200,\"WFRS data for previous quarters is incomplete.  \",\"\")&IF(K200,IFERROR(INDIRECT(\"'\"&$B200&\"'!$g$9\"),\"\"),\"\")","v":""},false,{"$f":"IFERROR(INDIRECT(\"'\"&$B200&\"'!$u$7\"),FALSE)","v":false},{"$f":"IFERROR(INDIRECT(\"'\"&$B200&\"'!$u$10\"),FALSE)","v":false},{"$f":"IFERROR(INDIRECT(\"'\"&$B200&\"'!$AC$12\"),FALSE)","v":false},{"$f":"IFERROR(INDIRECT(\"'\"&$B200&\"'!$ad$12\"),FALSE)","v":false},null,{"$f":"IFERROR(INDIRECT(\"'\"&$B200&\"'!$d$10\"),\"\")","v":""},{"$f":"IFERROR(INDIRECT(\"'\"&$B200&\"'!$d$33\"),\"\")","v":""},{"$f":"IFERROR(INDIRECT(\"'\"&$B200&\"'!$j$33\")+INDIRECT(\"'\"&$B200&\"'!$k$33\"),\"\")","v":""},{"$f":"IFERROR(INDIRECT(\"'\"&$B200&\"'!$q$33\"),\"\")","v":""},{"$f":"IFERROR(INDIRECT(\"'\"&$B200&\"'!$e$33\"),\"\")","v":""},{"$f":"IFERROR(INDIRECT(\"'\"&$B200&\"'!$L$33\"),\"\")","v":""},{"$f":"IFERROR(INDIRECT(\"'\"&$B200&\"'!$g$33\")+INDIRECT(\"'\"&$B200&\"'!$h$33\")+INDIRECT(\"'\"&$B200&\"'!$i$33\"),\"\")","v":""}]
[165,{"$f":"IFERROR(IF(OR(SHEETNAME(A201)=\"HIDE\",SHEETNAME(A201)=\"Start Here\",SHEETNAME(A201)=\"Template\"),\"\",SHEETNAME(A201)),\"\")","v":""},{"$f":"IFERROR(INDIRECT(\"'\"&$B201&\"'!$d$6\"),\"\")","v":""},{"$f":"IFERROR(INDIRECT(\"'\"&$B201&\"'!$d$7\"),\"\")","v":""},{"$f":"IFERROR(INDIRECT(\"'\"&$B201&\"'!$d$8\"),\"\")","v":""},{"$f":"IFERROR(IF(OR(SHEETNAME($A201)=\"HIDE\",SHEETNAME($A201)=\"Start Here\",SHEETNAME($A201)=\"Template\"),\"\",HYPERLINK(\"#'\"&B201&\"'!A1\",\"Go to Sheet\")),\"\")","v":""},{"$f":"IFERROR(IF(INDIRECT(\"'\"&$B201&\"'!$U$7\"),INDIRECT(\"'\"&$B201&\"'!$u$9\"),\"(\"&INDIRECT(\"'\"&$B201&\"'!$U$8\")&\")\"),\"\")","v":""},{"$f":"IF(L201,\"This site has incomplete Cost and Revenue data.  \",\"\")&IF(M201,\"WFRS data for previous quarters is incomplete.  \",\"\")&IF(K201,IFERROR(INDIRECT(\"'\"&$B201&\"'!$g$9\"),\"\"),\"\")","v":""},false,{"$f":"IFERROR(INDIRECT(\"'\"&$B201&\"'!$u$7\"),FALSE)","v":false},{"$f":"IFERROR(INDIRECT(\"'\"&$B201&\"'!$u$10\"),FALSE)","v":false},{"$f":"IFERROR(INDIRECT(\"'\"&$B201&\"'!$AC$12\"),FALSE)","v":false},{"$f":"IFERROR(INDIRECT(\"'\"&$B201&\"'!$ad$12\"),FALSE)","v":false},null,{"$f":"IFERROR(INDIRECT(\"'\"&$B201&\"'!$d$10\"),\"\")","v":""},{"$f":"IFERROR(INDIRECT(\"'\"&$B201&\"'!$d$33\"),\"\")","v":""},{"$f":"IFERROR(INDIRECT(\"'\"&$B201&\"'!$j$33\")+INDIRECT(\"'\"&$B201&\"'!$k$33\"),\"\")","v":""},{"$f":"IFERROR(INDIRECT(\"'\"&$B201&\"'!$q$33\"),\"\")","v":""},{"$f":"IFERROR(INDIRECT(\"'\"&$B201&\"'!$e$33\"),\"\")","v":""},{"$f":"IFERROR(INDIRECT(\"'\"&$B201&\"'!$L$33\"),\"\")","v":""},{"$f":"IFERROR(INDIRECT(\"'\"&$B201&\"'!$g$33\")+INDIRECT(\"'\"&$B201&\"'!$h$33\")+INDIRECT(\"'\"&$B201&\"'!$i$33\"),\"\")","v":""}]
[166,{"$f":"IFERROR(IF(OR(SHEETNAME(A202)=\"HIDE\",SHEETNAME(A202)=\"Start Here\",SHEETNAME(A202)=\"Template\"),\"\",SHEETNAME(A202)),\"\")","v":""},{"$f":"IFERROR(INDIRECT(\"'\"&$B202&\"'!$d$6\"),\"\")","v":""},{"$f":"IFERROR(INDIRECT(\"'\"&$B202&\"'!$d$7\"),\"\")","v":""},{"$f":"IFERROR(INDIRECT(\"'\"&$B202&\"'!$d$8\"),\"\")","v":""},{"$f":"IFERROR(IF(OR(SHEETNAME($A202)=\"HIDE\",SHEETNAME($A202)=\"Start Here\",SHEETNAME($A202)=\"Template\"),\"\",HYPERLINK(\"#'\"&B202&\"'!A1\",\"Go to Sheet\")),\"\")","v":""},{"$f":"IFERROR(IF(INDIRECT(\"'\"&$B202&\"'!$U$7\"),INDIRECT(\"'\"&$B202&\"'!$u$9\"),\"(\"&INDIRECT(\"'\"&$B202&\"'!$U$8\")&\")\"),\"\")","v":""},{"$f":"IF(L202,\"This site has incomplete Cost and Revenue data.  \",\"\")&IF(M202,\"WFRS data for previous quarters is incomplete.  \",\"\")&IF(K202,IFERROR(INDIRECT(\"'\"&$B202&\"'!$g$9\"),\"\"),\"\")","v":""},false,{"$f":"IFERROR(INDIRECT(\"'\"&$B202&\"'!$u$7\"),FALSE)","v":false},{"$f":"IFERROR(INDIRECT(\"'\"&$B202&\"'!$u$10\"),FALSE)","v":false},{"$f":"IFERROR(INDIRECT(\"'\"&$B202&\"'!$AC$12\"),FALSE)","v":false},{"$f":"IFERROR(INDIRECT(\"'\"&$B202&\"'!$ad$12\"),FALSE)","v":false},null,{"$f":"IFERROR(INDIRECT(\"'\"&$B202&\"'!$d$10\"),\"\")","v":""},{"$f":"IFERROR(INDIRECT(\"'\"&$B202&\"'!$d$33\"),\"\")","v":""},{"$f":"IFERROR(INDIRECT(\"'\"&$B202&\"'!$j$33\")+INDIRECT(\"'\"&$B202&\"'!$k$33\"),\"\")","v":""},{"$f":"IFERROR(INDIRECT(\"'\"&$B202&\"'!$q$33\"),\"\")","v":""},{"$f":"IFERROR(INDIRECT(\"'\"&$B202&\"'!$e$33\"),\"\")","v":""},{"$f":"IFERROR(INDIRECT(\"'\"&$B202&\"'!$L$33\"),\"\")","v":""},{"$f":"IFERROR(INDIRECT(\"'\"&$B202&\"'!$g$33\")+INDIRECT(\"'\"&$B202&\"'!$h$33\")+INDIRECT(\"'\"&$B202&\"'!$i$33\"),\"\")","v":""}]
[167,{"$f":"IFERROR(IF(OR(SHEETNAME(A203)=\"HIDE\",SHEETNAME(A203)=\"Start Here\",SHEETNAME(A203)=\"Template\"),\"\",SHEETNAME(A203)),\"\")","v":""},{"$f":"IFERROR(INDIRECT(\"'\"&$B203&\"'!$d$6\"),\"\")","v":""},{"$f":"IFERROR(INDIRECT(\"'\"&$B203&\"'!$d$7\"),\"\")","v":""},{"$f":"IFERROR(INDIRECT(\"'\"&$B203&\"'!$d$8\"),\"\")","v":""},{"$f":"IFERROR(IF(OR(SHEETNAME($A203)=\"HIDE\",SHEETNAME($A203)=\"Start Here\",SHEETNAME($A203)=\"Template\"),\"\",HYPERLINK(\"#'\"&B203&\"'!A1\",\"Go to Sheet\")),\"\")","v":""},{"$f":"IFERROR(IF(INDIRECT(\"'\"&$B203&\"'!$U$7\"),INDIRECT(\"'\"&$B203&\"'!$u$9\"),\"(\"&INDIRECT(\"'\"&$B203&\"'!$U$8\")&\")\"),\"\")","v":""},{"$f":"IF(L203,\"This site has incomplete Cost and Revenue data.  \",\"\")&IF(M203,\"WFRS data for previous quarters is incomplete.  \",\"\")&IF(K203,IFERROR(INDIRECT(\"'\"&$B203&\"'!$g$9\"),\"\"),\"\")","v":""},false,{"$f":"IFERROR(INDIRECT(\"'\"&$B203&\"'!$u$7\"),FALSE)","v":false},{"$f":"IFERROR(INDIRECT(\"'\"&$B203&\"'!$u$10\"),FALSE)","v":false},{"$f":"IFERROR(INDIRECT(\"'\"&$B203&\"'!$AC$12\"),FALSE)","v":false},{"$f":"IFERROR(INDIRECT(\"'\"&$B203&\"'!$ad$12\"),FALSE)","v":false},null,{"$f":"IFERROR(INDIRECT(\"'\"&$B203&\"'!$d$10\"),\"\")","v":""},{"$f":"IFERROR(INDIRECT(\"'\"&$B203&\"'!$d$33\"),\"\")","v":""},{"$f":"IFERROR(INDIRECT(\"'\"&$B203&\"'!$j$33\")+INDIRECT(\"'\"&$B203&\"'!$k$33\"),\"\")","v":""},{"$f":"IFERROR(INDIRECT(\"'\"&$B203&\"'!$q$33\"),\"\")","v":""},{"$f":"IFERROR(INDIRECT(\"'\"&$B203&\"'!$e$33\"),\"\")","v":""},{"$f":"IFERROR(INDIRECT(\"'\"&$B203&\"'!$L$33\"),\"\")","v":""},{"$f":"IFERROR(INDIRECT(\"'\"&$B203&\"'!$g$33\")+INDIRECT(\"'\"&$B203&\"'!$h$33\")+INDIRECT(\"'\"&$B203&\"'!$i$33\"),\"\")","v":""}]
[168,{"$f":"IFERROR(IF(OR(SHEETNAME(A204)=\"HIDE\",SHEETNAME(A204)=\"Start Here\",SHEETNAME(A204)=\"Template\"),\"\",SHEETNAME(A204)),\"\")","v":""},{"$f":"IFERROR(INDIRECT(\"'\"&$B204&\"'!$d$6\"),\"\")","v":""},{"$f":"IFERROR(INDIRECT(\"'\"&$B204&\"'!$d$7\"),\"\")","v":""},{"$f":"IFERROR(INDIRECT(\"'\"&$B204&\"'!$d$8\"),\"\")","v":""},{"$f":"IFERROR(IF(OR(SHEETNAME($A204)=\"HIDE\",SHEETNAME($A204)=\"Start Here\",SHEETNAME($A204)=\"Template\"),\"\",HYPERLINK(\"#'\"&B204&\"'!A1\",\"Go to Sheet\")),\"\")","v":""},{"$f":"IFERROR(IF(INDIRECT(\"'\"&$B204&\"'!$U$7\"),INDIRECT(\"'\"&$B204&\"'!$u$9\"),\"(\"&INDIRECT(\"'\"&$B204&\"'!$U$8\")&\")\"),\"\")","v":""},{"$f":"IF(L204,\"This site has incomplete Cost and Revenue data.  \",\"\")&IF(M204,\"WFRS data for previous quarters is incomplete.  \",\"\")&IF(K204,IFERROR(INDIRECT(\"'\"&$B204&\"'!$g$9\"),\"\"),\"\")","v":""},false,{"$f":"IFERROR(INDIRECT(\"'\"&$B204&\"'!$u$7\"),FALSE)","v":false},{"$f":"IFERROR(INDIRECT(\"'\"&$B204&\"'!$u$10\"),FALSE)","v":false},{"$f":"IFERROR(INDIRECT(\"'\"&$B204&\"'!$AC$12\"),FALSE)","v":false},{"$f":"IFERROR(INDIRECT(\"'\"&$B204&\"'!$ad$12\"),FALSE)","v":false},null,{"$f":"IFERROR(INDIRECT(\"'\"&$B204&\"'!$d$10\"),\"\")","v":""},{"$f":"IFERROR(INDIRECT(\"'\"&$B204&\"'!$d$33\"),\"\")","v":""},{"$f":"IFERROR(INDIRECT(\"'\"&$B204&\"'!$j$33\")+INDIRECT(\"'\"&$B204&\"'!$k$33\"),\"\")","v":""},{"$f":"IFERROR(INDIRECT(\"'\"&$B204&\"'!$q$33\"),\"\")","v":""},{"$f":"IFERROR(INDIRECT(\"'\"&$B204&\"'!$e$33\"),\"\")","v":""},{"$f":"IFERROR(INDIRECT(\"'\"&$B204&\"'!$L$33\"),\"\")","v":""},{"$f":"IFERROR(INDIRECT(\"'\"&$B204&\"'!$g$33\")+INDIRECT(\"'\"&$B204&\"'!$h$33\")+INDIRECT(\"'\"&$B204&\"'!$i$33\"),\"\")","v":""}]
[169,{"$f":"IFERROR(IF(OR(SHEETNAME(A205)=\"HIDE\",SHEETNAME(A205)=\"Start Here\",SHEETNAME(A205)=\"Template\"),\"\",SHEETNAME(A205)),\"\")","v":""},{"$f":"IFERROR(INDIRECT(\"'\"&$B205&\"'!$d$6\"),\"\")","v":""},{"$f":"IFERROR(INDIRECT(\"'\"&$B205&\"'!$d$7\"),\"\")","v":""},{"$f":"IFERROR(INDIRECT(\"'\"&$B205&\"'!$d$8\"),\"\")","v":""},{"$f":"IFERROR(IF(OR(SHEETNAME($A205)=\"HIDE\",SHEETNAME($A205)=\"Start Here\",SHEETNAME($A205)=\"Template\"),\"\",HYPERLINK(\"#'\"&B205&\"'!A1\",\"Go to Sheet\")),\"\")","v":""},{"$f":"IFERROR(IF(INDIRECT(\"'\"&$B205&\"'!$U$7\"),INDIRECT(\"'\"&$B205&\"'!$u$9\"),\"(\"&INDIRECT(\"'\"&$B205&\"'!$U$8\")&\")\"),\"\")","v":""},{"$f":"IF(L205,\"This site has incomplete Cost and Revenue data.  \",\"\")&IF(M205,\"WFRS data for previous quarters is incomplete.  \",\"\")&IF(K205,IFERROR(INDIRECT(\"'\"&$B205&\"'!$g$9\"),\"\"),\"\")","v":""},false,{"$f":"IFERROR(INDIRECT(\"'\"&$B205&\"'!$u$7\"),FALSE)","v":false},{"$f":"IFERROR(INDIRECT(\"'\"&$B205&\"'!$u$10\"),FALSE)","v":false},{"$f":"IFERROR(INDIRECT(\"'\"&$B205&\"'!$AC$12\"),FALSE)","v":false},{"$f":"IFERROR(INDIRECT(\"'\"&$B205&\"'!$ad$12\"),FALSE)","v":false},null,{"$f":"IFERROR(INDIRECT(\"'\"&$B205&\"'!$d$10\"),\"\")","v":""},{"$f":"IFERROR(INDIRECT(\"'\"&$B205&\"'!$d$33\"),\"\")","v":""},{"$f":"IFERROR(INDIRECT(\"'\"&$B205&\"'!$j$33\")+INDIRECT(\"'\"&$B205&\"'!$k$33\"),\"\")","v":""},{"$f":"IFERROR(INDIRECT(\"'\"&$B205&\"'!$q$33\"),\"\")","v":""},{"$f":"IFERROR(INDIRECT(\"'\"&$B205&\"'!$e$33\"),\"\")","v":""},{"$f":"IFERROR(INDIRECT(\"'\"&$B205&\"'!$L$33\"),\"\")","v":""},{"$f":"IFERROR(INDIRECT(\"'\"&$B205&\"'!$g$33\")+INDIRECT(\"'\"&$B205&\"'!$h$33\")+INDIRECT(\"'\"&$B205&\"'!$i$33\"),\"\")","v":""}]
[170,{"$f":"IFERROR(IF(OR(SHEETNAME(A206)=\"HIDE\",SHEETNAME(A206)=\"Start Here\",SHEETNAME(A206)=\"Template\"),\"\",SHEETNAME(A206)),\"\")","v":""},{"$f":"IFERROR(INDIRECT(\"'\"&$B206&\"'!$d$6\"),\"\")","v":""},{"$f":"IFERROR(INDIRECT(\"'\"&$B206&\"'!$d$7\"),\"\")","v":""},{"$f":"IFERROR(INDIRECT(\"'\"&$B206&\"'!$d$8\"),\"\")","v":""},{"$f":"IFERROR(IF(OR(SHEETNAME($A206)=\"HIDE\",SHEETNAME($A206)=\"Start Here\",SHEETNAME($A206)=\"Template\"),\"\",HYPERLINK(\"#'\"&B206&\"'!A1\",\"Go to Sheet\")),\"\")","v":""},{"$f":"IFERROR(IF(INDIRECT(\"'\"&$B206&\"'!$U$7\"),INDIRECT(\"'\"&$B206&\"'!$u$9\"),\"(\"&INDIRECT(\"'\"&$B206&\"'!$U$8\")&\")\"),\"\")","v":""},{"$f":"IF(L206,\"This site has incomplete Cost and Revenue data.  \",\"\")&IF(M206,\"WFRS data for previous quarters is incomplete.  \",\"\")&IF(K206,IFERROR(INDIRECT(\"'\"&$B206&\"'!$g$9\"),\"\"),\"\")","v":""},false,{"$f":"IFERROR(INDIRECT(\"'\"&$B206&\"'!$u$7\"),FALSE)","v":false},{"$f":"IFERROR(INDIRECT(\"'\"&$B206&\"'!$u$10\"),FALSE)","v":false},{"$f":"IFERROR(INDIRECT(\"'\"&$B206&\"'!$AC$12\"),FALSE)","v":false},{"$f":"IFERROR(INDIRECT(\"'\"&$B206&\"'!$ad$12\"),FALSE)","v":false},null,{"$f":"IFERROR(INDIRECT(\"'\"&$B206&\"'!$d$10\"),\"\")","v":""},{"$f":"IFERROR(INDIRECT(\"'\"&$B206&\"'!$d$33\"),\"\")","v":""},{"$f":"IFERROR(INDIRECT(\"'\"&$B206&\"'!$j$33\")+INDIRECT(\"'\"&$B206&\"'!$k$33\"),\"\")","v":""},{"$f":"IFERROR(INDIRECT(\"'\"&$B206&\"'!$q$33\"),\"\")","v":""},{"$f":"IFERROR(INDIRECT(\"'\"&$B206&\"'!$e$33\"),\"\")","v":""},{"$f":"IFERROR(INDIRECT(\"'\"&$B206&\"'!$L$33\"),\"\")","v":""},{"$f":"IFERROR(INDIRECT(\"'\"&$B206&\"'!$g$33\")+INDIRECT(\"'\"&$B206&\"'!$h$33\")+INDIRECT(\"'\"&$B206&\"'!$i$33\"),\"\")","v":""}]
[171,{"$f":"IFERROR(IF(OR(SHEETNAME(A207)=\"HIDE\",SHEETNAME(A207)=\"Start Here\",SHEETNAME(A207)=\"Template\"),\"\",SHEETNAME(A207)),\"\")","v":""},{"$f":"IFERROR(INDIRECT(\"'\"&$B207&\"'!$d$6\"),\"\")","v":""},{"$f":"IFERROR(INDIRECT(\"'\"&$B207&\"'!$d$7\"),\"\")","v":""},{"$f":"IFERROR(INDIRECT(\"'\"&$B207&\"'!$d$8\"),\"\")","v":""},{"$f":"IFERROR(IF(OR(SHEETNAME($A207)=\"HIDE\",SHEETNAME($A207)=\"Start Here\",SHEETNAME($A207)=\"Template\"),\"\",HYPERLINK(\"#'\"&B207&\"'!A1\",\"Go to Sheet\")),\"\")","v":""},{"$f":"IFERROR(IF(INDIRECT(\"'\"&$B207&\"'!$U$7\"),INDIRECT(\"'\"&$B207&\"'!$u$9\"),\"(\"&INDIRECT(\"'\"&$B207&\"'!$U$8\")&\")\"),\"\")","v":""},{"$f":"IF(L207,\"This site has incomplete Cost and Revenue data.  \",\"\")&IF(M207,\"WFRS data for previous quarters is incomplete.  \",\"\")&IF(K207,IFERROR(INDIRECT(\"'\"&$B207&\"'!$g$9\"),\"\"),\"\")","v":""},false,{"$f":"IFERROR(INDIRECT(\"'\"&$B207&\"'!$u$7\"),FALSE)","v":false},{"$f":"IFERROR(INDIRECT(\"'\"&$B207&\"'!$u$10\"),FALSE)","v":false},{"$f":"IFERROR(INDIRECT(\"'\"&$B207&\"'!$AC$12\"),FALSE)","v":false},{"$f":"IFERROR(INDIRECT(\"'\"&$B207&\"'!$ad$12\"),FALSE)","v":false},null,{"$f":"IFERROR(INDIRECT(\"'\"&$B207&\"'!$d$10\"),\"\")","v":""},{"$f":"IFERROR(INDIRECT(\"'\"&$B207&\"'!$d$33\"),\"\")","v":""},{"$f":"IFERROR(INDIRECT(\"'\"&$B207&\"'!$j$33\")+INDIRECT(\"'\"&$B207&\"'!$k$33\"),\"\")","v":""},{"$f":"IFERROR(INDIRECT(\"'\"&$B207&\"'!$q$33\"),\"\")","v":""},{"$f":"IFERROR(INDIRECT(\"'\"&$B207&\"'!$e$33\"),\"\")","v":""},{"$f":"IFERROR(INDIRECT(\"'\"&$B207&\"'!$L$33\"),\"\")","v":""},{"$f":"IFERROR(INDIRECT(\"'\"&$B207&\"'!$g$33\")+INDIRECT(\"'\"&$B207&\"'!$h$33\")+INDIRECT(\"'\"&$B207&\"'!$i$33\"),\"\")","v":""}]
[172,{"$f":"IFERROR(IF(OR(SHEETNAME(A208)=\"HIDE\",SHEETNAME(A208)=\"Start Here\",SHEETNAME(A208)=\"Template\"),\"\",SHEETNAME(A208)),\"\")","v":""},{"$f":"IFERROR(INDIRECT(\"'\"&$B208&\"'!$d$6\"),\"\")","v":""},{"$f":"IFERROR(INDIRECT(\"'\"&$B208&\"'!$d$7\"),\"\")","v":""},{"$f":"IFERROR(INDIRECT(\"'\"&$B208&\"'!$d$8\"),\"\")","v":""},{"$f":"IFERROR(IF(OR(SHEETNAME($A208)=\"HIDE\",SHEETNAME($A208)=\"Start Here\",SHEETNAME($A208)=\"Template\"),\"\",HYPERLINK(\"#'\"&B208&\"'!A1\",\"Go to Sheet\")),\"\")","v":""},{"$f":"IFERROR(IF(INDIRECT(\"'\"&$B208&\"'!$U$7\"),INDIRECT(\"'\"&$B208&\"'!$u$9\"),\"(\"&INDIRECT(\"'\"&$B208&\"'!$U$8\")&\")\"),\"\")","v":""},{"$f":"IF(L208,\"This site has incomplete Cost and Revenue data.  \",\"\")&IF(M208,\"WFRS data for previous quarters is incomplete.  \",\"\")&IF(K208,IFERROR(INDIRECT(\"'\"&$B208&\"'!$g$9\"),\"\"),\"\")","v":""},false,{"$f":"IFERROR(INDIRECT(\"'\"&$B208&\"'!$u$7\"),FALSE)","v":false},{"$f":"IFERROR(INDIRECT(\"'\"&$B208&\"'!$u$10\"),FALSE)","v":false},{"$f":"IFERROR(INDIRECT(\"'\"&$B208&\"'!$AC$12\"),FALSE)","v":false},{"$f":"IFERROR(INDIRECT(\"'\"&$B208&\"'!$ad$12\"),FALSE)","v":false},null,{"$f":"IFERROR(INDIRECT(\"'\"&$B208&\"'!$d$10\"),\"\")","v":""},{"$f":"IFERROR(INDIRECT(\"'\"&$B208&\"'!$d$33\"),\"\")","v":""},{"$f":"IFERROR(INDIRECT(\"'\"&$B208&\"'!$j$33\")+INDIRECT(\"'\"&$B208&\"'!$k$33\"),\"\")","v":""},{"$f":"IFERROR(INDIRECT(\"'\"&$B208&\"'!$q$33\"),\"\")","v":""},{"$f":"IFERROR(INDIRECT(\"'\"&$B208&\"'!$e$33\"),\"\")","v":""},{"$f":"IFERROR(INDIRECT(\"'\"&$B208&\"'!$L$33\"),\"\")","v":""},{"$f":"IFERROR(INDIRECT(\"'\"&$B208&\"'!$g$33\")+INDIRECT(\"'\"&$B208&\"'!$h$33\")+INDIRECT(\"'\"&$B208&\"'!$i$33\"),\"\")","v":""}]
[173,{"$f":"IFERROR(IF(OR(SHEETNAME(A209)=\"HIDE\",SHEETNAME(A209)=\"Start Here\",SHEETNAME(A209)=\"Template\"),\"\",SHEETNAME(A209)),\"\")","v":""},{"$f":"IFERROR(INDIRECT(\"'\"&$B209&\"'!$d$6\"),\"\")","v":""},{"$f":"IFERROR(INDIRECT(\"'\"&$B209&\"'!$d$7\"),\"\")","v":""},{"$f":"IFERROR(INDIRECT(\"'\"&$B209&\"'!$d$8\"),\"\")","v":""},{"$f":"IFERROR(IF(OR(SHEETNAME($A209)=\"HIDE\",SHEETNAME($A209)=\"Start Here\",SHEETNAME($A209)=\"Template\"),\"\",HYPERLINK(\"#'\"&B209&\"'!A1\",\"Go to Sheet\")),\"\")","v":""},{"$f":"IFERROR(IF(INDIRECT(\"'\"&$B209&\"'!$U$7\"),INDIRECT(\"'\"&$B209&\"'!$u$9\"),\"(\"&INDIRECT(\"'\"&$B209&\"'!$U$8\")&\")\"),\"\")","v":""},{"$f":"IF(L209,\"This site has incomplete Cost and Revenue data.  \",\"\")&IF(M209,\"WFRS data for previous quarters is incomplete.  \",\"\")&IF(K209,IFERROR(INDIRECT(\"'\"&$B209&\"'!$g$9\"),\"\"),\"\")","v":""},false,{"$f":"IFERROR(INDIRECT(\"'\"&$B209&\"'!$u$7\"),FALSE)","v":false},{"$f":"IFERROR(INDIRECT(\"'\"&$B209&\"'!$u$10\"),FALSE)","v":false},{"$f":"IFERROR(INDIRECT(\"'\"&$B209&\"'!$AC$12\"),FALSE)","v":false},{"$f":"IFERROR(INDIRECT(\"'\"&$B209&\"'!$ad$12\"),FALSE)","v":false},null,{"$f":"IFERROR(INDIRECT(\"'\"&$B209&\"'!$d$10\"),\"\")","v":""},{"$f":"IFERROR(INDIRECT(\"'\"&$B209&\"'!$d$33\"),\"\")","v":""},{"$f":"IFERROR(INDIRECT(\"'\"&$B209&\"'!$j$33\")+INDIRECT(\"'\"&$B209&\"'!$k$33\"),\"\")","v":""},{"$f":"IFERROR(INDIRECT(\"'\"&$B209&\"'!$q$33\"),\"\")","v":""},{"$f":"IFERROR(INDIRECT(\"'\"&$B209&\"'!$e$33\"),\"\")","v":""},{"$f":"IFERROR(INDIRECT(\"'\"&$B209&\"'!$L$33\"),\"\")","v":""},{"$f":"IFERROR(INDIRECT(\"'\"&$B209&\"'!$g$33\")+INDIRECT(\"'\"&$B209&\"'!$h$33\")+INDIRECT(\"'\"&$B209&\"'!$i$33\"),\"\")","v":""}]
[174,{"$f":"IFERROR(IF(OR(SHEETNAME(A210)=\"HIDE\",SHEETNAME(A210)=\"Start Here\",SHEETNAME(A210)=\"Template\"),\"\",SHEETNAME(A210)),\"\")","v":""},{"$f":"IFERROR(INDIRECT(\"'\"&$B210&\"'!$d$6\"),\"\")","v":""},{"$f":"IFERROR(INDIRECT(\"'\"&$B210&\"'!$d$7\"),\"\")","v":""},{"$f":"IFERROR(INDIRECT(\"'\"&$B210&\"'!$d$8\"),\"\")","v":""},{"$f":"IFERROR(IF(OR(SHEETNAME($A210)=\"HIDE\",SHEETNAME($A210)=\"Start Here\",SHEETNAME($A210)=\"Template\"),\"\",HYPERLINK(\"#'\"&B210&\"'!A1\",\"Go to Sheet\")),\"\")","v":""},{"$f":"IFERROR(IF(INDIRECT(\"'\"&$B210&\"'!$U$7\"),INDIRECT(\"'\"&$B210&\"'!$u$9\"),\"(\"&INDIRECT(\"'\"&$B210&\"'!$U$8\")&\")\"),\"\")","v":""},{"$f":"IF(L210,\"This site has incomplete Cost and Revenue data.  \",\"\")&IF(M210,\"WFRS data for previous quarters is incomplete.  \",\"\")&IF(K210,IFERROR(INDIRECT(\"'\"&$B210&\"'!$g$9\"),\"\"),\"\")","v":""},false,{"$f":"IFERROR(INDIRECT(\"'\"&$B210&\"'!$u$7\"),FALSE)","v":false},{"$f":"IFERROR(INDIRECT(\"'\"&$B210&\"'!$u$10\"),FALSE)","v":false},{"$f":"IFERROR(INDIRECT(\"'\"&$B210&\"'!$AC$12\"),FALSE)","v":false},{"$f":"IFERROR(INDIRECT(\"'\"&$B210&\"'!$ad$12\"),FALSE)","v":false},null,{"$f":"IFERROR(INDIRECT(\"'\"&$B210&\"'!$d$10\"),\"\")","v":""},{"$f":"IFERROR(INDIRECT(\"'\"&$B210&\"'!$d$33\"),\"\")","v":""},{"$f":"IFERROR(INDIRECT(\"'\"&$B210&\"'!$j$33\")+INDIRECT(\"'\"&$B210&\"'!$k$33\"),\"\")","v":""},{"$f":"IFERROR(INDIRECT(\"'\"&$B210&\"'!$q$33\"),\"\")","v":""},{"$f":"IFERROR(INDIRECT(\"'\"&$B210&\"'!$e$33\"),\"\")","v":""},{"$f":"IFERROR(INDIRECT(\"'\"&$B210&\"'!$L$33\"),\"\")","v":""},{"$f":"IFERROR(INDIRECT(\"'\"&$B210&\"'!$g$33\")+INDIRECT(\"'\"&$B210&\"'!$h$33\")+INDIRECT(\"'\"&$B210&\"'!$i$33\"),\"\")","v":""}]
[175,{"$f":"IFERROR(IF(OR(SHEETNAME(A211)=\"HIDE\",SHEETNAME(A211)=\"Start Here\",SHEETNAME(A211)=\"Template\"),\"\",SHEETNAME(A211)),\"\")","v":""},{"$f":"IFERROR(INDIRECT(\"'\"&$B211&\"'!$d$6\"),\"\")","v":""},{"$f":"IFERROR(INDIRECT(\"'\"&$B211&\"'!$d$7\"),\"\")","v":""},{"$f":"IFERROR(INDIRECT(\"'\"&$B211&\"'!$d$8\"),\"\")","v":""},{"$f":"IFERROR(IF(OR(SHEETNAME($A211)=\"HIDE\",SHEETNAME($A211)=\"Start Here\",SHEETNAME($A211)=\"Template\"),\"\",HYPERLINK(\"#'\"&B211&\"'!A1\",\"Go to Sheet\")),\"\")","v":""},{"$f":"IFERROR(IF(INDIRECT(\"'\"&$B211&\"'!$U$7\"),INDIRECT(\"'\"&$B211&\"'!$u$9\"),\"(\"&INDIRECT(\"'\"&$B211&\"'!$U$8\")&\")\"),\"\")","v":""},{"$f":"IF(L211,\"This site has incomplete Cost and Revenue data.  \",\"\")&IF(M211,\"WFRS data for previous quarters is incomplete.  \",\"\")&IF(K211,IFERROR(INDIRECT(\"'\"&$B211&\"'!$g$9\"),\"\"),\"\")","v":""},false,{"$f":"IFERROR(INDIRECT(\"'\"&$B211&\"'!$u$7\"),FALSE)","v":false},{"$f":"IFERROR(INDIRECT(\"'\"&$B211&\"'!$u$10\"),FALSE)","v":false},{"$f":"IFERROR(INDIRECT(\"'\"&$B211&\"'!$AC$12\"),FALSE)","v":false},{"$f":"IFERROR(INDIRECT(\"'\"&$B211&\"'!$ad$12\"),FALSE)","v":false},null,{"$f":"IFERROR(INDIRECT(\"'\"&$B211&\"'!$d$10\"),\"\")","v":""},{"$f":"IFERROR(INDIRECT(\"'\"&$B211&\"'!$d$33\"),\"\")","v":""},{"$f":"IFERROR(INDIRECT(\"'\"&$B211&\"'!$j$33\")+INDIRECT(\"'\"&$B211&\"'!$k$33\"),\"\")","v":""},{"$f":"IFERROR(INDIRECT(\"'\"&$B211&\"'!$q$33\"),\"\")","v":""},{"$f":"IFERROR(INDIRECT(\"'\"&$B211&\"'!$e$33\"),\"\")","v":""},{"$f":"IFERROR(INDIRECT(\"'\"&$B211&\"'!$L$33\"),\"\")","v":""},{"$f":"IFERROR(INDIRECT(\"'\"&$B211&\"'!$g$33\")+INDIRECT(\"'\"&$B211&\"'!$h$33\")+INDIRECT(\"'\"&$B211&\"'!$i$33\"),\"\")","v":""}]
[176,{"$f":"IFERROR(IF(OR(SHEETNAME(A212)=\"HIDE\",SHEETNAME(A212)=\"Start Here\",SHEETNAME(A212)=\"Template\"),\"\",SHEETNAME(A212)),\"\")","v":""},{"$f":"IFERROR(INDIRECT(\"'\"&$B212&\"'!$d$6\"),\"\")","v":""},{"$f":"IFERROR(INDIRECT(\"'\"&$B212&\"'!$d$7\"),\"\")","v":""},{"$f":"IFERROR(INDIRECT(\"'\"&$B212&\"'!$d$8\"),\"\")","v":""},{"$f":"IFERROR(IF(OR(SHEETNAME($A212)=\"HIDE\",SHEETNAME($A212)=\"Start Here\",SHEETNAME($A212)=\"Template\"),\"\",HYPERLINK(\"#'\"&B212&\"'!A1\",\"Go to Sheet\")),\"\")","v":""},{"$f":"IFERROR(IF(INDIRECT(\"'\"&$B212&\"'!$U$7\"),INDIRECT(\"'\"&$B212&\"'!$u$9\"),\"(\"&INDIRECT(\"'\"&$B212&\"'!$U$8\")&\")\"),\"\")","v":""},{"$f":"IF(L212,\"This site has incomplete Cost and Revenue data.  \",\"\")&IF(M212,\"WFRS data for previous quarters is incomplete.  \",\"\")&IF(K212,IFERROR(INDIRECT(\"'\"&$B212&\"'!$g$9\"),\"\"),\"\")","v":""},false,{"$f":"IFERROR(INDIRECT(\"'\"&$B212&\"'!$u$7\"),FALSE)","v":false},{"$f":"IFERROR(INDIRECT(\"'\"&$B212&\"'!$u$10\"),FALSE)","v":false},{"$f":"IFERROR(INDIRECT(\"'\"&$B212&\"'!$AC$12\"),FALSE)","v":false},{"$f":"IFERROR(INDIRECT(\"'\"&$B212&\"'!$ad$12\"),FALSE)","v":false},null,{"$f":"IFERROR(INDIRECT(\"'\"&$B212&\"'!$d$10\"),\"\")","v":""},{"$f":"IFERROR(INDIRECT(\"'\"&$B212&\"'!$d$33\"),\"\")","v":""},{"$f":"IFERROR(INDIRECT(\"'\"&$B212&\"'!$j$33\")+INDIRECT(\"'\"&$B212&\"'!$k$33\"),\"\")","v":""},{"$f":"IFERROR(INDIRECT(\"'\"&$B212&\"'!$q$33\"),\"\")","v":""},{"$f":"IFERROR(INDIRECT(\"'\"&$B212&\"'!$e$33\"),\"\")","v":""},{"$f":"IFERROR(INDIRECT(\"'\"&$B212&\"'!$L$33\"),\"\")","v":""},{"$f":"IFERROR(INDIRECT(\"'\"&$B212&\"'!$g$33\")+INDIRECT(\"'\"&$B212&\"'!$h$33\")+INDIRECT(\"'\"&$B212&\"'!$i$33\"),\"\")","v":""}]
[177,{"$f":"IFERROR(IF(OR(SHEETNAME(A213)=\"HIDE\",SHEETNAME(A213)=\"Start Here\",SHEETNAME(A213)=\"Template\"),\"\",SHEETNAME(A213)),\"\")","v":""},{"$f":"IFERROR(INDIRECT(\"'\"&$B213&\"'!$d$6\"),\"\")","v":""},{"$f":"IFERROR(INDIRECT(\"'\"&$B213&\"'!$d$7\"),\"\")","v":""},{"$f":"IFERROR(INDIRECT(\"'\"&$B213&\"'!$d$8\"),\"\")","v":""},{"$f":"IFERROR(IF(OR(SHEETNAME($A213)=\"HIDE\",SHEETNAME($A213)=\"Start Here\",SHEETNAME($A213)=\"Template\"),\"\",HYPERLINK(\"#'\"&B213&\"'!A1\",\"Go to Sheet\")),\"\")","v":""},{"$f":"IFERROR(IF(INDIRECT(\"'\"&$B213&\"'!$U$7\"),INDIRECT(\"'\"&$B213&\"'!$u$9\"),\"(\"&INDIRECT(\"'\"&$B213&\"'!$U$8\")&\")\"),\"\")","v":""},{"$f":"IF(L213,\"This site has incomplete Cost and Revenue data.  \",\"\")&IF(M213,\"WFRS data for previous quarters is incomplete.  \",\"\")&IF(K213,IFERROR(INDIRECT(\"'\"&$B213&\"'!$g$9\"),\"\"),\"\")","v":""},false,{"$f":"IFERROR(INDIRECT(\"'\"&$B213&\"'!$u$7\"),FALSE)","v":false},{"$f":"IFERROR(INDIRECT(\"'\"&$B213&\"'!$u$10\"),FALSE)","v":false},{"$f":"IFERROR(INDIRECT(\"'\"&$B213&\"'!$AC$12\"),FALSE)","v":false},{"$f":"IFERROR(INDIRECT(\"'\"&$B213&\"'!$ad$12\"),FALSE)","v":false},null,{"$f":"IFERROR(INDIRECT(\"'\"&$B213&\"'!$d$10\"),\"\")","v":""},{"$f":"IFERROR(INDIRECT(\"'\"&$B213&\"'!$d$33\"),\"\")","v":""},{"$f":"IFERROR(INDIRECT(\"'\"&$B213&\"'!$j$33\")+INDIRECT(\"'\"&$B213&\"'!$k$33\"),\"\")","v":""},{"$f":"IFERROR(INDIRECT(\"'\"&$B213&\"'!$q$33\"),\"\")","v":""},{"$f":"IFERROR(INDIRECT(\"'\"&$B213&\"'!$e$33\"),\"\")","v":""},{"$f":"IFERROR(INDIRECT(\"'\"&$B213&\"'!$L$33\"),\"\")","v":""},{"$f":"IFERROR(INDIRECT(\"'\"&$B213&\"'!$g$33\")+INDIRECT(\"'\"&$B213&\"'!$h$33\")+INDIRECT(\"'\"&$B213&\"'!$i$33\"),\"\")","v":""}]
[178,{"$f":"IFERROR(IF(OR(SHEETNAME(A214)=\"HIDE\",SHEETNAME(A214)=\"Start Here\",SHEETNAME(A214)=\"Template\"),\"\",SHEETNAME(A214)),\"\")","v":""},{"$f":"IFERROR(INDIRECT(\"'\"&$B214&\"'!$d$6\"),\"\")","v":""},{"$f":"IFERROR(INDIRECT(\"'\"&$B214&\"'!$d$7\"),\"\")","v":""},{"$f":"IFERROR(INDIRECT(\"'\"&$B214&\"'!$d$8\"),\"\")","v":""},{"$f":"IFERROR(IF(OR(SHEETNAME($A214)=\"HIDE\",SHEETNAME($A214)=\"Start Here\",SHEETNAME($A214)=\"Template\"),\"\",HYPERLINK(\"#'\"&B214&\"'!A1\",\"Go to Sheet\")),\"\")","v":""},{"$f":"IFERROR(IF(INDIRECT(\"'\"&$B214&\"'!$U$7\"),INDIRECT(\"'\"&$B214&\"'!$u$9\"),\"(\"&INDIRECT(\"'\"&$B214&\"'!$U$8\")&\")\"),\"\")","v":""},{"$f":"IF(L214,\"This site has incomplete Cost and Revenue data.  \",\"\")&IF(M214,\"WFRS data for previous quarters is incomplete.  \",\"\")&IF(K214,IFERROR(INDIRECT(\"'\"&$B214&\"'!$g$9\"),\"\"),\"\")","v":""},false,{"$f":"IFERROR(INDIRECT(\"'\"&$B214&\"'!$u$7\"),FALSE)","v":false},{"$f":"IFERROR(INDIRECT(\"'\"&$B214&\"'!$u$10\"),FALSE)","v":false},{"$f":"IFERROR(INDIRECT(\"'\"&$B214&\"'!$AC$12\"),FALSE)","v":false},{"$f":"IFERROR(INDIRECT(\"'\"&$B214&\"'!$ad$12\"),FALSE)","v":false},null,{"$f":"IFERROR(INDIRECT(\"'\"&$B214&\"'!$d$10\"),\"\")","v":""},{"$f":"IFERROR(INDIRECT(\"'\"&$B214&\"'!$d$33\"),\"\")","v":""},{"$f":"IFERROR(INDIRECT(\"'\"&$B214&\"'!$j$33\")+INDIRECT(\"'\"&$B214&\"'!$k$33\"),\"\")","v":""},{"$f":"IFERROR(INDIRECT(\"'\"&$B214&\"'!$q$33\"),\"\")","v":""},{"$f":"IFERROR(INDIRECT(\"'\"&$B214&\"'!$e$33\"),\"\")","v":""},{"$f":"IFERROR(INDIRECT(\"'\"&$B214&\"'!$L$33\"),\"\")","v":""},{"$f":"IFERROR(INDIRECT(\"'\"&$B214&\"'!$g$33\")+INDIRECT(\"'\"&$B214&\"'!$h$33\")+INDIRECT(\"'\"&$B214&\"'!$i$33\"),\"\")","v":""}]
[179,{"$f":"IFERROR(IF(OR(SHEETNAME(A215)=\"HIDE\",SHEETNAME(A215)=\"Start Here\",SHEETNAME(A215)=\"Template\"),\"\",SHEETNAME(A215)),\"\")","v":""},{"$f":"IFERROR(INDIRECT(\"'\"&$B215&\"'!$d$6\"),\"\")","v":""},{"$f":"IFERROR(INDIRECT(\"'\"&$B215&\"'!$d$7\"),\"\")","v":""},{"$f":"IFERROR(INDIRECT(\"'\"&$B215&\"'!$d$8\"),\"\")","v":""},{"$f":"IFERROR(IF(OR(SHEETNAME($A215)=\"HIDE\",SHEETNAME($A215)=\"Start Here\",SHEETNAME($A215)=\"Template\"),\"\",HYPERLINK(\"#'\"&B215&\"'!A1\",\"Go to Sheet\")),\"\")","v":""},{"$f":"IFERROR(IF(INDIRECT(\"'\"&$B215&\"'!$U$7\"),INDIRECT(\"'\"&$B215&\"'!$u$9\"),\"(\"&INDIRECT(\"'\"&$B215&\"'!$U$8\")&\")\"),\"\")","v":""},{"$f":"IF(L215,\"This site has incomplete Cost and Revenue data.  \",\"\")&IF(M215,\"WFRS data for previous quarters is incomplete.  \",\"\")&IF(K215,IFERROR(INDIRECT(\"'\"&$B215&\"'!$g$9\"),\"\"),\"\")","v":""},false,{"$f":"IFERROR(INDIRECT(\"'\"&$B215&\"'!$u$7\"),FALSE)","v":false},{"$f":"IFERROR(INDIRECT(\"'\"&$B215&\"'!$u$10\"),FALSE)","v":false},{"$f":"IFERROR(INDIRECT(\"'\"&$B215&\"'!$AC$12\"),FALSE)","v":false},{"$f":"IFERROR(INDIRECT(\"'\"&$B215&\"'!$ad$12\"),FALSE)","v":false},null,{"$f":"IFERROR(INDIRECT(\"'\"&$B215&\"'!$d$10\"),\"\")","v":""},{"$f":"IFERROR(INDIRECT(\"'\"&$B215&\"'!$d$33\"),\"\")","v":""},{"$f":"IFERROR(INDIRECT(\"'\"&$B215&\"'!$j$33\")+INDIRECT(\"'\"&$B215&\"'!$k$33\"),\"\")","v":""},{"$f":"IFERROR(INDIRECT(\"'\"&$B215&\"'!$q$33\"),\"\")","v":""},{"$f":"IFERROR(INDIRECT(\"'\"&$B215&\"'!$e$33\"),\"\")","v":""},{"$f":"IFERROR(INDIRECT(\"'\"&$B215&\"'!$L$33\"),\"\")","v":""},{"$f":"IFERROR(INDIRECT(\"'\"&$B215&\"'!$g$33\")+INDIRECT(\"'\"&$B215&\"'!$h$33\")+INDIRECT(\"'\"&$B215&\"'!$i$33\"),\"\")","v":""}]
[180,{"$f":"IFERROR(IF(OR(SHEETNAME(A216)=\"HIDE\",SHEETNAME(A216)=\"Start Here\",SHEETNAME(A216)=\"Template\"),\"\",SHEETNAME(A216)),\"\")","v":""},{"$f":"IFERROR(INDIRECT(\"'\"&$B216&\"'!$d$6\"),\"\")","v":""},{"$f":"IFERROR(INDIRECT(\"'\"&$B216&\"'!$d$7\"),\"\")","v":""},{"$f":"IFERROR(INDIRECT(\"'\"&$B216&\"'!$d$8\"),\"\")","v":""},{"$f":"IFERROR(IF(OR(SHEETNAME($A216)=\"HIDE\",SHEETNAME($A216)=\"Start Here\",SHEETNAME($A216)=\"Template\"),\"\",HYPERLINK(\"#'\"&B216&\"'!A1\",\"Go to Sheet\")),\"\")","v":""},{"$f":"IFERROR(IF(INDIRECT(\"'\"&$B216&\"'!$U$7\"),INDIRECT(\"'\"&$B216&\"'!$u$9\"),\"(\"&INDIRECT(\"'\"&$B216&\"'!$U$8\")&\")\"),\"\")","v":""},{"$f":"IF(L216,\"This site has incomplete Cost and Revenue data.  \",\"\")&IF(M216,\"WFRS data for previous quarters is incomplete.  \",\"\")&IF(K216,IFERROR(INDIRECT(\"'\"&$B216&\"'!$g$9\"),\"\"),\"\")","v":""},false,{"$f":"IFERROR(INDIRECT(\"'\"&$B216&\"'!$u$7\"),FALSE)","v":false},{"$f":"IFERROR(INDIRECT(\"'\"&$B216&\"'!$u$10\"),FALSE)","v":false},{"$f":"IFERROR(INDIRECT(\"'\"&$B216&\"'!$AC$12\"),FALSE)","v":false},{"$f":"IFERROR(INDIRECT(\"'\"&$B216&\"'!$ad$12\"),FALSE)","v":false},null,{"$f":"IFERROR(INDIRECT(\"'\"&$B216&\"'!$d$10\"),\"\")","v":""},{"$f":"IFERROR(INDIRECT(\"'\"&$B216&\"'!$d$33\"),\"\")","v":""},{"$f":"IFERROR(INDIRECT(\"'\"&$B216&\"'!$j$33\")+INDIRECT(\"'\"&$B216&\"'!$k$33\"),\"\")","v":""},{"$f":"IFERROR(INDIRECT(\"'\"&$B216&\"'!$q$33\"),\"\")","v":""},{"$f":"IFERROR(INDIRECT(\"'\"&$B216&\"'!$e$33\"),\"\")","v":""},{"$f":"IFERROR(INDIRECT(\"'\"&$B216&\"'!$L$33\"),\"\")","v":""},{"$f":"IFERROR(INDIRECT(\"'\"&$B216&\"'!$g$33\")+INDIRECT(\"'\"&$B216&\"'!$h$33\")+INDIRECT(\"'\"&$B216&\"'!$i$33\"),\"\")","v":""}]
[181,{"$f":"IFERROR(IF(OR(SHEETNAME(A217)=\"HIDE\",SHEETNAME(A217)=\"Start Here\",SHEETNAME(A217)=\"Template\"),\"\",SHEETNAME(A217)),\"\")","v":""},{"$f":"IFERROR(INDIRECT(\"'\"&$B217&\"'!$d$6\"),\"\")","v":""},{"$f":"IFERROR(INDIRECT(\"'\"&$B217&\"'!$d$7\"),\"\")","v":""},{"$f":"IFERROR(INDIRECT(\"'\"&$B217&\"'!$d$8\"),\"\")","v":""},{"$f":"IFERROR(IF(OR(SHEETNAME($A217)=\"HIDE\",SHEETNAME($A217)=\"Start Here\",SHEETNAME($A217)=\"Template\"),\"\",HYPERLINK(\"#'\"&B217&\"'!A1\",\"Go to Sheet\")),\"\")","v":""},{"$f":"IFERROR(IF(INDIRECT(\"'\"&$B217&\"'!$U$7\"),INDIRECT(\"'\"&$B217&\"'!$u$9\"),\"(\"&INDIRECT(\"'\"&$B217&\"'!$U$8\")&\")\"),\"\")","v":""},{"$f":"IF(L217,\"This site has incomplete Cost and Revenue data.  \",\"\")&IF(M217,\"WFRS data for previous quarters is incomplete.  \",\"\")&IF(K217,IFERROR(INDIRECT(\"'\"&$B217&\"'!$g$9\"),\"\"),\"\")","v":""},false,{"$f":"IFERROR(INDIRECT(\"'\"&$B217&\"'!$u$7\"),FALSE)","v":false},{"$f":"IFERROR(INDIRECT(\"'\"&$B217&\"'!$u$10\"),FALSE)","v":false},{"$f":"IFERROR(INDIRECT(\"'\"&$B217&\"'!$AC$12\"),FALSE)","v":false},{"$f":"IFERROR(INDIRECT(\"'\"&$B217&\"'!$ad$12\"),FALSE)","v":false},null,{"$f":"IFERROR(INDIRECT(\"'\"&$B217&\"'!$d$10\"),\"\")","v":""},{"$f":"IFERROR(INDIRECT(\"'\"&$B217&\"'!$d$33\"),\"\")","v":""},{"$f":"IFERROR(INDIRECT(\"'\"&$B217&\"'!$j$33\")+INDIRECT(\"'\"&$B217&\"'!$k$33\"),\"\")","v":""},{"$f":"IFERROR(INDIRECT(\"'\"&$B217&\"'!$q$33\"),\"\")","v":""},{"$f":"IFERROR(INDIRECT(\"'\"&$B217&\"'!$e$33\"),\"\")","v":""},{"$f":"IFERROR(INDIRECT(\"'\"&$B217&\"'!$L$33\"),\"\")","v":""},{"$f":"IFERROR(INDIRECT(\"'\"&$B217&\"'!$g$33\")+INDIRECT(\"'\"&$B217&\"'!$h$33\")+INDIRECT(\"'\"&$B217&\"'!$i$33\"),\"\")","v":""}]
[182,{"$f":"IFERROR(IF(OR(SHEETNAME(A218)=\"HIDE\",SHEETNAME(A218)=\"Start Here\",SHEETNAME(A218)=\"Template\"),\"\",SHEETNAME(A218)),\"\")","v":""},{"$f":"IFERROR(INDIRECT(\"'\"&$B218&\"'!$d$6\"),\"\")","v":""},{"$f":"IFERROR(INDIRECT(\"'\"&$B218&\"'!$d$7\"),\"\")","v":""},{"$f":"IFERROR(INDIRECT(\"'\"&$B218&\"'!$d$8\"),\"\")","v":""},{"$f":"IFERROR(IF(OR(SHEETNAME($A218)=\"HIDE\",SHEETNAME($A218)=\"Start Here\",SHEETNAME($A218)=\"Template\"),\"\",HYPERLINK(\"#'\"&B218&\"'!A1\",\"Go to Sheet\")),\"\")","v":""},{"$f":"IFERROR(IF(INDIRECT(\"'\"&$B218&\"'!$U$7\"),INDIRECT(\"'\"&$B218&\"'!$u$9\"),\"(\"&INDIRECT(\"'\"&$B218&\"'!$U$8\")&\")\"),\"\")","v":""},{"$f":"IF(L218,\"This site has incomplete Cost and Revenue data.  \",\"\")&IF(M218,\"WFRS data for previous quarters is incomplete.  \",\"\")&IF(K218,IFERROR(INDIRECT(\"'\"&$B218&\"'!$g$9\"),\"\"),\"\")","v":""},false,{"$f":"IFERROR(INDIRECT(\"'\"&$B218&\"'!$u$7\"),FALSE)","v":false},{"$f":"IFERROR(INDIRECT(\"'\"&$B218&\"'!$u$10\"),FALSE)","v":false},{"$f":"IFERROR(INDIRECT(\"'\"&$B218&\"'!$AC$12\"),FALSE)","v":false},{"$f":"IFERROR(INDIRECT(\"'\"&$B218&\"'!$ad$12\"),FALSE)","v":false},null,{"$f":"IFERROR(INDIRECT(\"'\"&$B218&\"'!$d$10\"),\"\")","v":""},{"$f":"IFERROR(INDIRECT(\"'\"&$B218&\"'!$d$33\"),\"\")","v":""},{"$f":"IFERROR(INDIRECT(\"'\"&$B218&\"'!$j$33\")+INDIRECT(\"'\"&$B218&\"'!$k$33\"),\"\")","v":""},{"$f":"IFERROR(INDIRECT(\"'\"&$B218&\"'!$q$33\"),\"\")","v":""},{"$f":"IFERROR(INDIRECT(\"'\"&$B218&\"'!$e$33\"),\"\")","v":""},{"$f":"IFERROR(INDIRECT(\"'\"&$B218&\"'!$L$33\"),\"\")","v":""},{"$f":"IFERROR(INDIRECT(\"'\"&$B218&\"'!$g$33\")+INDIRECT(\"'\"&$B218&\"'!$h$33\")+INDIRECT(\"'\"&$B218&\"'!$i$33\"),\"\")","v":""}]
[183,{"$f":"IFERROR(IF(OR(SHEETNAME(A219)=\"HIDE\",SHEETNAME(A219)=\"Start Here\",SHEETNAME(A219)=\"Template\"),\"\",SHEETNAME(A219)),\"\")","v":""},{"$f":"IFERROR(INDIRECT(\"'\"&$B219&\"'!$d$6\"),\"\")","v":""},{"$f":"IFERROR(INDIRECT(\"'\"&$B219&\"'!$d$7\"),\"\")","v":""},{"$f":"IFERROR(INDIRECT(\"'\"&$B219&\"'!$d$8\"),\"\")","v":""},{"$f":"IFERROR(IF(OR(SHEETNAME($A219)=\"HIDE\",SHEETNAME($A219)=\"Start Here\",SHEETNAME($A219)=\"Template\"),\"\",HYPERLINK(\"#'\"&B219&\"'!A1\",\"Go to Sheet\")),\"\")","v":""},{"$f":"IFERROR(IF(INDIRECT(\"'\"&$B219&\"'!$U$7\"),INDIRECT(\"'\"&$B219&\"'!$u$9\"),\"(\"&INDIRECT(\"'\"&$B219&\"'!$U$8\")&\")\"),\"\")","v":""},{"$f":"IF(L219,\"This site has incomplete Cost and Revenue data.  \",\"\")&IF(M219,\"WFRS data for previous quarters is incomplete.  \",\"\")&IF(K219,IFERROR(INDIRECT(\"'\"&$B219&\"'!$g$9\"),\"\"),\"\")","v":""},false,{"$f":"IFERROR(INDIRECT(\"'\"&$B219&\"'!$u$7\"),FALSE)","v":false},{"$f":"IFERROR(INDIRECT(\"'\"&$B219&\"'!$u$10\"),FALSE)","v":false},{"$f":"IFERROR(INDIRECT(\"'\"&$B219&\"'!$AC$12\"),FALSE)","v":false},{"$f":"IFERROR(INDIRECT(\"'\"&$B219&\"'!$ad$12\"),FALSE)","v":false},null,{"$f":"IFERROR(INDIRECT(\"'\"&$B219&\"'!$d$10\"),\"\")","v":""},{"$f":"IFERROR(INDIRECT(\"'\"&$B219&\"'!$d$33\"),\"\")","v":""},{"$f":"IFERROR(INDIRECT(\"'\"&$B219&\"'!$j$33\")+INDIRECT(\"'\"&$B219&\"'!$k$33\"),\"\")","v":""},{"$f":"IFERROR(INDIRECT(\"'\"&$B219&\"'!$q$33\"),\"\")","v":""},{"$f":"IFERROR(INDIRECT(\"'\"&$B219&\"'!$e$33\"),\"\")","v":""},{"$f":"IFERROR(INDIRECT(\"'\"&$B219&\"'!$L$33\"),\"\")","v":""},{"$f":"IFERROR(INDIRECT(\"'\"&$B219&\"'!$g$33\")+INDIRECT(\"'\"&$B219&\"'!$h$33\")+INDIRECT(\"'\"&$B219&\"'!$i$33\"),\"\")","v":""}]
[184,{"$f":"IFERROR(IF(OR(SHEETNAME(A220)=\"HIDE\",SHEETNAME(A220)=\"Start Here\",SHEETNAME(A220)=\"Template\"),\"\",SHEETNAME(A220)),\"\")","v":""},{"$f":"IFERROR(INDIRECT(\"'\"&$B220&\"'!$d$6\"),\"\")","v":""},{"$f":"IFERROR(INDIRECT(\"'\"&$B220&\"'!$d$7\"),\"\")","v":""},{"$f":"IFERROR(INDIRECT(\"'\"&$B220&\"'!$d$8\"),\"\")","v":""},{"$f":"IFERROR(IF(OR(SHEETNAME($A220)=\"HIDE\",SHEETNAME($A220)=\"Start Here\",SHEETNAME($A220)=\"Template\"),\"\",HYPERLINK(\"#'\"&B220&\"'!A1\",\"Go to Sheet\")),\"\")","v":""},{"$f":"IFERROR(IF(INDIRECT(\"'\"&$B220&\"'!$U$7\"),INDIRECT(\"'\"&$B220&\"'!$u$9\"),\"(\"&INDIRECT(\"'\"&$B220&\"'!$U$8\")&\")\"),\"\")","v":""},{"$f":"IF(L220,\"This site has incomplete Cost and Revenue data.  \",\"\")&IF(M220,\"WFRS data for previous quarters is incomplete.  \",\"\")&IF(K220,IFERROR(INDIRECT(\"'\"&$B220&\"'!$g$9\"),\"\"),\"\")","v":""},false,{"$f":"IFERROR(INDIRECT(\"'\"&$B220&\"'!$u$7\"),FALSE)","v":false},{"$f":"IFERROR(INDIRECT(\"'\"&$B220&\"'!$u$10\"),FALSE)","v":false},{"$f":"IFERROR(INDIRECT(\"'\"&$B220&\"'!$AC$12\"),FALSE)","v":false},{"$f":"IFERROR(INDIRECT(\"'\"&$B220&\"'!$ad$12\"),FALSE)","v":false},null,{"$f":"IFERROR(INDIRECT(\"'\"&$B220&\"'!$d$10\"),\"\")","v":""},{"$f":"IFERROR(INDIRECT(\"'\"&$B220&\"'!$d$33\"),\"\")","v":""},{"$f":"IFERROR(INDIRECT(\"'\"&$B220&\"'!$j$33\")+INDIRECT(\"'\"&$B220&\"'!$k$33\"),\"\")","v":""},{"$f":"IFERROR(INDIRECT(\"'\"&$B220&\"'!$q$33\"),\"\")","v":""},{"$f":"IFERROR(INDIRECT(\"'\"&$B220&\"'!$e$33\"),\"\")","v":""},{"$f":"IFERROR(INDIRECT(\"'\"&$B220&\"'!$L$33\"),\"\")","v":""},{"$f":"IFERROR(INDIRECT(\"'\"&$B220&\"'!$g$33\")+INDIRECT(\"'\"&$B220&\"'!$h$33\")+INDIRECT(\"'\"&$B220&\"'!$i$33\"),\"\")","v":""}]
[185,{"$f":"IFERROR(IF(OR(SHEETNAME(A221)=\"HIDE\",SHEETNAME(A221)=\"Start Here\",SHEETNAME(A221)=\"Template\"),\"\",SHEETNAME(A221)),\"\")","v":""},{"$f":"IFERROR(INDIRECT(\"'\"&$B221&\"'!$d$6\"),\"\")","v":""},{"$f":"IFERROR(INDIRECT(\"'\"&$B221&\"'!$d$7\"),\"\")","v":""},{"$f":"IFERROR(INDIRECT(\"'\"&$B221&\"'!$d$8\"),\"\")","v":""},{"$f":"IFERROR(IF(OR(SHEETNAME($A221)=\"HIDE\",SHEETNAME($A221)=\"Start Here\",SHEETNAME($A221)=\"Template\"),\"\",HYPERLINK(\"#'\"&B221&\"'!A1\",\"Go to Sheet\")),\"\")","v":""},{"$f":"IFERROR(IF(INDIRECT(\"'\"&$B221&\"'!$U$7\"),INDIRECT(\"'\"&$B221&\"'!$u$9\"),\"(\"&INDIRECT(\"'\"&$B221&\"'!$U$8\")&\")\"),\"\")","v":""},{"$f":"IF(L221,\"This site has incomplete Cost and Revenue data.  \",\"\")&IF(M221,\"WFRS data for previous quarters is incomplete.  \",\"\")&IF(K221,IFERROR(INDIRECT(\"'\"&$B221&\"'!$g$9\"),\"\"),\"\")","v":""},false,{"$f":"IFERROR(INDIRECT(\"'\"&$B221&\"'!$u$7\"),FALSE)","v":false},{"$f":"IFERROR(INDIRECT(\"'\"&$B221&\"'!$u$10\"),FALSE)","v":false},{"$f":"IFERROR(INDIRECT(\"'\"&$B221&\"'!$AC$12\"),FALSE)","v":false},{"$f":"IFERROR(INDIRECT(\"'\"&$B221&\"'!$ad$12\"),FALSE)","v":false},null,{"$f":"IFERROR(INDIRECT(\"'\"&$B221&\"'!$d$10\"),\"\")","v":""},{"$f":"IFERROR(INDIRECT(\"'\"&$B221&\"'!$d$33\"),\"\")","v":""},{"$f":"IFERROR(INDIRECT(\"'\"&$B221&\"'!$j$33\")+INDIRECT(\"'\"&$B221&\"'!$k$33\"),\"\")","v":""},{"$f":"IFERROR(INDIRECT(\"'\"&$B221&\"'!$q$33\"),\"\")","v":""},{"$f":"IFERROR(INDIRECT(\"'\"&$B221&\"'!$e$33\"),\"\")","v":""},{"$f":"IFERROR(INDIRECT(\"'\"&$B221&\"'!$L$33\"),\"\")","v":""},{"$f":"IFERROR(INDIRECT(\"'\"&$B221&\"'!$g$33\")+INDIRECT(\"'\"&$B221&\"'!$h$33\")+INDIRECT(\"'\"&$B221&\"'!$i$33\"),\"\")","v":""}]
[186,{"$f":"IFERROR(IF(OR(SHEETNAME(A222)=\"HIDE\",SHEETNAME(A222)=\"Start Here\",SHEETNAME(A222)=\"Template\"),\"\",SHEETNAME(A222)),\"\")","v":""},{"$f":"IFERROR(INDIRECT(\"'\"&$B222&\"'!$d$6\"),\"\")","v":""},{"$f":"IFERROR(INDIRECT(\"'\"&$B222&\"'!$d$7\"),\"\")","v":""},{"$f":"IFERROR(INDIRECT(\"'\"&$B222&\"'!$d$8\"),\"\")","v":""},{"$f":"IFERROR(IF(OR(SHEETNAME($A222)=\"HIDE\",SHEETNAME($A222)=\"Start Here\",SHEETNAME($A222)=\"Template\"),\"\",HYPERLINK(\"#'\"&B222&\"'!A1\",\"Go to Sheet\")),\"\")","v":""},{"$f":"IFERROR(IF(INDIRECT(\"'\"&$B222&\"'!$U$7\"),INDIRECT(\"'\"&$B222&\"'!$u$9\"),\"(\"&INDIRECT(\"'\"&$B222&\"'!$U$8\")&\")\"),\"\")","v":""},{"$f":"IF(L222,\"This site has incomplete Cost and Revenue data.  \",\"\")&IF(M222,\"WFRS data for previous quarters is incomplete.  \",\"\")&IF(K222,IFERROR(INDIRECT(\"'\"&$B222&\"'!$g$9\"),\"\"),\"\")","v":""},false,{"$f":"IFERROR(INDIRECT(\"'\"&$B222&\"'!$u$7\"),FALSE)","v":false},{"$f":"IFERROR(INDIRECT(\"'\"&$B222&\"'!$u$10\"),FALSE)","v":false},{"$f":"IFERROR(INDIRECT(\"'\"&$B222&\"'!$AC$12\"),FALSE)","v":false},{"$f":"IFERROR(INDIRECT(\"'\"&$B222&\"'!$ad$12\"),FALSE)","v":false},null,{"$f":"IFERROR(INDIRECT(\"'\"&$B222&\"'!$d$10\"),\"\")","v":""},{"$f":"IFERROR(INDIRECT(\"'\"&$B222&\"'!$d$33\"),\"\")","v":""},{"$f":"IFERROR(INDIRECT(\"'\"&$B222&\"'!$j$33\")+INDIRECT(\"'\"&$B222&\"'!$k$33\"),\"\")","v":""},{"$f":"IFERROR(INDIRECT(\"'\"&$B222&\"'!$q$33\"),\"\")","v":""},{"$f":"IFERROR(INDIRECT(\"'\"&$B222&\"'!$e$33\"),\"\")","v":""},{"$f":"IFERROR(INDIRECT(\"'\"&$B222&\"'!$L$33\"),\"\")","v":""},{"$f":"IFERROR(INDIRECT(\"'\"&$B222&\"'!$g$33\")+INDIRECT(\"'\"&$B222&\"'!$h$33\")+INDIRECT(\"'\"&$B222&\"'!$i$33\"),\"\")","v":""}]
[187,{"$f":"IFERROR(IF(OR(SHEETNAME(A223)=\"HIDE\",SHEETNAME(A223)=\"Start Here\",SHEETNAME(A223)=\"Template\"),\"\",SHEETNAME(A223)),\"\")","v":""},{"$f":"IFERROR(INDIRECT(\"'\"&$B223&\"'!$d$6\"),\"\")","v":""},{"$f":"IFERROR(INDIRECT(\"'\"&$B223&\"'!$d$7\"),\"\")","v":""},{"$f":"IFERROR(INDIRECT(\"'\"&$B223&\"'!$d$8\"),\"\")","v":""},{"$f":"IFERROR(IF(OR(SHEETNAME($A223)=\"HIDE\",SHEETNAME($A223)=\"Start Here\",SHEETNAME($A223)=\"Template\"),\"\",HYPERLINK(\"#'\"&B223&\"'!A1\",\"Go to Sheet\")),\"\")","v":""},{"$f":"IFERROR(IF(INDIRECT(\"'\"&$B223&\"'!$U$7\"),INDIRECT(\"'\"&$B223&\"'!$u$9\"),\"(\"&INDIRECT(\"'\"&$B223&\"'!$U$8\")&\")\"),\"\")","v":""},{"$f":"IF(L223,\"This site has incomplete Cost and Revenue data.  \",\"\")&IF(M223,\"WFRS data for previous quarters is incomplete.  \",\"\")&IF(K223,IFERROR(INDIRECT(\"'\"&$B223&\"'!$g$9\"),\"\"),\"\")","v":""},false,{"$f":"IFERROR(INDIRECT(\"'\"&$B223&\"'!$u$7\"),FALSE)","v":false},{"$f":"IFERROR(INDIRECT(\"'\"&$B223&\"'!$u$10\"),FALSE)","v":false},{"$f":"IFERROR(INDIRECT(\"'\"&$B223&\"'!$AC$12\"),FALSE)","v":false},{"$f":"IFERROR(INDIRECT(\"'\"&$B223&\"'!$ad$12\"),FALSE)","v":false},null,{"$f":"IFERROR(INDIRECT(\"'\"&$B223&\"'!$d$10\"),\"\")","v":""},{"$f":"IFERROR(INDIRECT(\"'\"&$B223&\"'!$d$33\"),\"\")","v":""},{"$f":"IFERROR(INDIRECT(\"'\"&$B223&\"'!$j$33\")+INDIRECT(\"'\"&$B223&\"'!$k$33\"),\"\")","v":""},{"$f":"IFERROR(INDIRECT(\"'\"&$B223&\"'!$q$33\"),\"\")","v":""},{"$f":"IFERROR(INDIRECT(\"'\"&$B223&\"'!$e$33\"),\"\")","v":""},{"$f":"IFERROR(INDIRECT(\"'\"&$B223&\"'!$L$33\"),\"\")","v":""},{"$f":"IFERROR(INDIRECT(\"'\"&$B223&\"'!$g$33\")+INDIRECT(\"'\"&$B223&\"'!$h$33\")+INDIRECT(\"'\"&$B223&\"'!$i$33\"),\"\")","v":""}]
[188,{"$f":"IFERROR(IF(OR(SHEETNAME(A224)=\"HIDE\",SHEETNAME(A224)=\"Start Here\",SHEETNAME(A224)=\"Template\"),\"\",SHEETNAME(A224)),\"\")","v":""},{"$f":"IFERROR(INDIRECT(\"'\"&$B224&\"'!$d$6\"),\"\")","v":""},{"$f":"IFERROR(INDIRECT(\"'\"&$B224&\"'!$d$7\"),\"\")","v":""},{"$f":"IFERROR(INDIRECT(\"'\"&$B224&\"'!$d$8\"),\"\")","v":""},{"$f":"IFERROR(IF(OR(SHEETNAME($A224)=\"HIDE\",SHEETNAME($A224)=\"Start Here\",SHEETNAME($A224)=\"Template\"),\"\",HYPERLINK(\"#'\"&B224&\"'!A1\",\"Go to Sheet\")),\"\")","v":""},{"$f":"IFERROR(IF(INDIRECT(\"'\"&$B224&\"'!$U$7\"),INDIRECT(\"'\"&$B224&\"'!$u$9\"),\"(\"&INDIRECT(\"'\"&$B224&\"'!$U$8\")&\")\"),\"\")","v":""},{"$f":"IF(L224,\"This site has incomplete Cost and Revenue data.  \",\"\")&IF(M224,\"WFRS data for previous quarters is incomplete.  \",\"\")&IF(K224,IFERROR(INDIRECT(\"'\"&$B224&\"'!$g$9\"),\"\"),\"\")","v":""},false,{"$f":"IFERROR(INDIRECT(\"'\"&$B224&\"'!$u$7\"),FALSE)","v":false},{"$f":"IFERROR(INDIRECT(\"'\"&$B224&\"'!$u$10\"),FALSE)","v":false},{"$f":"IFERROR(INDIRECT(\"'\"&$B224&\"'!$AC$12\"),FALSE)","v":false},{"$f":"IFERROR(INDIRECT(\"'\"&$B224&\"'!$ad$12\"),FALSE)","v":false},null,{"$f":"IFERROR(INDIRECT(\"'\"&$B224&\"'!$d$10\"),\"\")","v":""},{"$f":"IFERROR(INDIRECT(\"'\"&$B224&\"'!$d$33\"),\"\")","v":""},{"$f":"IFERROR(INDIRECT(\"'\"&$B224&\"'!$j$33\")+INDIRECT(\"'\"&$B224&\"'!$k$33\"),\"\")","v":""},{"$f":"IFERROR(INDIRECT(\"'\"&$B224&\"'!$q$33\"),\"\")","v":""},{"$f":"IFERROR(INDIRECT(\"'\"&$B224&\"'!$e$33\"),\"\")","v":""},{"$f":"IFERROR(INDIRECT(\"'\"&$B224&\"'!$L$33\"),\"\")","v":""},{"$f":"IFERROR(INDIRECT(\"'\"&$B224&\"'!$g$33\")+INDIRECT(\"'\"&$B224&\"'!$h$33\")+INDIRECT(\"'\"&$B224&\"'!$i$33\"),\"\")","v":""}]
[189,{"$f":"IFERROR(IF(OR(SHEETNAME(A225)=\"HIDE\",SHEETNAME(A225)=\"Start Here\",SHEETNAME(A225)=\"Template\"),\"\",SHEETNAME(A225)),\"\")","v":""},{"$f":"IFERROR(INDIRECT(\"'\"&$B225&\"'!$d$6\"),\"\")","v":""},{"$f":"IFERROR(INDIRECT(\"'\"&$B225&\"'!$d$7\"),\"\")","v":""},{"$f":"IFERROR(INDIRECT(\"'\"&$B225&\"'!$d$8\"),\"\")","v":""},{"$f":"IFERROR(IF(OR(SHEETNAME($A225)=\"HIDE\",SHEETNAME($A225)=\"Start Here\",SHEETNAME($A225)=\"Template\"),\"\",HYPERLINK(\"#'\"&B225&\"'!A1\",\"Go to Sheet\")),\"\")","v":""},{"$f":"IFERROR(IF(INDIRECT(\"'\"&$B225&\"'!$U$7\"),INDIRECT(\"'\"&$B225&\"'!$u$9\"),\"(\"&INDIRECT(\"'\"&$B225&\"'!$U$8\")&\")\"),\"\")","v":""},{"$f":"IF(L225,\"This site has incomplete Cost and Revenue data.  \",\"\")&IF(M225,\"WFRS data for previous quarters is incomplete.  \",\"\")&IF(K225,IFERROR(INDIRECT(\"'\"&$B225&\"'!$g$9\"),\"\"),\"\")","v":""},false,{"$f":"IFERROR(INDIRECT(\"'\"&$B225&\"'!$u$7\"),FALSE)","v":false},{"$f":"IFERROR(INDIRECT(\"'\"&$B225&\"'!$u$10\"),FALSE)","v":false},{"$f":"IFERROR(INDIRECT(\"'\"&$B225&\"'!$AC$12\"),FALSE)","v":false},{"$f":"IFERROR(INDIRECT(\"'\"&$B225&\"'!$ad$12\"),FALSE)","v":false},null,{"$f":"IFERROR(INDIRECT(\"'\"&$B225&\"'!$d$10\"),\"\")","v":""},{"$f":"IFERROR(INDIRECT(\"'\"&$B225&\"'!$d$33\"),\"\")","v":""},{"$f":"IFERROR(INDIRECT(\"'\"&$B225&\"'!$j$33\")+INDIRECT(\"'\"&$B225&\"'!$k$33\"),\"\")","v":""},{"$f":"IFERROR(INDIRECT(\"'\"&$B225&\"'!$q$33\"),\"\")","v":""},{"$f":"IFERROR(INDIRECT(\"'\"&$B225&\"'!$e$33\"),\"\")","v":""},{"$f":"IFERROR(INDIRECT(\"'\"&$B225&\"'!$L$33\"),\"\")","v":""},{"$f":"IFERROR(INDIRECT(\"'\"&$B225&\"'!$g$33\")+INDIRECT(\"'\"&$B225&\"'!$h$33\")+INDIRECT(\"'\"&$B225&\"'!$i$33\"),\"\")","v":""}]
[190,{"$f":"IFERROR(IF(OR(SHEETNAME(A226)=\"HIDE\",SHEETNAME(A226)=\"Start Here\",SHEETNAME(A226)=\"Template\"),\"\",SHEETNAME(A226)),\"\")","v":""},{"$f":"IFERROR(INDIRECT(\"'\"&$B226&\"'!$d$6\"),\"\")","v":""},{"$f":"IFERROR(INDIRECT(\"'\"&$B226&\"'!$d$7\"),\"\")","v":""},{"$f":"IFERROR(INDIRECT(\"'\"&$B226&\"'!$d$8\"),\"\")","v":""},{"$f":"IFERROR(IF(OR(SHEETNAME($A226)=\"HIDE\",SHEETNAME($A226)=\"Start Here\",SHEETNAME($A226)=\"Template\"),\"\",HYPERLINK(\"#'\"&B226&\"'!A1\",\"Go to Sheet\")),\"\")","v":""},{"$f":"IFERROR(IF(INDIRECT(\"'\"&$B226&\"'!$U$7\"),INDIRECT(\"'\"&$B226&\"'!$u$9\"),\"(\"&INDIRECT(\"'\"&$B226&\"'!$U$8\")&\")\"),\"\")","v":""},{"$f":"IF(L226,\"This site has incomplete Cost and Revenue data.  \",\"\")&IF(M226,\"WFRS data for previous quarters is incomplete.  \",\"\")&IF(K226,IFERROR(INDIRECT(\"'\"&$B226&\"'!$g$9\"),\"\"),\"\")","v":""},false,{"$f":"IFERROR(INDIRECT(\"'\"&$B226&\"'!$u$7\"),FALSE)","v":false},{"$f":"IFERROR(INDIRECT(\"'\"&$B226&\"'!$u$10\"),FALSE)","v":false},{"$f":"IFERROR(INDIRECT(\"'\"&$B226&\"'!$AC$12\"),FALSE)","v":false},{"$f":"IFERROR(INDIRECT(\"'\"&$B226&\"'!$ad$12\"),FALSE)","v":false},null,{"$f":"IFERROR(INDIRECT(\"'\"&$B226&\"'!$d$10\"),\"\")","v":""},{"$f":"IFERROR(INDIRECT(\"'\"&$B226&\"'!$d$33\"),\"\")","v":""},{"$f":"IFERROR(INDIRECT(\"'\"&$B226&\"'!$j$33\")+INDIRECT(\"'\"&$B226&\"'!$k$33\"),\"\")","v":""},{"$f":"IFERROR(INDIRECT(\"'\"&$B226&\"'!$q$33\"),\"\")","v":""},{"$f":"IFERROR(INDIRECT(\"'\"&$B226&\"'!$e$33\"),\"\")","v":""},{"$f":"IFERROR(INDIRECT(\"'\"&$B226&\"'!$L$33\"),\"\")","v":""},{"$f":"IFERROR(INDIRECT(\"'\"&$B226&\"'!$g$33\")+INDIRECT(\"'\"&$B226&\"'!$h$33\")+INDIRECT(\"'\"&$B226&\"'!$i$33\"),\"\")","v":""}]
[191,{"$f":"IFERROR(IF(OR(SHEETNAME(A227)=\"HIDE\",SHEETNAME(A227)=\"Start Here\",SHEETNAME(A227)=\"Template\"),\"\",SHEETNAME(A227)),\"\")","v":""},{"$f":"IFERROR(INDIRECT(\"'\"&$B227&\"'!$d$6\"),\"\")","v":""},{"$f":"IFERROR(INDIRECT(\"'\"&$B227&\"'!$d$7\"),\"\")","v":""},{"$f":"IFERROR(INDIRECT(\"'\"&$B227&\"'!$d$8\"),\"\")","v":""},{"$f":"IFERROR(IF(OR(SHEETNAME($A227)=\"HIDE\",SHEETNAME($A227)=\"Start Here\",SHEETNAME($A227)=\"Template\"),\"\",HYPERLINK(\"#'\"&B227&\"'!A1\",\"Go to Sheet\")),\"\")","v":""},{"$f":"IFERROR(IF(INDIRECT(\"'\"&$B227&\"'!$U$7\"),INDIRECT(\"'\"&$B227&\"'!$u$9\"),\"(\"&INDIRECT(\"'\"&$B227&\"'!$U$8\")&\")\"),\"\")","v":""},{"$f":"IF(L227,\"This site has incomplete Cost and Revenue data.  \",\"\")&IF(M227,\"WFRS data for previous quarters is incomplete.  \",\"\")&IF(K227,IFERROR(INDIRECT(\"'\"&$B227&\"'!$g$9\"),\"\"),\"\")","v":""},false,{"$f":"IFERROR(INDIRECT(\"'\"&$B227&\"'!$u$7\"),FALSE)","v":false},{"$f":"IFERROR(INDIRECT(\"'\"&$B227&\"'!$u$10\"),FALSE)","v":false},{"$f":"IFERROR(INDIRECT(\"'\"&$B227&\"'!$AC$12\"),FALSE)","v":false},{"$f":"IFERROR(INDIRECT(\"'\"&$B227&\"'!$ad$12\"),FALSE)","v":false},null,{"$f":"IFERROR(INDIRECT(\"'\"&$B227&\"'!$d$10\"),\"\")","v":""},{"$f":"IFERROR(INDIRECT(\"'\"&$B227&\"'!$d$33\"),\"\")","v":""},{"$f":"IFERROR(INDIRECT(\"'\"&$B227&\"'!$j$33\")+INDIRECT(\"'\"&$B227&\"'!$k$33\"),\"\")","v":""},{"$f":"IFERROR(INDIRECT(\"'\"&$B227&\"'!$q$33\"),\"\")","v":""},{"$f":"IFERROR(INDIRECT(\"'\"&$B227&\"'!$e$33\"),\"\")","v":""},{"$f":"IFERROR(INDIRECT(\"'\"&$B227&\"'!$L$33\"),\"\")","v":""},{"$f":"IFERROR(INDIRECT(\"'\"&$B227&\"'!$g$33\")+INDIRECT(\"'\"&$B227&\"'!$h$33\")+INDIRECT(\"'\"&$B227&\"'!$i$33\"),\"\")","v":""}]
[192,{"$f":"IFERROR(IF(OR(SHEETNAME(A228)=\"HIDE\",SHEETNAME(A228)=\"Start Here\",SHEETNAME(A228)=\"Template\"),\"\",SHEETNAME(A228)),\"\")","v":""},{"$f":"IFERROR(INDIRECT(\"'\"&$B228&\"'!$d$6\"),\"\")","v":""},{"$f":"IFERROR(INDIRECT(\"'\"&$B228&\"'!$d$7\"),\"\")","v":""},{"$f":"IFERROR(INDIRECT(\"'\"&$B228&\"'!$d$8\"),\"\")","v":""},{"$f":"IFERROR(IF(OR(SHEETNAME($A228)=\"HIDE\",SHEETNAME($A228)=\"Start Here\",SHEETNAME($A228)=\"Template\"),\"\",HYPERLINK(\"#'\"&B228&\"'!A1\",\"Go to Sheet\")),\"\")","v":""},{"$f":"IFERROR(IF(INDIRECT(\"'\"&$B228&\"'!$U$7\"),INDIRECT(\"'\"&$B228&\"'!$u$9\"),\"(\"&INDIRECT(\"'\"&$B228&\"'!$U$8\")&\")\"),\"\")","v":""},{"$f":"IF(L228,\"This site has incomplete Cost and Revenue data.  \",\"\")&IF(M228,\"WFRS data for previous quarters is incomplete.  \",\"\")&IF(K228,IFERROR(INDIRECT(\"'\"&$B228&\"'!$g$9\"),\"\"),\"\")","v":""},false,{"$f":"IFERROR(INDIRECT(\"'\"&$B228&\"'!$u$7\"),FALSE)","v":false},{"$f":"IFERROR(INDIRECT(\"'\"&$B228&\"'!$u$10\"),FALSE)","v":false},{"$f":"IFERROR(INDIRECT(\"'\"&$B228&\"'!$AC$12\"),FALSE)","v":false},{"$f":"IFERROR(INDIRECT(\"'\"&$B228&\"'!$ad$12\"),FALSE)","v":false},null,{"$f":"IFERROR(INDIRECT(\"'\"&$B228&\"'!$d$10\"),\"\")","v":""},{"$f":"IFERROR(INDIRECT(\"'\"&$B228&\"'!$d$33\"),\"\")","v":""},{"$f":"IFERROR(INDIRECT(\"'\"&$B228&\"'!$j$33\")+INDIRECT(\"'\"&$B228&\"'!$k$33\"),\"\")","v":""},{"$f":"IFERROR(INDIRECT(\"'\"&$B228&\"'!$q$33\"),\"\")","v":""},{"$f":"IFERROR(INDIRECT(\"'\"&$B228&\"'!$e$33\"),\"\")","v":""},{"$f":"IFERROR(INDIRECT(\"'\"&$B228&\"'!$L$33\"),\"\")","v":""},{"$f":"IFERROR(INDIRECT(\"'\"&$B228&\"'!$g$33\")+INDIRECT(\"'\"&$B228&\"'!$h$33\")+INDIRECT(\"'\"&$B228&\"'!$i$33\"),\"\")","v":""}]
[193,{"$f":"IFERROR(IF(OR(SHEETNAME(A229)=\"HIDE\",SHEETNAME(A229)=\"Start Here\",SHEETNAME(A229)=\"Template\"),\"\",SHEETNAME(A229)),\"\")","v":""},{"$f":"IFERROR(INDIRECT(\"'\"&$B229&\"'!$d$6\"),\"\")","v":""},{"$f":"IFERROR(INDIRECT(\"'\"&$B229&\"'!$d$7\"),\"\")","v":""},{"$f":"IFERROR(INDIRECT(\"'\"&$B229&\"'!$d$8\"),\"\")","v":""},{"$f":"IFERROR(IF(OR(SHEETNAME($A229)=\"HIDE\",SHEETNAME($A229)=\"Start Here\",SHEETNAME($A229)=\"Template\"),\"\",HYPERLINK(\"#'\"&B229&\"'!A1\",\"Go to Sheet\")),\"\")","v":""},{"$f":"IFERROR(IF(INDIRECT(\"'\"&$B229&\"'!$U$7\"),INDIRECT(\"'\"&$B229&\"'!$u$9\"),\"(\"&INDIRECT(\"'\"&$B229&\"'!$U$8\")&\")\"),\"\")","v":""},{"$f":"IF(L229,\"This site has incomplete Cost and Revenue data.  \",\"\")&IF(M229,\"WFRS data for previous quarters is incomplete.  \",\"\")&IF(K229,IFERROR(INDIRECT(\"'\"&$B229&\"'!$g$9\"),\"\"),\"\")","v":""},false,{"$f":"IFERROR(INDIRECT(\"'\"&$B229&\"'!$u$7\"),FALSE)","v":false},{"$f":"IFERROR(INDIRECT(\"'\"&$B229&\"'!$u$10\"),FALSE)","v":false},{"$f":"IFERROR(INDIRECT(\"'\"&$B229&\"'!$AC$12\"),FALSE)","v":false},{"$f":"IFERROR(INDIRECT(\"'\"&$B229&\"'!$ad$12\"),FALSE)","v":false},null,{"$f":"IFERROR(INDIRECT(\"'\"&$B229&\"'!$d$10\"),\"\")","v":""},{"$f":"IFERROR(INDIRECT(\"'\"&$B229&\"'!$d$33\"),\"\")","v":""},{"$f":"IFERROR(INDIRECT(\"'\"&$B229&\"'!$j$33\")+INDIRECT(\"'\"&$B229&\"'!$k$33\"),\"\")","v":""},{"$f":"IFERROR(INDIRECT(\"'\"&$B229&\"'!$q$33\"),\"\")","v":""},{"$f":"IFERROR(INDIRECT(\"'\"&$B229&\"'!$e$33\"),\"\")","v":""},{"$f":"IFERROR(INDIRECT(\"'\"&$B229&\"'!$L$33\"),\"\")","v":""},{"$f":"IFERROR(INDIRECT(\"'\"&$B229&\"'!$g$33\")+INDIRECT(\"'\"&$B229&\"'!$h$33\")+INDIRECT(\"'\"&$B229&\"'!$i$33\"),\"\")","v":""}]
[194,{"$f":"IFERROR(IF(OR(SHEETNAME(A230)=\"HIDE\",SHEETNAME(A230)=\"Start Here\",SHEETNAME(A230)=\"Template\"),\"\",SHEETNAME(A230)),\"\")","v":""},{"$f":"IFERROR(INDIRECT(\"'\"&$B230&\"'!$d$6\"),\"\")","v":""},{"$f":"IFERROR(INDIRECT(\"'\"&$B230&\"'!$d$7\"),\"\")","v":""},{"$f":"IFERROR(INDIRECT(\"'\"&$B230&\"'!$d$8\"),\"\")","v":""},{"$f":"IFERROR(IF(OR(SHEETNAME($A230)=\"HIDE\",SHEETNAME($A230)=\"Start Here\",SHEETNAME($A230)=\"Template\"),\"\",HYPERLINK(\"#'\"&B230&\"'!A1\",\"Go to Sheet\")),\"\")","v":""},{"$f":"IFERROR(IF(INDIRECT(\"'\"&$B230&\"'!$U$7\"),INDIRECT(\"'\"&$B230&\"'!$u$9\"),\"(\"&INDIRECT(\"'\"&$B230&\"'!$U$8\")&\")\"),\"\")","v":""},{"$f":"IF(L230,\"This site has incomplete Cost and Revenue data.  \",\"\")&IF(M230,\"WFRS data for previous quarters is incomplete.  \",\"\")&IF(K230,IFERROR(INDIRECT(\"'\"&$B230&\"'!$g$9\"),\"\"),\"\")","v":""},{"$f":"NOT(E230=\"\")","v":false},{"$f":"IFERROR(INDIRECT(\"'\"&$B230&\"'!$u$7\"),FALSE)","v":false},{"$f":"IFERROR(INDIRECT(\"'\"&$B230&\"'!$u$10\"),FALSE)","v":false},{"$f":"IFERROR(INDIRECT(\"'\"&$B230&\"'!$AC$12\"),FALSE)","v":false},{"$f":"IFERROR(INDIRECT(\"'\"&$B230&\"'!$ad$12\"),FALSE)","v":false},null,{"$f":"IFERROR(INDIRECT(\"'\"&$B230&\"'!$d$10\"),\"\")","v":""},{"$f":"IFERROR(INDIRECT(\"'\"&$B230&\"'!$d$33\"),\"\")","v":""},{"$f":"IFERROR(INDIRECT(\"'\"&$B230&\"'!$j$33\")+INDIRECT(\"'\"&$B230&\"'!$k$33\"),\"\")","v":""},{"$f":"IFERROR(INDIRECT(\"'\"&$B230&\"'!$q$33\"),\"\")","v":""},{"$f":"IFERROR(INDIRECT(\"'\"&$B230&\"'!$e$33\"),\"\")","v":""},{"$f":"IFERROR(INDIRECT(\"'\"&$B230&\"'!$L$33\"),\"\")","v":""},{"$f":"IFERROR(INDIRECT(\"'\"&$B230&\"'!$g$33\")+INDIRECT(\"'\"&$B230&\"'!$h$33\")+INDIRECT(\"'\"&$B230&\"'!$i$33\"),\"\")","v":""}]
[195,{"$f":"IFERROR(IF(OR(SHEETNAME(A231)=\"HIDE\",SHEETNAME(A231)=\"Start Here\",SHEETNAME(A231)=\"Template\"),\"\",SHEETNAME(A231)),\"\")","v":""},{"$f":"IFERROR(INDIRECT(\"'\"&$B231&\"'!$d$6\"),\"\")","v":""},{"$f":"IFERROR(INDIRECT(\"'\"&$B231&\"'!$d$7\"),\"\")","v":""},{"$f":"IFERROR(INDIRECT(\"'\"&$B231&\"'!$d$8\"),\"\")","v":""},{"$f":"IFERROR(IF(OR(SHEETNAME($A231)=\"HIDE\",SHEETNAME($A231)=\"Start Here\",SHEETNAME($A231)=\"Template\"),\"\",HYPERLINK(\"#'\"&B231&\"'!A1\",\"Go to Sheet\")),\"\")","v":""},{"$f":"IFERROR(IF(INDIRECT(\"'\"&$B231&\"'!$U$7\"),INDIRECT(\"'\"&$B231&\"'!$u$9\"),\"(\"&INDIRECT(\"'\"&$B231&\"'!$U$8\")&\")\"),\"\")","v":""},{"$f":"IF(L231,\"This site has incomplete Cost and Revenue data.  \",\"\")&IF(M231,\"WFRS data for previous quarters is incomplete.  \",\"\")&IF(K231,IFERROR(INDIRECT(\"'\"&$B231&\"'!$g$9\"),\"\"),\"\")","v":""},false,{"$f":"IFERROR(INDIRECT(\"'\"&$B231&\"'!$u$7\"),FALSE)","v":false},{"$f":"IFERROR(INDIRECT(\"'\"&$B231&\"'!$u$10\"),FALSE)","v":false},{"$f":"IFERROR(INDIRECT(\"'\"&$B231&\"'!$AC$12\"),FALSE)","v":false},{"$f":"IFERROR(INDIRECT(\"'\"&$B231&\"'!$ad$12\"),FALSE)","v":false},null,{"$f":"IFERROR(INDIRECT(\"'\"&$B231&\"'!$d$10\"),\"\")","v":""},{"$f":"IFERROR(INDIRECT(\"'\"&$B231&\"'!$d$33\"),\"\")","v":""},{"$f":"IFERROR(INDIRECT(\"'\"&$B231&\"'!$j$33\")+INDIRECT(\"'\"&$B231&\"'!$k$33\"),\"\")","v":""},{"$f":"IFERROR(INDIRECT(\"'\"&$B231&\"'!$q$33\"),\"\")","v":""},{"$f":"IFERROR(INDIRECT(\"'\"&$B231&\"'!$e$33\"),\"\")","v":""},{"$f":"IFERROR(INDIRECT(\"'\"&$B231&\"'!$L$33\"),\"\")","v":""},{"$f":"IFERROR(INDIRECT(\"'\"&$B231&\"'!$g$33\")+INDIRECT(\"'\"&$B231&\"'!$h$33\")+INDIRECT(\"'\"&$B231&\"'!$i$33\"),\"\")","v":""}]
[196,{"$f":"IFERROR(IF(OR(SHEETNAME(A232)=\"HIDE\",SHEETNAME(A232)=\"Start Here\",SHEETNAME(A232)=\"Template\"),\"\",SHEETNAME(A232)),\"\")","v":""},{"$f":"IFERROR(INDIRECT(\"'\"&$B232&\"'!$d$6\"),\"\")","v":""},{"$f":"IFERROR(INDIRECT(\"'\"&$B232&\"'!$d$7\"),\"\")","v":""},{"$f":"IFERROR(INDIRECT(\"'\"&$B232&\"'!$d$8\"),\"\")","v":""},{"$f":"IFERROR(IF(OR(SHEETNAME($A232)=\"HIDE\",SHEETNAME($A232)=\"Start Here\",SHEETNAME($A232)=\"Template\"),\"\",HYPERLINK(\"#'\"&B232&\"'!A1\",\"Go to Sheet\")),\"\")","v":""},{"$f":"IFERROR(IF(INDIRECT(\"'\"&$B232&\"'!$U$7\"),INDIRECT(\"'\"&$B232&\"'!$u$9\"),\"(\"&INDIRECT(\"'\"&$B232&\"'!$U$8\")&\")\"),\"\")","v":""},{"$f":"IF(L232,\"This site has incomplete Cost and Revenue data.  \",\"\")&IF(M232,\"WFRS data for previous quarters is incomplete.  \",\"\")&IF(K232,IFERROR(INDIRECT(\"'\"&$B232&\"'!$g$9\"),\"\"),\"\")","v":""},false,{"$f":"IFERROR(INDIRECT(\"'\"&$B232&\"'!$u$7\"),FALSE)","v":false},{"$f":"IFERROR(INDIRECT(\"'\"&$B232&\"'!$u$10\"),FALSE)","v":false},{"$f":"IFERROR(INDIRECT(\"'\"&$B232&\"'!$AC$12\"),FALSE)","v":false},{"$f":"IFERROR(INDIRECT(\"'\"&$B232&\"'!$ad$12\"),FALSE)","v":false},null,{"$f":"IFERROR(INDIRECT(\"'\"&$B232&\"'!$d$10\"),\"\")","v":""},{"$f":"IFERROR(INDIRECT(\"'\"&$B232&\"'!$d$33\"),\"\")","v":""},{"$f":"IFERROR(INDIRECT(\"'\"&$B232&\"'!$j$33\")+INDIRECT(\"'\"&$B232&\"'!$k$33\"),\"\")","v":""},{"$f":"IFERROR(INDIRECT(\"'\"&$B232&\"'!$q$33\"),\"\")","v":""},{"$f":"IFERROR(INDIRECT(\"'\"&$B232&\"'!$e$33\"),\"\")","v":""},{"$f":"IFERROR(INDIRECT(\"'\"&$B232&\"'!$L$33\"),\"\")","v":""},{"$f":"IFERROR(INDIRECT(\"'\"&$B232&\"'!$g$33\")+INDIRECT(\"'\"&$B232&\"'!$h$33\")+INDIRECT(\"'\"&$B232&\"'!$i$33\"),\"\")","v":""}]
[197,{"$f":"IFERROR(IF(OR(SHEETNAME(A233)=\"HIDE\",SHEETNAME(A233)=\"Start Here\",SHEETNAME(A233)=\"Template\"),\"\",SHEETNAME(A233)),\"\")","v":""},{"$f":"IFERROR(INDIRECT(\"'\"&$B233&\"'!$d$6\"),\"\")","v":""},{"$f":"IFERROR(INDIRECT(\"'\"&$B233&\"'!$d$7\"),\"\")","v":""},{"$f":"IFERROR(INDIRECT(\"'\"&$B233&\"'!$d$8\"),\"\")","v":""},{"$f":"IFERROR(IF(OR(SHEETNAME($A233)=\"HIDE\",SHEETNAME($A233)=\"Start Here\",SHEETNAME($A233)=\"Template\"),\"\",HYPERLINK(\"#'\"&B233&\"'!A1\",\"Go to Sheet\")),\"\")","v":""},{"$f":"IFERROR(IF(INDIRECT(\"'\"&$B233&\"'!$U$7\"),INDIRECT(\"'\"&$B233&\"'!$u$9\"),\"(\"&INDIRECT(\"'\"&$B233&\"'!$U$8\")&\")\"),\"\")","v":""},{"$f":"IF(L233,\"This site has incomplete Cost and Revenue data.  \",\"\")&IF(M233,\"WFRS data for previous quarters is incomplete.  \",\"\")&IF(K233,IFERROR(INDIRECT(\"'\"&$B233&\"'!$g$9\"),\"\"),\"\")","v":""},false,{"$f":"IFERROR(INDIRECT(\"'\"&$B233&\"'!$u$7\"),FALSE)","v":false},{"$f":"IFERROR(INDIRECT(\"'\"&$B233&\"'!$u$10\"),FALSE)","v":false},{"$f":"IFERROR(INDIRECT(\"'\"&$B233&\"'!$AC$12\"),FALSE)","v":false},{"$f":"IFERROR(INDIRECT(\"'\"&$B233&\"'!$ad$12\"),FALSE)","v":false},null,{"$f":"IFERROR(INDIRECT(\"'\"&$B233&\"'!$d$10\"),\"\")","v":""},{"$f":"IFERROR(INDIRECT(\"'\"&$B233&\"'!$d$33\"),\"\")","v":""},{"$f":"IFERROR(INDIRECT(\"'\"&$B233&\"'!$j$33\")+INDIRECT(\"'\"&$B233&\"'!$k$33\"),\"\")","v":""},{"$f":"IFERROR(INDIRECT(\"'\"&$B233&\"'!$q$33\"),\"\")","v":""},{"$f":"IFERROR(INDIRECT(\"'\"&$B233&\"'!$e$33\"),\"\")","v":""},{"$f":"IFERROR(INDIRECT(\"'\"&$B233&\"'!$L$33\"),\"\")","v":""},{"$f":"IFERROR(INDIRECT(\"'\"&$B233&\"'!$g$33\")+INDIRECT(\"'\"&$B233&\"'!$h$33\")+INDIRECT(\"'\"&$B233&\"'!$i$33\"),\"\")","v":""}]
[198,{"$f":"IFERROR(IF(OR(SHEETNAME(A234)=\"HIDE\",SHEETNAME(A234)=\"Start Here\",SHEETNAME(A234)=\"Template\"),\"\",SHEETNAME(A234)),\"\")","v":""},{"$f":"IFERROR(INDIRECT(\"'\"&$B234&\"'!$d$6\"),\"\")","v":""},{"$f":"IFERROR(INDIRECT(\"'\"&$B234&\"'!$d$7\"),\"\")","v":""},{"$f":"IFERROR(INDIRECT(\"'\"&$B234&\"'!$d$8\"),\"\")","v":""},{"$f":"IFERROR(IF(OR(SHEETNAME($A234)=\"HIDE\",SHEETNAME($A234)=\"Start Here\",SHEETNAME($A234)=\"Template\"),\"\",HYPERLINK(\"#'\"&B234&\"'!A1\",\"Go to Sheet\")),\"\")","v":""},{"$f":"IFERROR(IF(INDIRECT(\"'\"&$B234&\"'!$U$7\"),INDIRECT(\"'\"&$B234&\"'!$u$9\"),\"(\"&INDIRECT(\"'\"&$B234&\"'!$U$8\")&\")\"),\"\")","v":""},{"$f":"IF(L234,\"This site has incomplete Cost and Revenue data.  \",\"\")&IF(M234,\"WFRS data for previous quarters is incomplete.  \",\"\")&IF(K234,IFERROR(INDIRECT(\"'\"&$B234&\"'!$g$9\"),\"\"),\"\")","v":""},false,{"$f":"IFERROR(INDIRECT(\"'\"&$B234&\"'!$u$7\"),FALSE)","v":false},{"$f":"IFERROR(INDIRECT(\"'\"&$B234&\"'!$u$10\"),FALSE)","v":false},{"$f":"IFERROR(INDIRECT(\"'\"&$B234&\"'!$AC$12\"),FALSE)","v":false},{"$f":"IFERROR(INDIRECT(\"'\"&$B234&\"'!$ad$12\"),FALSE)","v":false},null,{"$f":"IFERROR(INDIRECT(\"'\"&$B234&\"'!$d$10\"),\"\")","v":""},{"$f":"IFERROR(INDIRECT(\"'\"&$B234&\"'!$d$33\"),\"\")","v":""},{"$f":"IFERROR(INDIRECT(\"'\"&$B234&\"'!$j$33\")+INDIRECT(\"'\"&$B234&\"'!$k$33\"),\"\")","v":""},{"$f":"IFERROR(INDIRECT(\"'\"&$B234&\"'!$q$33\"),\"\")","v":""},{"$f":"IFERROR(INDIRECT(\"'\"&$B234&\"'!$e$33\"),\"\")","v":""},{"$f":"IFERROR(INDIRECT(\"'\"&$B234&\"'!$L$33\"),\"\")","v":""},{"$f":"IFERROR(INDIRECT(\"'\"&$B234&\"'!$g$33\")+INDIRECT(\"'\"&$B234&\"'!$h$33\")+INDIRECT(\"'\"&$B234&\"'!$i$33\"),\"\")","v":""}]
[199,{"$f":"IFERROR(IF(OR(SHEETNAME(A235)=\"HIDE\",SHEETNAME(A235)=\"Start Here\",SHEETNAME(A235)=\"Template\"),\"\",SHEETNAME(A235)),\"\")","v":""},{"$f":"IFERROR(INDIRECT(\"'\"&$B235&\"'!$d$6\"),\"\")","v":""},{"$f":"IFERROR(INDIRECT(\"'\"&$B235&\"'!$d$7\"),\"\")","v":""},{"$f":"IFERROR(INDIRECT(\"'\"&$B235&\"'!$d$8\"),\"\")","v":""},{"$f":"IFERROR(IF(OR(SHEETNAME($A235)=\"HIDE\",SHEETNAME($A235)=\"Start Here\",SHEETNAME($A235)=\"Template\"),\"\",HYPERLINK(\"#'\"&B235&\"'!A1\",\"Go to Sheet\")),\"\")","v":""},{"$f":"IFERROR(IF(INDIRECT(\"'\"&$B235&\"'!$U$7\"),INDIRECT(\"'\"&$B235&\"'!$u$9\"),\"(\"&INDIRECT(\"'\"&$B235&\"'!$U$8\")&\")\"),\"\")","v":""},{"$f":"IF(L235,\"This site has incomplete Cost and Revenue data.  \",\"\")&IF(M235,\"WFRS data for previous quarters is incomplete.  \",\"\")&IF(K235,IFERROR(INDIRECT(\"'\"&$B235&\"'!$g$9\"),\"\"),\"\")","v":""},false,{"$f":"IFERROR(INDIRECT(\"'\"&$B235&\"'!$u$7\"),FALSE)","v":false},{"$f":"IFERROR(INDIRECT(\"'\"&$B235&\"'!$u$10\"),FALSE)","v":false},{"$f":"IFERROR(INDIRECT(\"'\"&$B235&\"'!$AC$12\"),FALSE)","v":false},{"$f":"IFERROR(INDIRECT(\"'\"&$B235&\"'!$ad$12\"),FALSE)","v":false},null,{"$f":"IFERROR(INDIRECT(\"'\"&$B235&\"'!$d$10\"),\"\")","v":""},{"$f":"IFERROR(INDIRECT(\"'\"&$B235&\"'!$d$33\"),\"\")","v":""},{"$f":"IFERROR(INDIRECT(\"'\"&$B235&\"'!$j$33\")+INDIRECT(\"'\"&$B235&\"'!$k$33\"),\"\")","v":""},{"$f":"IFERROR(INDIRECT(\"'\"&$B235&\"'!$q$33\"),\"\")","v":""},{"$f":"IFERROR(INDIRECT(\"'\"&$B235&\"'!$e$33\"),\"\")","v":""},{"$f":"IFERROR(INDIRECT(\"'\"&$B235&\"'!$L$33\"),\"\")","v":""},{"$f":"IFERROR(INDIRECT(\"'\"&$B235&\"'!$g$33\")+INDIRECT(\"'\"&$B235&\"'!$h$33\")+INDIRECT(\"'\"&$B235&\"'!$i$33\"),\"\")","v":""}]
[200,{"$f":"IFERROR(IF(OR(SHEETNAME(A236)=\"HIDE\",SHEETNAME(A236)=\"Start Here\",SHEETNAME(A236)=\"Template\"),\"\",SHEETNAME(A236)),\"\")","v":""},{"$f":"IFERROR(INDIRECT(\"'\"&$B236&\"'!$d$6\"),\"\")","v":""},{"$f":"IFERROR(INDIRECT(\"'\"&$B236&\"'!$d$7\"),\"\")","v":""},{"$f":"IFERROR(INDIRECT(\"'\"&$B236&\"'!$d$8\"),\"\")","v":""},{"$f":"IFERROR(IF(OR(SHEETNAME($A236)=\"HIDE\",SHEETNAME($A236)=\"Start Here\",SHEETNAME($A236)=\"Template\"),\"\",HYPERLINK(\"#'\"&B236&\"'!A1\",\"Go to Sheet\")),\"\")","v":""},{"$f":"IFERROR(IF(INDIRECT(\"'\"&$B236&\"'!$U$7\"),INDIRECT(\"'\"&$B236&\"'!$u$9\"),\"(\"&INDIRECT(\"'\"&$B236&\"'!$U$8\")&\")\"),\"\")","v":""},{"$f":"IF(L236,\"This site has incomplete Cost and Revenue data.  \",\"\")&IF(M236,\"WFRS data for previous quarters is incomplete.  \",\"\")&IF(K236,IFERROR(INDIRECT(\"'\"&$B236&\"'!$g$9\"),\"\"),\"\")","v":""},false,{"$f":"IFERROR(INDIRECT(\"'\"&$B236&\"'!$u$7\"),FALSE)","v":false},{"$f":"IFERROR(INDIRECT(\"'\"&$B236&\"'!$u$10\"),FALSE)","v":false},{"$f":"IFERROR(INDIRECT(\"'\"&$B236&\"'!$AC$12\"),FALSE)","v":false},{"$f":"IFERROR(INDIRECT(\"'\"&$B236&\"'!$ad$12\"),FALSE)","v":false},null,{"$f":"IFERROR(INDIRECT(\"'\"&$B236&\"'!$d$10\"),\"\")","v":""},{"$f":"IFERROR(INDIRECT(\"'\"&$B236&\"'!$d$33\"),\"\")","v":""},{"$f":"IFERROR(INDIRECT(\"'\"&$B236&\"'!$j$33\")+INDIRECT(\"'\"&$B236&\"'!$k$33\"),\"\")","v":""},{"$f":"IFERROR(INDIRECT(\"'\"&$B236&\"'!$q$33\"),\"\")","v":""},{"$f":"IFERROR(INDIRECT(\"'\"&$B236&\"'!$e$33\"),\"\")","v":""},{"$f":"IFERROR(INDIRECT(\"'\"&$B236&\"'!$L$33\"),\"\")","v":""},{"$f":"IFERROR(INDIRECT(\"'\"&$B236&\"'!$g$33\")+INDIRECT(\"'\"&$B236&\"'!$h$33\")+INDIRECT(\"'\"&$B236&\"'!$i$33\"),\"\")","v":""}]
[201,{"$f":"IFERROR(IF(OR(SHEETNAME(A237)=\"HIDE\",SHEETNAME(A237)=\"Start Here\",SHEETNAME(A237)=\"Template\"),\"\",SHEETNAME(A237)),\"\")","v":""},{"$f":"IFERROR(INDIRECT(\"'\"&$B237&\"'!$d$6\"),\"\")","v":""},{"$f":"IFERROR(INDIRECT(\"'\"&$B237&\"'!$d$7\"),\"\")","v":""},{"$f":"IFERROR(INDIRECT(\"'\"&$B237&\"'!$d$8\"),\"\")","v":""},{"$f":"IFERROR(IF(OR(SHEETNAME($A237)=\"HIDE\",SHEETNAME($A237)=\"Start Here\",SHEETNAME($A237)=\"Template\"),\"\",HYPERLINK(\"#'\"&B237&\"'!A1\",\"Go to Sheet\")),\"\")","v":""},{"$f":"IFERROR(IF(INDIRECT(\"'\"&$B237&\"'!$U$7\"),INDIRECT(\"'\"&$B237&\"'!$u$9\"),\"(\"&INDIRECT(\"'\"&$B237&\"'!$U$8\")&\")\"),\"\")","v":""},{"$f":"IF(L237,\"This site has incomplete Cost and Revenue data.  \",\"\")&IF(M237,\"WFRS data for previous quarters is incomplete.  \",\"\")&IF(K237,IFERROR(INDIRECT(\"'\"&$B237&\"'!$g$9\"),\"\"),\"\")","v":""},false,{"$f":"IFERROR(INDIRECT(\"'\"&$B237&\"'!$u$7\"),FALSE)","v":false},{"$f":"IFERROR(INDIRECT(\"'\"&$B237&\"'!$u$10\"),FALSE)","v":false},{"$f":"IFERROR(INDIRECT(\"'\"&$B237&\"'!$AC$12\"),FALSE)","v":false},{"$f":"IFERROR(INDIRECT(\"'\"&$B237&\"'!$ad$12\"),FALSE)","v":false},null,{"$f":"IFERROR(INDIRECT(\"'\"&$B237&\"'!$d$10\"),\"\")","v":""},{"$f":"IFERROR(INDIRECT(\"'\"&$B237&\"'!$d$33\"),\"\")","v":""},{"$f":"IFERROR(INDIRECT(\"'\"&$B237&\"'!$j$33\")+INDIRECT(\"'\"&$B237&\"'!$k$33\"),\"\")","v":""},{"$f":"IFERROR(INDIRECT(\"'\"&$B237&\"'!$q$33\"),\"\")","v":""},{"$f":"IFERROR(INDIRECT(\"'\"&$B237&\"'!$e$33\"),\"\")","v":""},{"$f":"IFERROR(INDIRECT(\"'\"&$B237&\"'!$L$33\"),\"\")","v":""},{"$f":"IFERROR(INDIRECT(\"'\"&$B237&\"'!$g$33\")+INDIRECT(\"'\"&$B237&\"'!$h$33\")+INDIRECT(\"'\"&$B237&\"'!$i$33\"),\"\")","v":""}]
[202,{"$f":"IFERROR(IF(OR(SHEETNAME(A238)=\"HIDE\",SHEETNAME(A238)=\"Start Here\",SHEETNAME(A238)=\"Template\"),\"\",SHEETNAME(A238)),\"\")","v":""},{"$f":"IFERROR(INDIRECT(\"'\"&$B238&\"'!$d$6\"),\"\")","v":""},{"$f":"IFERROR(INDIRECT(\"'\"&$B238&\"'!$d$7\"),\"\")","v":""},{"$f":"IFERROR(INDIRECT(\"'\"&$B238&\"'!$d$8\"),\"\")","v":""},{"$f":"IFERROR(IF(OR(SHEETNAME($A238)=\"HIDE\",SHEETNAME($A238)=\"Start Here\",SHEETNAME($A238)=\"Template\"),\"\",HYPERLINK(\"#'\"&B238&\"'!A1\",\"Go to Sheet\")),\"\")","v":""},{"$f":"IFERROR(IF(INDIRECT(\"'\"&$B238&\"'!$U$7\"),INDIRECT(\"'\"&$B238&\"'!$u$9\"),\"(\"&INDIRECT(\"'\"&$B238&\"'!$U$8\")&\")\"),\"\")","v":""},{"$f":"IF(L238,\"This site has incomplete Cost and Revenue data.  \",\"\")&IF(M238,\"WFRS data for previous quarters is incomplete.  \",\"\")&IF(K238,IFERROR(INDIRECT(\"'\"&$B238&\"'!$g$9\"),\"\"),\"\")","v":""},false,{"$f":"IFERROR(INDIRECT(\"'\"&$B238&\"'!$u$7\"),FALSE)","v":false},{"$f":"IFERROR(INDIRECT(\"'\"&$B238&\"'!$u$10\"),FALSE)","v":false},{"$f":"IFERROR(INDIRECT(\"'\"&$B238&\"'!$AC$12\"),FALSE)","v":false},{"$f":"IFERROR(INDIRECT(\"'\"&$B238&\"'!$ad$12\"),FALSE)","v":false},null,{"$f":"IFERROR(INDIRECT(\"'\"&$B238&\"'!$d$10\"),\"\")","v":""},{"$f":"IFERROR(INDIRECT(\"'\"&$B238&\"'!$d$33\"),\"\")","v":""},{"$f":"IFERROR(INDIRECT(\"'\"&$B238&\"'!$j$33\")+INDIRECT(\"'\"&$B238&\"'!$k$33\"),\"\")","v":""},{"$f":"IFERROR(INDIRECT(\"'\"&$B238&\"'!$q$33\"),\"\")","v":""},{"$f":"IFERROR(INDIRECT(\"'\"&$B238&\"'!$e$33\"),\"\")","v":""},{"$f":"IFERROR(INDIRECT(\"'\"&$B238&\"'!$L$33\"),\"\")","v":""},{"$f":"IFERROR(INDIRECT(\"'\"&$B238&\"'!$g$33\")+INDIRECT(\"'\"&$B238&\"'!$h$33\")+INDIRECT(\"'\"&$B238&\"'!$i$33\"),\"\")","v":""}]
[203,{"$f":"IFERROR(IF(OR(SHEETNAME(A239)=\"HIDE\",SHEETNAME(A239)=\"Start Here\",SHEETNAME(A239)=\"Template\"),\"\",SHEETNAME(A239)),\"\")","v":""},{"$f":"IFERROR(INDIRECT(\"'\"&$B239&\"'!$d$6\"),\"\")","v":""},{"$f":"IFERROR(INDIRECT(\"'\"&$B239&\"'!$d$7\"),\"\")","v":""},{"$f":"IFERROR(INDIRECT(\"'\"&$B239&\"'!$d$8\"),\"\")","v":""},{"$f":"IFERROR(IF(OR(SHEETNAME($A239)=\"HIDE\",SHEETNAME($A239)=\"Start Here\",SHEETNAME($A239)=\"Template\"),\"\",HYPERLINK(\"#'\"&B239&\"'!A1\",\"Go to Sheet\")),\"\")","v":""},{"$f":"IFERROR(IF(INDIRECT(\"'\"&$B239&\"'!$U$7\"),INDIRECT(\"'\"&$B239&\"'!$u$9\"),\"(\"&INDIRECT(\"'\"&$B239&\"'!$U$8\")&\")\"),\"\")","v":""},{"$f":"IF(L239,\"This site has incomplete Cost and Revenue data.  \",\"\")&IF(M239,\"WFRS data for previous quarters is incomplete.  \",\"\")&IF(K239,IFERROR(INDIRECT(\"'\"&$B239&\"'!$g$9\"),\"\"),\"\")","v":""},false,{"$f":"IFERROR(INDIRECT(\"'\"&$B239&\"'!$u$7\"),FALSE)","v":false},{"$f":"IFERROR(INDIRECT(\"'\"&$B239&\"'!$u$10\"),FALSE)","v":false},{"$f":"IFERROR(INDIRECT(\"'\"&$B239&\"'!$AC$12\"),FALSE)","v":false},{"$f":"IFERROR(INDIRECT(\"'\"&$B239&\"'!$ad$12\"),FALSE)","v":false},null,{"$f":"IFERROR(INDIRECT(\"'\"&$B239&\"'!$d$10\"),\"\")","v":""},{"$f":"IFERROR(INDIRECT(\"'\"&$B239&\"'!$d$33\"),\"\")","v":""},{"$f":"IFERROR(INDIRECT(\"'\"&$B239&\"'!$j$33\")+INDIRECT(\"'\"&$B239&\"'!$k$33\"),\"\")","v":""},{"$f":"IFERROR(INDIRECT(\"'\"&$B239&\"'!$q$33\"),\"\")","v":""},{"$f":"IFERROR(INDIRECT(\"'\"&$B239&\"'!$e$33\"),\"\")","v":""},{"$f":"IFERROR(INDIRECT(\"'\"&$B239&\"'!$L$33\"),\"\")","v":""},{"$f":"IFERROR(INDIRECT(\"'\"&$B239&\"'!$g$33\")+INDIRECT(\"'\"&$B239&\"'!$h$33\")+INDIRECT(\"'\"&$B239&\"'!$i$33\"),\"\")","v":""}]
[204,{"$f":"IFERROR(IF(OR(SHEETNAME(A240)=\"HIDE\",SHEETNAME(A240)=\"Start Here\",SHEETNAME(A240)=\"Template\"),\"\",SHEETNAME(A240)),\"\")","v":""},{"$f":"IFERROR(INDIRECT(\"'\"&$B240&\"'!$d$6\"),\"\")","v":""},{"$f":"IFERROR(INDIRECT(\"'\"&$B240&\"'!$d$7\"),\"\")","v":""},{"$f":"IFERROR(INDIRECT(\"'\"&$B240&\"'!$d$8\"),\"\")","v":""},{"$f":"IFERROR(IF(OR(SHEETNAME($A240)=\"HIDE\",SHEETNAME($A240)=\"Start Here\",SHEETNAME($A240)=\"Template\"),\"\",HYPERLINK(\"#'\"&B240&\"'!A1\",\"Go to Sheet\")),\"\")","v":""},{"$f":"IFERROR(IF(INDIRECT(\"'\"&$B240&\"'!$U$7\"),INDIRECT(\"'\"&$B240&\"'!$u$9\"),\"(\"&INDIRECT(\"'\"&$B240&\"'!$U$8\")&\")\"),\"\")","v":""},{"$f":"IF(L240,\"This site has incomplete Cost and Revenue data.  \",\"\")&IF(M240,\"WFRS data for previous quarters is incomplete.  \",\"\")&IF(K240,IFERROR(INDIRECT(\"'\"&$B240&\"'!$g$9\"),\"\"),\"\")","v":""},false,{"$f":"IFERROR(INDIRECT(\"'\"&$B240&\"'!$u$7\"),FALSE)","v":false},{"$f":"IFERROR(INDIRECT(\"'\"&$B240&\"'!$u$10\"),FALSE)","v":false},{"$f":"IFERROR(INDIRECT(\"'\"&$B240&\"'!$AC$12\"),FALSE)","v":false},{"$f":"IFERROR(INDIRECT(\"'\"&$B240&\"'!$ad$12\"),FALSE)","v":false},null,{"$f":"IFERROR(INDIRECT(\"'\"&$B240&\"'!$d$10\"),\"\")","v":""},{"$f":"IFERROR(INDIRECT(\"'\"&$B240&\"'!$d$33\"),\"\")","v":""},{"$f":"IFERROR(INDIRECT(\"'\"&$B240&\"'!$j$33\")+INDIRECT(\"'\"&$B240&\"'!$k$33\"),\"\")","v":""},{"$f":"IFERROR(INDIRECT(\"'\"&$B240&\"'!$q$33\"),\"\")","v":""},{"$f":"IFERROR(INDIRECT(\"'\"&$B240&\"'!$e$33\"),\"\")","v":""},{"$f":"IFERROR(INDIRECT(\"'\"&$B240&\"'!$L$33\"),\"\")","v":""},{"$f":"IFERROR(INDIRECT(\"'\"&$B240&\"'!$g$33\")+INDIRECT(\"'\"&$B240&\"'!$h$33\")+INDIRECT(\"'\"&$B240&\"'!$i$33\"),\"\")","v":""}]
[205,{"$f":"IFERROR(IF(OR(SHEETNAME(A241)=\"HIDE\",SHEETNAME(A241)=\"Start Here\",SHEETNAME(A241)=\"Template\"),\"\",SHEETNAME(A241)),\"\")","v":""},{"$f":"IFERROR(INDIRECT(\"'\"&$B241&\"'!$d$6\"),\"\")","v":""},{"$f":"IFERROR(INDIRECT(\"'\"&$B241&\"'!$d$7\"),\"\")","v":""},{"$f":"IFERROR(INDIRECT(\"'\"&$B241&\"'!$d$8\"),\"\")","v":""},{"$f":"IFERROR(IF(OR(SHEETNAME($A241)=\"HIDE\",SHEETNAME($A241)=\"Start Here\",SHEETNAME($A241)=\"Template\"),\"\",HYPERLINK(\"#'\"&B241&\"'!A1\",\"Go to Sheet\")),\"\")","v":""},{"$f":"IFERROR(IF(INDIRECT(\"'\"&$B241&\"'!$U$7\"),INDIRECT(\"'\"&$B241&\"'!$u$9\"),\"(\"&INDIRECT(\"'\"&$B241&\"'!$U$8\")&\")\"),\"\")","v":""},{"$f":"IF(L241,\"This site has incomplete Cost and Revenue data.  \",\"\")&IF(M241,\"WFRS data for previous quarters is incomplete.  \",\"\")&IF(K241,IFERROR(INDIRECT(\"'\"&$B241&\"'!$g$9\"),\"\"),\"\")","v":""},false,{"$f":"IFERROR(INDIRECT(\"'\"&$B241&\"'!$u$7\"),FALSE)","v":false},{"$f":"IFERROR(INDIRECT(\"'\"&$B241&\"'!$u$10\"),FALSE)","v":false},{"$f":"IFERROR(INDIRECT(\"'\"&$B241&\"'!$AC$12\"),FALSE)","v":false},{"$f":"IFERROR(INDIRECT(\"'\"&$B241&\"'!$ad$12\"),FALSE)","v":false},null,{"$f":"IFERROR(INDIRECT(\"'\"&$B241&\"'!$d$10\"),\"\")","v":""},{"$f":"IFERROR(INDIRECT(\"'\"&$B241&\"'!$d$33\"),\"\")","v":""},{"$f":"IFERROR(INDIRECT(\"'\"&$B241&\"'!$j$33\")+INDIRECT(\"'\"&$B241&\"'!$k$33\"),\"\")","v":""},{"$f":"IFERROR(INDIRECT(\"'\"&$B241&\"'!$q$33\"),\"\")","v":""},{"$f":"IFERROR(INDIRECT(\"'\"&$B241&\"'!$e$33\"),\"\")","v":""},{"$f":"IFERROR(INDIRECT(\"'\"&$B241&\"'!$L$33\"),\"\")","v":""},{"$f":"IFERROR(INDIRECT(\"'\"&$B241&\"'!$g$33\")+INDIRECT(\"'\"&$B241&\"'!$h$33\")+INDIRECT(\"'\"&$B241&\"'!$i$33\"),\"\")","v":""}]
[206,{"$f":"IFERROR(IF(OR(SHEETNAME(A242)=\"HIDE\",SHEETNAME(A242)=\"Start Here\",SHEETNAME(A242)=\"Template\"),\"\",SHEETNAME(A242)),\"\")","v":""},{"$f":"IFERROR(INDIRECT(\"'\"&$B242&\"'!$d$6\"),\"\")","v":""},{"$f":"IFERROR(INDIRECT(\"'\"&$B242&\"'!$d$7\"),\"\")","v":""},{"$f":"IFERROR(INDIRECT(\"'\"&$B242&\"'!$d$8\"),\"\")","v":""},{"$f":"IFERROR(IF(OR(SHEETNAME($A242)=\"HIDE\",SHEETNAME($A242)=\"Start Here\",SHEETNAME($A242)=\"Template\"),\"\",HYPERLINK(\"#'\"&B242&\"'!A1\",\"Go to Sheet\")),\"\")","v":""},{"$f":"IFERROR(IF(INDIRECT(\"'\"&$B242&\"'!$U$7\"),INDIRECT(\"'\"&$B242&\"'!$u$9\"),\"(\"&INDIRECT(\"'\"&$B242&\"'!$U$8\")&\")\"),\"\")","v":""},{"$f":"IF(L242,\"This site has incomplete Cost and Revenue data.  \",\"\")&IF(M242,\"WFRS data for previous quarters is incomplete.  \",\"\")&IF(K242,IFERROR(INDIRECT(\"'\"&$B242&\"'!$g$9\"),\"\"),\"\")","v":""},false,{"$f":"IFERROR(INDIRECT(\"'\"&$B242&\"'!$u$7\"),FALSE)","v":false},{"$f":"IFERROR(INDIRECT(\"'\"&$B242&\"'!$u$10\"),FALSE)","v":false},{"$f":"IFERROR(INDIRECT(\"'\"&$B242&\"'!$AC$12\"),FALSE)","v":false},{"$f":"IFERROR(INDIRECT(\"'\"&$B242&\"'!$ad$12\"),FALSE)","v":false},null,{"$f":"IFERROR(INDIRECT(\"'\"&$B242&\"'!$d$10\"),\"\")","v":""},{"$f":"IFERROR(INDIRECT(\"'\"&$B242&\"'!$d$33\"),\"\")","v":""},{"$f":"IFERROR(INDIRECT(\"'\"&$B242&\"'!$j$33\")+INDIRECT(\"'\"&$B242&\"'!$k$33\"),\"\")","v":""},{"$f":"IFERROR(INDIRECT(\"'\"&$B242&\"'!$q$33\"),\"\")","v":""},{"$f":"IFERROR(INDIRECT(\"'\"&$B242&\"'!$e$33\"),\"\")","v":""},{"$f":"IFERROR(INDIRECT(\"'\"&$B242&\"'!$L$33\"),\"\")","v":""},{"$f":"IFERROR(INDIRECT(\"'\"&$B242&\"'!$g$33\")+INDIRECT(\"'\"&$B242&\"'!$h$33\")+INDIRECT(\"'\"&$B242&\"'!$i$33\"),\"\")","v":""}]
[207,{"$f":"IFERROR(IF(OR(SHEETNAME(A243)=\"HIDE\",SHEETNAME(A243)=\"Start Here\",SHEETNAME(A243)=\"Template\"),\"\",SHEETNAME(A243)),\"\")","v":""},{"$f":"IFERROR(INDIRECT(\"'\"&$B243&\"'!$d$6\"),\"\")","v":""},{"$f":"IFERROR(INDIRECT(\"'\"&$B243&\"'!$d$7\"),\"\")","v":""},{"$f":"IFERROR(INDIRECT(\"'\"&$B243&\"'!$d$8\"),\"\")","v":""},{"$f":"IFERROR(IF(OR(SHEETNAME($A243)=\"HIDE\",SHEETNAME($A243)=\"Start Here\",SHEETNAME($A243)=\"Template\"),\"\",HYPERLINK(\"#'\"&B243&\"'!A1\",\"Go to Sheet\")),\"\")","v":""},{"$f":"IFERROR(IF(INDIRECT(\"'\"&$B243&\"'!$U$7\"),INDIRECT(\"'\"&$B243&\"'!$u$9\"),\"(\"&INDIRECT(\"'\"&$B243&\"'!$U$8\")&\")\"),\"\")","v":""},{"$f":"IF(L243,\"This site has incomplete Cost and Revenue data.  \",\"\")&IF(M243,\"WFRS data for previous quarters is incomplete.  \",\"\")&IF(K243,IFERROR(INDIRECT(\"'\"&$B243&\"'!$g$9\"),\"\"),\"\")","v":""},false,{"$f":"IFERROR(INDIRECT(\"'\"&$B243&\"'!$u$7\"),FALSE)","v":false},{"$f":"IFERROR(INDIRECT(\"'\"&$B243&\"'!$u$10\"),FALSE)","v":false},{"$f":"IFERROR(INDIRECT(\"'\"&$B243&\"'!$AC$12\"),FALSE)","v":false},{"$f":"IFERROR(INDIRECT(\"'\"&$B243&\"'!$ad$12\"),FALSE)","v":false},null,{"$f":"IFERROR(INDIRECT(\"'\"&$B243&\"'!$d$10\"),\"\")","v":""},{"$f":"IFERROR(INDIRECT(\"'\"&$B243&\"'!$d$33\"),\"\")","v":""},{"$f":"IFERROR(INDIRECT(\"'\"&$B243&\"'!$j$33\")+INDIRECT(\"'\"&$B243&\"'!$k$33\"),\"\")","v":""},{"$f":"IFERROR(INDIRECT(\"'\"&$B243&\"'!$q$33\"),\"\")","v":""},{"$f":"IFERROR(INDIRECT(\"'\"&$B243&\"'!$e$33\"),\"\")","v":""},{"$f":"IFERROR(INDIRECT(\"'\"&$B243&\"'!$L$33\"),\"\")","v":""},{"$f":"IFERROR(INDIRECT(\"'\"&$B243&\"'!$g$33\")+INDIRECT(\"'\"&$B243&\"'!$h$33\")+INDIRECT(\"'\"&$B243&\"'!$i$33\"),\"\")","v":""}]
[208,{"$f":"IFERROR(IF(OR(SHEETNAME(A244)=\"HIDE\",SHEETNAME(A244)=\"Start Here\",SHEETNAME(A244)=\"Template\"),\"\",SHEETNAME(A244)),\"\")","v":""},{"$f":"IFERROR(INDIRECT(\"'\"&$B244&\"'!$d$6\"),\"\")","v":""},{"$f":"IFERROR(INDIRECT(\"'\"&$B244&\"'!$d$7\"),\"\")","v":""},{"$f":"IFERROR(INDIRECT(\"'\"&$B244&\"'!$d$8\"),\"\")","v":""},{"$f":"IFERROR(IF(OR(SHEETNAME($A244)=\"HIDE\",SHEETNAME($A244)=\"Start Here\",SHEETNAME($A244)=\"Template\"),\"\",HYPERLINK(\"#'\"&B244&\"'!A1\",\"Go to Sheet\")),\"\")","v":""},{"$f":"IFERROR(IF(INDIRECT(\"'\"&$B244&\"'!$U$7\"),INDIRECT(\"'\"&$B244&\"'!$u$9\"),\"(\"&INDIRECT(\"'\"&$B244&\"'!$U$8\")&\")\"),\"\")","v":""},{"$f":"IF(L244,\"This site has incomplete Cost and Revenue data.  \",\"\")&IF(M244,\"WFRS data for previous quarters is incomplete.  \",\"\")&IF(K244,IFERROR(INDIRECT(\"'\"&$B244&\"'!$g$9\"),\"\"),\"\")","v":""},false,{"$f":"IFERROR(INDIRECT(\"'\"&$B244&\"'!$u$7\"),FALSE)","v":false},{"$f":"IFERROR(INDIRECT(\"'\"&$B244&\"'!$u$10\"),FALSE)","v":false},{"$f":"IFERROR(INDIRECT(\"'\"&$B244&\"'!$AC$12\"),FALSE)","v":false},{"$f":"IFERROR(INDIRECT(\"'\"&$B244&\"'!$ad$12\"),FALSE)","v":false},null,{"$f":"IFERROR(INDIRECT(\"'\"&$B244&\"'!$d$10\"),\"\")","v":""},{"$f":"IFERROR(INDIRECT(\"'\"&$B244&\"'!$d$33\"),\"\")","v":""},{"$f":"IFERROR(INDIRECT(\"'\"&$B244&\"'!$j$33\")+INDIRECT(\"'\"&$B244&\"'!$k$33\"),\"\")","v":""},{"$f":"IFERROR(INDIRECT(\"'\"&$B244&\"'!$q$33\"),\"\")","v":""},{"$f":"IFERROR(INDIRECT(\"'\"&$B244&\"'!$e$33\"),\"\")","v":""},{"$f":"IFERROR(INDIRECT(\"'\"&$B244&\"'!$L$33\"),\"\")","v":""},{"$f":"IFERROR(INDIRECT(\"'\"&$B244&\"'!$g$33\")+INDIRECT(\"'\"&$B244&\"'!$h$33\")+INDIRECT(\"'\"&$B244&\"'!$i$33\"),\"\")","v":""}]
[209,{"$f":"IFERROR(IF(OR(SHEETNAME(A245)=\"HIDE\",SHEETNAME(A245)=\"Start Here\",SHEETNAME(A245)=\"Template\"),\"\",SHEETNAME(A245)),\"\")","v":""},{"$f":"IFERROR(INDIRECT(\"'\"&$B245&\"'!$d$6\"),\"\")","v":""},{"$f":"IFERROR(INDIRECT(\"'\"&$B245&\"'!$d$7\"),\"\")","v":""},{"$f":"IFERROR(INDIRECT(\"'\"&$B245&\"'!$d$8\"),\"\")","v":""},{"$f":"IFERROR(IF(OR(SHEETNAME($A245)=\"HIDE\",SHEETNAME($A245)=\"Start Here\",SHEETNAME($A245)=\"Template\"),\"\",HYPERLINK(\"#'\"&B245&\"'!A1\",\"Go to Sheet\")),\"\")","v":""},{"$f":"IFERROR(IF(INDIRECT(\"'\"&$B245&\"'!$U$7\"),INDIRECT(\"'\"&$B245&\"'!$u$9\"),\"(\"&INDIRECT(\"'\"&$B245&\"'!$U$8\")&\")\"),\"\")","v":""},{"$f":"IF(L245,\"This site has incomplete Cost and Revenue data.  \",\"\")&IF(M245,\"WFRS data for previous quarters is incomplete.  \",\"\")&IF(K245,IFERROR(INDIRECT(\"'\"&$B245&\"'!$g$9\"),\"\"),\"\")","v":""},false,{"$f":"IFERROR(INDIRECT(\"'\"&$B245&\"'!$u$7\"),FALSE)","v":false},{"$f":"IFERROR(INDIRECT(\"'\"&$B245&\"'!$u$10\"),FALSE)","v":false},{"$f":"IFERROR(INDIRECT(\"'\"&$B245&\"'!$AC$12\"),FALSE)","v":false},{"$f":"IFERROR(INDIRECT(\"'\"&$B245&\"'!$ad$12\"),FALSE)","v":false},null,{"$f":"IFERROR(INDIRECT(\"'\"&$B245&\"'!$d$10\"),\"\")","v":""},{"$f":"IFERROR(INDIRECT(\"'\"&$B245&\"'!$d$33\"),\"\")","v":""},{"$f":"IFERROR(INDIRECT(\"'\"&$B245&\"'!$j$33\")+INDIRECT(\"'\"&$B245&\"'!$k$33\"),\"\")","v":""},{"$f":"IFERROR(INDIRECT(\"'\"&$B245&\"'!$q$33\"),\"\")","v":""},{"$f":"IFERROR(INDIRECT(\"'\"&$B245&\"'!$e$33\"),\"\")","v":""},{"$f":"IFERROR(INDIRECT(\"'\"&$B245&\"'!$L$33\"),\"\")","v":""},{"$f":"IFERROR(INDIRECT(\"'\"&$B245&\"'!$g$33\")+INDIRECT(\"'\"&$B245&\"'!$h$33\")+INDIRECT(\"'\"&$B245&\"'!$i$33\"),\"\")","v":""}]
[210,{"$f":"IFERROR(IF(OR(SHEETNAME(A246)=\"HIDE\",SHEETNAME(A246)=\"Start Here\",SHEETNAME(A246)=\"Template\"),\"\",SHEETNAME(A246)),\"\")","v":""},{"$f":"IFERROR(INDIRECT(\"'\"&$B246&\"'!$d$6\"),\"\")","v":""},{"$f":"IFERROR(INDIRECT(\"'\"&$B246&\"'!$d$7\"),\"\")","v":""},{"$f":"IFERROR(INDIRECT(\"'\"&$B246&\"'!$d$8\"),\"\")","v":""},{"$f":"IFERROR(IF(OR(SHEETNAME($A246)=\"HIDE\",SHEETNAME($A246)=\"Start Here\",SHEETNAME($A246)=\"Template\"),\"\",HYPERLINK(\"#'\"&B246&\"'!A1\",\"Go to Sheet\")),\"\")","v":""},{"$f":"IFERROR(IF(INDIRECT(\"'\"&$B246&\"'!$U$7\"),INDIRECT(\"'\"&$B246&\"'!$u$9\"),\"(\"&INDIRECT(\"'\"&$B246&\"'!$U$8\")&\")\"),\"\")","v":""},{"$f":"IF(L246,\"This site has incomplete Cost and Revenue data.  \",\"\")&IF(M246,\"WFRS data for previous quarters is incomplete.  \",\"\")&IF(K246,IFERROR(INDIRECT(\"'\"&$B246&\"'!$g$9\"),\"\"),\"\")","v":""},false,{"$f":"IFERROR(INDIRECT(\"'\"&$B246&\"'!$u$7\"),FALSE)","v":false},{"$f":"IFERROR(INDIRECT(\"'\"&$B246&\"'!$u$10\"),FALSE)","v":false},{"$f":"IFERROR(INDIRECT(\"'\"&$B246&\"'!$AC$12\"),FALSE)","v":false},{"$f":"IFERROR(INDIRECT(\"'\"&$B246&\"'!$ad$12\"),FALSE)","v":false},null,{"$f":"IFERROR(INDIRECT(\"'\"&$B246&\"'!$d$10\"),\"\")","v":""},{"$f":"IFERROR(INDIRECT(\"'\"&$B246&\"'!$d$33\"),\"\")","v":""},{"$f":"IFERROR(INDIRECT(\"'\"&$B246&\"'!$j$33\")+INDIRECT(\"'\"&$B246&\"'!$k$33\"),\"\")","v":""},{"$f":"IFERROR(INDIRECT(\"'\"&$B246&\"'!$q$33\"),\"\")","v":""},{"$f":"IFERROR(INDIRECT(\"'\"&$B246&\"'!$e$33\"),\"\")","v":""},{"$f":"IFERROR(INDIRECT(\"'\"&$B246&\"'!$L$33\"),\"\")","v":""},{"$f":"IFERROR(INDIRECT(\"'\"&$B246&\"'!$g$33\")+INDIRECT(\"'\"&$B246&\"'!$h$33\")+INDIRECT(\"'\"&$B246&\"'!$i$33\"),\"\")","v":""}]
[211,{"$f":"IFERROR(IF(OR(SHEETNAME(A247)=\"HIDE\",SHEETNAME(A247)=\"Start Here\",SHEETNAME(A247)=\"Template\"),\"\",SHEETNAME(A247)),\"\")","v":""},{"$f":"IFERROR(INDIRECT(\"'\"&$B247&\"'!$d$6\"),\"\")","v":""},{"$f":"IFERROR(INDIRECT(\"'\"&$B247&\"'!$d$7\"),\"\")","v":""},{"$f":"IFERROR(INDIRECT(\"'\"&$B247&\"'!$d$8\"),\"\")","v":""},{"$f":"IFERROR(IF(OR(SHEETNAME($A247)=\"HIDE\",SHEETNAME($A247)=\"Start Here\",SHEETNAME($A247)=\"Template\"),\"\",HYPERLINK(\"#'\"&B247&\"'!A1\",\"Go to Sheet\")),\"\")","v":""},{"$f":"IFERROR(IF(INDIRECT(\"'\"&$B247&\"'!$U$7\"),INDIRECT(\"'\"&$B247&\"'!$u$9\"),\"(\"&INDIRECT(\"'\"&$B247&\"'!$U$8\")&\")\"),\"\")","v":""},{"$f":"IF(L247,\"This site has incomplete Cost and Revenue data.  \",\"\")&IF(M247,\"WFRS data for previous quarters is incomplete.  \",\"\")&IF(K247,IFERROR(INDIRECT(\"'\"&$B247&\"'!$g$9\"),\"\"),\"\")","v":""},false,{"$f":"IFERROR(INDIRECT(\"'\"&$B247&\"'!$u$7\"),FALSE)","v":false},{"$f":"IFERROR(INDIRECT(\"'\"&$B247&\"'!$u$10\"),FALSE)","v":false},{"$f":"IFERROR(INDIRECT(\"'\"&$B247&\"'!$AC$12\"),FALSE)","v":false},{"$f":"IFERROR(INDIRECT(\"'\"&$B247&\"'!$ad$12\"),FALSE)","v":false},null,{"$f":"IFERROR(INDIRECT(\"'\"&$B247&\"'!$d$10\"),\"\")","v":""},{"$f":"IFERROR(INDIRECT(\"'\"&$B247&\"'!$d$33\"),\"\")","v":""},{"$f":"IFERROR(INDIRECT(\"'\"&$B247&\"'!$j$33\")+INDIRECT(\"'\"&$B247&\"'!$k$33\"),\"\")","v":""},{"$f":"IFERROR(INDIRECT(\"'\"&$B247&\"'!$q$33\"),\"\")","v":""},{"$f":"IFERROR(INDIRECT(\"'\"&$B247&\"'!$e$33\"),\"\")","v":""},{"$f":"IFERROR(INDIRECT(\"'\"&$B247&\"'!$L$33\"),\"\")","v":""},{"$f":"IFERROR(INDIRECT(\"'\"&$B247&\"'!$g$33\")+INDIRECT(\"'\"&$B247&\"'!$h$33\")+INDIRECT(\"'\"&$B247&\"'!$i$33\"),\"\")","v":""}]
[212,{"$f":"IFERROR(IF(OR(SHEETNAME(A248)=\"HIDE\",SHEETNAME(A248)=\"Start Here\",SHEETNAME(A248)=\"Template\"),\"\",SHEETNAME(A248)),\"\")","v":""},{"$f":"IFERROR(INDIRECT(\"'\"&$B248&\"'!$d$6\"),\"\")","v":""},{"$f":"IFERROR(INDIRECT(\"'\"&$B248&\"'!$d$7\"),\"\")","v":""},{"$f":"IFERROR(INDIRECT(\"'\"&$B248&\"'!$d$8\"),\"\")","v":""},{"$f":"IFERROR(IF(OR(SHEETNAME($A248)=\"HIDE\",SHEETNAME($A248)=\"Start Here\",SHEETNAME($A248)=\"Template\"),\"\",HYPERLINK(\"#'\"&B248&\"'!A1\",\"Go to Sheet\")),\"\")","v":""},{"$f":"IFERROR(IF(INDIRECT(\"'\"&$B248&\"'!$U$7\"),INDIRECT(\"'\"&$B248&\"'!$u$9\"),\"(\"&INDIRECT(\"'\"&$B248&\"'!$U$8\")&\")\"),\"\")","v":""},{"$f":"IF(L248,\"This site has incomplete Cost and Revenue data.  \",\"\")&IF(M248,\"WFRS data for previous quarters is incomplete.  \",\"\")&IF(K248,IFERROR(INDIRECT(\"'\"&$B248&\"'!$g$9\"),\"\"),\"\")","v":""},false,{"$f":"IFERROR(INDIRECT(\"'\"&$B248&\"'!$u$7\"),FALSE)","v":false},{"$f":"IFERROR(INDIRECT(\"'\"&$B248&\"'!$u$10\"),FALSE)","v":false},{"$f":"IFERROR(INDIRECT(\"'\"&$B248&\"'!$AC$12\"),FALSE)","v":false},{"$f":"IFERROR(INDIRECT(\"'\"&$B248&\"'!$ad$12\"),FALSE)","v":false},null,{"$f":"IFERROR(INDIRECT(\"'\"&$B248&\"'!$d$10\"),\"\")","v":""},{"$f":"IFERROR(INDIRECT(\"'\"&$B248&\"'!$d$33\"),\"\")","v":""},{"$f":"IFERROR(INDIRECT(\"'\"&$B248&\"'!$j$33\")+INDIRECT(\"'\"&$B248&\"'!$k$33\"),\"\")","v":""},{"$f":"IFERROR(INDIRECT(\"'\"&$B248&\"'!$q$33\"),\"\")","v":""},{"$f":"IFERROR(INDIRECT(\"'\"&$B248&\"'!$e$33\"),\"\")","v":""},{"$f":"IFERROR(INDIRECT(\"'\"&$B248&\"'!$L$33\"),\"\")","v":""},{"$f":"IFERROR(INDIRECT(\"'\"&$B248&\"'!$g$33\")+INDIRECT(\"'\"&$B248&\"'!$h$33\")+INDIRECT(\"'\"&$B248&\"'!$i$33\"),\"\")","v":""}]
[213,{"$f":"IFERROR(IF(OR(SHEETNAME(A249)=\"HIDE\",SHEETNAME(A249)=\"Start Here\",SHEETNAME(A249)=\"Template\"),\"\",SHEETNAME(A249)),\"\")","v":""},{"$f":"IFERROR(INDIRECT(\"'\"&$B249&\"'!$d$6\"),\"\")","v":""},{"$f":"IFERROR(INDIRECT(\"'\"&$B249&\"'!$d$7\"),\"\")","v":""},{"$f":"IFERROR(INDIRECT(\"'\"&$B249&\"'!$d$8\"),\"\")","v":""},{"$f":"IFERROR(IF(OR(SHEETNAME($A249)=\"HIDE\",SHEETNAME($A249)=\"Start Here\",SHEETNAME($A249)=\"Template\"),\"\",HYPERLINK(\"#'\"&B249&\"'!A1\",\"Go to Sheet\")),\"\")","v":""},{"$f":"IFERROR(IF(INDIRECT(\"'\"&$B249&\"'!$U$7\"),INDIRECT(\"'\"&$B249&\"'!$u$9\"),\"(\"&INDIRECT(\"'\"&$B249&\"'!$U$8\")&\")\"),\"\")","v":""},{"$f":"IF(L249,\"This site has incomplete Cost and Revenue data.  \",\"\")&IF(M249,\"WFRS data for previous quarters is incomplete.  \",\"\")&IF(K249,IFERROR(INDIRECT(\"'\"&$B249&\"'!$g$9\"),\"\"),\"\")","v":""},false,{"$f":"IFERROR(INDIRECT(\"'\"&$B249&\"'!$u$7\"),FALSE)","v":false},{"$f":"IFERROR(INDIRECT(\"'\"&$B249&\"'!$u$10\"),FALSE)","v":false},{"$f":"IFERROR(INDIRECT(\"'\"&$B249&\"'!$AC$12\"),FALSE)","v":false},{"$f":"IFERROR(INDIRECT(\"'\"&$B249&\"'!$ad$12\"),FALSE)","v":false},null,{"$f":"IFERROR(INDIRECT(\"'\"&$B249&\"'!$d$10\"),\"\")","v":""},{"$f":"IFERROR(INDIRECT(\"'\"&$B249&\"'!$d$33\"),\"\")","v":""},{"$f":"IFERROR(INDIRECT(\"'\"&$B249&\"'!$j$33\")+INDIRECT(\"'\"&$B249&\"'!$k$33\"),\"\")","v":""},{"$f":"IFERROR(INDIRECT(\"'\"&$B249&\"'!$q$33\"),\"\")","v":""},{"$f":"IFERROR(INDIRECT(\"'\"&$B249&\"'!$e$33\"),\"\")","v":""},{"$f":"IFERROR(INDIRECT(\"'\"&$B249&\"'!$L$33\"),\"\")","v":""},{"$f":"IFERROR(INDIRECT(\"'\"&$B249&\"'!$g$33\")+INDIRECT(\"'\"&$B249&\"'!$h$33\")+INDIRECT(\"'\"&$B249&\"'!$i$33\"),\"\")","v":""}]
[214,{"$f":"IFERROR(IF(OR(SHEETNAME(A250)=\"HIDE\",SHEETNAME(A250)=\"Start Here\",SHEETNAME(A250)=\"Template\"),\"\",SHEETNAME(A250)),\"\")","v":""},{"$f":"IFERROR(INDIRECT(\"'\"&$B250&\"'!$d$6\"),\"\")","v":""},{"$f":"IFERROR(INDIRECT(\"'\"&$B250&\"'!$d$7\"),\"\")","v":""},{"$f":"IFERROR(INDIRECT(\"'\"&$B250&\"'!$d$8\"),\"\")","v":""},{"$f":"IFERROR(IF(OR(SHEETNAME($A250)=\"HIDE\",SHEETNAME($A250)=\"Start Here\",SHEETNAME($A250)=\"Template\"),\"\",HYPERLINK(\"#'\"&B250&\"'!A1\",\"Go to Sheet\")),\"\")","v":""},{"$f":"IFERROR(IF(INDIRECT(\"'\"&$B250&\"'!$U$7\"),INDIRECT(\"'\"&$B250&\"'!$u$9\"),\"(\"&INDIRECT(\"'\"&$B250&\"'!$U$8\")&\")\"),\"\")","v":""},{"$f":"IF(L250,\"This site has incomplete Cost and Revenue data.  \",\"\")&IF(M250,\"WFRS data for previous quarters is incomplete.  \",\"\")&IF(K250,IFERROR(INDIRECT(\"'\"&$B250&\"'!$g$9\"),\"\"),\"\")","v":""},false,{"$f":"IFERROR(INDIRECT(\"'\"&$B250&\"'!$u$7\"),FALSE)","v":false},{"$f":"IFERROR(INDIRECT(\"'\"&$B250&\"'!$u$10\"),FALSE)","v":false},{"$f":"IFERROR(INDIRECT(\"'\"&$B250&\"'!$AC$12\"),FALSE)","v":false},{"$f":"IFERROR(INDIRECT(\"'\"&$B250&\"'!$ad$12\"),FALSE)","v":false},null,{"$f":"IFERROR(INDIRECT(\"'\"&$B250&\"'!$d$10\"),\"\")","v":""},{"$f":"IFERROR(INDIRECT(\"'\"&$B250&\"'!$d$33\"),\"\")","v":""},{"$f":"IFERROR(INDIRECT(\"'\"&$B250&\"'!$j$33\")+INDIRECT(\"'\"&$B250&\"'!$k$33\"),\"\")","v":""},{"$f":"IFERROR(INDIRECT(\"'\"&$B250&\"'!$q$33\"),\"\")","v":""},{"$f":"IFERROR(INDIRECT(\"'\"&$B250&\"'!$e$33\"),\"\")","v":""},{"$f":"IFERROR(INDIRECT(\"'\"&$B250&\"'!$L$33\"),\"\")","v":""},{"$f":"IFERROR(INDIRECT(\"'\"&$B250&\"'!$g$33\")+INDIRECT(\"'\"&$B250&\"'!$h$33\")+INDIRECT(\"'\"&$B250&\"'!$i$33\"),\"\")","v":""}]
[215,{"$f":"IFERROR(IF(OR(SHEETNAME(A251)=\"HIDE\",SHEETNAME(A251)=\"Start Here\",SHEETNAME(A251)=\"Template\"),\"\",SHEETNAME(A251)),\"\")","v":""},{"$f":"IFERROR(INDIRECT(\"'\"&$B251&\"'!$d$6\"),\"\")","v":""},{"$f":"IFERROR(INDIRECT(\"'\"&$B251&\"'!$d$7\"),\"\")","v":""},{"$f":"IFERROR(INDIRECT(\"'\"&$B251&\"'!$d$8\"),\"\")","v":""},{"$f":"IFERROR(IF(OR(SHEETNAME($A251)=\"HIDE\",SHEETNAME($A251)=\"Start Here\",SHEETNAME($A251)=\"Template\"),\"\",HYPERLINK(\"#'\"&B251&\"'!A1\",\"Go to Sheet\")),\"\")","v":""},{"$f":"IFERROR(IF(INDIRECT(\"'\"&$B251&\"'!$U$7\"),INDIRECT(\"'\"&$B251&\"'!$u$9\"),\"(\"&INDIRECT(\"'\"&$B251&\"'!$U$8\")&\")\"),\"\")","v":""},{"$f":"IF(L251,\"This site has incomplete Cost and Revenue data.  \",\"\")&IF(M251,\"WFRS data for previous quarters is incomplete.  \",\"\")&IF(K251,IFERROR(INDIRECT(\"'\"&$B251&\"'!$g$9\"),\"\"),\"\")","v":""},false,{"$f":"IFERROR(INDIRECT(\"'\"&$B251&\"'!$u$7\"),FALSE)","v":false},{"$f":"IFERROR(INDIRECT(\"'\"&$B251&\"'!$u$10\"),FALSE)","v":false},{"$f":"IFERROR(INDIRECT(\"'\"&$B251&\"'!$AC$12\"),FALSE)","v":false},{"$f":"IFERROR(INDIRECT(\"'\"&$B251&\"'!$ad$12\"),FALSE)","v":false},null,{"$f":"IFERROR(INDIRECT(\"'\"&$B251&\"'!$d$10\"),\"\")","v":""},{"$f":"IFERROR(INDIRECT(\"'\"&$B251&\"'!$d$33\"),\"\")","v":""},{"$f":"IFERROR(INDIRECT(\"'\"&$B251&\"'!$j$33\")+INDIRECT(\"'\"&$B251&\"'!$k$33\"),\"\")","v":""},{"$f":"IFERROR(INDIRECT(\"'\"&$B251&\"'!$q$33\"),\"\")","v":""},{"$f":"IFERROR(INDIRECT(\"'\"&$B251&\"'!$e$33\"),\"\")","v":""},{"$f":"IFERROR(INDIRECT(\"'\"&$B251&\"'!$L$33\"),\"\")","v":""},{"$f":"IFERROR(INDIRECT(\"'\"&$B251&\"'!$g$33\")+INDIRECT(\"'\"&$B251&\"'!$h$33\")+INDIRECT(\"'\"&$B251&\"'!$i$33\"),\"\")","v":""}]
[216,{"$f":"IFERROR(IF(OR(SHEETNAME(A252)=\"HIDE\",SHEETNAME(A252)=\"Start Here\",SHEETNAME(A252)=\"Template\"),\"\",SHEETNAME(A252)),\"\")","v":""},{"$f":"IFERROR(INDIRECT(\"'\"&$B252&\"'!$d$6\"),\"\")","v":""},{"$f":"IFERROR(INDIRECT(\"'\"&$B252&\"'!$d$7\"),\"\")","v":""},{"$f":"IFERROR(INDIRECT(\"'\"&$B252&\"'!$d$8\"),\"\")","v":""},{"$f":"IFERROR(IF(OR(SHEETNAME($A252)=\"HIDE\",SHEETNAME($A252)=\"Start Here\",SHEETNAME($A252)=\"Template\"),\"\",HYPERLINK(\"#'\"&B252&\"'!A1\",\"Go to Sheet\")),\"\")","v":""},{"$f":"IFERROR(IF(INDIRECT(\"'\"&$B252&\"'!$U$7\"),INDIRECT(\"'\"&$B252&\"'!$u$9\"),\"(\"&INDIRECT(\"'\"&$B252&\"'!$U$8\")&\")\"),\"\")","v":""},{"$f":"IF(L252,\"This site has incomplete Cost and Revenue data.  \",\"\")&IF(M252,\"WFRS data for previous quarters is incomplete.  \",\"\")&IF(K252,IFERROR(INDIRECT(\"'\"&$B252&\"'!$g$9\"),\"\"),\"\")","v":""},false,{"$f":"IFERROR(INDIRECT(\"'\"&$B252&\"'!$u$7\"),FALSE)","v":false},{"$f":"IFERROR(INDIRECT(\"'\"&$B252&\"'!$u$10\"),FALSE)","v":false},{"$f":"IFERROR(INDIRECT(\"'\"&$B252&\"'!$AC$12\"),FALSE)","v":false},{"$f":"IFERROR(INDIRECT(\"'\"&$B252&\"'!$ad$12\"),FALSE)","v":false},null,{"$f":"IFERROR(INDIRECT(\"'\"&$B252&\"'!$d$10\"),\"\")","v":""},{"$f":"IFERROR(INDIRECT(\"'\"&$B252&\"'!$d$33\"),\"\")","v":""},{"$f":"IFERROR(INDIRECT(\"'\"&$B252&\"'!$j$33\")+INDIRECT(\"'\"&$B252&\"'!$k$33\"),\"\")","v":""},{"$f":"IFERROR(INDIRECT(\"'\"&$B252&\"'!$q$33\"),\"\")","v":""},{"$f":"IFERROR(INDIRECT(\"'\"&$B252&\"'!$e$33\"),\"\")","v":""},{"$f":"IFERROR(INDIRECT(\"'\"&$B252&\"'!$L$33\"),\"\")","v":""},{"$f":"IFERROR(INDIRECT(\"'\"&$B252&\"'!$g$33\")+INDIRECT(\"'\"&$B252&\"'!$h$33\")+INDIRECT(\"'\"&$B252&\"'!$i$33\"),\"\")","v":""}]
[217,{"$f":"IFERROR(IF(OR(SHEETNAME(A253)=\"HIDE\",SHEETNAME(A253)=\"Start Here\",SHEETNAME(A253)=\"Template\"),\"\",SHEETNAME(A253)),\"\")","v":""},{"$f":"IFERROR(INDIRECT(\"'\"&$B253&\"'!$d$6\"),\"\")","v":""},{"$f":"IFERROR(INDIRECT(\"'\"&$B253&\"'!$d$7\"),\"\")","v":""},{"$f":"IFERROR(INDIRECT(\"'\"&$B253&\"'!$d$8\"),\"\")","v":""},{"$f":"IFERROR(IF(OR(SHEETNAME($A253)=\"HIDE\",SHEETNAME($A253)=\"Start Here\",SHEETNAME($A253)=\"Template\"),\"\",HYPERLINK(\"#'\"&B253&\"'!A1\",\"Go to Sheet\")),\"\")","v":""},{"$f":"IFERROR(IF(INDIRECT(\"'\"&$B253&\"'!$U$7\"),INDIRECT(\"'\"&$B253&\"'!$u$9\"),\"(\"&INDIRECT(\"'\"&$B253&\"'!$U$8\")&\")\"),\"\")","v":""},{"$f":"IF(L253,\"This site has incomplete Cost and Revenue data.  \",\"\")&IF(M253,\"WFRS data for previous quarters is incomplete.  \",\"\")&IF(K253,IFERROR(INDIRECT(\"'\"&$B253&\"'!$g$9\"),\"\"),\"\")","v":""},false,{"$f":"IFERROR(INDIRECT(\"'\"&$B253&\"'!$u$7\"),FALSE)","v":false},{"$f":"IFERROR(INDIRECT(\"'\"&$B253&\"'!$u$10\"),FALSE)","v":false},{"$f":"IFERROR(INDIRECT(\"'\"&$B253&\"'!$AC$12\"),FALSE)","v":false},{"$f":"IFERROR(INDIRECT(\"'\"&$B253&\"'!$ad$12\"),FALSE)","v":false},null,{"$f":"IFERROR(INDIRECT(\"'\"&$B253&\"'!$d$10\"),\"\")","v":""},{"$f":"IFERROR(INDIRECT(\"'\"&$B253&\"'!$d$33\"),\"\")","v":""},{"$f":"IFERROR(INDIRECT(\"'\"&$B253&\"'!$j$33\")+INDIRECT(\"'\"&$B253&\"'!$k$33\"),\"\")","v":""},{"$f":"IFERROR(INDIRECT(\"'\"&$B253&\"'!$q$33\"),\"\")","v":""},{"$f":"IFERROR(INDIRECT(\"'\"&$B253&\"'!$e$33\"),\"\")","v":""},{"$f":"IFERROR(INDIRECT(\"'\"&$B253&\"'!$L$33\"),\"\")","v":""},{"$f":"IFERROR(INDIRECT(\"'\"&$B253&\"'!$g$33\")+INDIRECT(\"'\"&$B253&\"'!$h$33\")+INDIRECT(\"'\"&$B253&\"'!$i$33\"),\"\")","v":""}]
[218,{"$f":"IFERROR(IF(OR(SHEETNAME(A254)=\"HIDE\",SHEETNAME(A254)=\"Start Here\",SHEETNAME(A254)=\"Template\"),\"\",SHEETNAME(A254)),\"\")","v":""},{"$f":"IFERROR(INDIRECT(\"'\"&$B254&\"'!$d$6\"),\"\")","v":""},{"$f":"IFERROR(INDIRECT(\"'\"&$B254&\"'!$d$7\"),\"\")","v":""},{"$f":"IFERROR(INDIRECT(\"'\"&$B254&\"'!$d$8\"),\"\")","v":""},{"$f":"IFERROR(IF(OR(SHEETNAME($A254)=\"HIDE\",SHEETNAME($A254)=\"Start Here\",SHEETNAME($A254)=\"Template\"),\"\",HYPERLINK(\"#'\"&B254&\"'!A1\",\"Go to Sheet\")),\"\")","v":""},{"$f":"IFERROR(IF(INDIRECT(\"'\"&$B254&\"'!$U$7\"),INDIRECT(\"'\"&$B254&\"'!$u$9\"),\"(\"&INDIRECT(\"'\"&$B254&\"'!$U$8\")&\")\"),\"\")","v":""},{"$f":"IF(L254,\"This site has incomplete Cost and Revenue data.  \",\"\")&IF(M254,\"WFRS data for previous quarters is incomplete.  \",\"\")&IF(K254,IFERROR(INDIRECT(\"'\"&$B254&\"'!$g$9\"),\"\"),\"\")","v":""},false,{"$f":"IFERROR(INDIRECT(\"'\"&$B254&\"'!$u$7\"),FALSE)","v":false},{"$f":"IFERROR(INDIRECT(\"'\"&$B254&\"'!$u$10\"),FALSE)","v":false},{"$f":"IFERROR(INDIRECT(\"'\"&$B254&\"'!$AC$12\"),FALSE)","v":false},{"$f":"IFERROR(INDIRECT(\"'\"&$B254&\"'!$ad$12\"),FALSE)","v":false},null,{"$f":"IFERROR(INDIRECT(\"'\"&$B254&\"'!$d$10\"),\"\")","v":""},{"$f":"IFERROR(INDIRECT(\"'\"&$B254&\"'!$d$33\"),\"\")","v":""},{"$f":"IFERROR(INDIRECT(\"'\"&$B254&\"'!$j$33\")+INDIRECT(\"'\"&$B254&\"'!$k$33\"),\"\")","v":""},{"$f":"IFERROR(INDIRECT(\"'\"&$B254&\"'!$q$33\"),\"\")","v":""},{"$f":"IFERROR(INDIRECT(\"'\"&$B254&\"'!$e$33\"),\"\")","v":""},{"$f":"IFERROR(INDIRECT(\"'\"&$B254&\"'!$L$33\"),\"\")","v":""},{"$f":"IFERROR(INDIRECT(\"'\"&$B254&\"'!$g$33\")+INDIRECT(\"'\"&$B254&\"'!$h$33\")+INDIRECT(\"'\"&$B254&\"'!$i$33\"),\"\")","v":""}]
[219,{"$f":"IFERROR(IF(OR(SHEETNAME(A255)=\"HIDE\",SHEETNAME(A255)=\"Start Here\",SHEETNAME(A255)=\"Template\"),\"\",SHEETNAME(A255)),\"\")","v":""},{"$f":"IFERROR(INDIRECT(\"'\"&$B255&\"'!$d$6\"),\"\")","v":""},{"$f":"IFERROR(INDIRECT(\"'\"&$B255&\"'!$d$7\"),\"\")","v":""},{"$f":"IFERROR(INDIRECT(\"'\"&$B255&\"'!$d$8\"),\"\")","v":""},{"$f":"IFERROR(IF(OR(SHEETNAME($A255)=\"HIDE\",SHEETNAME($A255)=\"Start Here\",SHEETNAME($A255)=\"Template\"),\"\",HYPERLINK(\"#'\"&B255&\"'!A1\",\"Go to Sheet\")),\"\")","v":""},{"$f":"IFERROR(IF(INDIRECT(\"'\"&$B255&\"'!$U$7\"),INDIRECT(\"'\"&$B255&\"'!$u$9\"),\"(\"&INDIRECT(\"'\"&$B255&\"'!$U$8\")&\")\"),\"\")","v":""},{"$f":"IF(L255,\"This site has incomplete Cost and Revenue data.  \",\"\")&IF(M255,\"WFRS data for previous quarters is incomplete.  \",\"\")&IF(K255,IFERROR(INDIRECT(\"'\"&$B255&\"'!$g$9\"),\"\"),\"\")","v":""},false,{"$f":"IFERROR(INDIRECT(\"'\"&$B255&\"'!$u$7\"),FALSE)","v":false},{"$f":"IFERROR(INDIRECT(\"'\"&$B255&\"'!$u$10\"),FALSE)","v":false},{"$f":"IFERROR(INDIRECT(\"'\"&$B255&\"'!$AC$12\"),FALSE)","v":false},{"$f":"IFERROR(INDIRECT(\"'\"&$B255&\"'!$ad$12\"),FALSE)","v":false},null,{"$f":"IFERROR(INDIRECT(\"'\"&$B255&\"'!$d$10\"),\"\")","v":""},{"$f":"IFERROR(INDIRECT(\"'\"&$B255&\"'!$d$33\"),\"\")","v":""},{"$f":"IFERROR(INDIRECT(\"'\"&$B255&\"'!$j$33\")+INDIRECT(\"'\"&$B255&\"'!$k$33\"),\"\")","v":""},{"$f":"IFERROR(INDIRECT(\"'\"&$B255&\"'!$q$33\"),\"\")","v":""},{"$f":"IFERROR(INDIRECT(\"'\"&$B255&\"'!$e$33\"),\"\")","v":""},{"$f":"IFERROR(INDIRECT(\"'\"&$B255&\"'!$L$33\"),\"\")","v":""},{"$f":"IFERROR(INDIRECT(\"'\"&$B255&\"'!$g$33\")+INDIRECT(\"'\"&$B255&\"'!$h$33\")+INDIRECT(\"'\"&$B255&\"'!$i$33\"),\"\")","v":""}]
[220,{"$f":"IFERROR(IF(OR(SHEETNAME(A256)=\"HIDE\",SHEETNAME(A256)=\"Start Here\",SHEETNAME(A256)=\"Template\"),\"\",SHEETNAME(A256)),\"\")","v":""},{"$f":"IFERROR(INDIRECT(\"'\"&$B256&\"'!$d$6\"),\"\")","v":""},{"$f":"IFERROR(INDIRECT(\"'\"&$B256&\"'!$d$7\"),\"\")","v":""},{"$f":"IFERROR(INDIRECT(\"'\"&$B256&\"'!$d$8\"),\"\")","v":""},{"$f":"IFERROR(IF(OR(SHEETNAME($A256)=\"HIDE\",SHEETNAME($A256)=\"Start Here\",SHEETNAME($A256)=\"Template\"),\"\",HYPERLINK(\"#'\"&B256&\"'!A1\",\"Go to Sheet\")),\"\")","v":""},{"$f":"IFERROR(IF(INDIRECT(\"'\"&$B256&\"'!$U$7\"),INDIRECT(\"'\"&$B256&\"'!$u$9\"),\"(\"&INDIRECT(\"'\"&$B256&\"'!$U$8\")&\")\"),\"\")","v":""},{"$f":"IF(L256,\"This site has incomplete Cost and Revenue data.  \",\"\")&IF(M256,\"WFRS data for previous quarters is incomplete.  \",\"\")&IF(K256,IFERROR(INDIRECT(\"'\"&$B256&\"'!$g$9\"),\"\"),\"\")","v":""},false,{"$f":"IFERROR(INDIRECT(\"'\"&$B256&\"'!$u$7\"),FALSE)","v":false},{"$f":"IFERROR(INDIRECT(\"'\"&$B256&\"'!$u$10\"),FALSE)","v":false},{"$f":"IFERROR(INDIRECT(\"'\"&$B256&\"'!$AC$12\"),FALSE)","v":false},{"$f":"IFERROR(INDIRECT(\"'\"&$B256&\"'!$ad$12\"),FALSE)","v":false},null,{"$f":"IFERROR(INDIRECT(\"'\"&$B256&\"'!$d$10\"),\"\")","v":""},{"$f":"IFERROR(INDIRECT(\"'\"&$B256&\"'!$d$33\"),\"\")","v":""},{"$f":"IFERROR(INDIRECT(\"'\"&$B256&\"'!$j$33\")+INDIRECT(\"'\"&$B256&\"'!$k$33\"),\"\")","v":""},{"$f":"IFERROR(INDIRECT(\"'\"&$B256&\"'!$q$33\"),\"\")","v":""},{"$f":"IFERROR(INDIRECT(\"'\"&$B256&\"'!$e$33\"),\"\")","v":""},{"$f":"IFERROR(INDIRECT(\"'\"&$B256&\"'!$L$33\"),\"\")","v":""},{"$f":"IFERROR(INDIRECT(\"'\"&$B256&\"'!$g$33\")+INDIRECT(\"'\"&$B256&\"'!$h$33\")+INDIRECT(\"'\"&$B256&\"'!$i$33\"),\"\")","v":""}]
[221,{"$f":"IFERROR(IF(OR(SHEETNAME(A257)=\"HIDE\",SHEETNAME(A257)=\"Start Here\",SHEETNAME(A257)=\"Template\"),\"\",SHEETNAME(A257)),\"\")","v":""},{"$f":"IFERROR(INDIRECT(\"'\"&$B257&\"'!$d$6\"),\"\")","v":""},{"$f":"IFERROR(INDIRECT(\"'\"&$B257&\"'!$d$7\"),\"\")","v":""},{"$f":"IFERROR(INDIRECT(\"'\"&$B257&\"'!$d$8\"),\"\")","v":""},{"$f":"IFERROR(IF(OR(SHEETNAME($A257)=\"HIDE\",SHEETNAME($A257)=\"Start Here\",SHEETNAME($A257)=\"Template\"),\"\",HYPERLINK(\"#'\"&B257&\"'!A1\",\"Go to Sheet\")),\"\")","v":""},{"$f":"IFERROR(IF(INDIRECT(\"'\"&$B257&\"'!$U$7\"),INDIRECT(\"'\"&$B257&\"'!$u$9\"),\"(\"&INDIRECT(\"'\"&$B257&\"'!$U$8\")&\")\"),\"\")","v":""},{"$f":"IF(L257,\"This site has incomplete Cost and Revenue data.  \",\"\")&IF(M257,\"WFRS data for previous quarters is incomplete.  \",\"\")&IF(K257,IFERROR(INDIRECT(\"'\"&$B257&\"'!$g$9\"),\"\"),\"\")","v":""},false,{"$f":"IFERROR(INDIRECT(\"'\"&$B257&\"'!$u$7\"),FALSE)","v":false},{"$f":"IFERROR(INDIRECT(\"'\"&$B257&\"'!$u$10\"),FALSE)","v":false},{"$f":"IFERROR(INDIRECT(\"'\"&$B257&\"'!$AC$12\"),FALSE)","v":false},{"$f":"IFERROR(INDIRECT(\"'\"&$B257&\"'!$ad$12\"),FALSE)","v":false},null,{"$f":"IFERROR(INDIRECT(\"'\"&$B257&\"'!$d$10\"),\"\")","v":""},{"$f":"IFERROR(INDIRECT(\"'\"&$B257&\"'!$d$33\"),\"\")","v":""},{"$f":"IFERROR(INDIRECT(\"'\"&$B257&\"'!$j$33\")+INDIRECT(\"'\"&$B257&\"'!$k$33\"),\"\")","v":""},{"$f":"IFERROR(INDIRECT(\"'\"&$B257&\"'!$q$33\"),\"\")","v":""},{"$f":"IFERROR(INDIRECT(\"'\"&$B257&\"'!$e$33\"),\"\")","v":""},{"$f":"IFERROR(INDIRECT(\"'\"&$B257&\"'!$L$33\"),\"\")","v":""},{"$f":"IFERROR(INDIRECT(\"'\"&$B257&\"'!$g$33\")+INDIRECT(\"'\"&$B257&\"'!$h$33\")+INDIRECT(\"'\"&$B257&\"'!$i$33\"),\"\")","v":""}]
[222,{"$f":"IFERROR(IF(OR(SHEETNAME(A258)=\"HIDE\",SHEETNAME(A258)=\"Start Here\",SHEETNAME(A258)=\"Template\"),\"\",SHEETNAME(A258)),\"\")","v":""},{"$f":"IFERROR(INDIRECT(\"'\"&$B258&\"'!$d$6\"),\"\")","v":""},{"$f":"IFERROR(INDIRECT(\"'\"&$B258&\"'!$d$7\"),\"\")","v":""},{"$f":"IFERROR(INDIRECT(\"'\"&$B258&\"'!$d$8\"),\"\")","v":""},{"$f":"IFERROR(IF(OR(SHEETNAME($A258)=\"HIDE\",SHEETNAME($A258)=\"Start Here\",SHEETNAME($A258)=\"Template\"),\"\",HYPERLINK(\"#'\"&B258&\"'!A1\",\"Go to Sheet\")),\"\")","v":""},{"$f":"IFERROR(IF(INDIRECT(\"'\"&$B258&\"'!$U$7\"),INDIRECT(\"'\"&$B258&\"'!$u$9\"),\"(\"&INDIRECT(\"'\"&$B258&\"'!$U$8\")&\")\"),\"\")","v":""},{"$f":"IF(L258,\"This site has incomplete Cost and Revenue data.  \",\"\")&IF(M258,\"WFRS data for previous quarters is incomplete.  \",\"\")&IF(K258,IFERROR(INDIRECT(\"'\"&$B258&\"'!$g$9\"),\"\"),\"\")","v":""},false,{"$f":"IFERROR(INDIRECT(\"'\"&$B258&\"'!$u$7\"),FALSE)","v":false},{"$f":"IFERROR(INDIRECT(\"'\"&$B258&\"'!$u$10\"),FALSE)","v":false},{"$f":"IFERROR(INDIRECT(\"'\"&$B258&\"'!$AC$12\"),FALSE)","v":false},{"$f":"IFERROR(INDIRECT(\"'\"&$B258&\"'!$ad$12\"),FALSE)","v":false},null,{"$f":"IFERROR(INDIRECT(\"'\"&$B258&\"'!$d$10\"),\"\")","v":""},{"$f":"IFERROR(INDIRECT(\"'\"&$B258&\"'!$d$33\"),\"\")","v":""},{"$f":"IFERROR(INDIRECT(\"'\"&$B258&\"'!$j$33\")+INDIRECT(\"'\"&$B258&\"'!$k$33\"),\"\")","v":""},{"$f":"IFERROR(INDIRECT(\"'\"&$B258&\"'!$q$33\"),\"\")","v":""},{"$f":"IFERROR(INDIRECT(\"'\"&$B258&\"'!$e$33\"),\"\")","v":""},{"$f":"IFERROR(INDIRECT(\"'\"&$B258&\"'!$L$33\"),\"\")","v":""},{"$f":"IFERROR(INDIRECT(\"'\"&$B258&\"'!$g$33\")+INDIRECT(\"'\"&$B258&\"'!$h$33\")+INDIRECT(\"'\"&$B258&\"'!$i$33\"),\"\")","v":""}]
[223,{"$f":"IFERROR(IF(OR(SHEETNAME(A259)=\"HIDE\",SHEETNAME(A259)=\"Start Here\",SHEETNAME(A259)=\"Template\"),\"\",SHEETNAME(A259)),\"\")","v":""},{"$f":"IFERROR(INDIRECT(\"'\"&$B259&\"'!$d$6\"),\"\")","v":""},{"$f":"IFERROR(INDIRECT(\"'\"&$B259&\"'!$d$7\"),\"\")","v":""},{"$f":"IFERROR(INDIRECT(\"'\"&$B259&\"'!$d$8\"),\"\")","v":""},{"$f":"IFERROR(IF(OR(SHEETNAME($A259)=\"HIDE\",SHEETNAME($A259)=\"Start Here\",SHEETNAME($A259)=\"Template\"),\"\",HYPERLINK(\"#'\"&B259&\"'!A1\",\"Go to Sheet\")),\"\")","v":""},{"$f":"IFERROR(IF(INDIRECT(\"'\"&$B259&\"'!$U$7\"),INDIRECT(\"'\"&$B259&\"'!$u$9\"),\"(\"&INDIRECT(\"'\"&$B259&\"'!$U$8\")&\")\"),\"\")","v":""},{"$f":"IF(L259,\"This site has incomplete Cost and Revenue data.  \",\"\")&IF(M259,\"WFRS data for previous quarters is incomplete.  \",\"\")&IF(K259,IFERROR(INDIRECT(\"'\"&$B259&\"'!$g$9\"),\"\"),\"\")","v":""},false,{"$f":"IFERROR(INDIRECT(\"'\"&$B259&\"'!$u$7\"),FALSE)","v":false},{"$f":"IFERROR(INDIRECT(\"'\"&$B259&\"'!$u$10\"),FALSE)","v":false},{"$f":"IFERROR(INDIRECT(\"'\"&$B259&\"'!$AC$12\"),FALSE)","v":false},{"$f":"IFERROR(INDIRECT(\"'\"&$B259&\"'!$ad$12\"),FALSE)","v":false},null,{"$f":"IFERROR(INDIRECT(\"'\"&$B259&\"'!$d$10\"),\"\")","v":""},{"$f":"IFERROR(INDIRECT(\"'\"&$B259&\"'!$d$33\"),\"\")","v":""},{"$f":"IFERROR(INDIRECT(\"'\"&$B259&\"'!$j$33\")+INDIRECT(\"'\"&$B259&\"'!$k$33\"),\"\")","v":""},{"$f":"IFERROR(INDIRECT(\"'\"&$B259&\"'!$q$33\"),\"\")","v":""},{"$f":"IFERROR(INDIRECT(\"'\"&$B259&\"'!$e$33\"),\"\")","v":""},{"$f":"IFERROR(INDIRECT(\"'\"&$B259&\"'!$L$33\"),\"\")","v":""},{"$f":"IFERROR(INDIRECT(\"'\"&$B259&\"'!$g$33\")+INDIRECT(\"'\"&$B259&\"'!$h$33\")+INDIRECT(\"'\"&$B259&\"'!$i$33\"),\"\")","v":""}]
[224,{"$f":"IFERROR(IF(OR(SHEETNAME(A260)=\"HIDE\",SHEETNAME(A260)=\"Start Here\",SHEETNAME(A260)=\"Template\"),\"\",SHEETNAME(A260)),\"\")","v":""},{"$f":"IFERROR(INDIRECT(\"'\"&$B260&\"'!$d$6\"),\"\")","v":""},{"$f":"IFERROR(INDIRECT(\"'\"&$B260&\"'!$d$7\"),\"\")","v":""},{"$f":"IFERROR(INDIRECT(\"'\"&$B260&\"'!$d$8\"),\"\")","v":""},{"$f":"IFERROR(IF(OR(SHEETNAME($A260)=\"HIDE\",SHEETNAME($A260)=\"Start Here\",SHEETNAME($A260)=\"Template\"),\"\",HYPERLINK(\"#'\"&B260&\"'!A1\",\"Go to Sheet\")),\"\")","v":""},{"$f":"IFERROR(IF(INDIRECT(\"'\"&$B260&\"'!$U$7\"),INDIRECT(\"'\"&$B260&\"'!$u$9\"),\"(\"&INDIRECT(\"'\"&$B260&\"'!$U$8\")&\")\"),\"\")","v":""},{"$f":"IF(L260,\"This site has incomplete Cost and Revenue data.  \",\"\")&IF(M260,\"WFRS data for previous quarters is incomplete.  \",\"\")&IF(K260,IFERROR(INDIRECT(\"'\"&$B260&\"'!$g$9\"),\"\"),\"\")","v":""},false,{"$f":"IFERROR(INDIRECT(\"'\"&$B260&\"'!$u$7\"),FALSE)","v":false},{"$f":"IFERROR(INDIRECT(\"'\"&$B260&\"'!$u$10\"),FALSE)","v":false},{"$f":"IFERROR(INDIRECT(\"'\"&$B260&\"'!$AC$12\"),FALSE)","v":false},{"$f":"IFERROR(INDIRECT(\"'\"&$B260&\"'!$ad$12\"),FALSE)","v":false},null,{"$f":"IFERROR(INDIRECT(\"'\"&$B260&\"'!$d$10\"),\"\")","v":""},{"$f":"IFERROR(INDIRECT(\"'\"&$B260&\"'!$d$33\"),\"\")","v":""},{"$f":"IFERROR(INDIRECT(\"'\"&$B260&\"'!$j$33\")+INDIRECT(\"'\"&$B260&\"'!$k$33\"),\"\")","v":""},{"$f":"IFERROR(INDIRECT(\"'\"&$B260&\"'!$q$33\"),\"\")","v":""},{"$f":"IFERROR(INDIRECT(\"'\"&$B260&\"'!$e$33\"),\"\")","v":""},{"$f":"IFERROR(INDIRECT(\"'\"&$B260&\"'!$L$33\"),\"\")","v":""},{"$f":"IFERROR(INDIRECT(\"'\"&$B260&\"'!$g$33\")+INDIRECT(\"'\"&$B260&\"'!$h$33\")+INDIRECT(\"'\"&$B260&\"'!$i$33\"),\"\")","v":""}]
[225,{"$f":"IFERROR(IF(OR(SHEETNAME(A261)=\"HIDE\",SHEETNAME(A261)=\"Start Here\",SHEETNAME(A261)=\"Template\"),\"\",SHEETNAME(A261)),\"\")","v":""},{"$f":"IFERROR(INDIRECT(\"'\"&$B261&\"'!$d$6\"),\"\")","v":""},{"$f":"IFERROR(INDIRECT(\"'\"&$B261&\"'!$d$7\"),\"\")","v":""},{"$f":"IFERROR(INDIRECT(\"'\"&$B261&\"'!$d$8\"),\"\")","v":""},{"$f":"IFERROR(IF(OR(SHEETNAME($A261)=\"HIDE\",SHEETNAME($A261)=\"Start Here\",SHEETNAME($A261)=\"Template\"),\"\",HYPERLINK(\"#'\"&B261&\"'!A1\",\"Go to Sheet\")),\"\")","v":""},{"$f":"IFERROR(IF(INDIRECT(\"'\"&$B261&\"'!$U$7\"),INDIRECT(\"'\"&$B261&\"'!$u$9\"),\"(\"&INDIRECT(\"'\"&$B261&\"'!$U$8\")&\")\"),\"\")","v":""},{"$f":"IF(L261,\"This site has incomplete Cost and Revenue data.  \",\"\")&IF(M261,\"WFRS data for previous quarters is incomplete.  \",\"\")&IF(K261,IFERROR(INDIRECT(\"'\"&$B261&\"'!$g$9\"),\"\"),\"\")","v":""},false,{"$f":"IFERROR(INDIRECT(\"'\"&$B261&\"'!$u$7\"),FALSE)","v":false},{"$f":"IFERROR(INDIRECT(\"'\"&$B261&\"'!$u$10\"),FALSE)","v":false},{"$f":"IFERROR(INDIRECT(\"'\"&$B261&\"'!$AC$12\"),FALSE)","v":false},{"$f":"IFERROR(INDIRECT(\"'\"&$B261&\"'!$ad$12\"),FALSE)","v":false},null,{"$f":"IFERROR(INDIRECT(\"'\"&$B261&\"'!$d$10\"),\"\")","v":""},{"$f":"IFERROR(INDIRECT(\"'\"&$B261&\"'!$d$33\"),\"\")","v":""},{"$f":"IFERROR(INDIRECT(\"'\"&$B261&\"'!$j$33\")+INDIRECT(\"'\"&$B261&\"'!$k$33\"),\"\")","v":""},{"$f":"IFERROR(INDIRECT(\"'\"&$B261&\"'!$q$33\"),\"\")","v":""},{"$f":"IFERROR(INDIRECT(\"'\"&$B261&\"'!$e$33\"),\"\")","v":""},{"$f":"IFERROR(INDIRECT(\"'\"&$B261&\"'!$L$33\"),\"\")","v":""},{"$f":"IFERROR(INDIRECT(\"'\"&$B261&\"'!$g$33\")+INDIRECT(\"'\"&$B261&\"'!$h$33\")+INDIRECT(\"'\"&$B261&\"'!$i$33\"),\"\")","v":""}]
[226,{"$f":"IFERROR(IF(OR(SHEETNAME(A262)=\"HIDE\",SHEETNAME(A262)=\"Start Here\",SHEETNAME(A262)=\"Template\"),\"\",SHEETNAME(A262)),\"\")","v":""},{"$f":"IFERROR(INDIRECT(\"'\"&$B262&\"'!$d$6\"),\"\")","v":""},{"$f":"IFERROR(INDIRECT(\"'\"&$B262&\"'!$d$7\"),\"\")","v":""},{"$f":"IFERROR(INDIRECT(\"'\"&$B262&\"'!$d$8\"),\"\")","v":""},{"$f":"IFERROR(IF(OR(SHEETNAME($A262)=\"HIDE\",SHEETNAME($A262)=\"Start Here\",SHEETNAME($A262)=\"Template\"),\"\",HYPERLINK(\"#'\"&B262&\"'!A1\",\"Go to Sheet\")),\"\")","v":""},{"$f":"IFERROR(IF(INDIRECT(\"'\"&$B262&\"'!$U$7\"),INDIRECT(\"'\"&$B262&\"'!$u$9\"),\"(\"&INDIRECT(\"'\"&$B262&\"'!$U$8\")&\")\"),\"\")","v":""},{"$f":"IF(L262,\"This site has incomplete Cost and Revenue data.  \",\"\")&IF(M262,\"WFRS data for previous quarters is incomplete.  \",\"\")&IF(K262,IFERROR(INDIRECT(\"'\"&$B262&\"'!$g$9\"),\"\"),\"\")","v":""},false,{"$f":"IFERROR(INDIRECT(\"'\"&$B262&\"'!$u$7\"),FALSE)","v":false},{"$f":"IFERROR(INDIRECT(\"'\"&$B262&\"'!$u$10\"),FALSE)","v":false},{"$f":"IFERROR(INDIRECT(\"'\"&$B262&\"'!$AC$12\"),FALSE)","v":false},{"$f":"IFERROR(INDIRECT(\"'\"&$B262&\"'!$ad$12\"),FALSE)","v":false},null,{"$f":"IFERROR(INDIRECT(\"'\"&$B262&\"'!$d$10\"),\"\")","v":""},{"$f":"IFERROR(INDIRECT(\"'\"&$B262&\"'!$d$33\"),\"\")","v":""},{"$f":"IFERROR(INDIRECT(\"'\"&$B262&\"'!$j$33\")+INDIRECT(\"'\"&$B262&\"'!$k$33\"),\"\")","v":""},{"$f":"IFERROR(INDIRECT(\"'\"&$B262&\"'!$q$33\"),\"\")","v":""},{"$f":"IFERROR(INDIRECT(\"'\"&$B262&\"'!$e$33\"),\"\")","v":""},{"$f":"IFERROR(INDIRECT(\"'\"&$B262&\"'!$L$33\"),\"\")","v":""},{"$f":"IFERROR(INDIRECT(\"'\"&$B262&\"'!$g$33\")+INDIRECT(\"'\"&$B262&\"'!$h$33\")+INDIRECT(\"'\"&$B262&\"'!$i$33\"),\"\")","v":""}]
[227,{"$f":"IFERROR(IF(OR(SHEETNAME(A263)=\"HIDE\",SHEETNAME(A263)=\"Start Here\",SHEETNAME(A263)=\"Template\"),\"\",SHEETNAME(A263)),\"\")","v":""},{"$f":"IFERROR(INDIRECT(\"'\"&$B263&\"'!$d$6\"),\"\")","v":""},{"$f":"IFERROR(INDIRECT(\"'\"&$B263&\"'!$d$7\"),\"\")","v":""},{"$f":"IFERROR(INDIRECT(\"'\"&$B263&\"'!$d$8\"),\"\")","v":""},{"$f":"IFERROR(IF(OR(SHEETNAME($A263)=\"HIDE\",SHEETNAME($A263)=\"Start Here\",SHEETNAME($A263)=\"Template\"),\"\",HYPERLINK(\"#'\"&B263&\"'!A1\",\"Go to Sheet\")),\"\")","v":""},{"$f":"IFERROR(IF(INDIRECT(\"'\"&$B263&\"'!$U$7\"),INDIRECT(\"'\"&$B263&\"'!$u$9\"),\"(\"&INDIRECT(\"'\"&$B263&\"'!$U$8\")&\")\"),\"\")","v":""},{"$f":"IF(L263,\"This site has incomplete Cost and Revenue data.  \",\"\")&IF(M263,\"WFRS data for previous quarters is incomplete.  \",\"\")&IF(K263,IFERROR(INDIRECT(\"'\"&$B263&\"'!$g$9\"),\"\"),\"\")","v":""},false,{"$f":"IFERROR(INDIRECT(\"'\"&$B263&\"'!$u$7\"),FALSE)","v":false},{"$f":"IFERROR(INDIRECT(\"'\"&$B263&\"'!$u$10\"),FALSE)","v":false},{"$f":"IFERROR(INDIRECT(\"'\"&$B263&\"'!$AC$12\"),FALSE)","v":false},{"$f":"IFERROR(INDIRECT(\"'\"&$B263&\"'!$ad$12\"),FALSE)","v":false},null,{"$f":"IFERROR(INDIRECT(\"'\"&$B263&\"'!$d$10\"),\"\")","v":""},{"$f":"IFERROR(INDIRECT(\"'\"&$B263&\"'!$d$33\"),\"\")","v":""},{"$f":"IFERROR(INDIRECT(\"'\"&$B263&\"'!$j$33\")+INDIRECT(\"'\"&$B263&\"'!$k$33\"),\"\")","v":""},{"$f":"IFERROR(INDIRECT(\"'\"&$B263&\"'!$q$33\"),\"\")","v":""},{"$f":"IFERROR(INDIRECT(\"'\"&$B263&\"'!$e$33\"),\"\")","v":""},{"$f":"IFERROR(INDIRECT(\"'\"&$B263&\"'!$L$33\"),\"\")","v":""},{"$f":"IFERROR(INDIRECT(\"'\"&$B263&\"'!$g$33\")+INDIRECT(\"'\"&$B263&\"'!$h$33\")+INDIRECT(\"'\"&$B263&\"'!$i$33\"),\"\")","v":""}]
[228,{"$f":"IFERROR(IF(OR(SHEETNAME(A264)=\"HIDE\",SHEETNAME(A264)=\"Start Here\",SHEETNAME(A264)=\"Template\"),\"\",SHEETNAME(A264)),\"\")","v":""},{"$f":"IFERROR(INDIRECT(\"'\"&$B264&\"'!$d$6\"),\"\")","v":""},{"$f":"IFERROR(INDIRECT(\"'\"&$B264&\"'!$d$7\"),\"\")","v":""},{"$f":"IFERROR(INDIRECT(\"'\"&$B264&\"'!$d$8\"),\"\")","v":""},{"$f":"IFERROR(IF(OR(SHEETNAME($A264)=\"HIDE\",SHEETNAME($A264)=\"Start Here\",SHEETNAME($A264)=\"Template\"),\"\",HYPERLINK(\"#'\"&B264&\"'!A1\",\"Go to Sheet\")),\"\")","v":""},{"$f":"IFERROR(IF(INDIRECT(\"'\"&$B264&\"'!$U$7\"),INDIRECT(\"'\"&$B264&\"'!$u$9\"),\"(\"&INDIRECT(\"'\"&$B264&\"'!$U$8\")&\")\"),\"\")","v":""},{"$f":"IF(L264,\"This site has incomplete Cost and Revenue data.  \",\"\")&IF(M264,\"WFRS data for previous quarters is incomplete.  \",\"\")&IF(K264,IFERROR(INDIRECT(\"'\"&$B264&\"'!$g$9\"),\"\"),\"\")","v":""},false,{"$f":"IFERROR(INDIRECT(\"'\"&$B264&\"'!$u$7\"),FALSE)","v":false},{"$f":"IFERROR(INDIRECT(\"'\"&$B264&\"'!$u$10\"),FALSE)","v":false},{"$f":"IFERROR(INDIRECT(\"'\"&$B264&\"'!$AC$12\"),FALSE)","v":false},{"$f":"IFERROR(INDIRECT(\"'\"&$B264&\"'!$ad$12\"),FALSE)","v":false},null,{"$f":"IFERROR(INDIRECT(\"'\"&$B264&\"'!$d$10\"),\"\")","v":""},{"$f":"IFERROR(INDIRECT(\"'\"&$B264&\"'!$d$33\"),\"\")","v":""},{"$f":"IFERROR(INDIRECT(\"'\"&$B264&\"'!$j$33\")+INDIRECT(\"'\"&$B264&\"'!$k$33\"),\"\")","v":""},{"$f":"IFERROR(INDIRECT(\"'\"&$B264&\"'!$q$33\"),\"\")","v":""},{"$f":"IFERROR(INDIRECT(\"'\"&$B264&\"'!$e$33\"),\"\")","v":""},{"$f":"IFERROR(INDIRECT(\"'\"&$B264&\"'!$L$33\"),\"\")","v":""},{"$f":"IFERROR(INDIRECT(\"'\"&$B264&\"'!$g$33\")+INDIRECT(\"'\"&$B264&\"'!$h$33\")+INDIRECT(\"'\"&$B264&\"'!$i$33\"),\"\")","v":""}]
[229,{"$f":"IFERROR(IF(OR(SHEETNAME(A265)=\"HIDE\",SHEETNAME(A265)=\"Start Here\",SHEETNAME(A265)=\"Template\"),\"\",SHEETNAME(A265)),\"\")","v":""},{"$f":"IFERROR(INDIRECT(\"'\"&$B265&\"'!$d$6\"),\"\")","v":""},{"$f":"IFERROR(INDIRECT(\"'\"&$B265&\"'!$d$7\"),\"\")","v":""},{"$f":"IFERROR(INDIRECT(\"'\"&$B265&\"'!$d$8\"),\"\")","v":""},{"$f":"IFERROR(IF(OR(SHEETNAME($A265)=\"HIDE\",SHEETNAME($A265)=\"Start Here\",SHEETNAME($A265)=\"Template\"),\"\",HYPERLINK(\"#'\"&B265&\"'!A1\",\"Go to Sheet\")),\"\")","v":""},{"$f":"IFERROR(IF(INDIRECT(\"'\"&$B265&\"'!$U$7\"),INDIRECT(\"'\"&$B265&\"'!$u$9\"),\"(\"&INDIRECT(\"'\"&$B265&\"'!$U$8\")&\")\"),\"\")","v":""},{"$f":"IF(L265,\"This site has incomplete Cost and Revenue data.  \",\"\")&IF(M265,\"WFRS data for previous quarters is incomplete.  \",\"\")&IF(K265,IFERROR(INDIRECT(\"'\"&$B265&\"'!$g$9\"),\"\"),\"\")","v":""},false,{"$f":"IFERROR(INDIRECT(\"'\"&$B265&\"'!$u$7\"),FALSE)","v":false},{"$f":"IFERROR(INDIRECT(\"'\"&$B265&\"'!$u$10\"),FALSE)","v":false},{"$f":"IFERROR(INDIRECT(\"'\"&$B265&\"'!$AC$12\"),FALSE)","v":false},{"$f":"IFERROR(INDIRECT(\"'\"&$B265&\"'!$ad$12\"),FALSE)","v":false},null,{"$f":"IFERROR(INDIRECT(\"'\"&$B265&\"'!$d$10\"),\"\")","v":""},{"$f":"IFERROR(INDIRECT(\"'\"&$B265&\"'!$d$33\"),\"\")","v":""},{"$f":"IFERROR(INDIRECT(\"'\"&$B265&\"'!$j$33\")+INDIRECT(\"'\"&$B265&\"'!$k$33\"),\"\")","v":""},{"$f":"IFERROR(INDIRECT(\"'\"&$B265&\"'!$q$33\"),\"\")","v":""},{"$f":"IFERROR(INDIRECT(\"'\"&$B265&\"'!$e$33\"),\"\")","v":""},{"$f":"IFERROR(INDIRECT(\"'\"&$B265&\"'!$L$33\"),\"\")","v":""},{"$f":"IFERROR(INDIRECT(\"'\"&$B265&\"'!$g$33\")+INDIRECT(\"'\"&$B265&\"'!$h$33\")+INDIRECT(\"'\"&$B265&\"'!$i$33\"),\"\")","v":""}]
[230,{"$f":"IFERROR(IF(OR(SHEETNAME(A266)=\"HIDE\",SHEETNAME(A266)=\"Start Here\",SHEETNAME(A266)=\"Template\"),\"\",SHEETNAME(A266)),\"\")","v":""},{"$f":"IFERROR(INDIRECT(\"'\"&$B266&\"'!$d$6\"),\"\")","v":""},{"$f":"IFERROR(INDIRECT(\"'\"&$B266&\"'!$d$7\"),\"\")","v":""},{"$f":"IFERROR(INDIRECT(\"'\"&$B266&\"'!$d$8\"),\"\")","v":""},{"$f":"IFERROR(IF(OR(SHEETNAME($A266)=\"HIDE\",SHEETNAME($A266)=\"Start Here\",SHEETNAME($A266)=\"Template\"),\"\",HYPERLINK(\"#'\"&B266&\"'!A1\",\"Go to Sheet\")),\"\")","v":""},{"$f":"IFERROR(IF(INDIRECT(\"'\"&$B266&\"'!$U$7\"),INDIRECT(\"'\"&$B266&\"'!$u$9\"),\"(\"&INDIRECT(\"'\"&$B266&\"'!$U$8\")&\")\"),\"\")","v":""},{"$f":"IF(L266,\"This site has incomplete Cost and Revenue data.  \",\"\")&IF(M266,\"WFRS data for previous quarters is incomplete.  \",\"\")&IF(K266,IFERROR(INDIRECT(\"'\"&$B266&\"'!$g$9\"),\"\"),\"\")","v":""},false,{"$f":"IFERROR(INDIRECT(\"'\"&$B266&\"'!$u$7\"),FALSE)","v":false},{"$f":"IFERROR(INDIRECT(\"'\"&$B266&\"'!$u$10\"),FALSE)","v":false},{"$f":"IFERROR(INDIRECT(\"'\"&$B266&\"'!$AC$12\"),FALSE)","v":false},{"$f":"IFERROR(INDIRECT(\"'\"&$B266&\"'!$ad$12\"),FALSE)","v":false},null,{"$f":"IFERROR(INDIRECT(\"'\"&$B266&\"'!$d$10\"),\"\")","v":""},{"$f":"IFERROR(INDIRECT(\"'\"&$B266&\"'!$d$33\"),\"\")","v":""},{"$f":"IFERROR(INDIRECT(\"'\"&$B266&\"'!$j$33\")+INDIRECT(\"'\"&$B266&\"'!$k$33\"),\"\")","v":""},{"$f":"IFERROR(INDIRECT(\"'\"&$B266&\"'!$q$33\"),\"\")","v":""},{"$f":"IFERROR(INDIRECT(\"'\"&$B266&\"'!$e$33\"),\"\")","v":""},{"$f":"IFERROR(INDIRECT(\"'\"&$B266&\"'!$L$33\"),\"\")","v":""},{"$f":"IFERROR(INDIRECT(\"'\"&$B266&\"'!$g$33\")+INDIRECT(\"'\"&$B266&\"'!$h$33\")+INDIRECT(\"'\"&$B266&\"'!$i$33\"),\"\")","v":""}]
[231,{"$f":"IFERROR(IF(OR(SHEETNAME(A267)=\"HIDE\",SHEETNAME(A267)=\"Start Here\",SHEETNAME(A267)=\"Template\"),\"\",SHEETNAME(A267)),\"\")","v":""},{"$f":"IFERROR(INDIRECT(\"'\"&$B267&\"'!$d$6\"),\"\")","v":""},{"$f":"IFERROR(INDIRECT(\"'\"&$B267&\"'!$d$7\"),\"\")","v":""},{"$f":"IFERROR(INDIRECT(\"'\"&$B267&\"'!$d$8\"),\"\")","v":""},{"$f":"IFERROR(IF(OR(SHEETNAME($A267)=\"HIDE\",SHEETNAME($A267)=\"Start Here\",SHEETNAME($A267)=\"Template\"),\"\",HYPERLINK(\"#'\"&B267&\"'!A1\",\"Go to Sheet\")),\"\")","v":""},{"$f":"IFERROR(IF(INDIRECT(\"'\"&$B267&\"'!$U$7\"),INDIRECT(\"'\"&$B267&\"'!$u$9\"),\"(\"&INDIRECT(\"'\"&$B267&\"'!$U$8\")&\")\"),\"\")","v":""},{"$f":"IF(L267,\"This site has incomplete Cost and Revenue data.  \",\"\")&IF(M267,\"WFRS data for previous quarters is incomplete.  \",\"\")&IF(K267,IFERROR(INDIRECT(\"'\"&$B267&\"'!$g$9\"),\"\"),\"\")","v":""},false,{"$f":"IFERROR(INDIRECT(\"'\"&$B267&\"'!$u$7\"),FALSE)","v":false},{"$f":"IFERROR(INDIRECT(\"'\"&$B267&\"'!$u$10\"),FALSE)","v":false},{"$f":"IFERROR(INDIRECT(\"'\"&$B267&\"'!$AC$12\"),FALSE)","v":false},{"$f":"IFERROR(INDIRECT(\"'\"&$B267&\"'!$ad$12\"),FALSE)","v":false},null,{"$f":"IFERROR(INDIRECT(\"'\"&$B267&\"'!$d$10\"),\"\")","v":""},{"$f":"IFERROR(INDIRECT(\"'\"&$B267&\"'!$d$33\"),\"\")","v":""},{"$f":"IFERROR(INDIRECT(\"'\"&$B267&\"'!$j$33\")+INDIRECT(\"'\"&$B267&\"'!$k$33\"),\"\")","v":""},{"$f":"IFERROR(INDIRECT(\"'\"&$B267&\"'!$q$33\"),\"\")","v":""},{"$f":"IFERROR(INDIRECT(\"'\"&$B267&\"'!$e$33\"),\"\")","v":""},{"$f":"IFERROR(INDIRECT(\"'\"&$B267&\"'!$L$33\"),\"\")","v":""},{"$f":"IFERROR(INDIRECT(\"'\"&$B267&\"'!$g$33\")+INDIRECT(\"'\"&$B267&\"'!$h$33\")+INDIRECT(\"'\"&$B267&\"'!$i$33\"),\"\")","v":""}]
[232,{"$f":"IFERROR(IF(OR(SHEETNAME(A268)=\"HIDE\",SHEETNAME(A268)=\"Start Here\",SHEETNAME(A268)=\"Template\"),\"\",SHEETNAME(A268)),\"\")","v":""},{"$f":"IFERROR(INDIRECT(\"'\"&$B268&\"'!$d$6\"),\"\")","v":""},{"$f":"IFERROR(INDIRECT(\"'\"&$B268&\"'!$d$7\"),\"\")","v":""},{"$f":"IFERROR(INDIRECT(\"'\"&$B268&\"'!$d$8\"),\"\")","v":""},{"$f":"IFERROR(IF(OR(SHEETNAME($A268)=\"HIDE\",SHEETNAME($A268)=\"Start Here\",SHEETNAME($A268)=\"Template\"),\"\",HYPERLINK(\"#'\"&B268&\"'!A1\",\"Go to Sheet\")),\"\")","v":""},{"$f":"IFERROR(IF(INDIRECT(\"'\"&$B268&\"'!$U$7\"),INDIRECT(\"'\"&$B268&\"'!$u$9\"),\"(\"&INDIRECT(\"'\"&$B268&\"'!$U$8\")&\")\"),\"\")","v":""},{"$f":"IF(L268,\"This site has incomplete Cost and Revenue data.  \",\"\")&IF(M268,\"WFRS data for previous quarters is incomplete.  \",\"\")&IF(K268,IFERROR(INDIRECT(\"'\"&$B268&\"'!$g$9\"),\"\"),\"\")","v":""},false,{"$f":"IFERROR(INDIRECT(\"'\"&$B268&\"'!$u$7\"),FALSE)","v":false},{"$f":"IFERROR(INDIRECT(\"'\"&$B268&\"'!$u$10\"),FALSE)","v":false},{"$f":"IFERROR(INDIRECT(\"'\"&$B268&\"'!$AC$12\"),FALSE)","v":false},{"$f":"IFERROR(INDIRECT(\"'\"&$B268&\"'!$ad$12\"),FALSE)","v":false},null,{"$f":"IFERROR(INDIRECT(\"'\"&$B268&\"'!$d$10\"),\"\")","v":""},{"$f":"IFERROR(INDIRECT(\"'\"&$B268&\"'!$d$33\"),\"\")","v":""},{"$f":"IFERROR(INDIRECT(\"'\"&$B268&\"'!$j$33\")+INDIRECT(\"'\"&$B268&\"'!$k$33\"),\"\")","v":""},{"$f":"IFERROR(INDIRECT(\"'\"&$B268&\"'!$q$33\"),\"\")","v":""},{"$f":"IFERROR(INDIRECT(\"'\"&$B268&\"'!$e$33\"),\"\")","v":""},{"$f":"IFERROR(INDIRECT(\"'\"&$B268&\"'!$L$33\"),\"\")","v":""},{"$f":"IFERROR(INDIRECT(\"'\"&$B268&\"'!$g$33\")+INDIRECT(\"'\"&$B268&\"'!$h$33\")+INDIRECT(\"'\"&$B268&\"'!$i$33\"),\"\")","v":""}]
[233,{"$f":"IFERROR(IF(OR(SHEETNAME(A269)=\"HIDE\",SHEETNAME(A269)=\"Start Here\",SHEETNAME(A269)=\"Template\"),\"\",SHEETNAME(A269)),\"\")","v":""},{"$f":"IFERROR(INDIRECT(\"'\"&$B269&\"'!$d$6\"),\"\")","v":""},{"$f":"IFERROR(INDIRECT(\"'\"&$B269&\"'!$d$7\"),\"\")","v":""},{"$f":"IFERROR(INDIRECT(\"'\"&$B269&\"'!$d$8\"),\"\")","v":""},{"$f":"IFERROR(IF(OR(SHEETNAME($A269)=\"HIDE\",SHEETNAME($A269)=\"Start Here\",SHEETNAME($A269)=\"Template\"),\"\",HYPERLINK(\"#'\"&B269&\"'!A1\",\"Go to Sheet\")),\"\")","v":""},{"$f":"IFERROR(IF(INDIRECT(\"'\"&$B269&\"'!$U$7\"),INDIRECT(\"'\"&$B269&\"'!$u$9\"),\"(\"&INDIRECT(\"'\"&$B269&\"'!$U$8\")&\")\"),\"\")","v":""},{"$f":"IF(L269,\"This site has incomplete Cost and Revenue data.  \",\"\")&IF(M269,\"WFRS data for previous quarters is incomplete.  \",\"\")&IF(K269,IFERROR(INDIRECT(\"'\"&$B269&\"'!$g$9\"),\"\"),\"\")","v":""},false,{"$f":"IFERROR(INDIRECT(\"'\"&$B269&\"'!$u$7\"),FALSE)","v":false},{"$f":"IFERROR(INDIRECT(\"'\"&$B269&\"'!$u$10\"),FALSE)","v":false},{"$f":"IFERROR(INDIRECT(\"'\"&$B269&\"'!$AC$12\"),FALSE)","v":false},{"$f":"IFERROR(INDIRECT(\"'\"&$B269&\"'!$ad$12\"),FALSE)","v":false},null,{"$f":"IFERROR(INDIRECT(\"'\"&$B269&\"'!$d$10\"),\"\")","v":""},{"$f":"IFERROR(INDIRECT(\"'\"&$B269&\"'!$d$33\"),\"\")","v":""},{"$f":"IFERROR(INDIRECT(\"'\"&$B269&\"'!$j$33\")+INDIRECT(\"'\"&$B269&\"'!$k$33\"),\"\")","v":""},{"$f":"IFERROR(INDIRECT(\"'\"&$B269&\"'!$q$33\"),\"\")","v":""},{"$f":"IFERROR(INDIRECT(\"'\"&$B269&\"'!$e$33\"),\"\")","v":""},{"$f":"IFERROR(INDIRECT(\"'\"&$B269&\"'!$L$33\"),\"\")","v":""},{"$f":"IFERROR(INDIRECT(\"'\"&$B269&\"'!$g$33\")+INDIRECT(\"'\"&$B269&\"'!$h$33\")+INDIRECT(\"'\"&$B269&\"'!$i$33\"),\"\")","v":""}]
[234,{"$f":"IFERROR(IF(OR(SHEETNAME(A270)=\"HIDE\",SHEETNAME(A270)=\"Start Here\",SHEETNAME(A270)=\"Template\"),\"\",SHEETNAME(A270)),\"\")","v":""},{"$f":"IFERROR(INDIRECT(\"'\"&$B270&\"'!$d$6\"),\"\")","v":""},{"$f":"IFERROR(INDIRECT(\"'\"&$B270&\"'!$d$7\"),\"\")","v":""},{"$f":"IFERROR(INDIRECT(\"'\"&$B270&\"'!$d$8\"),\"\")","v":""},{"$f":"IFERROR(IF(OR(SHEETNAME($A270)=\"HIDE\",SHEETNAME($A270)=\"Start Here\",SHEETNAME($A270)=\"Template\"),\"\",HYPERLINK(\"#'\"&B270&\"'!A1\",\"Go to Sheet\")),\"\")","v":""},{"$f":"IFERROR(IF(INDIRECT(\"'\"&$B270&\"'!$U$7\"),INDIRECT(\"'\"&$B270&\"'!$u$9\"),\"(\"&INDIRECT(\"'\"&$B270&\"'!$U$8\")&\")\"),\"\")","v":""},{"$f":"IF(L270,\"This site has incomplete Cost and Revenue data.  \",\"\")&IF(M270,\"WFRS data for previous quarters is incomplete.  \",\"\")&IF(K270,IFERROR(INDIRECT(\"'\"&$B270&\"'!$g$9\"),\"\"),\"\")","v":""},false,{"$f":"IFERROR(INDIRECT(\"'\"&$B270&\"'!$u$7\"),FALSE)","v":false},{"$f":"IFERROR(INDIRECT(\"'\"&$B270&\"'!$u$10\"),FALSE)","v":false},{"$f":"IFERROR(INDIRECT(\"'\"&$B270&\"'!$AC$12\"),FALSE)","v":false},{"$f":"IFERROR(INDIRECT(\"'\"&$B270&\"'!$ad$12\"),FALSE)","v":false},null,{"$f":"IFERROR(INDIRECT(\"'\"&$B270&\"'!$d$10\"),\"\")","v":""},{"$f":"IFERROR(INDIRECT(\"'\"&$B270&\"'!$d$33\"),\"\")","v":""},{"$f":"IFERROR(INDIRECT(\"'\"&$B270&\"'!$j$33\")+INDIRECT(\"'\"&$B270&\"'!$k$33\"),\"\")","v":""},{"$f":"IFERROR(INDIRECT(\"'\"&$B270&\"'!$q$33\"),\"\")","v":""},{"$f":"IFERROR(INDIRECT(\"'\"&$B270&\"'!$e$33\"),\"\")","v":""},{"$f":"IFERROR(INDIRECT(\"'\"&$B270&\"'!$L$33\"),\"\")","v":""},{"$f":"IFERROR(INDIRECT(\"'\"&$B270&\"'!$g$33\")+INDIRECT(\"'\"&$B270&\"'!$h$33\")+INDIRECT(\"'\"&$B270&\"'!$i$33\"),\"\")","v":""}]
[235,{"$f":"IFERROR(IF(OR(SHEETNAME(A271)=\"HIDE\",SHEETNAME(A271)=\"Start Here\",SHEETNAME(A271)=\"Template\"),\"\",SHEETNAME(A271)),\"\")","v":""},{"$f":"IFERROR(INDIRECT(\"'\"&$B271&\"'!$d$6\"),\"\")","v":""},{"$f":"IFERROR(INDIRECT(\"'\"&$B271&\"'!$d$7\"),\"\")","v":""},{"$f":"IFERROR(INDIRECT(\"'\"&$B271&\"'!$d$8\"),\"\")","v":""},{"$f":"IFERROR(IF(OR(SHEETNAME($A271)=\"HIDE\",SHEETNAME($A271)=\"Start Here\",SHEETNAME($A271)=\"Template\"),\"\",HYPERLINK(\"#'\"&B271&\"'!A1\",\"Go to Sheet\")),\"\")","v":""},{"$f":"IFERROR(IF(INDIRECT(\"'\"&$B271&\"'!$U$7\"),INDIRECT(\"'\"&$B271&\"'!$u$9\"),\"(\"&INDIRECT(\"'\"&$B271&\"'!$U$8\")&\")\"),\"\")","v":""},{"$f":"IF(L271,\"This site has incomplete Cost and Revenue data.  \",\"\")&IF(M271,\"WFRS data for previous quarters is incomplete.  \",\"\")&IF(K271,IFERROR(INDIRECT(\"'\"&$B271&\"'!$g$9\"),\"\"),\"\")","v":""},false,{"$f":"IFERROR(INDIRECT(\"'\"&$B271&\"'!$u$7\"),FALSE)","v":false},{"$f":"IFERROR(INDIRECT(\"'\"&$B271&\"'!$u$10\"),FALSE)","v":false},{"$f":"IFERROR(INDIRECT(\"'\"&$B271&\"'!$AC$12\"),FALSE)","v":false},{"$f":"IFERROR(INDIRECT(\"'\"&$B271&\"'!$ad$12\"),FALSE)","v":false},null,{"$f":"IFERROR(INDIRECT(\"'\"&$B271&\"'!$d$10\"),\"\")","v":""},{"$f":"IFERROR(INDIRECT(\"'\"&$B271&\"'!$d$33\"),\"\")","v":""},{"$f":"IFERROR(INDIRECT(\"'\"&$B271&\"'!$j$33\")+INDIRECT(\"'\"&$B271&\"'!$k$33\"),\"\")","v":""},{"$f":"IFERROR(INDIRECT(\"'\"&$B271&\"'!$q$33\"),\"\")","v":""},{"$f":"IFERROR(INDIRECT(\"'\"&$B271&\"'!$e$33\"),\"\")","v":""},{"$f":"IFERROR(INDIRECT(\"'\"&$B271&\"'!$L$33\"),\"\")","v":""},{"$f":"IFERROR(INDIRECT(\"'\"&$B271&\"'!$g$33\")+INDIRECT(\"'\"&$B271&\"'!$h$33\")+INDIRECT(\"'\"&$B271&\"'!$i$33\"),\"\")","v":""}]
[236,{"$f":"IFERROR(IF(OR(SHEETNAME(A272)=\"HIDE\",SHEETNAME(A272)=\"Start Here\",SHEETNAME(A272)=\"Template\"),\"\",SHEETNAME(A272)),\"\")","v":""},{"$f":"IFERROR(INDIRECT(\"'\"&$B272&\"'!$d$6\"),\"\")","v":""},{"$f":"IFERROR(INDIRECT(\"'\"&$B272&\"'!$d$7\"),\"\")","v":""},{"$f":"IFERROR(INDIRECT(\"'\"&$B272&\"'!$d$8\"),\"\")","v":""},{"$f":"IFERROR(IF(OR(SHEETNAME($A272)=\"HIDE\",SHEETNAME($A272)=\"Start Here\",SHEETNAME($A272)=\"Template\"),\"\",HYPERLINK(\"#'\"&B272&\"'!A1\",\"Go to Sheet\")),\"\")","v":""},{"$f":"IFERROR(IF(INDIRECT(\"'\"&$B272&\"'!$U$7\"),INDIRECT(\"'\"&$B272&\"'!$u$9\"),\"(\"&INDIRECT(\"'\"&$B272&\"'!$U$8\")&\")\"),\"\")","v":""},{"$f":"IF(L272,\"This site has incomplete Cost and Revenue data.  \",\"\")&IF(M272,\"WFRS data for previous quarters is incomplete.  \",\"\")&IF(K272,IFERROR(INDIRECT(\"'\"&$B272&\"'!$g$9\"),\"\"),\"\")","v":""},false,{"$f":"IFERROR(INDIRECT(\"'\"&$B272&\"'!$u$7\"),FALSE)","v":false},{"$f":"IFERROR(INDIRECT(\"'\"&$B272&\"'!$u$10\"),FALSE)","v":false},{"$f":"IFERROR(INDIRECT(\"'\"&$B272&\"'!$AC$12\"),FALSE)","v":false},{"$f":"IFERROR(INDIRECT(\"'\"&$B272&\"'!$ad$12\"),FALSE)","v":false},null,{"$f":"IFERROR(INDIRECT(\"'\"&$B272&\"'!$d$10\"),\"\")","v":""},{"$f":"IFERROR(INDIRECT(\"'\"&$B272&\"'!$d$33\"),\"\")","v":""},{"$f":"IFERROR(INDIRECT(\"'\"&$B272&\"'!$j$33\")+INDIRECT(\"'\"&$B272&\"'!$k$33\"),\"\")","v":""},{"$f":"IFERROR(INDIRECT(\"'\"&$B272&\"'!$q$33\"),\"\")","v":""},{"$f":"IFERROR(INDIRECT(\"'\"&$B272&\"'!$e$33\"),\"\")","v":""},{"$f":"IFERROR(INDIRECT(\"'\"&$B272&\"'!$L$33\"),\"\")","v":""},{"$f":"IFERROR(INDIRECT(\"'\"&$B272&\"'!$g$33\")+INDIRECT(\"'\"&$B272&\"'!$h$33\")+INDIRECT(\"'\"&$B272&\"'!$i$33\"),\"\")","v":""}]
[237,{"$f":"IFERROR(IF(OR(SHEETNAME(A273)=\"HIDE\",SHEETNAME(A273)=\"Start Here\",SHEETNAME(A273)=\"Template\"),\"\",SHEETNAME(A273)),\"\")","v":""},{"$f":"IFERROR(INDIRECT(\"'\"&$B273&\"'!$d$6\"),\"\")","v":""},{"$f":"IFERROR(INDIRECT(\"'\"&$B273&\"'!$d$7\"),\"\")","v":""},{"$f":"IFERROR(INDIRECT(\"'\"&$B273&\"'!$d$8\"),\"\")","v":""},{"$f":"IFERROR(IF(OR(SHEETNAME($A273)=\"HIDE\",SHEETNAME($A273)=\"Start Here\",SHEETNAME($A273)=\"Template\"),\"\",HYPERLINK(\"#'\"&B273&\"'!A1\",\"Go to Sheet\")),\"\")","v":""},{"$f":"IFERROR(IF(INDIRECT(\"'\"&$B273&\"'!$U$7\"),INDIRECT(\"'\"&$B273&\"'!$u$9\"),\"(\"&INDIRECT(\"'\"&$B273&\"'!$U$8\")&\")\"),\"\")","v":""},{"$f":"IF(L273,\"This site has incomplete Cost and Revenue data.  \",\"\")&IF(M273,\"WFRS data for previous quarters is incomplete.  \",\"\")&IF(K273,IFERROR(INDIRECT(\"'\"&$B273&\"'!$g$9\"),\"\"),\"\")","v":""},false,{"$f":"IFERROR(INDIRECT(\"'\"&$B273&\"'!$u$7\"),FALSE)","v":false},{"$f":"IFERROR(INDIRECT(\"'\"&$B273&\"'!$u$10\"),FALSE)","v":false},{"$f":"IFERROR(INDIRECT(\"'\"&$B273&\"'!$AC$12\"),FALSE)","v":false},{"$f":"IFERROR(INDIRECT(\"'\"&$B273&\"'!$ad$12\"),FALSE)","v":false},null,{"$f":"IFERROR(INDIRECT(\"'\"&$B273&\"'!$d$10\"),\"\")","v":""},{"$f":"IFERROR(INDIRECT(\"'\"&$B273&\"'!$d$33\"),\"\")","v":""},{"$f":"IFERROR(INDIRECT(\"'\"&$B273&\"'!$j$33\")+INDIRECT(\"'\"&$B273&\"'!$k$33\"),\"\")","v":""},{"$f":"IFERROR(INDIRECT(\"'\"&$B273&\"'!$q$33\"),\"\")","v":""},{"$f":"IFERROR(INDIRECT(\"'\"&$B273&\"'!$e$33\"),\"\")","v":""},{"$f":"IFERROR(INDIRECT(\"'\"&$B273&\"'!$L$33\"),\"\")","v":""},{"$f":"IFERROR(INDIRECT(\"'\"&$B273&\"'!$g$33\")+INDIRECT(\"'\"&$B273&\"'!$h$33\")+INDIRECT(\"'\"&$B273&\"'!$i$33\"),\"\")","v":""}]
[238,{"$f":"IFERROR(IF(OR(SHEETNAME(A274)=\"HIDE\",SHEETNAME(A274)=\"Start Here\",SHEETNAME(A274)=\"Template\"),\"\",SHEETNAME(A274)),\"\")","v":""},{"$f":"IFERROR(INDIRECT(\"'\"&$B274&\"'!$d$6\"),\"\")","v":""},{"$f":"IFERROR(INDIRECT(\"'\"&$B274&\"'!$d$7\"),\"\")","v":""},{"$f":"IFERROR(INDIRECT(\"'\"&$B274&\"'!$d$8\"),\"\")","v":""},{"$f":"IFERROR(IF(OR(SHEETNAME($A274)=\"HIDE\",SHEETNAME($A274)=\"Start Here\",SHEETNAME($A274)=\"Template\"),\"\",HYPERLINK(\"#'\"&B274&\"'!A1\",\"Go to Sheet\")),\"\")","v":""},{"$f":"IFERROR(IF(INDIRECT(\"'\"&$B274&\"'!$U$7\"),INDIRECT(\"'\"&$B274&\"'!$u$9\"),\"(\"&INDIRECT(\"'\"&$B274&\"'!$U$8\")&\")\"),\"\")","v":""},{"$f":"IF(L274,\"This site has incomplete Cost and Revenue data.  \",\"\")&IF(M274,\"WFRS data for previous quarters is incomplete.  \",\"\")&IF(K274,IFERROR(INDIRECT(\"'\"&$B274&\"'!$g$9\"),\"\"),\"\")","v":""},false,{"$f":"IFERROR(INDIRECT(\"'\"&$B274&\"'!$u$7\"),FALSE)","v":false},{"$f":"IFERROR(INDIRECT(\"'\"&$B274&\"'!$u$10\"),FALSE)","v":false},{"$f":"IFERROR(INDIRECT(\"'\"&$B274&\"'!$AC$12\"),FALSE)","v":false},{"$f":"IFERROR(INDIRECT(\"'\"&$B274&\"'!$ad$12\"),FALSE)","v":false},null,{"$f":"IFERROR(INDIRECT(\"'\"&$B274&\"'!$d$10\"),\"\")","v":""},{"$f":"IFERROR(INDIRECT(\"'\"&$B274&\"'!$d$33\"),\"\")","v":""},{"$f":"IFERROR(INDIRECT(\"'\"&$B274&\"'!$j$33\")+INDIRECT(\"'\"&$B274&\"'!$k$33\"),\"\")","v":""},{"$f":"IFERROR(INDIRECT(\"'\"&$B274&\"'!$q$33\"),\"\")","v":""},{"$f":"IFERROR(INDIRECT(\"'\"&$B274&\"'!$e$33\"),\"\")","v":""},{"$f":"IFERROR(INDIRECT(\"'\"&$B274&\"'!$L$33\"),\"\")","v":""},{"$f":"IFERROR(INDIRECT(\"'\"&$B274&\"'!$g$33\")+INDIRECT(\"'\"&$B274&\"'!$h$33\")+INDIRECT(\"'\"&$B274&\"'!$i$33\"),\"\")","v":""}]
[239,{"$f":"IFERROR(IF(OR(SHEETNAME(A275)=\"HIDE\",SHEETNAME(A275)=\"Start Here\",SHEETNAME(A275)=\"Template\"),\"\",SHEETNAME(A275)),\"\")","v":""},{"$f":"IFERROR(INDIRECT(\"'\"&$B275&\"'!$d$6\"),\"\")","v":""},{"$f":"IFERROR(INDIRECT(\"'\"&$B275&\"'!$d$7\"),\"\")","v":""},{"$f":"IFERROR(INDIRECT(\"'\"&$B275&\"'!$d$8\"),\"\")","v":""},{"$f":"IFERROR(IF(OR(SHEETNAME($A275)=\"HIDE\",SHEETNAME($A275)=\"Start Here\",SHEETNAME($A275)=\"Template\"),\"\",HYPERLINK(\"#'\"&B275&\"'!A1\",\"Go to Sheet\")),\"\")","v":""},{"$f":"IFERROR(IF(INDIRECT(\"'\"&$B275&\"'!$U$7\"),INDIRECT(\"'\"&$B275&\"'!$u$9\"),\"(\"&INDIRECT(\"'\"&$B275&\"'!$U$8\")&\")\"),\"\")","v":""},{"$f":"IF(L275,\"This site has incomplete Cost and Revenue data.  \",\"\")&IF(M275,\"WFRS data for previous quarters is incomplete.  \",\"\")&IF(K275,IFERROR(INDIRECT(\"'\"&$B275&\"'!$g$9\"),\"\"),\"\")","v":""},false,{"$f":"IFERROR(INDIRECT(\"'\"&$B275&\"'!$u$7\"),FALSE)","v":false},{"$f":"IFERROR(INDIRECT(\"'\"&$B275&\"'!$u$10\"),FALSE)","v":false},{"$f":"IFERROR(INDIRECT(\"'\"&$B275&\"'!$AC$12\"),FALSE)","v":false},{"$f":"IFERROR(INDIRECT(\"'\"&$B275&\"'!$ad$12\"),FALSE)","v":false},null,{"$f":"IFERROR(INDIRECT(\"'\"&$B275&\"'!$d$10\"),\"\")","v":""},{"$f":"IFERROR(INDIRECT(\"'\"&$B275&\"'!$d$33\"),\"\")","v":""},{"$f":"IFERROR(INDIRECT(\"'\"&$B275&\"'!$j$33\")+INDIRECT(\"'\"&$B275&\"'!$k$33\"),\"\")","v":""},{"$f":"IFERROR(INDIRECT(\"'\"&$B275&\"'!$q$33\"),\"\")","v":""},{"$f":"IFERROR(INDIRECT(\"'\"&$B275&\"'!$e$33\"),\"\")","v":""},{"$f":"IFERROR(INDIRECT(\"'\"&$B275&\"'!$L$33\"),\"\")","v":""},{"$f":"IFERROR(INDIRECT(\"'\"&$B275&\"'!$g$33\")+INDIRECT(\"'\"&$B275&\"'!$h$33\")+INDIRECT(\"'\"&$B275&\"'!$i$33\"),\"\")","v":""}]
[240,{"$f":"IFERROR(IF(OR(SHEETNAME(A276)=\"HIDE\",SHEETNAME(A276)=\"Start Here\",SHEETNAME(A276)=\"Template\"),\"\",SHEETNAME(A276)),\"\")","v":""},{"$f":"IFERROR(INDIRECT(\"'\"&$B276&\"'!$d$6\"),\"\")","v":""},{"$f":"IFERROR(INDIRECT(\"'\"&$B276&\"'!$d$7\"),\"\")","v":""},{"$f":"IFERROR(INDIRECT(\"'\"&$B276&\"'!$d$8\"),\"\")","v":""},{"$f":"IFERROR(IF(OR(SHEETNAME($A276)=\"HIDE\",SHEETNAME($A276)=\"Start Here\",SHEETNAME($A276)=\"Template\"),\"\",HYPERLINK(\"#'\"&B276&\"'!A1\",\"Go to Sheet\")),\"\")","v":""},{"$f":"IFERROR(IF(INDIRECT(\"'\"&$B276&\"'!$U$7\"),INDIRECT(\"'\"&$B276&\"'!$u$9\"),\"(\"&INDIRECT(\"'\"&$B276&\"'!$U$8\")&\")\"),\"\")","v":""},{"$f":"IF(L276,\"This site has incomplete Cost and Revenue data.  \",\"\")&IF(M276,\"WFRS data for previous quarters is incomplete.  \",\"\")&IF(K276,IFERROR(INDIRECT(\"'\"&$B276&\"'!$g$9\"),\"\"),\"\")","v":""},false,{"$f":"IFERROR(INDIRECT(\"'\"&$B276&\"'!$u$7\"),FALSE)","v":false},{"$f":"IFERROR(INDIRECT(\"'\"&$B276&\"'!$u$10\"),FALSE)","v":false},{"$f":"IFERROR(INDIRECT(\"'\"&$B276&\"'!$AC$12\"),FALSE)","v":false},{"$f":"IFERROR(INDIRECT(\"'\"&$B276&\"'!$ad$12\"),FALSE)","v":false},null,{"$f":"IFERROR(INDIRECT(\"'\"&$B276&\"'!$d$10\"),\"\")","v":""},{"$f":"IFERROR(INDIRECT(\"'\"&$B276&\"'!$d$33\"),\"\")","v":""},{"$f":"IFERROR(INDIRECT(\"'\"&$B276&\"'!$j$33\")+INDIRECT(\"'\"&$B276&\"'!$k$33\"),\"\")","v":""},{"$f":"IFERROR(INDIRECT(\"'\"&$B276&\"'!$q$33\"),\"\")","v":""},{"$f":"IFERROR(INDIRECT(\"'\"&$B276&\"'!$e$33\"),\"\")","v":""},{"$f":"IFERROR(INDIRECT(\"'\"&$B276&\"'!$L$33\"),\"\")","v":""},{"$f":"IFERROR(INDIRECT(\"'\"&$B276&\"'!$g$33\")+INDIRECT(\"'\"&$B276&\"'!$h$33\")+INDIRECT(\"'\"&$B276&\"'!$i$33\"),\"\")","v":""}]
[241,{"$f":"IFERROR(IF(OR(SHEETNAME(A277)=\"HIDE\",SHEETNAME(A277)=\"Start Here\",SHEETNAME(A277)=\"Template\"),\"\",SHEETNAME(A277)),\"\")","v":""},{"$f":"IFERROR(INDIRECT(\"'\"&$B277&\"'!$d$6\"),\"\")","v":""},{"$f":"IFERROR(INDIRECT(\"'\"&$B277&\"'!$d$7\"),\"\")","v":""},{"$f":"IFERROR(INDIRECT(\"'\"&$B277&\"'!$d$8\"),\"\")","v":""},{"$f":"IFERROR(IF(OR(SHEETNAME($A277)=\"HIDE\",SHEETNAME($A277)=\"Start Here\",SHEETNAME($A277)=\"Template\"),\"\",HYPERLINK(\"#'\"&B277&\"'!A1\",\"Go to Sheet\")),\"\")","v":""},{"$f":"IFERROR(IF(INDIRECT(\"'\"&$B277&\"'!$U$7\"),INDIRECT(\"'\"&$B277&\"'!$u$9\"),\"(\"&INDIRECT(\"'\"&$B277&\"'!$U$8\")&\")\"),\"\")","v":""},{"$f":"IF(L277,\"This site has incomplete Cost and Revenue data.  \",\"\")&IF(M277,\"WFRS data for previous quarters is incomplete.  \",\"\")&IF(K277,IFERROR(INDIRECT(\"'\"&$B277&\"'!$g$9\"),\"\"),\"\")","v":""},false,{"$f":"IFERROR(INDIRECT(\"'\"&$B277&\"'!$u$7\"),FALSE)","v":false},{"$f":"IFERROR(INDIRECT(\"'\"&$B277&\"'!$u$10\"),FALSE)","v":false},{"$f":"IFERROR(INDIRECT(\"'\"&$B277&\"'!$AC$12\"),FALSE)","v":false},{"$f":"IFERROR(INDIRECT(\"'\"&$B277&\"'!$ad$12\"),FALSE)","v":false},null,{"$f":"IFERROR(INDIRECT(\"'\"&$B277&\"'!$d$10\"),\"\")","v":""},{"$f":"IFERROR(INDIRECT(\"'\"&$B277&\"'!$d$33\"),\"\")","v":""},{"$f":"IFERROR(INDIRECT(\"'\"&$B277&\"'!$j$33\")+INDIRECT(\"'\"&$B277&\"'!$k$33\"),\"\")","v":""},{"$f":"IFERROR(INDIRECT(\"'\"&$B277&\"'!$q$33\"),\"\")","v":""},{"$f":"IFERROR(INDIRECT(\"'\"&$B277&\"'!$e$33\"),\"\")","v":""},{"$f":"IFERROR(INDIRECT(\"'\"&$B277&\"'!$L$33\"),\"\")","v":""},{"$f":"IFERROR(INDIRECT(\"'\"&$B277&\"'!$g$33\")+INDIRECT(\"'\"&$B277&\"'!$h$33\")+INDIRECT(\"'\"&$B277&\"'!$i$33\"),\"\")","v":""}]
[242,{"$f":"IFERROR(IF(OR(SHEETNAME(A278)=\"HIDE\",SHEETNAME(A278)=\"Start Here\",SHEETNAME(A278)=\"Template\"),\"\",SHEETNAME(A278)),\"\")","v":""},{"$f":"IFERROR(INDIRECT(\"'\"&$B278&\"'!$d$6\"),\"\")","v":""},{"$f":"IFERROR(INDIRECT(\"'\"&$B278&\"'!$d$7\"),\"\")","v":""},{"$f":"IFERROR(INDIRECT(\"'\"&$B278&\"'!$d$8\"),\"\")","v":""},{"$f":"IFERROR(IF(OR(SHEETNAME($A278)=\"HIDE\",SHEETNAME($A278)=\"Start Here\",SHEETNAME($A278)=\"Template\"),\"\",HYPERLINK(\"#'\"&B278&\"'!A1\",\"Go to Sheet\")),\"\")","v":""},{"$f":"IFERROR(IF(INDIRECT(\"'\"&$B278&\"'!$U$7\"),INDIRECT(\"'\"&$B278&\"'!$u$9\"),\"(\"&INDIRECT(\"'\"&$B278&\"'!$U$8\")&\")\"),\"\")","v":""},{"$f":"IF(L278,\"This site has incomplete Cost and Revenue data.  \",\"\")&IF(M278,\"WFRS data for previous quarters is incomplete.  \",\"\")&IF(K278,IFERROR(INDIRECT(\"'\"&$B278&\"'!$g$9\"),\"\"),\"\")","v":""},false,{"$f":"IFERROR(INDIRECT(\"'\"&$B278&\"'!$u$7\"),FALSE)","v":false},{"$f":"IFERROR(INDIRECT(\"'\"&$B278&\"'!$u$10\"),FALSE)","v":false},{"$f":"IFERROR(INDIRECT(\"'\"&$B278&\"'!$AC$12\"),FALSE)","v":false},{"$f":"IFERROR(INDIRECT(\"'\"&$B278&\"'!$ad$12\"),FALSE)","v":false},null,{"$f":"IFERROR(INDIRECT(\"'\"&$B278&\"'!$d$10\"),\"\")","v":""},{"$f":"IFERROR(INDIRECT(\"'\"&$B278&\"'!$d$33\"),\"\")","v":""},{"$f":"IFERROR(INDIRECT(\"'\"&$B278&\"'!$j$33\")+INDIRECT(\"'\"&$B278&\"'!$k$33\"),\"\")","v":""},{"$f":"IFERROR(INDIRECT(\"'\"&$B278&\"'!$q$33\"),\"\")","v":""},{"$f":"IFERROR(INDIRECT(\"'\"&$B278&\"'!$e$33\"),\"\")","v":""},{"$f":"IFERROR(INDIRECT(\"'\"&$B278&\"'!$L$33\"),\"\")","v":""},{"$f":"IFERROR(INDIRECT(\"'\"&$B278&\"'!$g$33\")+INDIRECT(\"'\"&$B278&\"'!$h$33\")+INDIRECT(\"'\"&$B278&\"'!$i$33\"),\"\")","v":""}]
[243,{"$f":"IFERROR(IF(OR(SHEETNAME(A279)=\"HIDE\",SHEETNAME(A279)=\"Start Here\",SHEETNAME(A279)=\"Template\"),\"\",SHEETNAME(A279)),\"\")","v":""},{"$f":"IFERROR(INDIRECT(\"'\"&$B279&\"'!$d$6\"),\"\")","v":""},{"$f":"IFERROR(INDIRECT(\"'\"&$B279&\"'!$d$7\"),\"\")","v":""},{"$f":"IFERROR(INDIRECT(\"'\"&$B279&\"'!$d$8\"),\"\")","v":""},{"$f":"IFERROR(IF(OR(SHEETNAME($A279)=\"HIDE\",SHEETNAME($A279)=\"Start Here\",SHEETNAME($A279)=\"Template\"),\"\",HYPERLINK(\"#'\"&B279&\"'!A1\",\"Go to Sheet\")),\"\")","v":""},{"$f":"IFERROR(IF(INDIRECT(\"'\"&$B279&\"'!$U$7\"),INDIRECT(\"'\"&$B279&\"'!$u$9\"),\"(\"&INDIRECT(\"'\"&$B279&\"'!$U$8\")&\")\"),\"\")","v":""},{"$f":"IF(L279,\"This site has incomplete Cost and Revenue data.  \",\"\")&IF(M279,\"WFRS data for previous quarters is incomplete.  \",\"\")&IF(K279,IFERROR(INDIRECT(\"'\"&$B279&\"'!$g$9\"),\"\"),\"\")","v":""},false,{"$f":"IFERROR(INDIRECT(\"'\"&$B279&\"'!$u$7\"),FALSE)","v":false},{"$f":"IFERROR(INDIRECT(\"'\"&$B279&\"'!$u$10\"),FALSE)","v":false},{"$f":"IFERROR(INDIRECT(\"'\"&$B279&\"'!$AC$12\"),FALSE)","v":false},{"$f":"IFERROR(INDIRECT(\"'\"&$B279&\"'!$ad$12\"),FALSE)","v":false},null,{"$f":"IFERROR(INDIRECT(\"'\"&$B279&\"'!$d$10\"),\"\")","v":""},{"$f":"IFERROR(INDIRECT(\"'\"&$B279&\"'!$d$33\"),\"\")","v":""},{"$f":"IFERROR(INDIRECT(\"'\"&$B279&\"'!$j$33\")+INDIRECT(\"'\"&$B279&\"'!$k$33\"),\"\")","v":""},{"$f":"IFERROR(INDIRECT(\"'\"&$B279&\"'!$q$33\"),\"\")","v":""},{"$f":"IFERROR(INDIRECT(\"'\"&$B279&\"'!$e$33\"),\"\")","v":""},{"$f":"IFERROR(INDIRECT(\"'\"&$B279&\"'!$L$33\"),\"\")","v":""},{"$f":"IFERROR(INDIRECT(\"'\"&$B279&\"'!$g$33\")+INDIRECT(\"'\"&$B279&\"'!$h$33\")+INDIRECT(\"'\"&$B279&\"'!$i$33\"),\"\")","v":""}]
[244,{"$f":"IFERROR(IF(OR(SHEETNAME(A280)=\"HIDE\",SHEETNAME(A280)=\"Start Here\",SHEETNAME(A280)=\"Template\"),\"\",SHEETNAME(A280)),\"\")","v":""},{"$f":"IFERROR(INDIRECT(\"'\"&$B280&\"'!$d$6\"),\"\")","v":""},{"$f":"IFERROR(INDIRECT(\"'\"&$B280&\"'!$d$7\"),\"\")","v":""},{"$f":"IFERROR(INDIRECT(\"'\"&$B280&\"'!$d$8\"),\"\")","v":""},{"$f":"IFERROR(IF(OR(SHEETNAME($A280)=\"HIDE\",SHEETNAME($A280)=\"Start Here\",SHEETNAME($A280)=\"Template\"),\"\",HYPERLINK(\"#'\"&B280&\"'!A1\",\"Go to Sheet\")),\"\")","v":""},{"$f":"IFERROR(IF(INDIRECT(\"'\"&$B280&\"'!$U$7\"),INDIRECT(\"'\"&$B280&\"'!$u$9\"),\"(\"&INDIRECT(\"'\"&$B280&\"'!$U$8\")&\")\"),\"\")","v":""},{"$f":"IF(L280,\"This site has incomplete Cost and Revenue data.  \",\"\")&IF(M280,\"WFRS data for previous quarters is incomplete.  \",\"\")&IF(K280,IFERROR(INDIRECT(\"'\"&$B280&\"'!$g$9\"),\"\"),\"\")","v":""},false,{"$f":"IFERROR(INDIRECT(\"'\"&$B280&\"'!$u$7\"),FALSE)","v":false},{"$f":"IFERROR(INDIRECT(\"'\"&$B280&\"'!$u$10\"),FALSE)","v":false},{"$f":"IFERROR(INDIRECT(\"'\"&$B280&\"'!$AC$12\"),FALSE)","v":false},{"$f":"IFERROR(INDIRECT(\"'\"&$B280&\"'!$ad$12\"),FALSE)","v":false},null,{"$f":"IFERROR(INDIRECT(\"'\"&$B280&\"'!$d$10\"),\"\")","v":""},{"$f":"IFERROR(INDIRECT(\"'\"&$B280&\"'!$d$33\"),\"\")","v":""},{"$f":"IFERROR(INDIRECT(\"'\"&$B280&\"'!$j$33\")+INDIRECT(\"'\"&$B280&\"'!$k$33\"),\"\")","v":""},{"$f":"IFERROR(INDIRECT(\"'\"&$B280&\"'!$q$33\"),\"\")","v":""},{"$f":"IFERROR(INDIRECT(\"'\"&$B280&\"'!$e$33\"),\"\")","v":""},{"$f":"IFERROR(INDIRECT(\"'\"&$B280&\"'!$L$33\"),\"\")","v":""},{"$f":"IFERROR(INDIRECT(\"'\"&$B280&\"'!$g$33\")+INDIRECT(\"'\"&$B280&\"'!$h$33\")+INDIRECT(\"'\"&$B280&\"'!$i$33\"),\"\")","v":""}]
[245,{"$f":"IFERROR(IF(OR(SHEETNAME(A281)=\"HIDE\",SHEETNAME(A281)=\"Start Here\",SHEETNAME(A281)=\"Template\"),\"\",SHEETNAME(A281)),\"\")","v":""},{"$f":"IFERROR(INDIRECT(\"'\"&$B281&\"'!$d$6\"),\"\")","v":""},{"$f":"IFERROR(INDIRECT(\"'\"&$B281&\"'!$d$7\"),\"\")","v":""},{"$f":"IFERROR(INDIRECT(\"'\"&$B281&\"'!$d$8\"),\"\")","v":""},{"$f":"IFERROR(IF(OR(SHEETNAME($A281)=\"HIDE\",SHEETNAME($A281)=\"Start Here\",SHEETNAME($A281)=\"Template\"),\"\",HYPERLINK(\"#'\"&B281&\"'!A1\",\"Go to Sheet\")),\"\")","v":""},{"$f":"IFERROR(IF(INDIRECT(\"'\"&$B281&\"'!$U$7\"),INDIRECT(\"'\"&$B281&\"'!$u$9\"),\"(\"&INDIRECT(\"'\"&$B281&\"'!$U$8\")&\")\"),\"\")","v":""},{"$f":"IF(L281,\"This site has incomplete Cost and Revenue data.  \",\"\")&IF(M281,\"WFRS data for previous quarters is incomplete.  \",\"\")&IF(K281,IFERROR(INDIRECT(\"'\"&$B281&\"'!$g$9\"),\"\"),\"\")","v":""},false,{"$f":"IFERROR(INDIRECT(\"'\"&$B281&\"'!$u$7\"),FALSE)","v":false},{"$f":"IFERROR(INDIRECT(\"'\"&$B281&\"'!$u$10\"),FALSE)","v":false},{"$f":"IFERROR(INDIRECT(\"'\"&$B281&\"'!$AC$12\"),FALSE)","v":false},{"$f":"IFERROR(INDIRECT(\"'\"&$B281&\"'!$ad$12\"),FALSE)","v":false},null,{"$f":"IFERROR(INDIRECT(\"'\"&$B281&\"'!$d$10\"),\"\")","v":""},{"$f":"IFERROR(INDIRECT(\"'\"&$B281&\"'!$d$33\"),\"\")","v":""},{"$f":"IFERROR(INDIRECT(\"'\"&$B281&\"'!$j$33\")+INDIRECT(\"'\"&$B281&\"'!$k$33\"),\"\")","v":""},{"$f":"IFERROR(INDIRECT(\"'\"&$B281&\"'!$q$33\"),\"\")","v":""},{"$f":"IFERROR(INDIRECT(\"'\"&$B281&\"'!$e$33\"),\"\")","v":""},{"$f":"IFERROR(INDIRECT(\"'\"&$B281&\"'!$L$33\"),\"\")","v":""},{"$f":"IFERROR(INDIRECT(\"'\"&$B281&\"'!$g$33\")+INDIRECT(\"'\"&$B281&\"'!$h$33\")+INDIRECT(\"'\"&$B281&\"'!$i$33\"),\"\")","v":""}]
[246,{"$f":"IFERROR(IF(OR(SHEETNAME(A282)=\"HIDE\",SHEETNAME(A282)=\"Start Here\",SHEETNAME(A282)=\"Template\"),\"\",SHEETNAME(A282)),\"\")","v":""},{"$f":"IFERROR(INDIRECT(\"'\"&$B282&\"'!$d$6\"),\"\")","v":""},{"$f":"IFERROR(INDIRECT(\"'\"&$B282&\"'!$d$7\"),\"\")","v":""},{"$f":"IFERROR(INDIRECT(\"'\"&$B282&\"'!$d$8\"),\"\")","v":""},{"$f":"IFERROR(IF(OR(SHEETNAME($A282)=\"HIDE\",SHEETNAME($A282)=\"Start Here\",SHEETNAME($A282)=\"Template\"),\"\",HYPERLINK(\"#'\"&B282&\"'!A1\",\"Go to Sheet\")),\"\")","v":""},{"$f":"IFERROR(IF(INDIRECT(\"'\"&$B282&\"'!$U$7\"),INDIRECT(\"'\"&$B282&\"'!$u$9\"),\"(\"&INDIRECT(\"'\"&$B282&\"'!$U$8\")&\")\"),\"\")","v":""},{"$f":"IF(L282,\"This site has incomplete Cost and Revenue data.  \",\"\")&IF(M282,\"WFRS data for previous quarters is incomplete.  \",\"\")&IF(K282,IFERROR(INDIRECT(\"'\"&$B282&\"'!$g$9\"),\"\"),\"\")","v":""},false,{"$f":"IFERROR(INDIRECT(\"'\"&$B282&\"'!$u$7\"),FALSE)","v":false},{"$f":"IFERROR(INDIRECT(\"'\"&$B282&\"'!$u$10\"),FALSE)","v":false},{"$f":"IFERROR(INDIRECT(\"'\"&$B282&\"'!$AC$12\"),FALSE)","v":false},{"$f":"IFERROR(INDIRECT(\"'\"&$B282&\"'!$ad$12\"),FALSE)","v":false},null,{"$f":"IFERROR(INDIRECT(\"'\"&$B282&\"'!$d$10\"),\"\")","v":""},{"$f":"IFERROR(INDIRECT(\"'\"&$B282&\"'!$d$33\"),\"\")","v":""},{"$f":"IFERROR(INDIRECT(\"'\"&$B282&\"'!$j$33\")+INDIRECT(\"'\"&$B282&\"'!$k$33\"),\"\")","v":""},{"$f":"IFERROR(INDIRECT(\"'\"&$B282&\"'!$q$33\"),\"\")","v":""},{"$f":"IFERROR(INDIRECT(\"'\"&$B282&\"'!$e$33\"),\"\")","v":""},{"$f":"IFERROR(INDIRECT(\"'\"&$B282&\"'!$L$33\"),\"\")","v":""},{"$f":"IFERROR(INDIRECT(\"'\"&$B282&\"'!$g$33\")+INDIRECT(\"'\"&$B282&\"'!$h$33\")+INDIRECT(\"'\"&$B282&\"'!$i$33\"),\"\")","v":""}]
[247,{"$f":"IFERROR(IF(OR(SHEETNAME(A283)=\"HIDE\",SHEETNAME(A283)=\"Start Here\",SHEETNAME(A283)=\"Template\"),\"\",SHEETNAME(A283)),\"\")","v":""},{"$f":"IFERROR(INDIRECT(\"'\"&$B283&\"'!$d$6\"),\"\")","v":""},{"$f":"IFERROR(INDIRECT(\"'\"&$B283&\"'!$d$7\"),\"\")","v":""},{"$f":"IFERROR(INDIRECT(\"'\"&$B283&\"'!$d$8\"),\"\")","v":""},{"$f":"IFERROR(IF(OR(SHEETNAME($A283)=\"HIDE\",SHEETNAME($A283)=\"Start Here\",SHEETNAME($A283)=\"Template\"),\"\",HYPERLINK(\"#'\"&B283&\"'!A1\",\"Go to Sheet\")),\"\")","v":""},{"$f":"IFERROR(IF(INDIRECT(\"'\"&$B283&\"'!$U$7\"),INDIRECT(\"'\"&$B283&\"'!$u$9\"),\"(\"&INDIRECT(\"'\"&$B283&\"'!$U$8\")&\")\"),\"\")","v":""},{"$f":"IF(L283,\"This site has incomplete Cost and Revenue data.  \",\"\")&IF(M283,\"WFRS data for previous quarters is incomplete.  \",\"\")&IF(K283,IFERROR(INDIRECT(\"'\"&$B283&\"'!$g$9\"),\"\"),\"\")","v":""},false,{"$f":"IFERROR(INDIRECT(\"'\"&$B283&\"'!$u$7\"),FALSE)","v":false},{"$f":"IFERROR(INDIRECT(\"'\"&$B283&\"'!$u$10\"),FALSE)","v":false},{"$f":"IFERROR(INDIRECT(\"'\"&$B283&\"'!$AC$12\"),FALSE)","v":false},{"$f":"IFERROR(INDIRECT(\"'\"&$B283&\"'!$ad$12\"),FALSE)","v":false},null,{"$f":"IFERROR(INDIRECT(\"'\"&$B283&\"'!$d$10\"),\"\")","v":""},{"$f":"IFERROR(INDIRECT(\"'\"&$B283&\"'!$d$33\"),\"\")","v":""},{"$f":"IFERROR(INDIRECT(\"'\"&$B283&\"'!$j$33\")+INDIRECT(\"'\"&$B283&\"'!$k$33\"),\"\")","v":""},{"$f":"IFERROR(INDIRECT(\"'\"&$B283&\"'!$q$33\"),\"\")","v":""},{"$f":"IFERROR(INDIRECT(\"'\"&$B283&\"'!$e$33\"),\"\")","v":""},{"$f":"IFERROR(INDIRECT(\"'\"&$B283&\"'!$L$33\"),\"\")","v":""},{"$f":"IFERROR(INDIRECT(\"'\"&$B283&\"'!$g$33\")+INDIRECT(\"'\"&$B283&\"'!$h$33\")+INDIRECT(\"'\"&$B283&\"'!$i$33\"),\"\")","v":""}]
[248,{"$f":"IFERROR(IF(OR(SHEETNAME(A284)=\"HIDE\",SHEETNAME(A284)=\"Start Here\",SHEETNAME(A284)=\"Template\"),\"\",SHEETNAME(A284)),\"\")","v":""},{"$f":"IFERROR(INDIRECT(\"'\"&$B284&\"'!$d$6\"),\"\")","v":""},{"$f":"IFERROR(INDIRECT(\"'\"&$B284&\"'!$d$7\"),\"\")","v":""},{"$f":"IFERROR(INDIRECT(\"'\"&$B284&\"'!$d$8\"),\"\")","v":""},{"$f":"IFERROR(IF(OR(SHEETNAME($A284)=\"HIDE\",SHEETNAME($A284)=\"Start Here\",SHEETNAME($A284)=\"Template\"),\"\",HYPERLINK(\"#'\"&B284&\"'!A1\",\"Go to Sheet\")),\"\")","v":""},{"$f":"IFERROR(IF(INDIRECT(\"'\"&$B284&\"'!$U$7\"),INDIRECT(\"'\"&$B284&\"'!$u$9\"),\"(\"&INDIRECT(\"'\"&$B284&\"'!$U$8\")&\")\"),\"\")","v":""},{"$f":"IF(L284,\"This site has incomplete Cost and Revenue data.  \",\"\")&IF(M284,\"WFRS data for previous quarters is incomplete.  \",\"\")&IF(K284,IFERROR(INDIRECT(\"'\"&$B284&\"'!$g$9\"),\"\"),\"\")","v":""},false,{"$f":"IFERROR(INDIRECT(\"'\"&$B284&\"'!$u$7\"),FALSE)","v":false},{"$f":"IFERROR(INDIRECT(\"'\"&$B284&\"'!$u$10\"),FALSE)","v":false},{"$f":"IFERROR(INDIRECT(\"'\"&$B284&\"'!$AC$12\"),FALSE)","v":false},{"$f":"IFERROR(INDIRECT(\"'\"&$B284&\"'!$ad$12\"),FALSE)","v":false},null,{"$f":"IFERROR(INDIRECT(\"'\"&$B284&\"'!$d$10\"),\"\")","v":""},{"$f":"IFERROR(INDIRECT(\"'\"&$B284&\"'!$d$33\"),\"\")","v":""},{"$f":"IFERROR(INDIRECT(\"'\"&$B284&\"'!$j$33\")+INDIRECT(\"'\"&$B284&\"'!$k$33\"),\"\")","v":""},{"$f":"IFERROR(INDIRECT(\"'\"&$B284&\"'!$q$33\"),\"\")","v":""},{"$f":"IFERROR(INDIRECT(\"'\"&$B284&\"'!$e$33\"),\"\")","v":""},{"$f":"IFERROR(INDIRECT(\"'\"&$B284&\"'!$L$33\"),\"\")","v":""},{"$f":"IFERROR(INDIRECT(\"'\"&$B284&\"'!$g$33\")+INDIRECT(\"'\"&$B284&\"'!$h$33\")+INDIRECT(\"'\"&$B284&\"'!$i$33\"),\"\")","v":""}]
[249,{"$f":"IFERROR(IF(OR(SHEETNAME(A285)=\"HIDE\",SHEETNAME(A285)=\"Start Here\",SHEETNAME(A285)=\"Template\"),\"\",SHEETNAME(A285)),\"\")","v":""},{"$f":"IFERROR(INDIRECT(\"'\"&$B285&\"'!$d$6\"),\"\")","v":""},{"$f":"IFERROR(INDIRECT(\"'\"&$B285&\"'!$d$7\"),\"\")","v":""},{"$f":"IFERROR(INDIRECT(\"'\"&$B285&\"'!$d$8\"),\"\")","v":""},{"$f":"IFERROR(IF(OR(SHEETNAME($A285)=\"HIDE\",SHEETNAME($A285)=\"Start Here\",SHEETNAME($A285)=\"Template\"),\"\",HYPERLINK(\"#'\"&B285&\"'!A1\",\"Go to Sheet\")),\"\")","v":""},{"$f":"IFERROR(IF(INDIRECT(\"'\"&$B285&\"'!$U$7\"),INDIRECT(\"'\"&$B285&\"'!$u$9\"),\"(\"&INDIRECT(\"'\"&$B285&\"'!$U$8\")&\")\"),\"\")","v":""},{"$f":"IF(L285,\"This site has incomplete Cost and Revenue data.  \",\"\")&IF(M285,\"WFRS data for previous quarters is incomplete.  \",\"\")&IF(K285,IFERROR(INDIRECT(\"'\"&$B285&\"'!$g$9\"),\"\"),\"\")","v":""},false,{"$f":"IFERROR(INDIRECT(\"'\"&$B285&\"'!$u$7\"),FALSE)","v":false},{"$f":"IFERROR(INDIRECT(\"'\"&$B285&\"'!$u$10\"),FALSE)","v":false},{"$f":"IFERROR(INDIRECT(\"'\"&$B285&\"'!$AC$12\"),FALSE)","v":false},{"$f":"IFERROR(INDIRECT(\"'\"&$B285&\"'!$ad$12\"),FALSE)","v":false},null,{"$f":"IFERROR(INDIRECT(\"'\"&$B285&\"'!$d$10\"),\"\")","v":""},{"$f":"IFERROR(INDIRECT(\"'\"&$B285&\"'!$d$33\"),\"\")","v":""},{"$f":"IFERROR(INDIRECT(\"'\"&$B285&\"'!$j$33\")+INDIRECT(\"'\"&$B285&\"'!$k$33\"),\"\")","v":""},{"$f":"IFERROR(INDIRECT(\"'\"&$B285&\"'!$q$33\"),\"\")","v":""},{"$f":"IFERROR(INDIRECT(\"'\"&$B285&\"'!$e$33\"),\"\")","v":""},{"$f":"IFERROR(INDIRECT(\"'\"&$B285&\"'!$L$33\"),\"\")","v":""},{"$f":"IFERROR(INDIRECT(\"'\"&$B285&\"'!$g$33\")+INDIRECT(\"'\"&$B285&\"'!$h$33\")+INDIRECT(\"'\"&$B285&\"'!$i$33\"),\"\")","v":""}]
[250,{"$f":"IFERROR(IF(OR(SHEETNAME(A286)=\"HIDE\",SHEETNAME(A286)=\"Start Here\",SHEETNAME(A286)=\"Template\"),\"\",SHEETNAME(A286)),\"\")","v":""},{"$f":"IFERROR(INDIRECT(\"'\"&$B286&\"'!$d$6\"),\"\")","v":""},{"$f":"IFERROR(INDIRECT(\"'\"&$B286&\"'!$d$7\"),\"\")","v":""},{"$f":"IFERROR(INDIRECT(\"'\"&$B286&\"'!$d$8\"),\"\")","v":""},{"$f":"IFERROR(IF(OR(SHEETNAME($A286)=\"HIDE\",SHEETNAME($A286)=\"Start Here\",SHEETNAME($A286)=\"Template\"),\"\",HYPERLINK(\"#'\"&B286&\"'!A1\",\"Go to Sheet\")),\"\")","v":""},{"$f":"IFERROR(IF(INDIRECT(\"'\"&$B286&\"'!$U$7\"),INDIRECT(\"'\"&$B286&\"'!$u$9\"),\"(\"&INDIRECT(\"'\"&$B286&\"'!$U$8\")&\")\"),\"\")","v":""},{"$f":"IF(L286,\"This site has incomplete Cost and Revenue data.  \",\"\")&IF(M286,\"WFRS data for previous quarters is incomplete.  \",\"\")&IF(K286,IFERROR(INDIRECT(\"'\"&$B286&\"'!$g$9\"),\"\"),\"\")","v":""},false,{"$f":"IFERROR(INDIRECT(\"'\"&$B286&\"'!$u$7\"),FALSE)","v":false},{"$f":"IFERROR(INDIRECT(\"'\"&$B286&\"'!$u$10\"),FALSE)","v":false},{"$f":"IFERROR(INDIRECT(\"'\"&$B286&\"'!$AC$12\"),FALSE)","v":false},{"$f":"IFERROR(INDIRECT(\"'\"&$B286&\"'!$ad$12\"),FALSE)","v":false},null,{"$f":"IFERROR(INDIRECT(\"'\"&$B286&\"'!$d$10\"),\"\")","v":""},{"$f":"IFERROR(INDIRECT(\"'\"&$B286&\"'!$d$33\"),\"\")","v":""},{"$f":"IFERROR(INDIRECT(\"'\"&$B286&\"'!$j$33\")+INDIRECT(\"'\"&$B286&\"'!$k$33\"),\"\")","v":""},{"$f":"IFERROR(INDIRECT(\"'\"&$B286&\"'!$q$33\"),\"\")","v":""},{"$f":"IFERROR(INDIRECT(\"'\"&$B286&\"'!$e$33\"),\"\")","v":""},{"$f":"IFERROR(INDIRECT(\"'\"&$B286&\"'!$L$33\"),\"\")","v":""},{"$f":"IFERROR(INDIRECT(\"'\"&$B286&\"'!$g$33\")+INDIRECT(\"'\"&$B286&\"'!$h$33\")+INDIRECT(\"'\"&$B286&\"'!$i$33\"),\"\")","v":""}]
[251,{"$f":"IFERROR(IF(OR(SHEETNAME(A287)=\"HIDE\",SHEETNAME(A287)=\"Start Here\",SHEETNAME(A287)=\"Template\"),\"\",SHEETNAME(A287)),\"\")","v":""},{"$f":"IFERROR(INDIRECT(\"'\"&$B287&\"'!$d$6\"),\"\")","v":""},{"$f":"IFERROR(INDIRECT(\"'\"&$B287&\"'!$d$7\"),\"\")","v":""},{"$f":"IFERROR(INDIRECT(\"'\"&$B287&\"'!$d$8\"),\"\")","v":""},{"$f":"IFERROR(IF(OR(SHEETNAME($A287)=\"HIDE\",SHEETNAME($A287)=\"Start Here\",SHEETNAME($A287)=\"Template\"),\"\",HYPERLINK(\"#'\"&B287&\"'!A1\",\"Go to Sheet\")),\"\")","v":""},{"$f":"IFERROR(IF(INDIRECT(\"'\"&$B287&\"'!$U$7\"),INDIRECT(\"'\"&$B287&\"'!$u$9\"),\"(\"&INDIRECT(\"'\"&$B287&\"'!$U$8\")&\")\"),\"\")","v":""},{"$f":"IF(L287,\"This site has incomplete Cost and Revenue data.  \",\"\")&IF(M287,\"WFRS data for previous quarters is incomplete.  \",\"\")&IF(K287,IFERROR(INDIRECT(\"'\"&$B287&\"'!$g$9\"),\"\"),\"\")","v":""},false,{"$f":"IFERROR(INDIRECT(\"'\"&$B287&\"'!$u$7\"),FALSE)","v":false},{"$f":"IFERROR(INDIRECT(\"'\"&$B287&\"'!$u$10\"),FALSE)","v":false},{"$f":"IFERROR(INDIRECT(\"'\"&$B287&\"'!$AC$12\"),FALSE)","v":false},{"$f":"IFERROR(INDIRECT(\"'\"&$B287&\"'!$ad$12\"),FALSE)","v":false},null,{"$f":"IFERROR(INDIRECT(\"'\"&$B287&\"'!$d$10\"),\"\")","v":""},{"$f":"IFERROR(INDIRECT(\"'\"&$B287&\"'!$d$33\"),\"\")","v":""},{"$f":"IFERROR(INDIRECT(\"'\"&$B287&\"'!$j$33\")+INDIRECT(\"'\"&$B287&\"'!$k$33\"),\"\")","v":""},{"$f":"IFERROR(INDIRECT(\"'\"&$B287&\"'!$q$33\"),\"\")","v":""},{"$f":"IFERROR(INDIRECT(\"'\"&$B287&\"'!$e$33\"),\"\")","v":""},{"$f":"IFERROR(INDIRECT(\"'\"&$B287&\"'!$L$33\"),\"\")","v":""},{"$f":"IFERROR(INDIRECT(\"'\"&$B287&\"'!$g$33\")+INDIRECT(\"'\"&$B287&\"'!$h$33\")+INDIRECT(\"'\"&$B287&\"'!$i$33\"),\"\")","v":""}]
[252,{"$f":"IFERROR(IF(OR(SHEETNAME(A288)=\"HIDE\",SHEETNAME(A288)=\"Start Here\",SHEETNAME(A288)=\"Template\"),\"\",SHEETNAME(A288)),\"\")","v":""},{"$f":"IFERROR(INDIRECT(\"'\"&$B288&\"'!$d$6\"),\"\")","v":""},{"$f":"IFERROR(INDIRECT(\"'\"&$B288&\"'!$d$7\"),\"\")","v":""},{"$f":"IFERROR(INDIRECT(\"'\"&$B288&\"'!$d$8\"),\"\")","v":""},{"$f":"IFERROR(IF(OR(SHEETNAME($A288)=\"HIDE\",SHEETNAME($A288)=\"Start Here\",SHEETNAME($A288)=\"Template\"),\"\",HYPERLINK(\"#'\"&B288&\"'!A1\",\"Go to Sheet\")),\"\")","v":""},{"$f":"IFERROR(IF(INDIRECT(\"'\"&$B288&\"'!$U$7\"),INDIRECT(\"'\"&$B288&\"'!$u$9\"),\"(\"&INDIRECT(\"'\"&$B288&\"'!$U$8\")&\")\"),\"\")","v":""},{"$f":"IF(L288,\"This site has incomplete Cost and Revenue data.  \",\"\")&IF(M288,\"WFRS data for previous quarters is incomplete.  \",\"\")&IF(K288,IFERROR(INDIRECT(\"'\"&$B288&\"'!$g$9\"),\"\"),\"\")","v":""},false,{"$f":"IFERROR(INDIRECT(\"'\"&$B288&\"'!$u$7\"),FALSE)","v":false},{"$f":"IFERROR(INDIRECT(\"'\"&$B288&\"'!$u$10\"),FALSE)","v":false},{"$f":"IFERROR(INDIRECT(\"'\"&$B288&\"'!$AC$12\"),FALSE)","v":false},{"$f":"IFERROR(INDIRECT(\"'\"&$B288&\"'!$ad$12\"),FALSE)","v":false},null,{"$f":"IFERROR(INDIRECT(\"'\"&$B288&\"'!$d$10\"),\"\")","v":""},{"$f":"IFERROR(INDIRECT(\"'\"&$B288&\"'!$d$33\"),\"\")","v":""},{"$f":"IFERROR(INDIRECT(\"'\"&$B288&\"'!$j$33\")+INDIRECT(\"'\"&$B288&\"'!$k$33\"),\"\")","v":""},{"$f":"IFERROR(INDIRECT(\"'\"&$B288&\"'!$q$33\"),\"\")","v":""},{"$f":"IFERROR(INDIRECT(\"'\"&$B288&\"'!$e$33\"),\"\")","v":""},{"$f":"IFERROR(INDIRECT(\"'\"&$B288&\"'!$L$33\"),\"\")","v":""},{"$f":"IFERROR(INDIRECT(\"'\"&$B288&\"'!$g$33\")+INDIRECT(\"'\"&$B288&\"'!$h$33\")+INDIRECT(\"'\"&$B288&\"'!$i$33\"),\"\")","v":""}]
[253,{"$f":"IFERROR(IF(OR(SHEETNAME(A289)=\"HIDE\",SHEETNAME(A289)=\"Start Here\",SHEETNAME(A289)=\"Template\"),\"\",SHEETNAME(A289)),\"\")","v":""},{"$f":"IFERROR(INDIRECT(\"'\"&$B289&\"'!$d$6\"),\"\")","v":""},{"$f":"IFERROR(INDIRECT(\"'\"&$B289&\"'!$d$7\"),\"\")","v":""},{"$f":"IFERROR(INDIRECT(\"'\"&$B289&\"'!$d$8\"),\"\")","v":""},{"$f":"IFERROR(IF(OR(SHEETNAME($A289)=\"HIDE\",SHEETNAME($A289)=\"Start Here\",SHEETNAME($A289)=\"Template\"),\"\",HYPERLINK(\"#'\"&B289&\"'!A1\",\"Go to Sheet\")),\"\")","v":""},{"$f":"IFERROR(IF(INDIRECT(\"'\"&$B289&\"'!$U$7\"),INDIRECT(\"'\"&$B289&\"'!$u$9\"),\"(\"&INDIRECT(\"'\"&$B289&\"'!$U$8\")&\")\"),\"\")","v":""},{"$f":"IF(L289,\"This site has incomplete Cost and Revenue data.  \",\"\")&IF(M289,\"WFRS data for previous quarters is incomplete.  \",\"\")&IF(K289,IFERROR(INDIRECT(\"'\"&$B289&\"'!$g$9\"),\"\"),\"\")","v":""},false,{"$f":"IFERROR(INDIRECT(\"'\"&$B289&\"'!$u$7\"),FALSE)","v":false},{"$f":"IFERROR(INDIRECT(\"'\"&$B289&\"'!$u$10\"),FALSE)","v":false},{"$f":"IFERROR(INDIRECT(\"'\"&$B289&\"'!$AC$12\"),FALSE)","v":false},{"$f":"IFERROR(INDIRECT(\"'\"&$B289&\"'!$ad$12\"),FALSE)","v":false},null,{"$f":"IFERROR(INDIRECT(\"'\"&$B289&\"'!$d$10\"),\"\")","v":""},{"$f":"IFERROR(INDIRECT(\"'\"&$B289&\"'!$d$33\"),\"\")","v":""},{"$f":"IFERROR(INDIRECT(\"'\"&$B289&\"'!$j$33\")+INDIRECT(\"'\"&$B289&\"'!$k$33\"),\"\")","v":""},{"$f":"IFERROR(INDIRECT(\"'\"&$B289&\"'!$q$33\"),\"\")","v":""},{"$f":"IFERROR(INDIRECT(\"'\"&$B289&\"'!$e$33\"),\"\")","v":""},{"$f":"IFERROR(INDIRECT(\"'\"&$B289&\"'!$L$33\"),\"\")","v":""},{"$f":"IFERROR(INDIRECT(\"'\"&$B289&\"'!$g$33\")+INDIRECT(\"'\"&$B289&\"'!$h$33\")+INDIRECT(\"'\"&$B289&\"'!$i$33\"),\"\")","v":""}]
[254,{"$f":"IFERROR(IF(OR(SHEETNAME(A290)=\"HIDE\",SHEETNAME(A290)=\"Start Here\",SHEETNAME(A290)=\"Template\"),\"\",SHEETNAME(A290)),\"\")","v":""},{"$f":"IFERROR(INDIRECT(\"'\"&$B290&\"'!$d$6\"),\"\")","v":""},{"$f":"IFERROR(INDIRECT(\"'\"&$B290&\"'!$d$7\"),\"\")","v":""},{"$f":"IFERROR(INDIRECT(\"'\"&$B290&\"'!$d$8\"),\"\")","v":""},{"$f":"IFERROR(IF(OR(SHEETNAME($A290)=\"HIDE\",SHEETNAME($A290)=\"Start Here\",SHEETNAME($A290)=\"Template\"),\"\",HYPERLINK(\"#'\"&B290&\"'!A1\",\"Go to Sheet\")),\"\")","v":""},{"$f":"IFERROR(IF(INDIRECT(\"'\"&$B290&\"'!$U$7\"),INDIRECT(\"'\"&$B290&\"'!$u$9\"),\"(\"&INDIRECT(\"'\"&$B290&\"'!$U$8\")&\")\"),\"\")","v":""},{"$f":"IF(L290,\"This site has incomplete Cost and Revenue data.  \",\"\")&IF(M290,\"WFRS data for previous quarters is incomplete.  \",\"\")&IF(K290,IFERROR(INDIRECT(\"'\"&$B290&\"'!$g$9\"),\"\"),\"\")","v":""},false,{"$f":"IFERROR(INDIRECT(\"'\"&$B290&\"'!$u$7\"),FALSE)","v":false},{"$f":"IFERROR(INDIRECT(\"'\"&$B290&\"'!$u$10\"),FALSE)","v":false},{"$f":"IFERROR(INDIRECT(\"'\"&$B290&\"'!$AC$12\"),FALSE)","v":false},{"$f":"IFERROR(INDIRECT(\"'\"&$B290&\"'!$ad$12\"),FALSE)","v":false},null,{"$f":"IFERROR(INDIRECT(\"'\"&$B290&\"'!$d$10\"),\"\")","v":""},{"$f":"IFERROR(INDIRECT(\"'\"&$B290&\"'!$d$33\"),\"\")","v":""},{"$f":"IFERROR(INDIRECT(\"'\"&$B290&\"'!$j$33\")+INDIRECT(\"'\"&$B290&\"'!$k$33\"),\"\")","v":""},{"$f":"IFERROR(INDIRECT(\"'\"&$B290&\"'!$q$33\"),\"\")","v":""},{"$f":"IFERROR(INDIRECT(\"'\"&$B290&\"'!$e$33\"),\"\")","v":""},{"$f":"IFERROR(INDIRECT(\"'\"&$B290&\"'!$L$33\"),\"\")","v":""},{"$f":"IFERROR(INDIRECT(\"'\"&$B290&\"'!$g$33\")+INDIRECT(\"'\"&$B290&\"'!$h$33\")+INDIRECT(\"'\"&$B290&\"'!$i$33\"),\"\")","v":""}]
[255,{"$f":"IFERROR(IF(OR(SHEETNAME(A291)=\"HIDE\",SHEETNAME(A291)=\"Start Here\",SHEETNAME(A291)=\"Template\"),\"\",SHEETNAME(A291)),\"\")","v":""},{"$f":"IFERROR(INDIRECT(\"'\"&$B291&\"'!$d$6\"),\"\")","v":""},{"$f":"IFERROR(INDIRECT(\"'\"&$B291&\"'!$d$7\"),\"\")","v":""},{"$f":"IFERROR(INDIRECT(\"'\"&$B291&\"'!$d$8\"),\"\")","v":""},{"$f":"IFERROR(IF(OR(SHEETNAME($A291)=\"HIDE\",SHEETNAME($A291)=\"Start Here\",SHEETNAME($A291)=\"Template\"),\"\",HYPERLINK(\"#'\"&B291&\"'!A1\",\"Go to Sheet\")),\"\")","v":""},{"$f":"IFERROR(IF(INDIRECT(\"'\"&$B291&\"'!$U$7\"),INDIRECT(\"'\"&$B291&\"'!$u$9\"),\"(\"&INDIRECT(\"'\"&$B291&\"'!$U$8\")&\")\"),\"\")","v":""},{"$f":"IF(L291,\"This site has incomplete Cost and Revenue data.  \",\"\")&IF(M291,\"WFRS data for previous quarters is incomplete.  \",\"\")&IF(K291,IFERROR(INDIRECT(\"'\"&$B291&\"'!$g$9\"),\"\"),\"\")","v":""},false,{"$f":"IFERROR(INDIRECT(\"'\"&$B291&\"'!$u$7\"),FALSE)","v":false},{"$f":"IFERROR(INDIRECT(\"'\"&$B291&\"'!$u$10\"),FALSE)","v":false},{"$f":"IFERROR(INDIRECT(\"'\"&$B291&\"'!$AC$12\"),FALSE)","v":false},{"$f":"IFERROR(INDIRECT(\"'\"&$B291&\"'!$ad$12\"),FALSE)","v":false},null,{"$f":"IFERROR(INDIRECT(\"'\"&$B291&\"'!$d$10\"),\"\")","v":""},{"$f":"IFERROR(INDIRECT(\"'\"&$B291&\"'!$d$33\"),\"\")","v":""},{"$f":"IFERROR(INDIRECT(\"'\"&$B291&\"'!$j$33\")+INDIRECT(\"'\"&$B291&\"'!$k$33\"),\"\")","v":""},{"$f":"IFERROR(INDIRECT(\"'\"&$B291&\"'!$q$33\"),\"\")","v":""},{"$f":"IFERROR(INDIRECT(\"'\"&$B291&\"'!$e$33\"),\"\")","v":""},{"$f":"IFERROR(INDIRECT(\"'\"&$B291&\"'!$L$33\"),\"\")","v":""},{"$f":"IFERROR(INDIRECT(\"'\"&$B291&\"'!$g$33\")+INDIRECT(\"'\"&$B291&\"'!$h$33\")+INDIRECT(\"'\"&$B291&\"'!$i$33\"),\"\")","v":""}]
[256,{"$f":"IFERROR(IF(OR(SHEETNAME(A292)=\"HIDE\",SHEETNAME(A292)=\"Start Here\",SHEETNAME(A292)=\"Template\"),\"\",SHEETNAME(A292)),\"\")","v":""},{"$f":"IFERROR(INDIRECT(\"'\"&$B292&\"'!$d$6\"),\"\")","v":""},{"$f":"IFERROR(INDIRECT(\"'\"&$B292&\"'!$d$7\"),\"\")","v":""},{"$f":"IFERROR(INDIRECT(\"'\"&$B292&\"'!$d$8\"),\"\")","v":""},{"$f":"IFERROR(IF(OR(SHEETNAME($A292)=\"HIDE\",SHEETNAME($A292)=\"Start Here\",SHEETNAME($A292)=\"Template\"),\"\",HYPERLINK(\"#'\"&B292&\"'!A1\",\"Go to Sheet\")),\"\")","v":""},{"$f":"IFERROR(IF(INDIRECT(\"'\"&$B292&\"'!$U$7\"),INDIRECT(\"'\"&$B292&\"'!$u$9\"),\"(\"&INDIRECT(\"'\"&$B292&\"'!$U$8\")&\")\"),\"\")","v":""},{"$f":"IF(L292,\"This site has incomplete Cost and Revenue data.  \",\"\")&IF(M292,\"WFRS data for previous quarters is incomplete.  \",\"\")&IF(K292,IFERROR(INDIRECT(\"'\"&$B292&\"'!$g$9\"),\"\"),\"\")","v":""},false,{"$f":"IFERROR(INDIRECT(\"'\"&$B292&\"'!$u$7\"),FALSE)","v":false},{"$f":"IFERROR(INDIRECT(\"'\"&$B292&\"'!$u$10\"),FALSE)","v":false},{"$f":"IFERROR(INDIRECT(\"'\"&$B292&\"'!$AC$12\"),FALSE)","v":false},{"$f":"IFERROR(INDIRECT(\"'\"&$B292&\"'!$ad$12\"),FALSE)","v":false},null,{"$f":"IFERROR(INDIRECT(\"'\"&$B292&\"'!$d$10\"),\"\")","v":""},{"$f":"IFERROR(INDIRECT(\"'\"&$B292&\"'!$d$33\"),\"\")","v":""},{"$f":"IFERROR(INDIRECT(\"'\"&$B292&\"'!$j$33\")+INDIRECT(\"'\"&$B292&\"'!$k$33\"),\"\")","v":""},{"$f":"IFERROR(INDIRECT(\"'\"&$B292&\"'!$q$33\"),\"\")","v":""},{"$f":"IFERROR(INDIRECT(\"'\"&$B292&\"'!$e$33\"),\"\")","v":""},{"$f":"IFERROR(INDIRECT(\"'\"&$B292&\"'!$L$33\"),\"\")","v":""},{"$f":"IFERROR(INDIRECT(\"'\"&$B292&\"'!$g$33\")+INDIRECT(\"'\"&$B292&\"'!$h$33\")+INDIRECT(\"'\"&$B292&\"'!$i$33\"),\"\")","v":""}]
[257,{"$f":"IFERROR(IF(OR(SHEETNAME(A293)=\"HIDE\",SHEETNAME(A293)=\"Start Here\",SHEETNAME(A293)=\"Template\"),\"\",SHEETNAME(A293)),\"\")","v":""},{"$f":"IFERROR(INDIRECT(\"'\"&$B293&\"'!$d$6\"),\"\")","v":""},{"$f":"IFERROR(INDIRECT(\"'\"&$B293&\"'!$d$7\"),\"\")","v":""},{"$f":"IFERROR(INDIRECT(\"'\"&$B293&\"'!$d$8\"),\"\")","v":""},{"$f":"IFERROR(IF(OR(SHEETNAME($A293)=\"HIDE\",SHEETNAME($A293)=\"Start Here\",SHEETNAME($A293)=\"Template\"),\"\",HYPERLINK(\"#'\"&B293&\"'!A1\",\"Go to Sheet\")),\"\")","v":""},{"$f":"IFERROR(IF(INDIRECT(\"'\"&$B293&\"'!$U$7\"),INDIRECT(\"'\"&$B293&\"'!$u$9\"),\"(\"&INDIRECT(\"'\"&$B293&\"'!$U$8\")&\")\"),\"\")","v":""},{"$f":"IF(L293,\"This site has incomplete Cost and Revenue data.  \",\"\")&IF(M293,\"WFRS data for previous quarters is incomplete.  \",\"\")&IF(K293,IFERROR(INDIRECT(\"'\"&$B293&\"'!$g$9\"),\"\"),\"\")","v":""},false,{"$f":"IFERROR(INDIRECT(\"'\"&$B293&\"'!$u$7\"),FALSE)","v":false},{"$f":"IFERROR(INDIRECT(\"'\"&$B293&\"'!$u$10\"),FALSE)","v":false},{"$f":"IFERROR(INDIRECT(\"'\"&$B293&\"'!$AC$12\"),FALSE)","v":false},{"$f":"IFERROR(INDIRECT(\"'\"&$B293&\"'!$ad$12\"),FALSE)","v":false},null,{"$f":"IFERROR(INDIRECT(\"'\"&$B293&\"'!$d$10\"),\"\")","v":""},{"$f":"IFERROR(INDIRECT(\"'\"&$B293&\"'!$d$33\"),\"\")","v":""},{"$f":"IFERROR(INDIRECT(\"'\"&$B293&\"'!$j$33\")+INDIRECT(\"'\"&$B293&\"'!$k$33\"),\"\")","v":""},{"$f":"IFERROR(INDIRECT(\"'\"&$B293&\"'!$q$33\"),\"\")","v":""},{"$f":"IFERROR(INDIRECT(\"'\"&$B293&\"'!$e$33\"),\"\")","v":""},{"$f":"IFERROR(INDIRECT(\"'\"&$B293&\"'!$L$33\"),\"\")","v":""},{"$f":"IFERROR(INDIRECT(\"'\"&$B293&\"'!$g$33\")+INDIRECT(\"'\"&$B293&\"'!$h$33\")+INDIRECT(\"'\"&$B293&\"'!$i$33\"),\"\")","v":""}]
[258,{"$f":"IFERROR(IF(OR(SHEETNAME(A294)=\"HIDE\",SHEETNAME(A294)=\"Start Here\",SHEETNAME(A294)=\"Template\"),\"\",SHEETNAME(A294)),\"\")","v":""},{"$f":"IFERROR(INDIRECT(\"'\"&$B294&\"'!$d$6\"),\"\")","v":""},{"$f":"IFERROR(INDIRECT(\"'\"&$B294&\"'!$d$7\"),\"\")","v":""},{"$f":"IFERROR(INDIRECT(\"'\"&$B294&\"'!$d$8\"),\"\")","v":""},{"$f":"IFERROR(IF(OR(SHEETNAME($A294)=\"HIDE\",SHEETNAME($A294)=\"Start Here\",SHEETNAME($A294)=\"Template\"),\"\",HYPERLINK(\"#'\"&B294&\"'!A1\",\"Go to Sheet\")),\"\")","v":""},{"$f":"IFERROR(IF(INDIRECT(\"'\"&$B294&\"'!$U$7\"),INDIRECT(\"'\"&$B294&\"'!$u$9\"),\"(\"&INDIRECT(\"'\"&$B294&\"'!$U$8\")&\")\"),\"\")","v":""},{"$f":"IF(L294,\"This site has incomplete Cost and Revenue data.  \",\"\")&IF(M294,\"WFRS data for previous quarters is incomplete.  \",\"\")&IF(K294,IFERROR(INDIRECT(\"'\"&$B294&\"'!$g$9\"),\"\"),\"\")","v":""},{"$f":"NOT(E294=\"\")","v":false},{"$f":"IFERROR(INDIRECT(\"'\"&$B294&\"'!$u$7\"),FALSE)","v":false},{"$f":"IFERROR(INDIRECT(\"'\"&$B294&\"'!$u$10\"),FALSE)","v":false},{"$f":"IFERROR(INDIRECT(\"'\"&$B294&\"'!$AC$12\"),FALSE)","v":false},{"$f":"IFERROR(INDIRECT(\"'\"&$B294&\"'!$ad$12\"),FALSE)","v":false},null,{"$f":"IFERROR(INDIRECT(\"'\"&$B294&\"'!$d$10\"),\"\")","v":""},{"$f":"IFERROR(INDIRECT(\"'\"&$B294&\"'!$d$33\"),\"\")","v":""},{"$f":"IFERROR(INDIRECT(\"'\"&$B294&\"'!$j$33\")+INDIRECT(\"'\"&$B294&\"'!$k$33\"),\"\")","v":""},{"$f":"IFERROR(INDIRECT(\"'\"&$B294&\"'!$q$33\"),\"\")","v":""},{"$f":"IFERROR(INDIRECT(\"'\"&$B294&\"'!$e$33\"),\"\")","v":""},{"$f":"IFERROR(INDIRECT(\"'\"&$B294&\"'!$L$33\"),\"\")","v":""},{"$f":"IFERROR(INDIRECT(\"'\"&$B294&\"'!$g$33\")+INDIRECT(\"'\"&$B294&\"'!$h$33\")+INDIRECT(\"'\"&$B294&\"'!$i$33\"),\"\")","v":""}]
[259,{"$f":"IFERROR(IF(OR(SHEETNAME(A295)=\"HIDE\",SHEETNAME(A295)=\"Start Here\",SHEETNAME(A295)=\"Template\"),\"\",SHEETNAME(A295)),\"\")","v":""},{"$f":"IFERROR(INDIRECT(\"'\"&$B295&\"'!$d$6\"),\"\")","v":""},{"$f":"IFERROR(INDIRECT(\"'\"&$B295&\"'!$d$7\"),\"\")","v":""},{"$f":"IFERROR(INDIRECT(\"'\"&$B295&\"'!$d$8\"),\"\")","v":""},{"$f":"IFERROR(IF(OR(SHEETNAME($A295)=\"HIDE\",SHEETNAME($A295)=\"Start Here\",SHEETNAME($A295)=\"Template\"),\"\",HYPERLINK(\"#'\"&B295&\"'!A1\",\"Go to Sheet\")),\"\")","v":""},{"$f":"IFERROR(IF(INDIRECT(\"'\"&$B295&\"'!$U$7\"),INDIRECT(\"'\"&$B295&\"'!$u$9\"),\"(\"&INDIRECT(\"'\"&$B295&\"'!$U$8\")&\")\"),\"\")","v":""},{"$f":"IF(L295,\"This site has incomplete Cost and Revenue data.  \",\"\")&IF(M295,\"WFRS data for previous quarters is incomplete.  \",\"\")&IF(K295,IFERROR(INDIRECT(\"'\"&$B295&\"'!$g$9\"),\"\"),\"\")","v":""},false,{"$f":"IFERROR(INDIRECT(\"'\"&$B295&\"'!$u$7\"),FALSE)","v":false},{"$f":"IFERROR(INDIRECT(\"'\"&$B295&\"'!$u$10\"),FALSE)","v":false},{"$f":"IFERROR(INDIRECT(\"'\"&$B295&\"'!$AC$12\"),FALSE)","v":false},{"$f":"IFERROR(INDIRECT(\"'\"&$B295&\"'!$ad$12\"),FALSE)","v":false},null,{"$f":"IFERROR(INDIRECT(\"'\"&$B295&\"'!$d$10\"),\"\")","v":""},{"$f":"IFERROR(INDIRECT(\"'\"&$B295&\"'!$d$33\"),\"\")","v":""},{"$f":"IFERROR(INDIRECT(\"'\"&$B295&\"'!$j$33\")+INDIRECT(\"'\"&$B295&\"'!$k$33\"),\"\")","v":""},{"$f":"IFERROR(INDIRECT(\"'\"&$B295&\"'!$q$33\"),\"\")","v":""},{"$f":"IFERROR(INDIRECT(\"'\"&$B295&\"'!$e$33\"),\"\")","v":""},{"$f":"IFERROR(INDIRECT(\"'\"&$B295&\"'!$L$33\"),\"\")","v":""},{"$f":"IFERROR(INDIRECT(\"'\"&$B295&\"'!$g$33\")+INDIRECT(\"'\"&$B295&\"'!$h$33\")+INDIRECT(\"'\"&$B295&\"'!$i$33\"),\"\")","v":""}]
[260,{"$f":"IFERROR(IF(OR(SHEETNAME(A296)=\"HIDE\",SHEETNAME(A296)=\"Start Here\",SHEETNAME(A296)=\"Template\"),\"\",SHEETNAME(A296)),\"\")","v":""},{"$f":"IFERROR(INDIRECT(\"'\"&$B296&\"'!$d$6\"),\"\")","v":""},{"$f":"IFERROR(INDIRECT(\"'\"&$B296&\"'!$d$7\"),\"\")","v":""},{"$f":"IFERROR(INDIRECT(\"'\"&$B296&\"'!$d$8\"),\"\")","v":""},{"$f":"IFERROR(IF(OR(SHEETNAME($A296)=\"HIDE\",SHEETNAME($A296)=\"Start Here\",SHEETNAME($A296)=\"Template\"),\"\",HYPERLINK(\"#'\"&B296&\"'!A1\",\"Go to Sheet\")),\"\")","v":""},{"$f":"IFERROR(IF(INDIRECT(\"'\"&$B296&\"'!$U$7\"),INDIRECT(\"'\"&$B296&\"'!$u$9\"),\"(\"&INDIRECT(\"'\"&$B296&\"'!$U$8\")&\")\"),\"\")","v":""},{"$f":"IF(L296,\"This site has incomplete Cost and Revenue data.  \",\"\")&IF(M296,\"WFRS data for previous quarters is incomplete.  \",\"\")&IF(K296,IFERROR(INDIRECT(\"'\"&$B296&\"'!$g$9\"),\"\"),\"\")","v":""},false,{"$f":"IFERROR(INDIRECT(\"'\"&$B296&\"'!$u$7\"),FALSE)","v":false},{"$f":"IFERROR(INDIRECT(\"'\"&$B296&\"'!$u$10\"),FALSE)","v":false},{"$f":"IFERROR(INDIRECT(\"'\"&$B296&\"'!$AC$12\"),FALSE)","v":false},{"$f":"IFERROR(INDIRECT(\"'\"&$B296&\"'!$ad$12\"),FALSE)","v":false},null,{"$f":"IFERROR(INDIRECT(\"'\"&$B296&\"'!$d$10\"),\"\")","v":""},{"$f":"IFERROR(INDIRECT(\"'\"&$B296&\"'!$d$33\"),\"\")","v":""},{"$f":"IFERROR(INDIRECT(\"'\"&$B296&\"'!$j$33\")+INDIRECT(\"'\"&$B296&\"'!$k$33\"),\"\")","v":""},{"$f":"IFERROR(INDIRECT(\"'\"&$B296&\"'!$q$33\"),\"\")","v":""},{"$f":"IFERROR(INDIRECT(\"'\"&$B296&\"'!$e$33\"),\"\")","v":""},{"$f":"IFERROR(INDIRECT(\"'\"&$B296&\"'!$L$33\"),\"\")","v":""},{"$f":"IFERROR(INDIRECT(\"'\"&$B296&\"'!$g$33\")+INDIRECT(\"'\"&$B296&\"'!$h$33\")+INDIRECT(\"'\"&$B296&\"'!$i$33\"),\"\")","v":""}]
[261,{"$f":"IFERROR(IF(OR(SHEETNAME(A297)=\"HIDE\",SHEETNAME(A297)=\"Start Here\",SHEETNAME(A297)=\"Template\"),\"\",SHEETNAME(A297)),\"\")","v":""},{"$f":"IFERROR(INDIRECT(\"'\"&$B297&\"'!$d$6\"),\"\")","v":""},{"$f":"IFERROR(INDIRECT(\"'\"&$B297&\"'!$d$7\"),\"\")","v":""},{"$f":"IFERROR(INDIRECT(\"'\"&$B297&\"'!$d$8\"),\"\")","v":""},{"$f":"IFERROR(IF(OR(SHEETNAME($A297)=\"HIDE\",SHEETNAME($A297)=\"Start Here\",SHEETNAME($A297)=\"Template\"),\"\",HYPERLINK(\"#'\"&B297&\"'!A1\",\"Go to Sheet\")),\"\")","v":""},{"$f":"IFERROR(IF(INDIRECT(\"'\"&$B297&\"'!$U$7\"),INDIRECT(\"'\"&$B297&\"'!$u$9\"),\"(\"&INDIRECT(\"'\"&$B297&\"'!$U$8\")&\")\"),\"\")","v":""},{"$f":"IF(L297,\"This site has incomplete Cost and Revenue data.  \",\"\")&IF(M297,\"WFRS data for previous quarters is incomplete.  \",\"\")&IF(K297,IFERROR(INDIRECT(\"'\"&$B297&\"'!$g$9\"),\"\"),\"\")","v":""},false,{"$f":"IFERROR(INDIRECT(\"'\"&$B297&\"'!$u$7\"),FALSE)","v":false},{"$f":"IFERROR(INDIRECT(\"'\"&$B297&\"'!$u$10\"),FALSE)","v":false},{"$f":"IFERROR(INDIRECT(\"'\"&$B297&\"'!$AC$12\"),FALSE)","v":false},{"$f":"IFERROR(INDIRECT(\"'\"&$B297&\"'!$ad$12\"),FALSE)","v":false},null,{"$f":"IFERROR(INDIRECT(\"'\"&$B297&\"'!$d$10\"),\"\")","v":""},{"$f":"IFERROR(INDIRECT(\"'\"&$B297&\"'!$d$33\"),\"\")","v":""},{"$f":"IFERROR(INDIRECT(\"'\"&$B297&\"'!$j$33\")+INDIRECT(\"'\"&$B297&\"'!$k$33\"),\"\")","v":""},{"$f":"IFERROR(INDIRECT(\"'\"&$B297&\"'!$q$33\"),\"\")","v":""},{"$f":"IFERROR(INDIRECT(\"'\"&$B297&\"'!$e$33\"),\"\")","v":""},{"$f":"IFERROR(INDIRECT(\"'\"&$B297&\"'!$L$33\"),\"\")","v":""},{"$f":"IFERROR(INDIRECT(\"'\"&$B297&\"'!$g$33\")+INDIRECT(\"'\"&$B297&\"'!$h$33\")+INDIRECT(\"'\"&$B297&\"'!$i$33\"),\"\")","v":""}]
[262,{"$f":"IFERROR(IF(OR(SHEETNAME(A298)=\"HIDE\",SHEETNAME(A298)=\"Start Here\",SHEETNAME(A298)=\"Template\"),\"\",SHEETNAME(A298)),\"\")","v":""},{"$f":"IFERROR(INDIRECT(\"'\"&$B298&\"'!$d$6\"),\"\")","v":""},{"$f":"IFERROR(INDIRECT(\"'\"&$B298&\"'!$d$7\"),\"\")","v":""},{"$f":"IFERROR(INDIRECT(\"'\"&$B298&\"'!$d$8\"),\"\")","v":""},{"$f":"IFERROR(IF(OR(SHEETNAME($A298)=\"HIDE\",SHEETNAME($A298)=\"Start Here\",SHEETNAME($A298)=\"Template\"),\"\",HYPERLINK(\"#'\"&B298&\"'!A1\",\"Go to Sheet\")),\"\")","v":""},{"$f":"IFERROR(IF(INDIRECT(\"'\"&$B298&\"'!$U$7\"),INDIRECT(\"'\"&$B298&\"'!$u$9\"),\"(\"&INDIRECT(\"'\"&$B298&\"'!$U$8\")&\")\"),\"\")","v":""},{"$f":"IF(L298,\"This site has incomplete Cost and Revenue data.  \",\"\")&IF(M298,\"WFRS data for previous quarters is incomplete.  \",\"\")&IF(K298,IFERROR(INDIRECT(\"'\"&$B298&\"'!$g$9\"),\"\"),\"\")","v":""},false,{"$f":"IFERROR(INDIRECT(\"'\"&$B298&\"'!$u$7\"),FALSE)","v":false},{"$f":"IFERROR(INDIRECT(\"'\"&$B298&\"'!$u$10\"),FALSE)","v":false},{"$f":"IFERROR(INDIRECT(\"'\"&$B298&\"'!$AC$12\"),FALSE)","v":false},{"$f":"IFERROR(INDIRECT(\"'\"&$B298&\"'!$ad$12\"),FALSE)","v":false},null,{"$f":"IFERROR(INDIRECT(\"'\"&$B298&\"'!$d$10\"),\"\")","v":""},{"$f":"IFERROR(INDIRECT(\"'\"&$B298&\"'!$d$33\"),\"\")","v":""},{"$f":"IFERROR(INDIRECT(\"'\"&$B298&\"'!$j$33\")+INDIRECT(\"'\"&$B298&\"'!$k$33\"),\"\")","v":""},{"$f":"IFERROR(INDIRECT(\"'\"&$B298&\"'!$q$33\"),\"\")","v":""},{"$f":"IFERROR(INDIRECT(\"'\"&$B298&\"'!$e$33\"),\"\")","v":""},{"$f":"IFERROR(INDIRECT(\"'\"&$B298&\"'!$L$33\"),\"\")","v":""},{"$f":"IFERROR(INDIRECT(\"'\"&$B298&\"'!$g$33\")+INDIRECT(\"'\"&$B298&\"'!$h$33\")+INDIRECT(\"'\"&$B298&\"'!$i$33\"),\"\")","v":""}]
[263,{"$f":"IFERROR(IF(OR(SHEETNAME(A299)=\"HIDE\",SHEETNAME(A299)=\"Start Here\",SHEETNAME(A299)=\"Template\"),\"\",SHEETNAME(A299)),\"\")","v":""},{"$f":"IFERROR(INDIRECT(\"'\"&$B299&\"'!$d$6\"),\"\")","v":""},{"$f":"IFERROR(INDIRECT(\"'\"&$B299&\"'!$d$7\"),\"\")","v":""},{"$f":"IFERROR(INDIRECT(\"'\"&$B299&\"'!$d$8\"),\"\")","v":""},{"$f":"IFERROR(IF(OR(SHEETNAME($A299)=\"HIDE\",SHEETNAME($A299)=\"Start Here\",SHEETNAME($A299)=\"Template\"),\"\",HYPERLINK(\"#'\"&B299&\"'!A1\",\"Go to Sheet\")),\"\")","v":""},{"$f":"IFERROR(IF(INDIRECT(\"'\"&$B299&\"'!$U$7\"),INDIRECT(\"'\"&$B299&\"'!$u$9\"),\"(\"&INDIRECT(\"'\"&$B299&\"'!$U$8\")&\")\"),\"\")","v":""},{"$f":"IF(L299,\"This site has incomplete Cost and Revenue data.  \",\"\")&IF(M299,\"WFRS data for previous quarters is incomplete.  \",\"\")&IF(K299,IFERROR(INDIRECT(\"'\"&$B299&\"'!$g$9\"),\"\"),\"\")","v":""},false,{"$f":"IFERROR(INDIRECT(\"'\"&$B299&\"'!$u$7\"),FALSE)","v":false},{"$f":"IFERROR(INDIRECT(\"'\"&$B299&\"'!$u$10\"),FALSE)","v":false},{"$f":"IFERROR(INDIRECT(\"'\"&$B299&\"'!$AC$12\"),FALSE)","v":false},{"$f":"IFERROR(INDIRECT(\"'\"&$B299&\"'!$ad$12\"),FALSE)","v":false},null,{"$f":"IFERROR(INDIRECT(\"'\"&$B299&\"'!$d$10\"),\"\")","v":""},{"$f":"IFERROR(INDIRECT(\"'\"&$B299&\"'!$d$33\"),\"\")","v":""},{"$f":"IFERROR(INDIRECT(\"'\"&$B299&\"'!$j$33\")+INDIRECT(\"'\"&$B299&\"'!$k$33\"),\"\")","v":""},{"$f":"IFERROR(INDIRECT(\"'\"&$B299&\"'!$q$33\"),\"\")","v":""},{"$f":"IFERROR(INDIRECT(\"'\"&$B299&\"'!$e$33\"),\"\")","v":""},{"$f":"IFERROR(INDIRECT(\"'\"&$B299&\"'!$L$33\"),\"\")","v":""},{"$f":"IFERROR(INDIRECT(\"'\"&$B299&\"'!$g$33\")+INDIRECT(\"'\"&$B299&\"'!$h$33\")+INDIRECT(\"'\"&$B299&\"'!$i$33\"),\"\")","v":""}]
[264,{"$f":"IFERROR(IF(OR(SHEETNAME(A300)=\"HIDE\",SHEETNAME(A300)=\"Start Here\",SHEETNAME(A300)=\"Template\"),\"\",SHEETNAME(A300)),\"\")","v":""},{"$f":"IFERROR(INDIRECT(\"'\"&$B300&\"'!$d$6\"),\"\")","v":""},{"$f":"IFERROR(INDIRECT(\"'\"&$B300&\"'!$d$7\"),\"\")","v":""},{"$f":"IFERROR(INDIRECT(\"'\"&$B300&\"'!$d$8\"),\"\")","v":""},{"$f":"IFERROR(IF(OR(SHEETNAME($A300)=\"HIDE\",SHEETNAME($A300)=\"Start Here\",SHEETNAME($A300)=\"Template\"),\"\",HYPERLINK(\"#'\"&B300&\"'!A1\",\"Go to Sheet\")),\"\")","v":""},{"$f":"IFERROR(IF(INDIRECT(\"'\"&$B300&\"'!$U$7\"),INDIRECT(\"'\"&$B300&\"'!$u$9\"),\"(\"&INDIRECT(\"'\"&$B300&\"'!$U$8\")&\")\"),\"\")","v":""},{"$f":"IF(L300,\"This site has incomplete Cost and Revenue data.  \",\"\")&IF(M300,\"WFRS data for previous quarters is incomplete.  \",\"\")&IF(K300,IFERROR(INDIRECT(\"'\"&$B300&\"'!$g$9\"),\"\"),\"\")","v":""},false,{"$f":"IFERROR(INDIRECT(\"'\"&$B300&\"'!$u$7\"),FALSE)","v":false},{"$f":"IFERROR(INDIRECT(\"'\"&$B300&\"'!$u$10\"),FALSE)","v":false},{"$f":"IFERROR(INDIRECT(\"'\"&$B300&\"'!$AC$12\"),FALSE)","v":false},{"$f":"IFERROR(INDIRECT(\"'\"&$B300&\"'!$ad$12\"),FALSE)","v":false},null,{"$f":"IFERROR(INDIRECT(\"'\"&$B300&\"'!$d$10\"),\"\")","v":""},{"$f":"IFERROR(INDIRECT(\"'\"&$B300&\"'!$d$33\"),\"\")","v":""},{"$f":"IFERROR(INDIRECT(\"'\"&$B300&\"'!$j$33\")+INDIRECT(\"'\"&$B300&\"'!$k$33\"),\"\")","v":""},{"$f":"IFERROR(INDIRECT(\"'\"&$B300&\"'!$q$33\"),\"\")","v":""},{"$f":"IFERROR(INDIRECT(\"'\"&$B300&\"'!$e$33\"),\"\")","v":""},{"$f":"IFERROR(INDIRECT(\"'\"&$B300&\"'!$L$33\"),\"\")","v":""},{"$f":"IFERROR(INDIRECT(\"'\"&$B300&\"'!$g$33\")+INDIRECT(\"'\"&$B300&\"'!$h$33\")+INDIRECT(\"'\"&$B300&\"'!$i$33\"),\"\")","v":""}]
[265,{"$f":"IFERROR(IF(OR(SHEETNAME(A301)=\"HIDE\",SHEETNAME(A301)=\"Start Here\",SHEETNAME(A301)=\"Template\"),\"\",SHEETNAME(A301)),\"\")","v":""},{"$f":"IFERROR(INDIRECT(\"'\"&$B301&\"'!$d$6\"),\"\")","v":""},{"$f":"IFERROR(INDIRECT(\"'\"&$B301&\"'!$d$7\"),\"\")","v":""},{"$f":"IFERROR(INDIRECT(\"'\"&$B301&\"'!$d$8\"),\"\")","v":""},{"$f":"IFERROR(IF(OR(SHEETNAME($A301)=\"HIDE\",SHEETNAME($A301)=\"Start Here\",SHEETNAME($A301)=\"Template\"),\"\",HYPERLINK(\"#'\"&B301&\"'!A1\",\"Go to Sheet\")),\"\")","v":""},{"$f":"IFERROR(IF(INDIRECT(\"'\"&$B301&\"'!$U$7\"),INDIRECT(\"'\"&$B301&\"'!$u$9\"),\"(\"&INDIRECT(\"'\"&$B301&\"'!$U$8\")&\")\"),\"\")","v":""},{"$f":"IF(L301,\"This site has incomplete Cost and Revenue data.  \",\"\")&IF(M301,\"WFRS data for previous quarters is incomplete.  \",\"\")&IF(K301,IFERROR(INDIRECT(\"'\"&$B301&\"'!$g$9\"),\"\"),\"\")","v":""},false,{"$f":"IFERROR(INDIRECT(\"'\"&$B301&\"'!$u$7\"),FALSE)","v":false},{"$f":"IFERROR(INDIRECT(\"'\"&$B301&\"'!$u$10\"),FALSE)","v":false},{"$f":"IFERROR(INDIRECT(\"'\"&$B301&\"'!$AC$12\"),FALSE)","v":false},{"$f":"IFERROR(INDIRECT(\"'\"&$B301&\"'!$ad$12\"),FALSE)","v":false},null,{"$f":"IFERROR(INDIRECT(\"'\"&$B301&\"'!$d$10\"),\"\")","v":""},{"$f":"IFERROR(INDIRECT(\"'\"&$B301&\"'!$d$33\"),\"\")","v":""},{"$f":"IFERROR(INDIRECT(\"'\"&$B301&\"'!$j$33\")+INDIRECT(\"'\"&$B301&\"'!$k$33\"),\"\")","v":""},{"$f":"IFERROR(INDIRECT(\"'\"&$B301&\"'!$q$33\"),\"\")","v":""},{"$f":"IFERROR(INDIRECT(\"'\"&$B301&\"'!$e$33\"),\"\")","v":""},{"$f":"IFERROR(INDIRECT(\"'\"&$B301&\"'!$L$33\"),\"\")","v":""},{"$f":"IFERROR(INDIRECT(\"'\"&$B301&\"'!$g$33\")+INDIRECT(\"'\"&$B301&\"'!$h$33\")+INDIRECT(\"'\"&$B301&\"'!$i$33\"),\"\")","v":""}]
[266,{"$f":"IFERROR(IF(OR(SHEETNAME(A302)=\"HIDE\",SHEETNAME(A302)=\"Start Here\",SHEETNAME(A302)=\"Template\"),\"\",SHEETNAME(A302)),\"\")","v":""},{"$f":"IFERROR(INDIRECT(\"'\"&$B302&\"'!$d$6\"),\"\")","v":""},{"$f":"IFERROR(INDIRECT(\"'\"&$B302&\"'!$d$7\"),\"\")","v":""},{"$f":"IFERROR(INDIRECT(\"'\"&$B302&\"'!$d$8\"),\"\")","v":""},{"$f":"IFERROR(IF(OR(SHEETNAME($A302)=\"HIDE\",SHEETNAME($A302)=\"Start Here\",SHEETNAME($A302)=\"Template\"),\"\",HYPERLINK(\"#'\"&B302&\"'!A1\",\"Go to Sheet\")),\"\")","v":""},{"$f":"IFERROR(IF(INDIRECT(\"'\"&$B302&\"'!$U$7\"),INDIRECT(\"'\"&$B302&\"'!$u$9\"),\"(\"&INDIRECT(\"'\"&$B302&\"'!$U$8\")&\")\"),\"\")","v":""},{"$f":"IF(L302,\"This site has incomplete Cost and Revenue data.  \",\"\")&IF(M302,\"WFRS data for previous quarters is incomplete.  \",\"\")&IF(K302,IFERROR(INDIRECT(\"'\"&$B302&\"'!$g$9\"),\"\"),\"\")","v":""},false,{"$f":"IFERROR(INDIRECT(\"'\"&$B302&\"'!$u$7\"),FALSE)","v":false},{"$f":"IFERROR(INDIRECT(\"'\"&$B302&\"'!$u$10\"),FALSE)","v":false},{"$f":"IFERROR(INDIRECT(\"'\"&$B302&\"'!$AC$12\"),FALSE)","v":false},{"$f":"IFERROR(INDIRECT(\"'\"&$B302&\"'!$ad$12\"),FALSE)","v":false},null,{"$f":"IFERROR(INDIRECT(\"'\"&$B302&\"'!$d$10\"),\"\")","v":""},{"$f":"IFERROR(INDIRECT(\"'\"&$B302&\"'!$d$33\"),\"\")","v":""},{"$f":"IFERROR(INDIRECT(\"'\"&$B302&\"'!$j$33\")+INDIRECT(\"'\"&$B302&\"'!$k$33\"),\"\")","v":""},{"$f":"IFERROR(INDIRECT(\"'\"&$B302&\"'!$q$33\"),\"\")","v":""},{"$f":"IFERROR(INDIRECT(\"'\"&$B302&\"'!$e$33\"),\"\")","v":""},{"$f":"IFERROR(INDIRECT(\"'\"&$B302&\"'!$L$33\"),\"\")","v":""},{"$f":"IFERROR(INDIRECT(\"'\"&$B302&\"'!$g$33\")+INDIRECT(\"'\"&$B302&\"'!$h$33\")+INDIRECT(\"'\"&$B302&\"'!$i$33\"),\"\")","v":""}]
[267,{"$f":"IFERROR(IF(OR(SHEETNAME(A303)=\"HIDE\",SHEETNAME(A303)=\"Start Here\",SHEETNAME(A303)=\"Template\"),\"\",SHEETNAME(A303)),\"\")","v":""},{"$f":"IFERROR(INDIRECT(\"'\"&$B303&\"'!$d$6\"),\"\")","v":""},{"$f":"IFERROR(INDIRECT(\"'\"&$B303&\"'!$d$7\"),\"\")","v":""},{"$f":"IFERROR(INDIRECT(\"'\"&$B303&\"'!$d$8\"),\"\")","v":""},{"$f":"IFERROR(IF(OR(SHEETNAME($A303)=\"HIDE\",SHEETNAME($A303)=\"Start Here\",SHEETNAME($A303)=\"Template\"),\"\",HYPERLINK(\"#'\"&B303&\"'!A1\",\"Go to Sheet\")),\"\")","v":""},{"$f":"IFERROR(IF(INDIRECT(\"'\"&$B303&\"'!$U$7\"),INDIRECT(\"'\"&$B303&\"'!$u$9\"),\"(\"&INDIRECT(\"'\"&$B303&\"'!$U$8\")&\")\"),\"\")","v":""},{"$f":"IF(L303,\"This site has incomplete Cost and Revenue data.  \",\"\")&IF(M303,\"WFRS data for previous quarters is incomplete.  \",\"\")&IF(K303,IFERROR(INDIRECT(\"'\"&$B303&\"'!$g$9\"),\"\"),\"\")","v":""},false,{"$f":"IFERROR(INDIRECT(\"'\"&$B303&\"'!$u$7\"),FALSE)","v":false},{"$f":"IFERROR(INDIRECT(\"'\"&$B303&\"'!$u$10\"),FALSE)","v":false},{"$f":"IFERROR(INDIRECT(\"'\"&$B303&\"'!$AC$12\"),FALSE)","v":false},{"$f":"IFERROR(INDIRECT(\"'\"&$B303&\"'!$ad$12\"),FALSE)","v":false},null,{"$f":"IFERROR(INDIRECT(\"'\"&$B303&\"'!$d$10\"),\"\")","v":""},{"$f":"IFERROR(INDIRECT(\"'\"&$B303&\"'!$d$33\"),\"\")","v":""},{"$f":"IFERROR(INDIRECT(\"'\"&$B303&\"'!$j$33\")+INDIRECT(\"'\"&$B303&\"'!$k$33\"),\"\")","v":""},{"$f":"IFERROR(INDIRECT(\"'\"&$B303&\"'!$q$33\"),\"\")","v":""},{"$f":"IFERROR(INDIRECT(\"'\"&$B303&\"'!$e$33\"),\"\")","v":""},{"$f":"IFERROR(INDIRECT(\"'\"&$B303&\"'!$L$33\"),\"\")","v":""},{"$f":"IFERROR(INDIRECT(\"'\"&$B303&\"'!$g$33\")+INDIRECT(\"'\"&$B303&\"'!$h$33\")+INDIRECT(\"'\"&$B303&\"'!$i$33\"),\"\")","v":""}]
[268,{"$f":"IFERROR(IF(OR(SHEETNAME(A304)=\"HIDE\",SHEETNAME(A304)=\"Start Here\",SHEETNAME(A304)=\"Template\"),\"\",SHEETNAME(A304)),\"\")","v":""},{"$f":"IFERROR(INDIRECT(\"'\"&$B304&\"'!$d$6\"),\"\")","v":""},{"$f":"IFERROR(INDIRECT(\"'\"&$B304&\"'!$d$7\"),\"\")","v":""},{"$f":"IFERROR(INDIRECT(\"'\"&$B304&\"'!$d$8\"),\"\")","v":""},{"$f":"IFERROR(IF(OR(SHEETNAME($A304)=\"HIDE\",SHEETNAME($A304)=\"Start Here\",SHEETNAME($A304)=\"Template\"),\"\",HYPERLINK(\"#'\"&B304&\"'!A1\",\"Go to Sheet\")),\"\")","v":""},{"$f":"IFERROR(IF(INDIRECT(\"'\"&$B304&\"'!$U$7\"),INDIRECT(\"'\"&$B304&\"'!$u$9\"),\"(\"&INDIRECT(\"'\"&$B304&\"'!$U$8\")&\")\"),\"\")","v":""},{"$f":"IF(L304,\"This site has incomplete Cost and Revenue data.  \",\"\")&IF(M304,\"WFRS data for previous quarters is incomplete.  \",\"\")&IF(K304,IFERROR(INDIRECT(\"'\"&$B304&\"'!$g$9\"),\"\"),\"\")","v":""},false,{"$f":"IFERROR(INDIRECT(\"'\"&$B304&\"'!$u$7\"),FALSE)","v":false},{"$f":"IFERROR(INDIRECT(\"'\"&$B304&\"'!$u$10\"),FALSE)","v":false},{"$f":"IFERROR(INDIRECT(\"'\"&$B304&\"'!$AC$12\"),FALSE)","v":false},{"$f":"IFERROR(INDIRECT(\"'\"&$B304&\"'!$ad$12\"),FALSE)","v":false},null,{"$f":"IFERROR(INDIRECT(\"'\"&$B304&\"'!$d$10\"),\"\")","v":""},{"$f":"IFERROR(INDIRECT(\"'\"&$B304&\"'!$d$33\"),\"\")","v":""},{"$f":"IFERROR(INDIRECT(\"'\"&$B304&\"'!$j$33\")+INDIRECT(\"'\"&$B304&\"'!$k$33\"),\"\")","v":""},{"$f":"IFERROR(INDIRECT(\"'\"&$B304&\"'!$q$33\"),\"\")","v":""},{"$f":"IFERROR(INDIRECT(\"'\"&$B304&\"'!$e$33\"),\"\")","v":""},{"$f":"IFERROR(INDIRECT(\"'\"&$B304&\"'!$L$33\"),\"\")","v":""},{"$f":"IFERROR(INDIRECT(\"'\"&$B304&\"'!$g$33\")+INDIRECT(\"'\"&$B304&\"'!$h$33\")+INDIRECT(\"'\"&$B304&\"'!$i$33\"),\"\")","v":""}]
[269,{"$f":"IFERROR(IF(OR(SHEETNAME(A305)=\"HIDE\",SHEETNAME(A305)=\"Start Here\",SHEETNAME(A305)=\"Template\"),\"\",SHEETNAME(A305)),\"\")","v":""},{"$f":"IFERROR(INDIRECT(\"'\"&$B305&\"'!$d$6\"),\"\")","v":""},{"$f":"IFERROR(INDIRECT(\"'\"&$B305&\"'!$d$7\"),\"\")","v":""},{"$f":"IFERROR(INDIRECT(\"'\"&$B305&\"'!$d$8\"),\"\")","v":""},{"$f":"IFERROR(IF(OR(SHEETNAME($A305)=\"HIDE\",SHEETNAME($A305)=\"Start Here\",SHEETNAME($A305)=\"Template\"),\"\",HYPERLINK(\"#'\"&B305&\"'!A1\",\"Go to Sheet\")),\"\")","v":""},{"$f":"IFERROR(IF(INDIRECT(\"'\"&$B305&\"'!$U$7\"),INDIRECT(\"'\"&$B305&\"'!$u$9\"),\"(\"&INDIRECT(\"'\"&$B305&\"'!$U$8\")&\")\"),\"\")","v":""},{"$f":"IF(L305,\"This site has incomplete Cost and Revenue data.  \",\"\")&IF(M305,\"WFRS data for previous quarters is incomplete.  \",\"\")&IF(K305,IFERROR(INDIRECT(\"'\"&$B305&\"'!$g$9\"),\"\"),\"\")","v":""},false,{"$f":"IFERROR(INDIRECT(\"'\"&$B305&\"'!$u$7\"),FALSE)","v":false},{"$f":"IFERROR(INDIRECT(\"'\"&$B305&\"'!$u$10\"),FALSE)","v":false},{"$f":"IFERROR(INDIRECT(\"'\"&$B305&\"'!$AC$12\"),FALSE)","v":false},{"$f":"IFERROR(INDIRECT(\"'\"&$B305&\"'!$ad$12\"),FALSE)","v":false},null,{"$f":"IFERROR(INDIRECT(\"'\"&$B305&\"'!$d$10\"),\"\")","v":""},{"$f":"IFERROR(INDIRECT(\"'\"&$B305&\"'!$d$33\"),\"\")","v":""},{"$f":"IFERROR(INDIRECT(\"'\"&$B305&\"'!$j$33\")+INDIRECT(\"'\"&$B305&\"'!$k$33\"),\"\")","v":""},{"$f":"IFERROR(INDIRECT(\"'\"&$B305&\"'!$q$33\"),\"\")","v":""},{"$f":"IFERROR(INDIRECT(\"'\"&$B305&\"'!$e$33\"),\"\")","v":""},{"$f":"IFERROR(INDIRECT(\"'\"&$B305&\"'!$L$33\"),\"\")","v":""},{"$f":"IFERROR(INDIRECT(\"'\"&$B305&\"'!$g$33\")+INDIRECT(\"'\"&$B305&\"'!$h$33\")+INDIRECT(\"'\"&$B305&\"'!$i$33\"),\"\")","v":""}]
[270,{"$f":"IFERROR(IF(OR(SHEETNAME(A306)=\"HIDE\",SHEETNAME(A306)=\"Start Here\",SHEETNAME(A306)=\"Template\"),\"\",SHEETNAME(A306)),\"\")","v":""},{"$f":"IFERROR(INDIRECT(\"'\"&$B306&\"'!$d$6\"),\"\")","v":""},{"$f":"IFERROR(INDIRECT(\"'\"&$B306&\"'!$d$7\"),\"\")","v":""},{"$f":"IFERROR(INDIRECT(\"'\"&$B306&\"'!$d$8\"),\"\")","v":""},{"$f":"IFERROR(IF(OR(SHEETNAME($A306)=\"HIDE\",SHEETNAME($A306)=\"Start Here\",SHEETNAME($A306)=\"Template\"),\"\",HYPERLINK(\"#'\"&B306&\"'!A1\",\"Go to Sheet\")),\"\")","v":""},{"$f":"IFERROR(IF(INDIRECT(\"'\"&$B306&\"'!$U$7\"),INDIRECT(\"'\"&$B306&\"'!$u$9\"),\"(\"&INDIRECT(\"'\"&$B306&\"'!$U$8\")&\")\"),\"\")","v":""},{"$f":"IF(L306,\"This site has incomplete Cost and Revenue data.  \",\"\")&IF(M306,\"WFRS data for previous quarters is incomplete.  \",\"\")&IF(K306,IFERROR(INDIRECT(\"'\"&$B306&\"'!$g$9\"),\"\"),\"\")","v":""},false,{"$f":"IFERROR(INDIRECT(\"'\"&$B306&\"'!$u$7\"),FALSE)","v":false},{"$f":"IFERROR(INDIRECT(\"'\"&$B306&\"'!$u$10\"),FALSE)","v":false},{"$f":"IFERROR(INDIRECT(\"'\"&$B306&\"'!$AC$12\"),FALSE)","v":false},{"$f":"IFERROR(INDIRECT(\"'\"&$B306&\"'!$ad$12\"),FALSE)","v":false},null,{"$f":"IFERROR(INDIRECT(\"'\"&$B306&\"'!$d$10\"),\"\")","v":""},{"$f":"IFERROR(INDIRECT(\"'\"&$B306&\"'!$d$33\"),\"\")","v":""},{"$f":"IFERROR(INDIRECT(\"'\"&$B306&\"'!$j$33\")+INDIRECT(\"'\"&$B306&\"'!$k$33\"),\"\")","v":""},{"$f":"IFERROR(INDIRECT(\"'\"&$B306&\"'!$q$33\"),\"\")","v":""},{"$f":"IFERROR(INDIRECT(\"'\"&$B306&\"'!$e$33\"),\"\")","v":""},{"$f":"IFERROR(INDIRECT(\"'\"&$B306&\"'!$L$33\"),\"\")","v":""},{"$f":"IFERROR(INDIRECT(\"'\"&$B306&\"'!$g$33\")+INDIRECT(\"'\"&$B306&\"'!$h$33\")+INDIRECT(\"'\"&$B306&\"'!$i$33\"),\"\")","v":""}]
[271,{"$f":"IFERROR(IF(OR(SHEETNAME(A307)=\"HIDE\",SHEETNAME(A307)=\"Start Here\",SHEETNAME(A307)=\"Template\"),\"\",SHEETNAME(A307)),\"\")","v":""},{"$f":"IFERROR(INDIRECT(\"'\"&$B307&\"'!$d$6\"),\"\")","v":""},{"$f":"IFERROR(INDIRECT(\"'\"&$B307&\"'!$d$7\"),\"\")","v":""},{"$f":"IFERROR(INDIRECT(\"'\"&$B307&\"'!$d$8\"),\"\")","v":""},{"$f":"IFERROR(IF(OR(SHEETNAME($A307)=\"HIDE\",SHEETNAME($A307)=\"Start Here\",SHEETNAME($A307)=\"Template\"),\"\",HYPERLINK(\"#'\"&B307&\"'!A1\",\"Go to Sheet\")),\"\")","v":""},{"$f":"IFERROR(IF(INDIRECT(\"'\"&$B307&\"'!$U$7\"),INDIRECT(\"'\"&$B307&\"'!$u$9\"),\"(\"&INDIRECT(\"'\"&$B307&\"'!$U$8\")&\")\"),\"\")","v":""},{"$f":"IF(L307,\"This site has incomplete Cost and Revenue data.  \",\"\")&IF(M307,\"WFRS data for previous quarters is incomplete.  \",\"\")&IF(K307,IFERROR(INDIRECT(\"'\"&$B307&\"'!$g$9\"),\"\"),\"\")","v":""},false,{"$f":"IFERROR(INDIRECT(\"'\"&$B307&\"'!$u$7\"),FALSE)","v":false},{"$f":"IFERROR(INDIRECT(\"'\"&$B307&\"'!$u$10\"),FALSE)","v":false},{"$f":"IFERROR(INDIRECT(\"'\"&$B307&\"'!$AC$12\"),FALSE)","v":false},{"$f":"IFERROR(INDIRECT(\"'\"&$B307&\"'!$ad$12\"),FALSE)","v":false},null,{"$f":"IFERROR(INDIRECT(\"'\"&$B307&\"'!$d$10\"),\"\")","v":""},{"$f":"IFERROR(INDIRECT(\"'\"&$B307&\"'!$d$33\"),\"\")","v":""},{"$f":"IFERROR(INDIRECT(\"'\"&$B307&\"'!$j$33\")+INDIRECT(\"'\"&$B307&\"'!$k$33\"),\"\")","v":""},{"$f":"IFERROR(INDIRECT(\"'\"&$B307&\"'!$q$33\"),\"\")","v":""},{"$f":"IFERROR(INDIRECT(\"'\"&$B307&\"'!$e$33\"),\"\")","v":""},{"$f":"IFERROR(INDIRECT(\"'\"&$B307&\"'!$L$33\"),\"\")","v":""},{"$f":"IFERROR(INDIRECT(\"'\"&$B307&\"'!$g$33\")+INDIRECT(\"'\"&$B307&\"'!$h$33\")+INDIRECT(\"'\"&$B307&\"'!$i$33\"),\"\")","v":""}]
[272,{"$f":"IFERROR(IF(OR(SHEETNAME(A308)=\"HIDE\",SHEETNAME(A308)=\"Start Here\",SHEETNAME(A308)=\"Template\"),\"\",SHEETNAME(A308)),\"\")","v":""},{"$f":"IFERROR(INDIRECT(\"'\"&$B308&\"'!$d$6\"),\"\")","v":""},{"$f":"IFERROR(INDIRECT(\"'\"&$B308&\"'!$d$7\"),\"\")","v":""},{"$f":"IFERROR(INDIRECT(\"'\"&$B308&\"'!$d$8\"),\"\")","v":""},{"$f":"IFERROR(IF(OR(SHEETNAME($A308)=\"HIDE\",SHEETNAME($A308)=\"Start Here\",SHEETNAME($A308)=\"Template\"),\"\",HYPERLINK(\"#'\"&B308&\"'!A1\",\"Go to Sheet\")),\"\")","v":""},{"$f":"IFERROR(IF(INDIRECT(\"'\"&$B308&\"'!$U$7\"),INDIRECT(\"'\"&$B308&\"'!$u$9\"),\"(\"&INDIRECT(\"'\"&$B308&\"'!$U$8\")&\")\"),\"\")","v":""},{"$f":"IF(L308,\"This site has incomplete Cost and Revenue data.  \",\"\")&IF(M308,\"WFRS data for previous quarters is incomplete.  \",\"\")&IF(K308,IFERROR(INDIRECT(\"'\"&$B308&\"'!$g$9\"),\"\"),\"\")","v":""},false,{"$f":"IFERROR(INDIRECT(\"'\"&$B308&\"'!$u$7\"),FALSE)","v":false},{"$f":"IFERROR(INDIRECT(\"'\"&$B308&\"'!$u$10\"),FALSE)","v":false},{"$f":"IFERROR(INDIRECT(\"'\"&$B308&\"'!$AC$12\"),FALSE)","v":false},{"$f":"IFERROR(INDIRECT(\"'\"&$B308&\"'!$ad$12\"),FALSE)","v":false},null,{"$f":"IFERROR(INDIRECT(\"'\"&$B308&\"'!$d$10\"),\"\")","v":""},{"$f":"IFERROR(INDIRECT(\"'\"&$B308&\"'!$d$33\"),\"\")","v":""},{"$f":"IFERROR(INDIRECT(\"'\"&$B308&\"'!$j$33\")+INDIRECT(\"'\"&$B308&\"'!$k$33\"),\"\")","v":""},{"$f":"IFERROR(INDIRECT(\"'\"&$B308&\"'!$q$33\"),\"\")","v":""},{"$f":"IFERROR(INDIRECT(\"'\"&$B308&\"'!$e$33\"),\"\")","v":""},{"$f":"IFERROR(INDIRECT(\"'\"&$B308&\"'!$L$33\"),\"\")","v":""},{"$f":"IFERROR(INDIRECT(\"'\"&$B308&\"'!$g$33\")+INDIRECT(\"'\"&$B308&\"'!$h$33\")+INDIRECT(\"'\"&$B308&\"'!$i$33\"),\"\")","v":""}]
[273,{"$f":"IFERROR(IF(OR(SHEETNAME(A309)=\"HIDE\",SHEETNAME(A309)=\"Start Here\",SHEETNAME(A309)=\"Template\"),\"\",SHEETNAME(A309)),\"\")","v":""},{"$f":"IFERROR(INDIRECT(\"'\"&$B309&\"'!$d$6\"),\"\")","v":""},{"$f":"IFERROR(INDIRECT(\"'\"&$B309&\"'!$d$7\"),\"\")","v":""},{"$f":"IFERROR(INDIRECT(\"'\"&$B309&\"'!$d$8\"),\"\")","v":""},{"$f":"IFERROR(IF(OR(SHEETNAME($A309)=\"HIDE\",SHEETNAME($A309)=\"Start Here\",SHEETNAME($A309)=\"Template\"),\"\",HYPERLINK(\"#'\"&B309&\"'!A1\",\"Go to Sheet\")),\"\")","v":""},{"$f":"IFERROR(IF(INDIRECT(\"'\"&$B309&\"'!$U$7\"),INDIRECT(\"'\"&$B309&\"'!$u$9\"),\"(\"&INDIRECT(\"'\"&$B309&\"'!$U$8\")&\")\"),\"\")","v":""},{"$f":"IF(L309,\"This site has incomplete Cost and Revenue data.  \",\"\")&IF(M309,\"WFRS data for previous quarters is incomplete.  \",\"\")&IF(K309,IFERROR(INDIRECT(\"'\"&$B309&\"'!$g$9\"),\"\"),\"\")","v":""},false,{"$f":"IFERROR(INDIRECT(\"'\"&$B309&\"'!$u$7\"),FALSE)","v":false},{"$f":"IFERROR(INDIRECT(\"'\"&$B309&\"'!$u$10\"),FALSE)","v":false},{"$f":"IFERROR(INDIRECT(\"'\"&$B309&\"'!$AC$12\"),FALSE)","v":false},{"$f":"IFERROR(INDIRECT(\"'\"&$B309&\"'!$ad$12\"),FALSE)","v":false},null,{"$f":"IFERROR(INDIRECT(\"'\"&$B309&\"'!$d$10\"),\"\")","v":""},{"$f":"IFERROR(INDIRECT(\"'\"&$B309&\"'!$d$33\"),\"\")","v":""},{"$f":"IFERROR(INDIRECT(\"'\"&$B309&\"'!$j$33\")+INDIRECT(\"'\"&$B309&\"'!$k$33\"),\"\")","v":""},{"$f":"IFERROR(INDIRECT(\"'\"&$B309&\"'!$q$33\"),\"\")","v":""},{"$f":"IFERROR(INDIRECT(\"'\"&$B309&\"'!$e$33\"),\"\")","v":""},{"$f":"IFERROR(INDIRECT(\"'\"&$B309&\"'!$L$33\"),\"\")","v":""},{"$f":"IFERROR(INDIRECT(\"'\"&$B309&\"'!$g$33\")+INDIRECT(\"'\"&$B309&\"'!$h$33\")+INDIRECT(\"'\"&$B309&\"'!$i$33\"),\"\")","v":""}]
[274,{"$f":"IFERROR(IF(OR(SHEETNAME(A310)=\"HIDE\",SHEETNAME(A310)=\"Start Here\",SHEETNAME(A310)=\"Template\"),\"\",SHEETNAME(A310)),\"\")","v":""},{"$f":"IFERROR(INDIRECT(\"'\"&$B310&\"'!$d$6\"),\"\")","v":""},{"$f":"IFERROR(INDIRECT(\"'\"&$B310&\"'!$d$7\"),\"\")","v":""},{"$f":"IFERROR(INDIRECT(\"'\"&$B310&\"'!$d$8\"),\"\")","v":""},{"$f":"IFERROR(IF(OR(SHEETNAME($A310)=\"HIDE\",SHEETNAME($A310)=\"Start Here\",SHEETNAME($A310)=\"Template\"),\"\",HYPERLINK(\"#'\"&B310&\"'!A1\",\"Go to Sheet\")),\"\")","v":""},{"$f":"IFERROR(IF(INDIRECT(\"'\"&$B310&\"'!$U$7\"),INDIRECT(\"'\"&$B310&\"'!$u$9\"),\"(\"&INDIRECT(\"'\"&$B310&\"'!$U$8\")&\")\"),\"\")","v":""},{"$f":"IF(L310,\"This site has incomplete Cost and Revenue data.  \",\"\")&IF(M310,\"WFRS data for previous quarters is incomplete.  \",\"\")&IF(K310,IFERROR(INDIRECT(\"'\"&$B310&\"'!$g$9\"),\"\"),\"\")","v":""},false,{"$f":"IFERROR(INDIRECT(\"'\"&$B310&\"'!$u$7\"),FALSE)","v":false},{"$f":"IFERROR(INDIRECT(\"'\"&$B310&\"'!$u$10\"),FALSE)","v":false},{"$f":"IFERROR(INDIRECT(\"'\"&$B310&\"'!$AC$12\"),FALSE)","v":false},{"$f":"IFERROR(INDIRECT(\"'\"&$B310&\"'!$ad$12\"),FALSE)","v":false},null,{"$f":"IFERROR(INDIRECT(\"'\"&$B310&\"'!$d$10\"),\"\")","v":""},{"$f":"IFERROR(INDIRECT(\"'\"&$B310&\"'!$d$33\"),\"\")","v":""},{"$f":"IFERROR(INDIRECT(\"'\"&$B310&\"'!$j$33\")+INDIRECT(\"'\"&$B310&\"'!$k$33\"),\"\")","v":""},{"$f":"IFERROR(INDIRECT(\"'\"&$B310&\"'!$q$33\"),\"\")","v":""},{"$f":"IFERROR(INDIRECT(\"'\"&$B310&\"'!$e$33\"),\"\")","v":""},{"$f":"IFERROR(INDIRECT(\"'\"&$B310&\"'!$L$33\"),\"\")","v":""},{"$f":"IFERROR(INDIRECT(\"'\"&$B310&\"'!$g$33\")+INDIRECT(\"'\"&$B310&\"'!$h$33\")+INDIRECT(\"'\"&$B310&\"'!$i$33\"),\"\")","v":""}]
[275,{"$f":"IFERROR(IF(OR(SHEETNAME(A311)=\"HIDE\",SHEETNAME(A311)=\"Start Here\",SHEETNAME(A311)=\"Template\"),\"\",SHEETNAME(A311)),\"\")","v":""},{"$f":"IFERROR(INDIRECT(\"'\"&$B311&\"'!$d$6\"),\"\")","v":""},{"$f":"IFERROR(INDIRECT(\"'\"&$B311&\"'!$d$7\"),\"\")","v":""},{"$f":"IFERROR(INDIRECT(\"'\"&$B311&\"'!$d$8\"),\"\")","v":""},{"$f":"IFERROR(IF(OR(SHEETNAME($A311)=\"HIDE\",SHEETNAME($A311)=\"Start Here\",SHEETNAME($A311)=\"Template\"),\"\",HYPERLINK(\"#'\"&B311&\"'!A1\",\"Go to Sheet\")),\"\")","v":""},{"$f":"IFERROR(IF(INDIRECT(\"'\"&$B311&\"'!$U$7\"),INDIRECT(\"'\"&$B311&\"'!$u$9\"),\"(\"&INDIRECT(\"'\"&$B311&\"'!$U$8\")&\")\"),\"\")","v":""},{"$f":"IF(L311,\"This site has incomplete Cost and Revenue data.  \",\"\")&IF(M311,\"WFRS data for previous quarters is incomplete.  \",\"\")&IF(K311,IFERROR(INDIRECT(\"'\"&$B311&\"'!$g$9\"),\"\"),\"\")","v":""},false,{"$f":"IFERROR(INDIRECT(\"'\"&$B311&\"'!$u$7\"),FALSE)","v":false},{"$f":"IFERROR(INDIRECT(\"'\"&$B311&\"'!$u$10\"),FALSE)","v":false},{"$f":"IFERROR(INDIRECT(\"'\"&$B311&\"'!$AC$12\"),FALSE)","v":false},{"$f":"IFERROR(INDIRECT(\"'\"&$B311&\"'!$ad$12\"),FALSE)","v":false},null,{"$f":"IFERROR(INDIRECT(\"'\"&$B311&\"'!$d$10\"),\"\")","v":""},{"$f":"IFERROR(INDIRECT(\"'\"&$B311&\"'!$d$33\"),\"\")","v":""},{"$f":"IFERROR(INDIRECT(\"'\"&$B311&\"'!$j$33\")+INDIRECT(\"'\"&$B311&\"'!$k$33\"),\"\")","v":""},{"$f":"IFERROR(INDIRECT(\"'\"&$B311&\"'!$q$33\"),\"\")","v":""},{"$f":"IFERROR(INDIRECT(\"'\"&$B311&\"'!$e$33\"),\"\")","v":""},{"$f":"IFERROR(INDIRECT(\"'\"&$B311&\"'!$L$33\"),\"\")","v":""},{"$f":"IFERROR(INDIRECT(\"'\"&$B311&\"'!$g$33\")+INDIRECT(\"'\"&$B311&\"'!$h$33\")+INDIRECT(\"'\"&$B311&\"'!$i$33\"),\"\")","v":""}]
[276,{"$f":"IFERROR(IF(OR(SHEETNAME(A312)=\"HIDE\",SHEETNAME(A312)=\"Start Here\",SHEETNAME(A312)=\"Template\"),\"\",SHEETNAME(A312)),\"\")","v":""},{"$f":"IFERROR(INDIRECT(\"'\"&$B312&\"'!$d$6\"),\"\")","v":""},{"$f":"IFERROR(INDIRECT(\"'\"&$B312&\"'!$d$7\"),\"\")","v":""},{"$f":"IFERROR(INDIRECT(\"'\"&$B312&\"'!$d$8\"),\"\")","v":""},{"$f":"IFERROR(IF(OR(SHEETNAME($A312)=\"HIDE\",SHEETNAME($A312)=\"Start Here\",SHEETNAME($A312)=\"Template\"),\"\",HYPERLINK(\"#'\"&B312&\"'!A1\",\"Go to Sheet\")),\"\")","v":""},{"$f":"IFERROR(IF(INDIRECT(\"'\"&$B312&\"'!$U$7\"),INDIRECT(\"'\"&$B312&\"'!$u$9\"),\"(\"&INDIRECT(\"'\"&$B312&\"'!$U$8\")&\")\"),\"\")","v":""},{"$f":"IF(L312,\"This site has incomplete Cost and Revenue data.  \",\"\")&IF(M312,\"WFRS data for previous quarters is incomplete.  \",\"\")&IF(K312,IFERROR(INDIRECT(\"'\"&$B312&\"'!$g$9\"),\"\"),\"\")","v":""},false,{"$f":"IFERROR(INDIRECT(\"'\"&$B312&\"'!$u$7\"),FALSE)","v":false},{"$f":"IFERROR(INDIRECT(\"'\"&$B312&\"'!$u$10\"),FALSE)","v":false},{"$f":"IFERROR(INDIRECT(\"'\"&$B312&\"'!$AC$12\"),FALSE)","v":false},{"$f":"IFERROR(INDIRECT(\"'\"&$B312&\"'!$ad$12\"),FALSE)","v":false},null,{"$f":"IFERROR(INDIRECT(\"'\"&$B312&\"'!$d$10\"),\"\")","v":""},{"$f":"IFERROR(INDIRECT(\"'\"&$B312&\"'!$d$33\"),\"\")","v":""},{"$f":"IFERROR(INDIRECT(\"'\"&$B312&\"'!$j$33\")+INDIRECT(\"'\"&$B312&\"'!$k$33\"),\"\")","v":""},{"$f":"IFERROR(INDIRECT(\"'\"&$B312&\"'!$q$33\"),\"\")","v":""},{"$f":"IFERROR(INDIRECT(\"'\"&$B312&\"'!$e$33\"),\"\")","v":""},{"$f":"IFERROR(INDIRECT(\"'\"&$B312&\"'!$L$33\"),\"\")","v":""},{"$f":"IFERROR(INDIRECT(\"'\"&$B312&\"'!$g$33\")+INDIRECT(\"'\"&$B312&\"'!$h$33\")+INDIRECT(\"'\"&$B312&\"'!$i$33\"),\"\")","v":""}]
[277,{"$f":"IFERROR(IF(OR(SHEETNAME(A313)=\"HIDE\",SHEETNAME(A313)=\"Start Here\",SHEETNAME(A313)=\"Template\"),\"\",SHEETNAME(A313)),\"\")","v":""},{"$f":"IFERROR(INDIRECT(\"'\"&$B313&\"'!$d$6\"),\"\")","v":""},{"$f":"IFERROR(INDIRECT(\"'\"&$B313&\"'!$d$7\"),\"\")","v":""},{"$f":"IFERROR(INDIRECT(\"'\"&$B313&\"'!$d$8\"),\"\")","v":""},{"$f":"IFERROR(IF(OR(SHEETNAME($A313)=\"HIDE\",SHEETNAME($A313)=\"Start Here\",SHEETNAME($A313)=\"Template\"),\"\",HYPERLINK(\"#'\"&B313&\"'!A1\",\"Go to Sheet\")),\"\")","v":""},{"$f":"IFERROR(IF(INDIRECT(\"'\"&$B313&\"'!$U$7\"),INDIRECT(\"'\"&$B313&\"'!$u$9\"),\"(\"&INDIRECT(\"'\"&$B313&\"'!$U$8\")&\")\"),\"\")","v":""},{"$f":"IF(L313,\"This site has incomplete Cost and Revenue data.  \",\"\")&IF(M313,\"WFRS data for previous quarters is incomplete.  \",\"\")&IF(K313,IFERROR(INDIRECT(\"'\"&$B313&\"'!$g$9\"),\"\"),\"\")","v":""},false,{"$f":"IFERROR(INDIRECT(\"'\"&$B313&\"'!$u$7\"),FALSE)","v":false},{"$f":"IFERROR(INDIRECT(\"'\"&$B313&\"'!$u$10\"),FALSE)","v":false},{"$f":"IFERROR(INDIRECT(\"'\"&$B313&\"'!$AC$12\"),FALSE)","v":false},{"$f":"IFERROR(INDIRECT(\"'\"&$B313&\"'!$ad$12\"),FALSE)","v":false},null,{"$f":"IFERROR(INDIRECT(\"'\"&$B313&\"'!$d$10\"),\"\")","v":""},{"$f":"IFERROR(INDIRECT(\"'\"&$B313&\"'!$d$33\"),\"\")","v":""},{"$f":"IFERROR(INDIRECT(\"'\"&$B313&\"'!$j$33\")+INDIRECT(\"'\"&$B313&\"'!$k$33\"),\"\")","v":""},{"$f":"IFERROR(INDIRECT(\"'\"&$B313&\"'!$q$33\"),\"\")","v":""},{"$f":"IFERROR(INDIRECT(\"'\"&$B313&\"'!$e$33\"),\"\")","v":""},{"$f":"IFERROR(INDIRECT(\"'\"&$B313&\"'!$L$33\"),\"\")","v":""},{"$f":"IFERROR(INDIRECT(\"'\"&$B313&\"'!$g$33\")+INDIRECT(\"'\"&$B313&\"'!$h$33\")+INDIRECT(\"'\"&$B313&\"'!$i$33\"),\"\")","v":""}]
[278,{"$f":"IFERROR(IF(OR(SHEETNAME(A314)=\"HIDE\",SHEETNAME(A314)=\"Start Here\",SHEETNAME(A314)=\"Template\"),\"\",SHEETNAME(A314)),\"\")","v":""},{"$f":"IFERROR(INDIRECT(\"'\"&$B314&\"'!$d$6\"),\"\")","v":""},{"$f":"IFERROR(INDIRECT(\"'\"&$B314&\"'!$d$7\"),\"\")","v":""},{"$f":"IFERROR(INDIRECT(\"'\"&$B314&\"'!$d$8\"),\"\")","v":""},{"$f":"IFERROR(IF(OR(SHEETNAME($A314)=\"HIDE\",SHEETNAME($A314)=\"Start Here\",SHEETNAME($A314)=\"Template\"),\"\",HYPERLINK(\"#'\"&B314&\"'!A1\",\"Go to Sheet\")),\"\")","v":""},{"$f":"IFERROR(IF(INDIRECT(\"'\"&$B314&\"'!$U$7\"),INDIRECT(\"'\"&$B314&\"'!$u$9\"),\"(\"&INDIRECT(\"'\"&$B314&\"'!$U$8\")&\")\"),\"\")","v":""},{"$f":"IF(L314,\"This site has incomplete Cost and Revenue data.  \",\"\")&IF(M314,\"WFRS data for previous quarters is incomplete.  \",\"\")&IF(K314,IFERROR(INDIRECT(\"'\"&$B314&\"'!$g$9\"),\"\"),\"\")","v":""},false,{"$f":"IFERROR(INDIRECT(\"'\"&$B314&\"'!$u$7\"),FALSE)","v":false},{"$f":"IFERROR(INDIRECT(\"'\"&$B314&\"'!$u$10\"),FALSE)","v":false},{"$f":"IFERROR(INDIRECT(\"'\"&$B314&\"'!$AC$12\"),FALSE)","v":false},{"$f":"IFERROR(INDIRECT(\"'\"&$B314&\"'!$ad$12\"),FALSE)","v":false},null,{"$f":"IFERROR(INDIRECT(\"'\"&$B314&\"'!$d$10\"),\"\")","v":""},{"$f":"IFERROR(INDIRECT(\"'\"&$B314&\"'!$d$33\"),\"\")","v":""},{"$f":"IFERROR(INDIRECT(\"'\"&$B314&\"'!$j$33\")+INDIRECT(\"'\"&$B314&\"'!$k$33\"),\"\")","v":""},{"$f":"IFERROR(INDIRECT(\"'\"&$B314&\"'!$q$33\"),\"\")","v":""},{"$f":"IFERROR(INDIRECT(\"'\"&$B314&\"'!$e$33\"),\"\")","v":""},{"$f":"IFERROR(INDIRECT(\"'\"&$B314&\"'!$L$33\"),\"\")","v":""},{"$f":"IFERROR(INDIRECT(\"'\"&$B314&\"'!$g$33\")+INDIRECT(\"'\"&$B314&\"'!$h$33\")+INDIRECT(\"'\"&$B314&\"'!$i$33\"),\"\")","v":""}]
[279,{"$f":"IFERROR(IF(OR(SHEETNAME(A315)=\"HIDE\",SHEETNAME(A315)=\"Start Here\",SHEETNAME(A315)=\"Template\"),\"\",SHEETNAME(A315)),\"\")","v":""},{"$f":"IFERROR(INDIRECT(\"'\"&$B315&\"'!$d$6\"),\"\")","v":""},{"$f":"IFERROR(INDIRECT(\"'\"&$B315&\"'!$d$7\"),\"\")","v":""},{"$f":"IFERROR(INDIRECT(\"'\"&$B315&\"'!$d$8\"),\"\")","v":""},{"$f":"IFERROR(IF(OR(SHEETNAME($A315)=\"HIDE\",SHEETNAME($A315)=\"Start Here\",SHEETNAME($A315)=\"Template\"),\"\",HYPERLINK(\"#'\"&B315&\"'!A1\",\"Go to Sheet\")),\"\")","v":""},{"$f":"IFERROR(IF(INDIRECT(\"'\"&$B315&\"'!$U$7\"),INDIRECT(\"'\"&$B315&\"'!$u$9\"),\"(\"&INDIRECT(\"'\"&$B315&\"'!$U$8\")&\")\"),\"\")","v":""},{"$f":"IF(L315,\"This site has incomplete Cost and Revenue data.  \",\"\")&IF(M315,\"WFRS data for previous quarters is incomplete.  \",\"\")&IF(K315,IFERROR(INDIRECT(\"'\"&$B315&\"'!$g$9\"),\"\"),\"\")","v":""},false,{"$f":"IFERROR(INDIRECT(\"'\"&$B315&\"'!$u$7\"),FALSE)","v":false},{"$f":"IFERROR(INDIRECT(\"'\"&$B315&\"'!$u$10\"),FALSE)","v":false},{"$f":"IFERROR(INDIRECT(\"'\"&$B315&\"'!$AC$12\"),FALSE)","v":false},{"$f":"IFERROR(INDIRECT(\"'\"&$B315&\"'!$ad$12\"),FALSE)","v":false},null,{"$f":"IFERROR(INDIRECT(\"'\"&$B315&\"'!$d$10\"),\"\")","v":""},{"$f":"IFERROR(INDIRECT(\"'\"&$B315&\"'!$d$33\"),\"\")","v":""},{"$f":"IFERROR(INDIRECT(\"'\"&$B315&\"'!$j$33\")+INDIRECT(\"'\"&$B315&\"'!$k$33\"),\"\")","v":""},{"$f":"IFERROR(INDIRECT(\"'\"&$B315&\"'!$q$33\"),\"\")","v":""},{"$f":"IFERROR(INDIRECT(\"'\"&$B315&\"'!$e$33\"),\"\")","v":""},{"$f":"IFERROR(INDIRECT(\"'\"&$B315&\"'!$L$33\"),\"\")","v":""},{"$f":"IFERROR(INDIRECT(\"'\"&$B315&\"'!$g$33\")+INDIRECT(\"'\"&$B315&\"'!$h$33\")+INDIRECT(\"'\"&$B315&\"'!$i$33\"),\"\")","v":""}]
[280,{"$f":"IFERROR(IF(OR(SHEETNAME(A316)=\"HIDE\",SHEETNAME(A316)=\"Start Here\",SHEETNAME(A316)=\"Template\"),\"\",SHEETNAME(A316)),\"\")","v":""},{"$f":"IFERROR(INDIRECT(\"'\"&$B316&\"'!$d$6\"),\"\")","v":""},{"$f":"IFERROR(INDIRECT(\"'\"&$B316&\"'!$d$7\"),\"\")","v":""},{"$f":"IFERROR(INDIRECT(\"'\"&$B316&\"'!$d$8\"),\"\")","v":""},{"$f":"IFERROR(IF(OR(SHEETNAME($A316)=\"HIDE\",SHEETNAME($A316)=\"Start Here\",SHEETNAME($A316)=\"Template\"),\"\",HYPERLINK(\"#'\"&B316&\"'!A1\",\"Go to Sheet\")),\"\")","v":""},{"$f":"IFERROR(IF(INDIRECT(\"'\"&$B316&\"'!$U$7\"),INDIRECT(\"'\"&$B316&\"'!$u$9\"),\"(\"&INDIRECT(\"'\"&$B316&\"'!$U$8\")&\")\"),\"\")","v":""},{"$f":"IF(L316,\"This site has incomplete Cost and Revenue data.  \",\"\")&IF(M316,\"WFRS data for previous quarters is incomplete.  \",\"\")&IF(K316,IFERROR(INDIRECT(\"'\"&$B316&\"'!$g$9\"),\"\"),\"\")","v":""},false,{"$f":"IFERROR(INDIRECT(\"'\"&$B316&\"'!$u$7\"),FALSE)","v":false},{"$f":"IFERROR(INDIRECT(\"'\"&$B316&\"'!$u$10\"),FALSE)","v":false},{"$f":"IFERROR(INDIRECT(\"'\"&$B316&\"'!$AC$12\"),FALSE)","v":false},{"$f":"IFERROR(INDIRECT(\"'\"&$B316&\"'!$ad$12\"),FALSE)","v":false},null,{"$f":"IFERROR(INDIRECT(\"'\"&$B316&\"'!$d$10\"),\"\")","v":""},{"$f":"IFERROR(INDIRECT(\"'\"&$B316&\"'!$d$33\"),\"\")","v":""},{"$f":"IFERROR(INDIRECT(\"'\"&$B316&\"'!$j$33\")+INDIRECT(\"'\"&$B316&\"'!$k$33\"),\"\")","v":""},{"$f":"IFERROR(INDIRECT(\"'\"&$B316&\"'!$q$33\"),\"\")","v":""},{"$f":"IFERROR(INDIRECT(\"'\"&$B316&\"'!$e$33\"),\"\")","v":""},{"$f":"IFERROR(INDIRECT(\"'\"&$B316&\"'!$L$33\"),\"\")","v":""},{"$f":"IFERROR(INDIRECT(\"'\"&$B316&\"'!$g$33\")+INDIRECT(\"'\"&$B316&\"'!$h$33\")+INDIRECT(\"'\"&$B316&\"'!$i$33\"),\"\")","v":""}]
[281,{"$f":"IFERROR(IF(OR(SHEETNAME(A317)=\"HIDE\",SHEETNAME(A317)=\"Start Here\",SHEETNAME(A317)=\"Template\"),\"\",SHEETNAME(A317)),\"\")","v":""},{"$f":"IFERROR(INDIRECT(\"'\"&$B317&\"'!$d$6\"),\"\")","v":""},{"$f":"IFERROR(INDIRECT(\"'\"&$B317&\"'!$d$7\"),\"\")","v":""},{"$f":"IFERROR(INDIRECT(\"'\"&$B317&\"'!$d$8\"),\"\")","v":""},{"$f":"IFERROR(IF(OR(SHEETNAME($A317)=\"HIDE\",SHEETNAME($A317)=\"Start Here\",SHEETNAME($A317)=\"Template\"),\"\",HYPERLINK(\"#'\"&B317&\"'!A1\",\"Go to Sheet\")),\"\")","v":""},{"$f":"IFERROR(IF(INDIRECT(\"'\"&$B317&\"'!$U$7\"),INDIRECT(\"'\"&$B317&\"'!$u$9\"),\"(\"&INDIRECT(\"'\"&$B317&\"'!$U$8\")&\")\"),\"\")","v":""},{"$f":"IF(L317,\"This site has incomplete Cost and Revenue data.  \",\"\")&IF(M317,\"WFRS data for previous quarters is incomplete.  \",\"\")&IF(K317,IFERROR(INDIRECT(\"'\"&$B317&\"'!$g$9\"),\"\"),\"\")","v":""},false,{"$f":"IFERROR(INDIRECT(\"'\"&$B317&\"'!$u$7\"),FALSE)","v":false},{"$f":"IFERROR(INDIRECT(\"'\"&$B317&\"'!$u$10\"),FALSE)","v":false},{"$f":"IFERROR(INDIRECT(\"'\"&$B317&\"'!$AC$12\"),FALSE)","v":false},{"$f":"IFERROR(INDIRECT(\"'\"&$B317&\"'!$ad$12\"),FALSE)","v":false},null,{"$f":"IFERROR(INDIRECT(\"'\"&$B317&\"'!$d$10\"),\"\")","v":""},{"$f":"IFERROR(INDIRECT(\"'\"&$B317&\"'!$d$33\"),\"\")","v":""},{"$f":"IFERROR(INDIRECT(\"'\"&$B317&\"'!$j$33\")+INDIRECT(\"'\"&$B317&\"'!$k$33\"),\"\")","v":""},{"$f":"IFERROR(INDIRECT(\"'\"&$B317&\"'!$q$33\"),\"\")","v":""},{"$f":"IFERROR(INDIRECT(\"'\"&$B317&\"'!$e$33\"),\"\")","v":""},{"$f":"IFERROR(INDIRECT(\"'\"&$B317&\"'!$L$33\"),\"\")","v":""},{"$f":"IFERROR(INDIRECT(\"'\"&$B317&\"'!$g$33\")+INDIRECT(\"'\"&$B317&\"'!$h$33\")+INDIRECT(\"'\"&$B317&\"'!$i$33\"),\"\")","v":""}]
[282,{"$f":"IFERROR(IF(OR(SHEETNAME(A318)=\"HIDE\",SHEETNAME(A318)=\"Start Here\",SHEETNAME(A318)=\"Template\"),\"\",SHEETNAME(A318)),\"\")","v":""},{"$f":"IFERROR(INDIRECT(\"'\"&$B318&\"'!$d$6\"),\"\")","v":""},{"$f":"IFERROR(INDIRECT(\"'\"&$B318&\"'!$d$7\"),\"\")","v":""},{"$f":"IFERROR(INDIRECT(\"'\"&$B318&\"'!$d$8\"),\"\")","v":""},{"$f":"IFERROR(IF(OR(SHEETNAME($A318)=\"HIDE\",SHEETNAME($A318)=\"Start Here\",SHEETNAME($A318)=\"Template\"),\"\",HYPERLINK(\"#'\"&B318&\"'!A1\",\"Go to Sheet\")),\"\")","v":""},{"$f":"IFERROR(IF(INDIRECT(\"'\"&$B318&\"'!$U$7\"),INDIRECT(\"'\"&$B318&\"'!$u$9\"),\"(\"&INDIRECT(\"'\"&$B318&\"'!$U$8\")&\")\"),\"\")","v":""},{"$f":"IF(L318,\"This site has incomplete Cost and Revenue data.  \",\"\")&IF(M318,\"WFRS data for previous quarters is incomplete.  \",\"\")&IF(K318,IFERROR(INDIRECT(\"'\"&$B318&\"'!$g$9\"),\"\"),\"\")","v":""},false,{"$f":"IFERROR(INDIRECT(\"'\"&$B318&\"'!$u$7\"),FALSE)","v":false},{"$f":"IFERROR(INDIRECT(\"'\"&$B318&\"'!$u$10\"),FALSE)","v":false},{"$f":"IFERROR(INDIRECT(\"'\"&$B318&\"'!$AC$12\"),FALSE)","v":false},{"$f":"IFERROR(INDIRECT(\"'\"&$B318&\"'!$ad$12\"),FALSE)","v":false},null,{"$f":"IFERROR(INDIRECT(\"'\"&$B318&\"'!$d$10\"),\"\")","v":""},{"$f":"IFERROR(INDIRECT(\"'\"&$B318&\"'!$d$33\"),\"\")","v":""},{"$f":"IFERROR(INDIRECT(\"'\"&$B318&\"'!$j$33\")+INDIRECT(\"'\"&$B318&\"'!$k$33\"),\"\")","v":""},{"$f":"IFERROR(INDIRECT(\"'\"&$B318&\"'!$q$33\"),\"\")","v":""},{"$f":"IFERROR(INDIRECT(\"'\"&$B318&\"'!$e$33\"),\"\")","v":""},{"$f":"IFERROR(INDIRECT(\"'\"&$B318&\"'!$L$33\"),\"\")","v":""},{"$f":"IFERROR(INDIRECT(\"'\"&$B318&\"'!$g$33\")+INDIRECT(\"'\"&$B318&\"'!$h$33\")+INDIRECT(\"'\"&$B318&\"'!$i$33\"),\"\")","v":""}]
[283,{"$f":"IFERROR(IF(OR(SHEETNAME(A319)=\"HIDE\",SHEETNAME(A319)=\"Start Here\",SHEETNAME(A319)=\"Template\"),\"\",SHEETNAME(A319)),\"\")","v":""},{"$f":"IFERROR(INDIRECT(\"'\"&$B319&\"'!$d$6\"),\"\")","v":""},{"$f":"IFERROR(INDIRECT(\"'\"&$B319&\"'!$d$7\"),\"\")","v":""},{"$f":"IFERROR(INDIRECT(\"'\"&$B319&\"'!$d$8\"),\"\")","v":""},{"$f":"IFERROR(IF(OR(SHEETNAME($A319)=\"HIDE\",SHEETNAME($A319)=\"Start Here\",SHEETNAME($A319)=\"Template\"),\"\",HYPERLINK(\"#'\"&B319&\"'!A1\",\"Go to Sheet\")),\"\")","v":""},{"$f":"IFERROR(IF(INDIRECT(\"'\"&$B319&\"'!$U$7\"),INDIRECT(\"'\"&$B319&\"'!$u$9\"),\"(\"&INDIRECT(\"'\"&$B319&\"'!$U$8\")&\")\"),\"\")","v":""},{"$f":"IF(L319,\"This site has incomplete Cost and Revenue data.  \",\"\")&IF(M319,\"WFRS data for previous quarters is incomplete.  \",\"\")&IF(K319,IFERROR(INDIRECT(\"'\"&$B319&\"'!$g$9\"),\"\"),\"\")","v":""},false,{"$f":"IFERROR(INDIRECT(\"'\"&$B319&\"'!$u$7\"),FALSE)","v":false},{"$f":"IFERROR(INDIRECT(\"'\"&$B319&\"'!$u$10\"),FALSE)","v":false},{"$f":"IFERROR(INDIRECT(\"'\"&$B319&\"'!$AC$12\"),FALSE)","v":false},{"$f":"IFERROR(INDIRECT(\"'\"&$B319&\"'!$ad$12\"),FALSE)","v":false},null,{"$f":"IFERROR(INDIRECT(\"'\"&$B319&\"'!$d$10\"),\"\")","v":""},{"$f":"IFERROR(INDIRECT(\"'\"&$B319&\"'!$d$33\"),\"\")","v":""},{"$f":"IFERROR(INDIRECT(\"'\"&$B319&\"'!$j$33\")+INDIRECT(\"'\"&$B319&\"'!$k$33\"),\"\")","v":""},{"$f":"IFERROR(INDIRECT(\"'\"&$B319&\"'!$q$33\"),\"\")","v":""},{"$f":"IFERROR(INDIRECT(\"'\"&$B319&\"'!$e$33\"),\"\")","v":""},{"$f":"IFERROR(INDIRECT(\"'\"&$B319&\"'!$L$33\"),\"\")","v":""},{"$f":"IFERROR(INDIRECT(\"'\"&$B319&\"'!$g$33\")+INDIRECT(\"'\"&$B319&\"'!$h$33\")+INDIRECT(\"'\"&$B319&\"'!$i$33\"),\"\")","v":""}]
[284,{"$f":"IFERROR(IF(OR(SHEETNAME(A320)=\"HIDE\",SHEETNAME(A320)=\"Start Here\",SHEETNAME(A320)=\"Template\"),\"\",SHEETNAME(A320)),\"\")","v":""},{"$f":"IFERROR(INDIRECT(\"'\"&$B320&\"'!$d$6\"),\"\")","v":""},{"$f":"IFERROR(INDIRECT(\"'\"&$B320&\"'!$d$7\"),\"\")","v":""},{"$f":"IFERROR(INDIRECT(\"'\"&$B320&\"'!$d$8\"),\"\")","v":""},{"$f":"IFERROR(IF(OR(SHEETNAME($A320)=\"HIDE\",SHEETNAME($A320)=\"Start Here\",SHEETNAME($A320)=\"Template\"),\"\",HYPERLINK(\"#'\"&B320&\"'!A1\",\"Go to Sheet\")),\"\")","v":""},{"$f":"IFERROR(IF(INDIRECT(\"'\"&$B320&\"'!$U$7\"),INDIRECT(\"'\"&$B320&\"'!$u$9\"),\"(\"&INDIRECT(\"'\"&$B320&\"'!$U$8\")&\")\"),\"\")","v":""},{"$f":"IF(L320,\"This site has incomplete Cost and Revenue data.  \",\"\")&IF(M320,\"WFRS data for previous quarters is incomplete.  \",\"\")&IF(K320,IFERROR(INDIRECT(\"'\"&$B320&\"'!$g$9\"),\"\"),\"\")","v":""},false,{"$f":"IFERROR(INDIRECT(\"'\"&$B320&\"'!$u$7\"),FALSE)","v":false},{"$f":"IFERROR(INDIRECT(\"'\"&$B320&\"'!$u$10\"),FALSE)","v":false},{"$f":"IFERROR(INDIRECT(\"'\"&$B320&\"'!$AC$12\"),FALSE)","v":false},{"$f":"IFERROR(INDIRECT(\"'\"&$B320&\"'!$ad$12\"),FALSE)","v":false},null,{"$f":"IFERROR(INDIRECT(\"'\"&$B320&\"'!$d$10\"),\"\")","v":""},{"$f":"IFERROR(INDIRECT(\"'\"&$B320&\"'!$d$33\"),\"\")","v":""},{"$f":"IFERROR(INDIRECT(\"'\"&$B320&\"'!$j$33\")+INDIRECT(\"'\"&$B320&\"'!$k$33\"),\"\")","v":""},{"$f":"IFERROR(INDIRECT(\"'\"&$B320&\"'!$q$33\"),\"\")","v":""},{"$f":"IFERROR(INDIRECT(\"'\"&$B320&\"'!$e$33\"),\"\")","v":""},{"$f":"IFERROR(INDIRECT(\"'\"&$B320&\"'!$L$33\"),\"\")","v":""},{"$f":"IFERROR(INDIRECT(\"'\"&$B320&\"'!$g$33\")+INDIRECT(\"'\"&$B320&\"'!$h$33\")+INDIRECT(\"'\"&$B320&\"'!$i$33\"),\"\")","v":""}]
[285,{"$f":"IFERROR(IF(OR(SHEETNAME(A321)=\"HIDE\",SHEETNAME(A321)=\"Start Here\",SHEETNAME(A321)=\"Template\"),\"\",SHEETNAME(A321)),\"\")","v":""},{"$f":"IFERROR(INDIRECT(\"'\"&$B321&\"'!$d$6\"),\"\")","v":""},{"$f":"IFERROR(INDIRECT(\"'\"&$B321&\"'!$d$7\"),\"\")","v":""},{"$f":"IFERROR(INDIRECT(\"'\"&$B321&\"'!$d$8\"),\"\")","v":""},{"$f":"IFERROR(IF(OR(SHEETNAME($A321)=\"HIDE\",SHEETNAME($A321)=\"Start Here\",SHEETNAME($A321)=\"Template\"),\"\",HYPERLINK(\"#'\"&B321&\"'!A1\",\"Go to Sheet\")),\"\")","v":""},{"$f":"IFERROR(IF(INDIRECT(\"'\"&$B321&\"'!$U$7\"),INDIRECT(\"'\"&$B321&\"'!$u$9\"),\"(\"&INDIRECT(\"'\"&$B321&\"'!$U$8\")&\")\"),\"\")","v":""},{"$f":"IF(L321,\"This site has incomplete Cost and Revenue data.  \",\"\")&IF(M321,\"WFRS data for previous quarters is incomplete.  \",\"\")&IF(K321,IFERROR(INDIRECT(\"'\"&$B321&\"'!$g$9\"),\"\"),\"\")","v":""},false,{"$f":"IFERROR(INDIRECT(\"'\"&$B321&\"'!$u$7\"),FALSE)","v":false},{"$f":"IFERROR(INDIRECT(\"'\"&$B321&\"'!$u$10\"),FALSE)","v":false},{"$f":"IFERROR(INDIRECT(\"'\"&$B321&\"'!$AC$12\"),FALSE)","v":false},{"$f":"IFERROR(INDIRECT(\"'\"&$B321&\"'!$ad$12\"),FALSE)","v":false},null,{"$f":"IFERROR(INDIRECT(\"'\"&$B321&\"'!$d$10\"),\"\")","v":""},{"$f":"IFERROR(INDIRECT(\"'\"&$B321&\"'!$d$33\"),\"\")","v":""},{"$f":"IFERROR(INDIRECT(\"'\"&$B321&\"'!$j$33\")+INDIRECT(\"'\"&$B321&\"'!$k$33\"),\"\")","v":""},{"$f":"IFERROR(INDIRECT(\"'\"&$B321&\"'!$q$33\"),\"\")","v":""},{"$f":"IFERROR(INDIRECT(\"'\"&$B321&\"'!$e$33\"),\"\")","v":""},{"$f":"IFERROR(INDIRECT(\"'\"&$B321&\"'!$L$33\"),\"\")","v":""},{"$f":"IFERROR(INDIRECT(\"'\"&$B321&\"'!$g$33\")+INDIRECT(\"'\"&$B321&\"'!$h$33\")+INDIRECT(\"'\"&$B321&\"'!$i$33\"),\"\")","v":""}]
[286,{"$f":"IFERROR(IF(OR(SHEETNAME(A322)=\"HIDE\",SHEETNAME(A322)=\"Start Here\",SHEETNAME(A322)=\"Template\"),\"\",SHEETNAME(A322)),\"\")","v":""},{"$f":"IFERROR(INDIRECT(\"'\"&$B322&\"'!$d$6\"),\"\")","v":""},{"$f":"IFERROR(INDIRECT(\"'\"&$B322&\"'!$d$7\"),\"\")","v":""},{"$f":"IFERROR(INDIRECT(\"'\"&$B322&\"'!$d$8\"),\"\")","v":""},{"$f":"IFERROR(IF(OR(SHEETNAME($A322)=\"HIDE\",SHEETNAME($A322)=\"Start Here\",SHEETNAME($A322)=\"Template\"),\"\",HYPERLINK(\"#'\"&B322&\"'!A1\",\"Go to Sheet\")),\"\")","v":""},{"$f":"IFERROR(IF(INDIRECT(\"'\"&$B322&\"'!$U$7\"),INDIRECT(\"'\"&$B322&\"'!$u$9\"),\"(\"&INDIRECT(\"'\"&$B322&\"'!$U$8\")&\")\"),\"\")","v":""},{"$f":"IF(L322,\"This site has incomplete Cost and Revenue data.  \",\"\")&IF(M322,\"WFRS data for previous quarters is incomplete.  \",\"\")&IF(K322,IFERROR(INDIRECT(\"'\"&$B322&\"'!$g$9\"),\"\"),\"\")","v":""},false,{"$f":"IFERROR(INDIRECT(\"'\"&$B322&\"'!$u$7\"),FALSE)","v":false},{"$f":"IFERROR(INDIRECT(\"'\"&$B322&\"'!$u$10\"),FALSE)","v":false},{"$f":"IFERROR(INDIRECT(\"'\"&$B322&\"'!$AC$12\"),FALSE)","v":false},{"$f":"IFERROR(INDIRECT(\"'\"&$B322&\"'!$ad$12\"),FALSE)","v":false},null,{"$f":"IFERROR(INDIRECT(\"'\"&$B322&\"'!$d$10\"),\"\")","v":""},{"$f":"IFERROR(INDIRECT(\"'\"&$B322&\"'!$d$33\"),\"\")","v":""},{"$f":"IFERROR(INDIRECT(\"'\"&$B322&\"'!$j$33\")+INDIRECT(\"'\"&$B322&\"'!$k$33\"),\"\")","v":""},{"$f":"IFERROR(INDIRECT(\"'\"&$B322&\"'!$q$33\"),\"\")","v":""},{"$f":"IFERROR(INDIRECT(\"'\"&$B322&\"'!$e$33\"),\"\")","v":""},{"$f":"IFERROR(INDIRECT(\"'\"&$B322&\"'!$L$33\"),\"\")","v":""},{"$f":"IFERROR(INDIRECT(\"'\"&$B322&\"'!$g$33\")+INDIRECT(\"'\"&$B322&\"'!$h$33\")+INDIRECT(\"'\"&$B322&\"'!$i$33\"),\"\")","v":""}]
[287,{"$f":"IFERROR(IF(OR(SHEETNAME(A323)=\"HIDE\",SHEETNAME(A323)=\"Start Here\",SHEETNAME(A323)=\"Template\"),\"\",SHEETNAME(A323)),\"\")","v":""},{"$f":"IFERROR(INDIRECT(\"'\"&$B323&\"'!$d$6\"),\"\")","v":""},{"$f":"IFERROR(INDIRECT(\"'\"&$B323&\"'!$d$7\"),\"\")","v":""},{"$f":"IFERROR(INDIRECT(\"'\"&$B323&\"'!$d$8\"),\"\")","v":""},{"$f":"IFERROR(IF(OR(SHEETNAME($A323)=\"HIDE\",SHEETNAME($A323)=\"Start Here\",SHEETNAME($A323)=\"Template\"),\"\",HYPERLINK(\"#'\"&B323&\"'!A1\",\"Go to Sheet\")),\"\")","v":""},{"$f":"IFERROR(IF(INDIRECT(\"'\"&$B323&\"'!$U$7\"),INDIRECT(\"'\"&$B323&\"'!$u$9\"),\"(\"&INDIRECT(\"'\"&$B323&\"'!$U$8\")&\")\"),\"\")","v":""},{"$f":"IF(L323,\"This site has incomplete Cost and Revenue data.  \",\"\")&IF(M323,\"WFRS data for previous quarters is incomplete.  \",\"\")&IF(K323,IFERROR(INDIRECT(\"'\"&$B323&\"'!$g$9\"),\"\"),\"\")","v":""},false,{"$f":"IFERROR(INDIRECT(\"'\"&$B323&\"'!$u$7\"),FALSE)","v":false},{"$f":"IFERROR(INDIRECT(\"'\"&$B323&\"'!$u$10\"),FALSE)","v":false},{"$f":"IFERROR(INDIRECT(\"'\"&$B323&\"'!$AC$12\"),FALSE)","v":false},{"$f":"IFERROR(INDIRECT(\"'\"&$B323&\"'!$ad$12\"),FALSE)","v":false},null,{"$f":"IFERROR(INDIRECT(\"'\"&$B323&\"'!$d$10\"),\"\")","v":""},{"$f":"IFERROR(INDIRECT(\"'\"&$B323&\"'!$d$33\"),\"\")","v":""},{"$f":"IFERROR(INDIRECT(\"'\"&$B323&\"'!$j$33\")+INDIRECT(\"'\"&$B323&\"'!$k$33\"),\"\")","v":""},{"$f":"IFERROR(INDIRECT(\"'\"&$B323&\"'!$q$33\"),\"\")","v":""},{"$f":"IFERROR(INDIRECT(\"'\"&$B323&\"'!$e$33\"),\"\")","v":""},{"$f":"IFERROR(INDIRECT(\"'\"&$B323&\"'!$L$33\"),\"\")","v":""},{"$f":"IFERROR(INDIRECT(\"'\"&$B323&\"'!$g$33\")+INDIRECT(\"'\"&$B323&\"'!$h$33\")+INDIRECT(\"'\"&$B323&\"'!$i$33\"),\"\")","v":""}]
[288,{"$f":"IFERROR(IF(OR(SHEETNAME(A324)=\"HIDE\",SHEETNAME(A324)=\"Start Here\",SHEETNAME(A324)=\"Template\"),\"\",SHEETNAME(A324)),\"\")","v":""},{"$f":"IFERROR(INDIRECT(\"'\"&$B324&\"'!$d$6\"),\"\")","v":""},{"$f":"IFERROR(INDIRECT(\"'\"&$B324&\"'!$d$7\"),\"\")","v":""},{"$f":"IFERROR(INDIRECT(\"'\"&$B324&\"'!$d$8\"),\"\")","v":""},{"$f":"IFERROR(IF(OR(SHEETNAME($A324)=\"HIDE\",SHEETNAME($A324)=\"Start Here\",SHEETNAME($A324)=\"Template\"),\"\",HYPERLINK(\"#'\"&B324&\"'!A1\",\"Go to Sheet\")),\"\")","v":""},{"$f":"IFERROR(IF(INDIRECT(\"'\"&$B324&\"'!$U$7\"),INDIRECT(\"'\"&$B324&\"'!$u$9\"),\"(\"&INDIRECT(\"'\"&$B324&\"'!$U$8\")&\")\"),\"\")","v":""},{"$f":"IF(L324,\"This site has incomplete Cost and Revenue data.  \",\"\")&IF(M324,\"WFRS data for previous quarters is incomplete.  \",\"\")&IF(K324,IFERROR(INDIRECT(\"'\"&$B324&\"'!$g$9\"),\"\"),\"\")","v":""},false,{"$f":"IFERROR(INDIRECT(\"'\"&$B324&\"'!$u$7\"),FALSE)","v":false},{"$f":"IFERROR(INDIRECT(\"'\"&$B324&\"'!$u$10\"),FALSE)","v":false},{"$f":"IFERROR(INDIRECT(\"'\"&$B324&\"'!$AC$12\"),FALSE)","v":false},{"$f":"IFERROR(INDIRECT(\"'\"&$B324&\"'!$ad$12\"),FALSE)","v":false},null,{"$f":"IFERROR(INDIRECT(\"'\"&$B324&\"'!$d$10\"),\"\")","v":""},{"$f":"IFERROR(INDIRECT(\"'\"&$B324&\"'!$d$33\"),\"\")","v":""},{"$f":"IFERROR(INDIRECT(\"'\"&$B324&\"'!$j$33\")+INDIRECT(\"'\"&$B324&\"'!$k$33\"),\"\")","v":""},{"$f":"IFERROR(INDIRECT(\"'\"&$B324&\"'!$q$33\"),\"\")","v":""},{"$f":"IFERROR(INDIRECT(\"'\"&$B324&\"'!$e$33\"),\"\")","v":""},{"$f":"IFERROR(INDIRECT(\"'\"&$B324&\"'!$L$33\"),\"\")","v":""},{"$f":"IFERROR(INDIRECT(\"'\"&$B324&\"'!$g$33\")+INDIRECT(\"'\"&$B324&\"'!$h$33\")+INDIRECT(\"'\"&$B324&\"'!$i$33\"),\"\")","v":""}]
[289,{"$f":"IFERROR(IF(OR(SHEETNAME(A325)=\"HIDE\",SHEETNAME(A325)=\"Start Here\",SHEETNAME(A325)=\"Template\"),\"\",SHEETNAME(A325)),\"\")","v":""},{"$f":"IFERROR(INDIRECT(\"'\"&$B325&\"'!$d$6\"),\"\")","v":""},{"$f":"IFERROR(INDIRECT(\"'\"&$B325&\"'!$d$7\"),\"\")","v":""},{"$f":"IFERROR(INDIRECT(\"'\"&$B325&\"'!$d$8\"),\"\")","v":""},{"$f":"IFERROR(IF(OR(SHEETNAME($A325)=\"HIDE\",SHEETNAME($A325)=\"Start Here\",SHEETNAME($A325)=\"Template\"),\"\",HYPERLINK(\"#'\"&B325&\"'!A1\",\"Go to Sheet\")),\"\")","v":""},{"$f":"IFERROR(IF(INDIRECT(\"'\"&$B325&\"'!$U$7\"),INDIRECT(\"'\"&$B325&\"'!$u$9\"),\"(\"&INDIRECT(\"'\"&$B325&\"'!$U$8\")&\")\"),\"\")","v":""},{"$f":"IF(L325,\"This site has incomplete Cost and Revenue data.  \",\"\")&IF(M325,\"WFRS data for previous quarters is incomplete.  \",\"\")&IF(K325,IFERROR(INDIRECT(\"'\"&$B325&\"'!$g$9\"),\"\"),\"\")","v":""},false,{"$f":"IFERROR(INDIRECT(\"'\"&$B325&\"'!$u$7\"),FALSE)","v":false},{"$f":"IFERROR(INDIRECT(\"'\"&$B325&\"'!$u$10\"),FALSE)","v":false},{"$f":"IFERROR(INDIRECT(\"'\"&$B325&\"'!$AC$12\"),FALSE)","v":false},{"$f":"IFERROR(INDIRECT(\"'\"&$B325&\"'!$ad$12\"),FALSE)","v":false},null,{"$f":"IFERROR(INDIRECT(\"'\"&$B325&\"'!$d$10\"),\"\")","v":""},{"$f":"IFERROR(INDIRECT(\"'\"&$B325&\"'!$d$33\"),\"\")","v":""},{"$f":"IFERROR(INDIRECT(\"'\"&$B325&\"'!$j$33\")+INDIRECT(\"'\"&$B325&\"'!$k$33\"),\"\")","v":""},{"$f":"IFERROR(INDIRECT(\"'\"&$B325&\"'!$q$33\"),\"\")","v":""},{"$f":"IFERROR(INDIRECT(\"'\"&$B325&\"'!$e$33\"),\"\")","v":""},{"$f":"IFERROR(INDIRECT(\"'\"&$B325&\"'!$L$33\"),\"\")","v":""},{"$f":"IFERROR(INDIRECT(\"'\"&$B325&\"'!$g$33\")+INDIRECT(\"'\"&$B325&\"'!$h$33\")+INDIRECT(\"'\"&$B325&\"'!$i$33\"),\"\")","v":""}]
[290,{"$f":"IFERROR(IF(OR(SHEETNAME(A326)=\"HIDE\",SHEETNAME(A326)=\"Start Here\",SHEETNAME(A326)=\"Template\"),\"\",SHEETNAME(A326)),\"\")","v":""},{"$f":"IFERROR(INDIRECT(\"'\"&$B326&\"'!$d$6\"),\"\")","v":""},{"$f":"IFERROR(INDIRECT(\"'\"&$B326&\"'!$d$7\"),\"\")","v":""},{"$f":"IFERROR(INDIRECT(\"'\"&$B326&\"'!$d$8\"),\"\")","v":""},{"$f":"IFERROR(IF(OR(SHEETNAME($A326)=\"HIDE\",SHEETNAME($A326)=\"Start Here\",SHEETNAME($A326)=\"Template\"),\"\",HYPERLINK(\"#'\"&B326&\"'!A1\",\"Go to Sheet\")),\"\")","v":""},{"$f":"IFERROR(IF(INDIRECT(\"'\"&$B326&\"'!$U$7\"),INDIRECT(\"'\"&$B326&\"'!$u$9\"),\"(\"&INDIRECT(\"'\"&$B326&\"'!$U$8\")&\")\"),\"\")","v":""},{"$f":"IF(L326,\"This site has incomplete Cost and Revenue data.  \",\"\")&IF(M326,\"WFRS data for previous quarters is incomplete.  \",\"\")&IF(K326,IFERROR(INDIRECT(\"'\"&$B326&\"'!$g$9\"),\"\"),\"\")","v":""},false,{"$f":"IFERROR(INDIRECT(\"'\"&$B326&\"'!$u$7\"),FALSE)","v":false},{"$f":"IFERROR(INDIRECT(\"'\"&$B326&\"'!$u$10\"),FALSE)","v":false},{"$f":"IFERROR(INDIRECT(\"'\"&$B326&\"'!$AC$12\"),FALSE)","v":false},{"$f":"IFERROR(INDIRECT(\"'\"&$B326&\"'!$ad$12\"),FALSE)","v":false},null,{"$f":"IFERROR(INDIRECT(\"'\"&$B326&\"'!$d$10\"),\"\")","v":""},{"$f":"IFERROR(INDIRECT(\"'\"&$B326&\"'!$d$33\"),\"\")","v":""},{"$f":"IFERROR(INDIRECT(\"'\"&$B326&\"'!$j$33\")+INDIRECT(\"'\"&$B326&\"'!$k$33\"),\"\")","v":""},{"$f":"IFERROR(INDIRECT(\"'\"&$B326&\"'!$q$33\"),\"\")","v":""},{"$f":"IFERROR(INDIRECT(\"'\"&$B326&\"'!$e$33\"),\"\")","v":""},{"$f":"IFERROR(INDIRECT(\"'\"&$B326&\"'!$L$33\"),\"\")","v":""},{"$f":"IFERROR(INDIRECT(\"'\"&$B326&\"'!$g$33\")+INDIRECT(\"'\"&$B326&\"'!$h$33\")+INDIRECT(\"'\"&$B326&\"'!$i$33\"),\"\")","v":""}]
[291,{"$f":"IFERROR(IF(OR(SHEETNAME(A327)=\"HIDE\",SHEETNAME(A327)=\"Start Here\",SHEETNAME(A327)=\"Template\"),\"\",SHEETNAME(A327)),\"\")","v":""},{"$f":"IFERROR(INDIRECT(\"'\"&$B327&\"'!$d$6\"),\"\")","v":""},{"$f":"IFERROR(INDIRECT(\"'\"&$B327&\"'!$d$7\"),\"\")","v":""},{"$f":"IFERROR(INDIRECT(\"'\"&$B327&\"'!$d$8\"),\"\")","v":""},{"$f":"IFERROR(IF(OR(SHEETNAME($A327)=\"HIDE\",SHEETNAME($A327)=\"Start Here\",SHEETNAME($A327)=\"Template\"),\"\",HYPERLINK(\"#'\"&B327&\"'!A1\",\"Go to Sheet\")),\"\")","v":""},{"$f":"IFERROR(IF(INDIRECT(\"'\"&$B327&\"'!$U$7\"),INDIRECT(\"'\"&$B327&\"'!$u$9\"),\"(\"&INDIRECT(\"'\"&$B327&\"'!$U$8\")&\")\"),\"\")","v":""},{"$f":"IF(L327,\"This site has incomplete Cost and Revenue data.  \",\"\")&IF(M327,\"WFRS data for previous quarters is incomplete.  \",\"\")&IF(K327,IFERROR(INDIRECT(\"'\"&$B327&\"'!$g$9\"),\"\"),\"\")","v":""},false,{"$f":"IFERROR(INDIRECT(\"'\"&$B327&\"'!$u$7\"),FALSE)","v":false},{"$f":"IFERROR(INDIRECT(\"'\"&$B327&\"'!$u$10\"),FALSE)","v":false},{"$f":"IFERROR(INDIRECT(\"'\"&$B327&\"'!$AC$12\"),FALSE)","v":false},{"$f":"IFERROR(INDIRECT(\"'\"&$B327&\"'!$ad$12\"),FALSE)","v":false},null,{"$f":"IFERROR(INDIRECT(\"'\"&$B327&\"'!$d$10\"),\"\")","v":""},{"$f":"IFERROR(INDIRECT(\"'\"&$B327&\"'!$d$33\"),\"\")","v":""},{"$f":"IFERROR(INDIRECT(\"'\"&$B327&\"'!$j$33\")+INDIRECT(\"'\"&$B327&\"'!$k$33\"),\"\")","v":""},{"$f":"IFERROR(INDIRECT(\"'\"&$B327&\"'!$q$33\"),\"\")","v":""},{"$f":"IFERROR(INDIRECT(\"'\"&$B327&\"'!$e$33\"),\"\")","v":""},{"$f":"IFERROR(INDIRECT(\"'\"&$B327&\"'!$L$33\"),\"\")","v":""},{"$f":"IFERROR(INDIRECT(\"'\"&$B327&\"'!$g$33\")+INDIRECT(\"'\"&$B327&\"'!$h$33\")+INDIRECT(\"'\"&$B327&\"'!$i$33\"),\"\")","v":""}]
[292,{"$f":"IFERROR(IF(OR(SHEETNAME(A328)=\"HIDE\",SHEETNAME(A328)=\"Start Here\",SHEETNAME(A328)=\"Template\"),\"\",SHEETNAME(A328)),\"\")","v":""},{"$f":"IFERROR(INDIRECT(\"'\"&$B328&\"'!$d$6\"),\"\")","v":""},{"$f":"IFERROR(INDIRECT(\"'\"&$B328&\"'!$d$7\"),\"\")","v":""},{"$f":"IFERROR(INDIRECT(\"'\"&$B328&\"'!$d$8\"),\"\")","v":""},{"$f":"IFERROR(IF(OR(SHEETNAME($A328)=\"HIDE\",SHEETNAME($A328)=\"Start Here\",SHEETNAME($A328)=\"Template\"),\"\",HYPERLINK(\"#'\"&B328&\"'!A1\",\"Go to Sheet\")),\"\")","v":""},{"$f":"IFERROR(IF(INDIRECT(\"'\"&$B328&\"'!$U$7\"),INDIRECT(\"'\"&$B328&\"'!$u$9\"),\"(\"&INDIRECT(\"'\"&$B328&\"'!$U$8\")&\")\"),\"\")","v":""},{"$f":"IF(L328,\"This site has incomplete Cost and Revenue data.  \",\"\")&IF(M328,\"WFRS data for previous quarters is incomplete.  \",\"\")&IF(K328,IFERROR(INDIRECT(\"'\"&$B328&\"'!$g$9\"),\"\"),\"\")","v":""},false,{"$f":"IFERROR(INDIRECT(\"'\"&$B328&\"'!$u$7\"),FALSE)","v":false},{"$f":"IFERROR(INDIRECT(\"'\"&$B328&\"'!$u$10\"),FALSE)","v":false},{"$f":"IFERROR(INDIRECT(\"'\"&$B328&\"'!$AC$12\"),FALSE)","v":false},{"$f":"IFERROR(INDIRECT(\"'\"&$B328&\"'!$ad$12\"),FALSE)","v":false},null,{"$f":"IFERROR(INDIRECT(\"'\"&$B328&\"'!$d$10\"),\"\")","v":""},{"$f":"IFERROR(INDIRECT(\"'\"&$B328&\"'!$d$33\"),\"\")","v":""},{"$f":"IFERROR(INDIRECT(\"'\"&$B328&\"'!$j$33\")+INDIRECT(\"'\"&$B328&\"'!$k$33\"),\"\")","v":""},{"$f":"IFERROR(INDIRECT(\"'\"&$B328&\"'!$q$33\"),\"\")","v":""},{"$f":"IFERROR(INDIRECT(\"'\"&$B328&\"'!$e$33\"),\"\")","v":""},{"$f":"IFERROR(INDIRECT(\"'\"&$B328&\"'!$L$33\"),\"\")","v":""},{"$f":"IFERROR(INDIRECT(\"'\"&$B328&\"'!$g$33\")+INDIRECT(\"'\"&$B328&\"'!$h$33\")+INDIRECT(\"'\"&$B328&\"'!$i$33\"),\"\")","v":""}]
[293,{"$f":"IFERROR(IF(OR(SHEETNAME(A329)=\"HIDE\",SHEETNAME(A329)=\"Start Here\",SHEETNAME(A329)=\"Template\"),\"\",SHEETNAME(A329)),\"\")","v":""},{"$f":"IFERROR(INDIRECT(\"'\"&$B329&\"'!$d$6\"),\"\")","v":""},{"$f":"IFERROR(INDIRECT(\"'\"&$B329&\"'!$d$7\"),\"\")","v":""},{"$f":"IFERROR(INDIRECT(\"'\"&$B329&\"'!$d$8\"),\"\")","v":""},{"$f":"IFERROR(IF(OR(SHEETNAME($A329)=\"HIDE\",SHEETNAME($A329)=\"Start Here\",SHEETNAME($A329)=\"Template\"),\"\",HYPERLINK(\"#'\"&B329&\"'!A1\",\"Go to Sheet\")),\"\")","v":""},{"$f":"IFERROR(IF(INDIRECT(\"'\"&$B329&\"'!$U$7\"),INDIRECT(\"'\"&$B329&\"'!$u$9\"),\"(\"&INDIRECT(\"'\"&$B329&\"'!$U$8\")&\")\"),\"\")","v":""},{"$f":"IF(L329,\"This site has incomplete Cost and Revenue data.  \",\"\")&IF(M329,\"WFRS data for previous quarters is incomplete.  \",\"\")&IF(K329,IFERROR(INDIRECT(\"'\"&$B329&\"'!$g$9\"),\"\"),\"\")","v":""},false,{"$f":"IFERROR(INDIRECT(\"'\"&$B329&\"'!$u$7\"),FALSE)","v":false},{"$f":"IFERROR(INDIRECT(\"'\"&$B329&\"'!$u$10\"),FALSE)","v":false},{"$f":"IFERROR(INDIRECT(\"'\"&$B329&\"'!$AC$12\"),FALSE)","v":false},{"$f":"IFERROR(INDIRECT(\"'\"&$B329&\"'!$ad$12\"),FALSE)","v":false},null,{"$f":"IFERROR(INDIRECT(\"'\"&$B329&\"'!$d$10\"),\"\")","v":""},{"$f":"IFERROR(INDIRECT(\"'\"&$B329&\"'!$d$33\"),\"\")","v":""},{"$f":"IFERROR(INDIRECT(\"'\"&$B329&\"'!$j$33\")+INDIRECT(\"'\"&$B329&\"'!$k$33\"),\"\")","v":""},{"$f":"IFERROR(INDIRECT(\"'\"&$B329&\"'!$q$33\"),\"\")","v":""},{"$f":"IFERROR(INDIRECT(\"'\"&$B329&\"'!$e$33\"),\"\")","v":""},{"$f":"IFERROR(INDIRECT(\"'\"&$B329&\"'!$L$33\"),\"\")","v":""},{"$f":"IFERROR(INDIRECT(\"'\"&$B329&\"'!$g$33\")+INDIRECT(\"'\"&$B329&\"'!$h$33\")+INDIRECT(\"'\"&$B329&\"'!$i$33\"),\"\")","v":""}]
[294,{"$f":"IFERROR(IF(OR(SHEETNAME(A330)=\"HIDE\",SHEETNAME(A330)=\"Start Here\",SHEETNAME(A330)=\"Template\"),\"\",SHEETNAME(A330)),\"\")","v":""},{"$f":"IFERROR(INDIRECT(\"'\"&$B330&\"'!$d$6\"),\"\")","v":""},{"$f":"IFERROR(INDIRECT(\"'\"&$B330&\"'!$d$7\"),\"\")","v":""},{"$f":"IFERROR(INDIRECT(\"'\"&$B330&\"'!$d$8\"),\"\")","v":""},{"$f":"IFERROR(IF(OR(SHEETNAME($A330)=\"HIDE\",SHEETNAME($A330)=\"Start Here\",SHEETNAME($A330)=\"Template\"),\"\",HYPERLINK(\"#'\"&B330&\"'!A1\",\"Go to Sheet\")),\"\")","v":""},{"$f":"IFERROR(IF(INDIRECT(\"'\"&$B330&\"'!$U$7\"),INDIRECT(\"'\"&$B330&\"'!$u$9\"),\"(\"&INDIRECT(\"'\"&$B330&\"'!$U$8\")&\")\"),\"\")","v":""},{"$f":"IF(L330,\"This site has incomplete Cost and Revenue data.  \",\"\")&IF(M330,\"WFRS data for previous quarters is incomplete.  \",\"\")&IF(K330,IFERROR(INDIRECT(\"'\"&$B330&\"'!$g$9\"),\"\"),\"\")","v":""},false,{"$f":"IFERROR(INDIRECT(\"'\"&$B330&\"'!$u$7\"),FALSE)","v":false},{"$f":"IFERROR(INDIRECT(\"'\"&$B330&\"'!$u$10\"),FALSE)","v":false},{"$f":"IFERROR(INDIRECT(\"'\"&$B330&\"'!$AC$12\"),FALSE)","v":false},{"$f":"IFERROR(INDIRECT(\"'\"&$B330&\"'!$ad$12\"),FALSE)","v":false},null,{"$f":"IFERROR(INDIRECT(\"'\"&$B330&\"'!$d$10\"),\"\")","v":""},{"$f":"IFERROR(INDIRECT(\"'\"&$B330&\"'!$d$33\"),\"\")","v":""},{"$f":"IFERROR(INDIRECT(\"'\"&$B330&\"'!$j$33\")+INDIRECT(\"'\"&$B330&\"'!$k$33\"),\"\")","v":""},{"$f":"IFERROR(INDIRECT(\"'\"&$B330&\"'!$q$33\"),\"\")","v":""},{"$f":"IFERROR(INDIRECT(\"'\"&$B330&\"'!$e$33\"),\"\")","v":""},{"$f":"IFERROR(INDIRECT(\"'\"&$B330&\"'!$L$33\"),\"\")","v":""},{"$f":"IFERROR(INDIRECT(\"'\"&$B330&\"'!$g$33\")+INDIRECT(\"'\"&$B330&\"'!$h$33\")+INDIRECT(\"'\"&$B330&\"'!$i$33\"),\"\")","v":""}]
[295,{"$f":"IFERROR(IF(OR(SHEETNAME(A331)=\"HIDE\",SHEETNAME(A331)=\"Start Here\",SHEETNAME(A331)=\"Template\"),\"\",SHEETNAME(A331)),\"\")","v":""},{"$f":"IFERROR(INDIRECT(\"'\"&$B331&\"'!$d$6\"),\"\")","v":""},{"$f":"IFERROR(INDIRECT(\"'\"&$B331&\"'!$d$7\"),\"\")","v":""},{"$f":"IFERROR(INDIRECT(\"'\"&$B331&\"'!$d$8\"),\"\")","v":""},{"$f":"IFERROR(IF(OR(SHEETNAME($A331)=\"HIDE\",SHEETNAME($A331)=\"Start Here\",SHEETNAME($A331)=\"Template\"),\"\",HYPERLINK(\"#'\"&B331&\"'!A1\",\"Go to Sheet\")),\"\")","v":""},{"$f":"IFERROR(IF(INDIRECT(\"'\"&$B331&\"'!$U$7\"),INDIRECT(\"'\"&$B331&\"'!$u$9\"),\"(\"&INDIRECT(\"'\"&$B331&\"'!$U$8\")&\")\"),\"\")","v":""},{"$f":"IF(L331,\"This site has incomplete Cost and Revenue data.  \",\"\")&IF(M331,\"WFRS data for previous quarters is incomplete.  \",\"\")&IF(K331,IFERROR(INDIRECT(\"'\"&$B331&\"'!$g$9\"),\"\"),\"\")","v":""},false,{"$f":"IFERROR(INDIRECT(\"'\"&$B331&\"'!$u$7\"),FALSE)","v":false},{"$f":"IFERROR(INDIRECT(\"'\"&$B331&\"'!$u$10\"),FALSE)","v":false},{"$f":"IFERROR(INDIRECT(\"'\"&$B331&\"'!$AC$12\"),FALSE)","v":false},{"$f":"IFERROR(INDIRECT(\"'\"&$B331&\"'!$ad$12\"),FALSE)","v":false},null,{"$f":"IFERROR(INDIRECT(\"'\"&$B331&\"'!$d$10\"),\"\")","v":""},{"$f":"IFERROR(INDIRECT(\"'\"&$B331&\"'!$d$33\"),\"\")","v":""},{"$f":"IFERROR(INDIRECT(\"'\"&$B331&\"'!$j$33\")+INDIRECT(\"'\"&$B331&\"'!$k$33\"),\"\")","v":""},{"$f":"IFERROR(INDIRECT(\"'\"&$B331&\"'!$q$33\"),\"\")","v":""},{"$f":"IFERROR(INDIRECT(\"'\"&$B331&\"'!$e$33\"),\"\")","v":""},{"$f":"IFERROR(INDIRECT(\"'\"&$B331&\"'!$L$33\"),\"\")","v":""},{"$f":"IFERROR(INDIRECT(\"'\"&$B331&\"'!$g$33\")+INDIRECT(\"'\"&$B331&\"'!$h$33\")+INDIRECT(\"'\"&$B331&\"'!$i$33\"),\"\")","v":""}]
[296,{"$f":"IFERROR(IF(OR(SHEETNAME(A332)=\"HIDE\",SHEETNAME(A332)=\"Start Here\",SHEETNAME(A332)=\"Template\"),\"\",SHEETNAME(A332)),\"\")","v":""},{"$f":"IFERROR(INDIRECT(\"'\"&$B332&\"'!$d$6\"),\"\")","v":""},{"$f":"IFERROR(INDIRECT(\"'\"&$B332&\"'!$d$7\"),\"\")","v":""},{"$f":"IFERROR(INDIRECT(\"'\"&$B332&\"'!$d$8\"),\"\")","v":""},{"$f":"IFERROR(IF(OR(SHEETNAME($A332)=\"HIDE\",SHEETNAME($A332)=\"Start Here\",SHEETNAME($A332)=\"Template\"),\"\",HYPERLINK(\"#'\"&B332&\"'!A1\",\"Go to Sheet\")),\"\")","v":""},{"$f":"IFERROR(IF(INDIRECT(\"'\"&$B332&\"'!$U$7\"),INDIRECT(\"'\"&$B332&\"'!$u$9\"),\"(\"&INDIRECT(\"'\"&$B332&\"'!$U$8\")&\")\"),\"\")","v":""},{"$f":"IF(L332,\"This site has incomplete Cost and Revenue data.  \",\"\")&IF(M332,\"WFRS data for previous quarters is incomplete.  \",\"\")&IF(K332,IFERROR(INDIRECT(\"'\"&$B332&\"'!$g$9\"),\"\"),\"\")","v":""},false,{"$f":"IFERROR(INDIRECT(\"'\"&$B332&\"'!$u$7\"),FALSE)","v":false},{"$f":"IFERROR(INDIRECT(\"'\"&$B332&\"'!$u$10\"),FALSE)","v":false},{"$f":"IFERROR(INDIRECT(\"'\"&$B332&\"'!$AC$12\"),FALSE)","v":false},{"$f":"IFERROR(INDIRECT(\"'\"&$B332&\"'!$ad$12\"),FALSE)","v":false},null,{"$f":"IFERROR(INDIRECT(\"'\"&$B332&\"'!$d$10\"),\"\")","v":""},{"$f":"IFERROR(INDIRECT(\"'\"&$B332&\"'!$d$33\"),\"\")","v":""},{"$f":"IFERROR(INDIRECT(\"'\"&$B332&\"'!$j$33\")+INDIRECT(\"'\"&$B332&\"'!$k$33\"),\"\")","v":""},{"$f":"IFERROR(INDIRECT(\"'\"&$B332&\"'!$q$33\"),\"\")","v":""},{"$f":"IFERROR(INDIRECT(\"'\"&$B332&\"'!$e$33\"),\"\")","v":""},{"$f":"IFERROR(INDIRECT(\"'\"&$B332&\"'!$L$33\"),\"\")","v":""},{"$f":"IFERROR(INDIRECT(\"'\"&$B332&\"'!$g$33\")+INDIRECT(\"'\"&$B332&\"'!$h$33\")+INDIRECT(\"'\"&$B332&\"'!$i$33\"),\"\")","v":""}]
[297,{"$f":"IFERROR(IF(OR(SHEETNAME(A333)=\"HIDE\",SHEETNAME(A333)=\"Start Here\",SHEETNAME(A333)=\"Template\"),\"\",SHEETNAME(A333)),\"\")","v":""},{"$f":"IFERROR(INDIRECT(\"'\"&$B333&\"'!$d$6\"),\"\")","v":""},{"$f":"IFERROR(INDIRECT(\"'\"&$B333&\"'!$d$7\"),\"\")","v":""},{"$f":"IFERROR(INDIRECT(\"'\"&$B333&\"'!$d$8\"),\"\")","v":""},{"$f":"IFERROR(IF(OR(SHEETNAME($A333)=\"HIDE\",SHEETNAME($A333)=\"Start Here\",SHEETNAME($A333)=\"Template\"),\"\",HYPERLINK(\"#'\"&B333&\"'!A1\",\"Go to Sheet\")),\"\")","v":""},{"$f":"IFERROR(IF(INDIRECT(\"'\"&$B333&\"'!$U$7\"),INDIRECT(\"'\"&$B333&\"'!$u$9\"),\"(\"&INDIRECT(\"'\"&$B333&\"'!$U$8\")&\")\"),\"\")","v":""},{"$f":"IF(L333,\"This site has incomplete Cost and Revenue data.  \",\"\")&IF(M333,\"WFRS data for previous quarters is incomplete.  \",\"\")&IF(K333,IFERROR(INDIRECT(\"'\"&$B333&\"'!$g$9\"),\"\"),\"\")","v":""},false,{"$f":"IFERROR(INDIRECT(\"'\"&$B333&\"'!$u$7\"),FALSE)","v":false},{"$f":"IFERROR(INDIRECT(\"'\"&$B333&\"'!$u$10\"),FALSE)","v":false},{"$f":"IFERROR(INDIRECT(\"'\"&$B333&\"'!$AC$12\"),FALSE)","v":false},{"$f":"IFERROR(INDIRECT(\"'\"&$B333&\"'!$ad$12\"),FALSE)","v":false},null,{"$f":"IFERROR(INDIRECT(\"'\"&$B333&\"'!$d$10\"),\"\")","v":""},{"$f":"IFERROR(INDIRECT(\"'\"&$B333&\"'!$d$33\"),\"\")","v":""},{"$f":"IFERROR(INDIRECT(\"'\"&$B333&\"'!$j$33\")+INDIRECT(\"'\"&$B333&\"'!$k$33\"),\"\")","v":""},{"$f":"IFERROR(INDIRECT(\"'\"&$B333&\"'!$q$33\"),\"\")","v":""},{"$f":"IFERROR(INDIRECT(\"'\"&$B333&\"'!$e$33\"),\"\")","v":""},{"$f":"IFERROR(INDIRECT(\"'\"&$B333&\"'!$L$33\"),\"\")","v":""},{"$f":"IFERROR(INDIRECT(\"'\"&$B333&\"'!$g$33\")+INDIRECT(\"'\"&$B333&\"'!$h$33\")+INDIRECT(\"'\"&$B333&\"'!$i$33\"),\"\")","v":""}]
[298,{"$f":"IFERROR(IF(OR(SHEETNAME(A334)=\"HIDE\",SHEETNAME(A334)=\"Start Here\",SHEETNAME(A334)=\"Template\"),\"\",SHEETNAME(A334)),\"\")","v":""},{"$f":"IFERROR(INDIRECT(\"'\"&$B334&\"'!$d$6\"),\"\")","v":""},{"$f":"IFERROR(INDIRECT(\"'\"&$B334&\"'!$d$7\"),\"\")","v":""},{"$f":"IFERROR(INDIRECT(\"'\"&$B334&\"'!$d$8\"),\"\")","v":""},{"$f":"IFERROR(IF(OR(SHEETNAME($A334)=\"HIDE\",SHEETNAME($A334)=\"Start Here\",SHEETNAME($A334)=\"Template\"),\"\",HYPERLINK(\"#'\"&B334&\"'!A1\",\"Go to Sheet\")),\"\")","v":""},{"$f":"IFERROR(IF(INDIRECT(\"'\"&$B334&\"'!$U$7\"),INDIRECT(\"'\"&$B334&\"'!$u$9\"),\"(\"&INDIRECT(\"'\"&$B334&\"'!$U$8\")&\")\"),\"\")","v":""},{"$f":"IF(L334,\"This site has incomplete Cost and Revenue data.  \",\"\")&IF(M334,\"WFRS data for previous quarters is incomplete.  \",\"\")&IF(K334,IFERROR(INDIRECT(\"'\"&$B334&\"'!$g$9\"),\"\"),\"\")","v":""},false,{"$f":"IFERROR(INDIRECT(\"'\"&$B334&\"'!$u$7\"),FALSE)","v":false},{"$f":"IFERROR(INDIRECT(\"'\"&$B334&\"'!$u$10\"),FALSE)","v":false},{"$f":"IFERROR(INDIRECT(\"'\"&$B334&\"'!$AC$12\"),FALSE)","v":false},{"$f":"IFERROR(INDIRECT(\"'\"&$B334&\"'!$ad$12\"),FALSE)","v":false},null,{"$f":"IFERROR(INDIRECT(\"'\"&$B334&\"'!$d$10\"),\"\")","v":""},{"$f":"IFERROR(INDIRECT(\"'\"&$B334&\"'!$d$33\"),\"\")","v":""},{"$f":"IFERROR(INDIRECT(\"'\"&$B334&\"'!$j$33\")+INDIRECT(\"'\"&$B334&\"'!$k$33\"),\"\")","v":""},{"$f":"IFERROR(INDIRECT(\"'\"&$B334&\"'!$q$33\"),\"\")","v":""},{"$f":"IFERROR(INDIRECT(\"'\"&$B334&\"'!$e$33\"),\"\")","v":""},{"$f":"IFERROR(INDIRECT(\"'\"&$B334&\"'!$L$33\"),\"\")","v":""},{"$f":"IFERROR(INDIRECT(\"'\"&$B334&\"'!$g$33\")+INDIRECT(\"'\"&$B334&\"'!$h$33\")+INDIRECT(\"'\"&$B334&\"'!$i$33\"),\"\")","v":""}]
[299,{"$f":"IFERROR(IF(OR(SHEETNAME(A335)=\"HIDE\",SHEETNAME(A335)=\"Start Here\",SHEETNAME(A335)=\"Template\"),\"\",SHEETNAME(A335)),\"\")","v":""},{"$f":"IFERROR(INDIRECT(\"'\"&$B335&\"'!$d$6\"),\"\")","v":""},{"$f":"IFERROR(INDIRECT(\"'\"&$B335&\"'!$d$7\"),\"\")","v":""},{"$f":"IFERROR(INDIRECT(\"'\"&$B335&\"'!$d$8\"),\"\")","v":""},{"$f":"IFERROR(IF(OR(SHEETNAME($A335)=\"HIDE\",SHEETNAME($A335)=\"Start Here\",SHEETNAME($A335)=\"Template\"),\"\",HYPERLINK(\"#'\"&B335&\"'!A1\",\"Go to Sheet\")),\"\")","v":""},{"$f":"IFERROR(IF(INDIRECT(\"'\"&$B335&\"'!$U$7\"),INDIRECT(\"'\"&$B335&\"'!$u$9\"),\"(\"&INDIRECT(\"'\"&$B335&\"'!$U$8\")&\")\"),\"\")","v":""},{"$f":"IF(L335,\"This site has incomplete Cost and Revenue data.  \",\"\")&IF(M335,\"WFRS data for previous quarters is incomplete.  \",\"\")&IF(K335,IFERROR(INDIRECT(\"'\"&$B335&\"'!$g$9\"),\"\"),\"\")","v":""},false,{"$f":"IFERROR(INDIRECT(\"'\"&$B335&\"'!$u$7\"),FALSE)","v":false},{"$f":"IFERROR(INDIRECT(\"'\"&$B335&\"'!$u$10\"),FALSE)","v":false},{"$f":"IFERROR(INDIRECT(\"'\"&$B335&\"'!$AC$12\"),FALSE)","v":false},{"$f":"IFERROR(INDIRECT(\"'\"&$B335&\"'!$ad$12\"),FALSE)","v":false},null,{"$f":"IFERROR(INDIRECT(\"'\"&$B335&\"'!$d$10\"),\"\")","v":""},{"$f":"IFERROR(INDIRECT(\"'\"&$B335&\"'!$d$33\"),\"\")","v":""},{"$f":"IFERROR(INDIRECT(\"'\"&$B335&\"'!$j$33\")+INDIRECT(\"'\"&$B335&\"'!$k$33\"),\"\")","v":""},{"$f":"IFERROR(INDIRECT(\"'\"&$B335&\"'!$q$33\"),\"\")","v":""},{"$f":"IFERROR(INDIRECT(\"'\"&$B335&\"'!$e$33\"),\"\")","v":""},{"$f":"IFERROR(INDIRECT(\"'\"&$B335&\"'!$L$33\"),\"\")","v":""},{"$f":"IFERROR(INDIRECT(\"'\"&$B335&\"'!$g$33\")+INDIRECT(\"'\"&$B335&\"'!$h$33\")+INDIRECT(\"'\"&$B335&\"'!$i$33\"),\"\")","v":""}]
[300,{"$f":"IFERROR(IF(OR(SHEETNAME(A336)=\"HIDE\",SHEETNAME(A336)=\"Start Here\",SHEETNAME(A336)=\"Template\"),\"\",SHEETNAME(A336)),\"\")","v":""},{"$f":"IFERROR(INDIRECT(\"'\"&$B336&\"'!$d$6\"),\"\")","v":""},{"$f":"IFERROR(INDIRECT(\"'\"&$B336&\"'!$d$7\"),\"\")","v":""},{"$f":"IFERROR(INDIRECT(\"'\"&$B336&\"'!$d$8\"),\"\")","v":""},{"$f":"IFERROR(IF(OR(SHEETNAME($A336)=\"HIDE\",SHEETNAME($A336)=\"Start Here\",SHEETNAME($A336)=\"Template\"),\"\",HYPERLINK(\"#'\"&B336&\"'!A1\",\"Go to Sheet\")),\"\")","v":""},{"$f":"IFERROR(IF(INDIRECT(\"'\"&$B336&\"'!$U$7\"),INDIRECT(\"'\"&$B336&\"'!$u$9\"),\"(\"&INDIRECT(\"'\"&$B336&\"'!$U$8\")&\")\"),\"\")","v":""},{"$f":"IF(L336,\"This site has incomplete Cost and Revenue data.  \",\"\")&IF(M336,\"WFRS data for previous quarters is incomplete.  \",\"\")&IF(K336,IFERROR(INDIRECT(\"'\"&$B336&\"'!$g$9\"),\"\"),\"\")","v":""},false,{"$f":"IFERROR(INDIRECT(\"'\"&$B336&\"'!$u$7\"),FALSE)","v":false},{"$f":"IFERROR(INDIRECT(\"'\"&$B336&\"'!$u$10\"),FALSE)","v":false},{"$f":"IFERROR(INDIRECT(\"'\"&$B336&\"'!$AC$12\"),FALSE)","v":false},{"$f":"IFERROR(INDIRECT(\"'\"&$B336&\"'!$ad$12\"),FALSE)","v":false},null,{"$f":"IFERROR(INDIRECT(\"'\"&$B336&\"'!$d$10\"),\"\")","v":""},{"$f":"IFERROR(INDIRECT(\"'\"&$B336&\"'!$d$33\"),\"\")","v":""},{"$f":"IFERROR(INDIRECT(\"'\"&$B336&\"'!$j$33\")+INDIRECT(\"'\"&$B336&\"'!$k$33\"),\"\")","v":""},{"$f":"IFERROR(INDIRECT(\"'\"&$B336&\"'!$q$33\"),\"\")","v":""},{"$f":"IFERROR(INDIRECT(\"'\"&$B336&\"'!$e$33\"),\"\")","v":""},{"$f":"IFERROR(INDIRECT(\"'\"&$B336&\"'!$L$33\"),\"\")","v":""},{"$f":"IFERROR(INDIRECT(\"'\"&$B336&\"'!$g$33\")+INDIRECT(\"'\"&$B336&\"'!$h$33\")+INDIRECT(\"'\"&$B336&\"'!$i$33\"),\"\")","v":""}]
[301,{"$f":"IFERROR(IF(OR(SHEETNAME(A337)=\"HIDE\",SHEETNAME(A337)=\"Start Here\",SHEETNAME(A337)=\"Template\"),\"\",SHEETNAME(A337)),\"\")","v":""},{"$f":"IFERROR(INDIRECT(\"'\"&$B337&\"'!$d$6\"),\"\")","v":""},{"$f":"IFERROR(INDIRECT(\"'\"&$B337&\"'!$d$7\"),\"\")","v":""},{"$f":"IFERROR(INDIRECT(\"'\"&$B337&\"'!$d$8\"),\"\")","v":""},{"$f":"IFERROR(IF(OR(SHEETNAME($A337)=\"HIDE\",SHEETNAME($A337)=\"Start Here\",SHEETNAME($A337)=\"Template\"),\"\",HYPERLINK(\"#'\"&B337&\"'!A1\",\"Go to Sheet\")),\"\")","v":""},{"$f":"IFERROR(IF(INDIRECT(\"'\"&$B337&\"'!$U$7\"),INDIRECT(\"'\"&$B337&\"'!$u$9\"),\"(\"&INDIRECT(\"'\"&$B337&\"'!$U$8\")&\")\"),\"\")","v":""},{"$f":"IF(L337,\"This site has incomplete Cost and Revenue data.  \",\"\")&IF(M337,\"WFRS data for previous quarters is incomplete.  \",\"\")&IF(K337,IFERROR(INDIRECT(\"'\"&$B337&\"'!$g$9\"),\"\"),\"\")","v":""},false,{"$f":"IFERROR(INDIRECT(\"'\"&$B337&\"'!$u$7\"),FALSE)","v":false},{"$f":"IFERROR(INDIRECT(\"'\"&$B337&\"'!$u$10\"),FALSE)","v":false},{"$f":"IFERROR(INDIRECT(\"'\"&$B337&\"'!$AC$12\"),FALSE)","v":false},{"$f":"IFERROR(INDIRECT(\"'\"&$B337&\"'!$ad$12\"),FALSE)","v":false},null,{"$f":"IFERROR(INDIRECT(\"'\"&$B337&\"'!$d$10\"),\"\")","v":""},{"$f":"IFERROR(INDIRECT(\"'\"&$B337&\"'!$d$33\"),\"\")","v":""},{"$f":"IFERROR(INDIRECT(\"'\"&$B337&\"'!$j$33\")+INDIRECT(\"'\"&$B337&\"'!$k$33\"),\"\")","v":""},{"$f":"IFERROR(INDIRECT(\"'\"&$B337&\"'!$q$33\"),\"\")","v":""},{"$f":"IFERROR(INDIRECT(\"'\"&$B337&\"'!$e$33\"),\"\")","v":""},{"$f":"IFERROR(INDIRECT(\"'\"&$B337&\"'!$L$33\"),\"\")","v":""},{"$f":"IFERROR(INDIRECT(\"'\"&$B337&\"'!$g$33\")+INDIRECT(\"'\"&$B337&\"'!$h$33\")+INDIRECT(\"'\"&$B337&\"'!$i$33\"),\"\")","v":""}]
[302,{"$f":"IFERROR(IF(OR(SHEETNAME(A338)=\"HIDE\",SHEETNAME(A338)=\"Start Here\",SHEETNAME(A338)=\"Template\"),\"\",SHEETNAME(A338)),\"\")","v":""},{"$f":"IFERROR(INDIRECT(\"'\"&$B338&\"'!$d$6\"),\"\")","v":""},{"$f":"IFERROR(INDIRECT(\"'\"&$B338&\"'!$d$7\"),\"\")","v":""},{"$f":"IFERROR(INDIRECT(\"'\"&$B338&\"'!$d$8\"),\"\")","v":""},{"$f":"IFERROR(IF(OR(SHEETNAME($A338)=\"HIDE\",SHEETNAME($A338)=\"Start Here\",SHEETNAME($A338)=\"Template\"),\"\",HYPERLINK(\"#'\"&B338&\"'!A1\",\"Go to Sheet\")),\"\")","v":""},{"$f":"IFERROR(IF(INDIRECT(\"'\"&$B338&\"'!$U$7\"),INDIRECT(\"'\"&$B338&\"'!$u$9\"),\"(\"&INDIRECT(\"'\"&$B338&\"'!$U$8\")&\")\"),\"\")","v":""},{"$f":"IF(L338,\"This site has incomplete Cost and Revenue data.  \",\"\")&IF(M338,\"WFRS data for previous quarters is incomplete.  \",\"\")&IF(K338,IFERROR(INDIRECT(\"'\"&$B338&\"'!$g$9\"),\"\"),\"\")","v":""},false,{"$f":"IFERROR(INDIRECT(\"'\"&$B338&\"'!$u$7\"),FALSE)","v":false},{"$f":"IFERROR(INDIRECT(\"'\"&$B338&\"'!$u$10\"),FALSE)","v":false},{"$f":"IFERROR(INDIRECT(\"'\"&$B338&\"'!$AC$12\"),FALSE)","v":false},{"$f":"IFERROR(INDIRECT(\"'\"&$B338&\"'!$ad$12\"),FALSE)","v":false},null,{"$f":"IFERROR(INDIRECT(\"'\"&$B338&\"'!$d$10\"),\"\")","v":""},{"$f":"IFERROR(INDIRECT(\"'\"&$B338&\"'!$d$33\"),\"\")","v":""},{"$f":"IFERROR(INDIRECT(\"'\"&$B338&\"'!$j$33\")+INDIRECT(\"'\"&$B338&\"'!$k$33\"),\"\")","v":""},{"$f":"IFERROR(INDIRECT(\"'\"&$B338&\"'!$q$33\"),\"\")","v":""},{"$f":"IFERROR(INDIRECT(\"'\"&$B338&\"'!$e$33\"),\"\")","v":""},{"$f":"IFERROR(INDIRECT(\"'\"&$B338&\"'!$L$33\"),\"\")","v":""},{"$f":"IFERROR(INDIRECT(\"'\"&$B338&\"'!$g$33\")+INDIRECT(\"'\"&$B338&\"'!$h$33\")+INDIRECT(\"'\"&$B338&\"'!$i$33\"),\"\")","v":""}]
[303,{"$f":"IFERROR(IF(OR(SHEETNAME(A339)=\"HIDE\",SHEETNAME(A339)=\"Start Here\",SHEETNAME(A339)=\"Template\"),\"\",SHEETNAME(A339)),\"\")","v":""},{"$f":"IFERROR(INDIRECT(\"'\"&$B339&\"'!$d$6\"),\"\")","v":""},{"$f":"IFERROR(INDIRECT(\"'\"&$B339&\"'!$d$7\"),\"\")","v":""},{"$f":"IFERROR(INDIRECT(\"'\"&$B339&\"'!$d$8\"),\"\")","v":""},{"$f":"IFERROR(IF(OR(SHEETNAME($A339)=\"HIDE\",SHEETNAME($A339)=\"Start Here\",SHEETNAME($A339)=\"Template\"),\"\",HYPERLINK(\"#'\"&B339&\"'!A1\",\"Go to Sheet\")),\"\")","v":""},{"$f":"IFERROR(IF(INDIRECT(\"'\"&$B339&\"'!$U$7\"),INDIRECT(\"'\"&$B339&\"'!$u$9\"),\"(\"&INDIRECT(\"'\"&$B339&\"'!$U$8\")&\")\"),\"\")","v":""},{"$f":"IF(L339,\"This site has incomplete Cost and Revenue data.  \",\"\")&IF(M339,\"WFRS data for previous quarters is incomplete.  \",\"\")&IF(K339,IFERROR(INDIRECT(\"'\"&$B339&\"'!$g$9\"),\"\"),\"\")","v":""},false,{"$f":"IFERROR(INDIRECT(\"'\"&$B339&\"'!$u$7\"),FALSE)","v":false},{"$f":"IFERROR(INDIRECT(\"'\"&$B339&\"'!$u$10\"),FALSE)","v":false},{"$f":"IFERROR(INDIRECT(\"'\"&$B339&\"'!$AC$12\"),FALSE)","v":false},{"$f":"IFERROR(INDIRECT(\"'\"&$B339&\"'!$ad$12\"),FALSE)","v":false},null,{"$f":"IFERROR(INDIRECT(\"'\"&$B339&\"'!$d$10\"),\"\")","v":""},{"$f":"IFERROR(INDIRECT(\"'\"&$B339&\"'!$d$33\"),\"\")","v":""},{"$f":"IFERROR(INDIRECT(\"'\"&$B339&\"'!$j$33\")+INDIRECT(\"'\"&$B339&\"'!$k$33\"),\"\")","v":""},{"$f":"IFERROR(INDIRECT(\"'\"&$B339&\"'!$q$33\"),\"\")","v":""},{"$f":"IFERROR(INDIRECT(\"'\"&$B339&\"'!$e$33\"),\"\")","v":""},{"$f":"IFERROR(INDIRECT(\"'\"&$B339&\"'!$L$33\"),\"\")","v":""},{"$f":"IFERROR(INDIRECT(\"'\"&$B339&\"'!$g$33\")+INDIRECT(\"'\"&$B339&\"'!$h$33\")+INDIRECT(\"'\"&$B339&\"'!$i$33\"),\"\")","v":""}]
[304,{"$f":"IFERROR(IF(OR(SHEETNAME(A340)=\"HIDE\",SHEETNAME(A340)=\"Start Here\",SHEETNAME(A340)=\"Template\"),\"\",SHEETNAME(A340)),\"\")","v":""},{"$f":"IFERROR(INDIRECT(\"'\"&$B340&\"'!$d$6\"),\"\")","v":""},{"$f":"IFERROR(INDIRECT(\"'\"&$B340&\"'!$d$7\"),\"\")","v":""},{"$f":"IFERROR(INDIRECT(\"'\"&$B340&\"'!$d$8\"),\"\")","v":""},{"$f":"IFERROR(IF(OR(SHEETNAME($A340)=\"HIDE\",SHEETNAME($A340)=\"Start Here\",SHEETNAME($A340)=\"Template\"),\"\",HYPERLINK(\"#'\"&B340&\"'!A1\",\"Go to Sheet\")),\"\")","v":""},{"$f":"IFERROR(IF(INDIRECT(\"'\"&$B340&\"'!$U$7\"),INDIRECT(\"'\"&$B340&\"'!$u$9\"),\"(\"&INDIRECT(\"'\"&$B340&\"'!$U$8\")&\")\"),\"\")","v":""},{"$f":"IF(L340,\"This site has incomplete Cost and Revenue data.  \",\"\")&IF(M340,\"WFRS data for previous quarters is incomplete.  \",\"\")&IF(K340,IFERROR(INDIRECT(\"'\"&$B340&\"'!$g$9\"),\"\"),\"\")","v":""},false,{"$f":"IFERROR(INDIRECT(\"'\"&$B340&\"'!$u$7\"),FALSE)","v":false},{"$f":"IFERROR(INDIRECT(\"'\"&$B340&\"'!$u$10\"),FALSE)","v":false},{"$f":"IFERROR(INDIRECT(\"'\"&$B340&\"'!$AC$12\"),FALSE)","v":false},{"$f":"IFERROR(INDIRECT(\"'\"&$B340&\"'!$ad$12\"),FALSE)","v":false},null,{"$f":"IFERROR(INDIRECT(\"'\"&$B340&\"'!$d$10\"),\"\")","v":""},{"$f":"IFERROR(INDIRECT(\"'\"&$B340&\"'!$d$33\"),\"\")","v":""},{"$f":"IFERROR(INDIRECT(\"'\"&$B340&\"'!$j$33\")+INDIRECT(\"'\"&$B340&\"'!$k$33\"),\"\")","v":""},{"$f":"IFERROR(INDIRECT(\"'\"&$B340&\"'!$q$33\"),\"\")","v":""},{"$f":"IFERROR(INDIRECT(\"'\"&$B340&\"'!$e$33\"),\"\")","v":""},{"$f":"IFERROR(INDIRECT(\"'\"&$B340&\"'!$L$33\"),\"\")","v":""},{"$f":"IFERROR(INDIRECT(\"'\"&$B340&\"'!$g$33\")+INDIRECT(\"'\"&$B340&\"'!$h$33\")+INDIRECT(\"'\"&$B340&\"'!$i$33\"),\"\")","v":""}]
[305,{"$f":"IFERROR(IF(OR(SHEETNAME(A341)=\"HIDE\",SHEETNAME(A341)=\"Start Here\",SHEETNAME(A341)=\"Template\"),\"\",SHEETNAME(A341)),\"\")","v":""},{"$f":"IFERROR(INDIRECT(\"'\"&$B341&\"'!$d$6\"),\"\")","v":""},{"$f":"IFERROR(INDIRECT(\"'\"&$B341&\"'!$d$7\"),\"\")","v":""},{"$f":"IFERROR(INDIRECT(\"'\"&$B341&\"'!$d$8\"),\"\")","v":""},{"$f":"IFERROR(IF(OR(SHEETNAME($A341)=\"HIDE\",SHEETNAME($A341)=\"Start Here\",SHEETNAME($A341)=\"Template\"),\"\",HYPERLINK(\"#'\"&B341&\"'!A1\",\"Go to Sheet\")),\"\")","v":""},{"$f":"IFERROR(IF(INDIRECT(\"'\"&$B341&\"'!$U$7\"),INDIRECT(\"'\"&$B341&\"'!$u$9\"),\"(\"&INDIRECT(\"'\"&$B341&\"'!$U$8\")&\")\"),\"\")","v":""},{"$f":"IF(L341,\"This site has incomplete Cost and Revenue data.  \",\"\")&IF(M341,\"WFRS data for previous quarters is incomplete.  \",\"\")&IF(K341,IFERROR(INDIRECT(\"'\"&$B341&\"'!$g$9\"),\"\"),\"\")","v":""},false,{"$f":"IFERROR(INDIRECT(\"'\"&$B341&\"'!$u$7\"),FALSE)","v":false},{"$f":"IFERROR(INDIRECT(\"'\"&$B341&\"'!$u$10\"),FALSE)","v":false},{"$f":"IFERROR(INDIRECT(\"'\"&$B341&\"'!$AC$12\"),FALSE)","v":false},{"$f":"IFERROR(INDIRECT(\"'\"&$B341&\"'!$ad$12\"),FALSE)","v":false},null,{"$f":"IFERROR(INDIRECT(\"'\"&$B341&\"'!$d$10\"),\"\")","v":""},{"$f":"IFERROR(INDIRECT(\"'\"&$B341&\"'!$d$33\"),\"\")","v":""},{"$f":"IFERROR(INDIRECT(\"'\"&$B341&\"'!$j$33\")+INDIRECT(\"'\"&$B341&\"'!$k$33\"),\"\")","v":""},{"$f":"IFERROR(INDIRECT(\"'\"&$B341&\"'!$q$33\"),\"\")","v":""},{"$f":"IFERROR(INDIRECT(\"'\"&$B341&\"'!$e$33\"),\"\")","v":""},{"$f":"IFERROR(INDIRECT(\"'\"&$B341&\"'!$L$33\"),\"\")","v":""},{"$f":"IFERROR(INDIRECT(\"'\"&$B341&\"'!$g$33\")+INDIRECT(\"'\"&$B341&\"'!$h$33\")+INDIRECT(\"'\"&$B341&\"'!$i$33\"),\"\")","v":""}]
[306,{"$f":"IFERROR(IF(OR(SHEETNAME(A342)=\"HIDE\",SHEETNAME(A342)=\"Start Here\",SHEETNAME(A342)=\"Template\"),\"\",SHEETNAME(A342)),\"\")","v":""},{"$f":"IFERROR(INDIRECT(\"'\"&$B342&\"'!$d$6\"),\"\")","v":""},{"$f":"IFERROR(INDIRECT(\"'\"&$B342&\"'!$d$7\"),\"\")","v":""},{"$f":"IFERROR(INDIRECT(\"'\"&$B342&\"'!$d$8\"),\"\")","v":""},{"$f":"IFERROR(IF(OR(SHEETNAME($A342)=\"HIDE\",SHEETNAME($A342)=\"Start Here\",SHEETNAME($A342)=\"Template\"),\"\",HYPERLINK(\"#'\"&B342&\"'!A1\",\"Go to Sheet\")),\"\")","v":""},{"$f":"IFERROR(IF(INDIRECT(\"'\"&$B342&\"'!$U$7\"),INDIRECT(\"'\"&$B342&\"'!$u$9\"),\"(\"&INDIRECT(\"'\"&$B342&\"'!$U$8\")&\")\"),\"\")","v":""},{"$f":"IF(L342,\"This site has incomplete Cost and Revenue data.  \",\"\")&IF(M342,\"WFRS data for previous quarters is incomplete.  \",\"\")&IF(K342,IFERROR(INDIRECT(\"'\"&$B342&\"'!$g$9\"),\"\"),\"\")","v":""},false,{"$f":"IFERROR(INDIRECT(\"'\"&$B342&\"'!$u$7\"),FALSE)","v":false},{"$f":"IFERROR(INDIRECT(\"'\"&$B342&\"'!$u$10\"),FALSE)","v":false},{"$f":"IFERROR(INDIRECT(\"'\"&$B342&\"'!$AC$12\"),FALSE)","v":false},{"$f":"IFERROR(INDIRECT(\"'\"&$B342&\"'!$ad$12\"),FALSE)","v":false},null,{"$f":"IFERROR(INDIRECT(\"'\"&$B342&\"'!$d$10\"),\"\")","v":""},{"$f":"IFERROR(INDIRECT(\"'\"&$B342&\"'!$d$33\"),\"\")","v":""},{"$f":"IFERROR(INDIRECT(\"'\"&$B342&\"'!$j$33\")+INDIRECT(\"'\"&$B342&\"'!$k$33\"),\"\")","v":""},{"$f":"IFERROR(INDIRECT(\"'\"&$B342&\"'!$q$33\"),\"\")","v":""},{"$f":"IFERROR(INDIRECT(\"'\"&$B342&\"'!$e$33\"),\"\")","v":""},{"$f":"IFERROR(INDIRECT(\"'\"&$B342&\"'!$L$33\"),\"\")","v":""},{"$f":"IFERROR(INDIRECT(\"'\"&$B342&\"'!$g$33\")+INDIRECT(\"'\"&$B342&\"'!$h$33\")+INDIRECT(\"'\"&$B342&\"'!$i$33\"),\"\")","v":""}]
[307,{"$f":"IFERROR(IF(OR(SHEETNAME(A343)=\"HIDE\",SHEETNAME(A343)=\"Start Here\",SHEETNAME(A343)=\"Template\"),\"\",SHEETNAME(A343)),\"\")","v":""},{"$f":"IFERROR(INDIRECT(\"'\"&$B343&\"'!$d$6\"),\"\")","v":""},{"$f":"IFERROR(INDIRECT(\"'\"&$B343&\"'!$d$7\"),\"\")","v":""},{"$f":"IFERROR(INDIRECT(\"'\"&$B343&\"'!$d$8\"),\"\")","v":""},{"$f":"IFERROR(IF(OR(SHEETNAME($A343)=\"HIDE\",SHEETNAME($A343)=\"Start Here\",SHEETNAME($A343)=\"Template\"),\"\",HYPERLINK(\"#'\"&B343&\"'!A1\",\"Go to Sheet\")),\"\")","v":""},{"$f":"IFERROR(IF(INDIRECT(\"'\"&$B343&\"'!$U$7\"),INDIRECT(\"'\"&$B343&\"'!$u$9\"),\"(\"&INDIRECT(\"'\"&$B343&\"'!$U$8\")&\")\"),\"\")","v":""},{"$f":"IF(L343,\"This site has incomplete Cost and Revenue data.  \",\"\")&IF(M343,\"WFRS data for previous quarters is incomplete.  \",\"\")&IF(K343,IFERROR(INDIRECT(\"'\"&$B343&\"'!$g$9\"),\"\"),\"\")","v":""},false,{"$f":"IFERROR(INDIRECT(\"'\"&$B343&\"'!$u$7\"),FALSE)","v":false},{"$f":"IFERROR(INDIRECT(\"'\"&$B343&\"'!$u$10\"),FALSE)","v":false},{"$f":"IFERROR(INDIRECT(\"'\"&$B343&\"'!$AC$12\"),FALSE)","v":false},{"$f":"IFERROR(INDIRECT(\"'\"&$B343&\"'!$ad$12\"),FALSE)","v":false},null,{"$f":"IFERROR(INDIRECT(\"'\"&$B343&\"'!$d$10\"),\"\")","v":""},{"$f":"IFERROR(INDIRECT(\"'\"&$B343&\"'!$d$33\"),\"\")","v":""},{"$f":"IFERROR(INDIRECT(\"'\"&$B343&\"'!$j$33\")+INDIRECT(\"'\"&$B343&\"'!$k$33\"),\"\")","v":""},{"$f":"IFERROR(INDIRECT(\"'\"&$B343&\"'!$q$33\"),\"\")","v":""},{"$f":"IFERROR(INDIRECT(\"'\"&$B343&\"'!$e$33\"),\"\")","v":""},{"$f":"IFERROR(INDIRECT(\"'\"&$B343&\"'!$L$33\"),\"\")","v":""},{"$f":"IFERROR(INDIRECT(\"'\"&$B343&\"'!$g$33\")+INDIRECT(\"'\"&$B343&\"'!$h$33\")+INDIRECT(\"'\"&$B343&\"'!$i$33\"),\"\")","v":""}]
[308,{"$f":"IFERROR(IF(OR(SHEETNAME(A344)=\"HIDE\",SHEETNAME(A344)=\"Start Here\",SHEETNAME(A344)=\"Template\"),\"\",SHEETNAME(A344)),\"\")","v":""},{"$f":"IFERROR(INDIRECT(\"'\"&$B344&\"'!$d$6\"),\"\")","v":""},{"$f":"IFERROR(INDIRECT(\"'\"&$B344&\"'!$d$7\"),\"\")","v":""},{"$f":"IFERROR(INDIRECT(\"'\"&$B344&\"'!$d$8\"),\"\")","v":""},{"$f":"IFERROR(IF(OR(SHEETNAME($A344)=\"HIDE\",SHEETNAME($A344)=\"Start Here\",SHEETNAME($A344)=\"Template\"),\"\",HYPERLINK(\"#'\"&B344&\"'!A1\",\"Go to Sheet\")),\"\")","v":""},{"$f":"IFERROR(IF(INDIRECT(\"'\"&$B344&\"'!$U$7\"),INDIRECT(\"'\"&$B344&\"'!$u$9\"),\"(\"&INDIRECT(\"'\"&$B344&\"'!$U$8\")&\")\"),\"\")","v":""},{"$f":"IF(L344,\"This site has incomplete Cost and Revenue data.  \",\"\")&IF(M344,\"WFRS data for previous quarters is incomplete.  \",\"\")&IF(K344,IFERROR(INDIRECT(\"'\"&$B344&\"'!$g$9\"),\"\"),\"\")","v":""},false,{"$f":"IFERROR(INDIRECT(\"'\"&$B344&\"'!$u$7\"),FALSE)","v":false},{"$f":"IFERROR(INDIRECT(\"'\"&$B344&\"'!$u$10\"),FALSE)","v":false},{"$f":"IFERROR(INDIRECT(\"'\"&$B344&\"'!$AC$12\"),FALSE)","v":false},{"$f":"IFERROR(INDIRECT(\"'\"&$B344&\"'!$ad$12\"),FALSE)","v":false},null,{"$f":"IFERROR(INDIRECT(\"'\"&$B344&\"'!$d$10\"),\"\")","v":""},{"$f":"IFERROR(INDIRECT(\"'\"&$B344&\"'!$d$33\"),\"\")","v":""},{"$f":"IFERROR(INDIRECT(\"'\"&$B344&\"'!$j$33\")+INDIRECT(\"'\"&$B344&\"'!$k$33\"),\"\")","v":""},{"$f":"IFERROR(INDIRECT(\"'\"&$B344&\"'!$q$33\"),\"\")","v":""},{"$f":"IFERROR(INDIRECT(\"'\"&$B344&\"'!$e$33\"),\"\")","v":""},{"$f":"IFERROR(INDIRECT(\"'\"&$B344&\"'!$L$33\"),\"\")","v":""},{"$f":"IFERROR(INDIRECT(\"'\"&$B344&\"'!$g$33\")+INDIRECT(\"'\"&$B344&\"'!$h$33\")+INDIRECT(\"'\"&$B344&\"'!$i$33\"),\"\")","v":""}]
[309,{"$f":"IFERROR(IF(OR(SHEETNAME(A345)=\"HIDE\",SHEETNAME(A345)=\"Start Here\",SHEETNAME(A345)=\"Template\"),\"\",SHEETNAME(A345)),\"\")","v":""},{"$f":"IFERROR(INDIRECT(\"'\"&$B345&\"'!$d$6\"),\"\")","v":""},{"$f":"IFERROR(INDIRECT(\"'\"&$B345&\"'!$d$7\"),\"\")","v":""},{"$f":"IFERROR(INDIRECT(\"'\"&$B345&\"'!$d$8\"),\"\")","v":""},{"$f":"IFERROR(IF(OR(SHEETNAME($A345)=\"HIDE\",SHEETNAME($A345)=\"Start Here\",SHEETNAME($A345)=\"Template\"),\"\",HYPERLINK(\"#'\"&B345&\"'!A1\",\"Go to Sheet\")),\"\")","v":""},{"$f":"IFERROR(IF(INDIRECT(\"'\"&$B345&\"'!$U$7\"),INDIRECT(\"'\"&$B345&\"'!$u$9\"),\"(\"&INDIRECT(\"'\"&$B345&\"'!$U$8\")&\")\"),\"\")","v":""},{"$f":"IF(L345,\"This site has incomplete Cost and Revenue data.  \",\"\")&IF(M345,\"WFRS data for previous quarters is incomplete.  \",\"\")&IF(K345,IFERROR(INDIRECT(\"'\"&$B345&\"'!$g$9\"),\"\"),\"\")","v":""},false,{"$f":"IFERROR(INDIRECT(\"'\"&$B345&\"'!$u$7\"),FALSE)","v":false},{"$f":"IFERROR(INDIRECT(\"'\"&$B345&\"'!$u$10\"),FALSE)","v":false},{"$f":"IFERROR(INDIRECT(\"'\"&$B345&\"'!$AC$12\"),FALSE)","v":false},{"$f":"IFERROR(INDIRECT(\"'\"&$B345&\"'!$ad$12\"),FALSE)","v":false},null,{"$f":"IFERROR(INDIRECT(\"'\"&$B345&\"'!$d$10\"),\"\")","v":""},{"$f":"IFERROR(INDIRECT(\"'\"&$B345&\"'!$d$33\"),\"\")","v":""},{"$f":"IFERROR(INDIRECT(\"'\"&$B345&\"'!$j$33\")+INDIRECT(\"'\"&$B345&\"'!$k$33\"),\"\")","v":""},{"$f":"IFERROR(INDIRECT(\"'\"&$B345&\"'!$q$33\"),\"\")","v":""},{"$f":"IFERROR(INDIRECT(\"'\"&$B345&\"'!$e$33\"),\"\")","v":""},{"$f":"IFERROR(INDIRECT(\"'\"&$B345&\"'!$L$33\"),\"\")","v":""},{"$f":"IFERROR(INDIRECT(\"'\"&$B345&\"'!$g$33\")+INDIRECT(\"'\"&$B345&\"'!$h$33\")+INDIRECT(\"'\"&$B345&\"'!$i$33\"),\"\")","v":""}]
[310,{"$f":"IFERROR(IF(OR(SHEETNAME(A346)=\"HIDE\",SHEETNAME(A346)=\"Start Here\",SHEETNAME(A346)=\"Template\"),\"\",SHEETNAME(A346)),\"\")","v":""},{"$f":"IFERROR(INDIRECT(\"'\"&$B346&\"'!$d$6\"),\"\")","v":""},{"$f":"IFERROR(INDIRECT(\"'\"&$B346&\"'!$d$7\"),\"\")","v":""},{"$f":"IFERROR(INDIRECT(\"'\"&$B346&\"'!$d$8\"),\"\")","v":""},{"$f":"IFERROR(IF(OR(SHEETNAME($A346)=\"HIDE\",SHEETNAME($A346)=\"Start Here\",SHEETNAME($A346)=\"Template\"),\"\",HYPERLINK(\"#'\"&B346&\"'!A1\",\"Go to Sheet\")),\"\")","v":""},{"$f":"IFERROR(IF(INDIRECT(\"'\"&$B346&\"'!$U$7\"),INDIRECT(\"'\"&$B346&\"'!$u$9\"),\"(\"&INDIRECT(\"'\"&$B346&\"'!$U$8\")&\")\"),\"\")","v":""},{"$f":"IF(L346,\"This site has incomplete Cost and Revenue data.  \",\"\")&IF(M346,\"WFRS data for previous quarters is incomplete.  \",\"\")&IF(K346,IFERROR(INDIRECT(\"'\"&$B346&\"'!$g$9\"),\"\"),\"\")","v":""},false,{"$f":"IFERROR(INDIRECT(\"'\"&$B346&\"'!$u$7\"),FALSE)","v":false},{"$f":"IFERROR(INDIRECT(\"'\"&$B346&\"'!$u$10\"),FALSE)","v":false},{"$f":"IFERROR(INDIRECT(\"'\"&$B346&\"'!$AC$12\"),FALSE)","v":false},{"$f":"IFERROR(INDIRECT(\"'\"&$B346&\"'!$ad$12\"),FALSE)","v":false},null,{"$f":"IFERROR(INDIRECT(\"'\"&$B346&\"'!$d$10\"),\"\")","v":""},{"$f":"IFERROR(INDIRECT(\"'\"&$B346&\"'!$d$33\"),\"\")","v":""},{"$f":"IFERROR(INDIRECT(\"'\"&$B346&\"'!$j$33\")+INDIRECT(\"'\"&$B346&\"'!$k$33\"),\"\")","v":""},{"$f":"IFERROR(INDIRECT(\"'\"&$B346&\"'!$q$33\"),\"\")","v":""},{"$f":"IFERROR(INDIRECT(\"'\"&$B346&\"'!$e$33\"),\"\")","v":""},{"$f":"IFERROR(INDIRECT(\"'\"&$B346&\"'!$L$33\"),\"\")","v":""},{"$f":"IFERROR(INDIRECT(\"'\"&$B346&\"'!$g$33\")+INDIRECT(\"'\"&$B346&\"'!$h$33\")+INDIRECT(\"'\"&$B346&\"'!$i$33\"),\"\")","v":""}]
[311,{"$f":"IFERROR(IF(OR(SHEETNAME(A347)=\"HIDE\",SHEETNAME(A347)=\"Start Here\",SHEETNAME(A347)=\"Template\"),\"\",SHEETNAME(A347)),\"\")","v":""},{"$f":"IFERROR(INDIRECT(\"'\"&$B347&\"'!$d$6\"),\"\")","v":""},{"$f":"IFERROR(INDIRECT(\"'\"&$B347&\"'!$d$7\"),\"\")","v":""},{"$f":"IFERROR(INDIRECT(\"'\"&$B347&\"'!$d$8\"),\"\")","v":""},{"$f":"IFERROR(IF(OR(SHEETNAME($A347)=\"HIDE\",SHEETNAME($A347)=\"Start Here\",SHEETNAME($A347)=\"Template\"),\"\",HYPERLINK(\"#'\"&B347&\"'!A1\",\"Go to Sheet\")),\"\")","v":""},{"$f":"IFERROR(IF(INDIRECT(\"'\"&$B347&\"'!$U$7\"),INDIRECT(\"'\"&$B347&\"'!$u$9\"),\"(\"&INDIRECT(\"'\"&$B347&\"'!$U$8\")&\")\"),\"\")","v":""},{"$f":"IF(L347,\"This site has incomplete Cost and Revenue data.  \",\"\")&IF(M347,\"WFRS data for previous quarters is incomplete.  \",\"\")&IF(K347,IFERROR(INDIRECT(\"'\"&$B347&\"'!$g$9\"),\"\"),\"\")","v":""},false,{"$f":"IFERROR(INDIRECT(\"'\"&$B347&\"'!$u$7\"),FALSE)","v":false},{"$f":"IFERROR(INDIRECT(\"'\"&$B347&\"'!$u$10\"),FALSE)","v":false},{"$f":"IFERROR(INDIRECT(\"'\"&$B347&\"'!$AC$12\"),FALSE)","v":false},{"$f":"IFERROR(INDIRECT(\"'\"&$B347&\"'!$ad$12\"),FALSE)","v":false},null,{"$f":"IFERROR(INDIRECT(\"'\"&$B347&\"'!$d$10\"),\"\")","v":""},{"$f":"IFERROR(INDIRECT(\"'\"&$B347&\"'!$d$33\"),\"\")","v":""},{"$f":"IFERROR(INDIRECT(\"'\"&$B347&\"'!$j$33\")+INDIRECT(\"'\"&$B347&\"'!$k$33\"),\"\")","v":""},{"$f":"IFERROR(INDIRECT(\"'\"&$B347&\"'!$q$33\"),\"\")","v":""},{"$f":"IFERROR(INDIRECT(\"'\"&$B347&\"'!$e$33\"),\"\")","v":""},{"$f":"IFERROR(INDIRECT(\"'\"&$B347&\"'!$L$33\"),\"\")","v":""},{"$f":"IFERROR(INDIRECT(\"'\"&$B347&\"'!$g$33\")+INDIRECT(\"'\"&$B347&\"'!$h$33\")+INDIRECT(\"'\"&$B347&\"'!$i$33\"),\"\")","v":""}]
[312,{"$f":"IFERROR(IF(OR(SHEETNAME(A348)=\"HIDE\",SHEETNAME(A348)=\"Start Here\",SHEETNAME(A348)=\"Template\"),\"\",SHEETNAME(A348)),\"\")","v":""},{"$f":"IFERROR(INDIRECT(\"'\"&$B348&\"'!$d$6\"),\"\")","v":""},{"$f":"IFERROR(INDIRECT(\"'\"&$B348&\"'!$d$7\"),\"\")","v":""},{"$f":"IFERROR(INDIRECT(\"'\"&$B348&\"'!$d$8\"),\"\")","v":""},{"$f":"IFERROR(IF(OR(SHEETNAME($A348)=\"HIDE\",SHEETNAME($A348)=\"Start Here\",SHEETNAME($A348)=\"Template\"),\"\",HYPERLINK(\"#'\"&B348&\"'!A1\",\"Go to Sheet\")),\"\")","v":""},{"$f":"IFERROR(IF(INDIRECT(\"'\"&$B348&\"'!$U$7\"),INDIRECT(\"'\"&$B348&\"'!$u$9\"),\"(\"&INDIRECT(\"'\"&$B348&\"'!$U$8\")&\")\"),\"\")","v":""},{"$f":"IF(L348,\"This site has incomplete Cost and Revenue data.  \",\"\")&IF(M348,\"WFRS data for previous quarters is incomplete.  \",\"\")&IF(K348,IFERROR(INDIRECT(\"'\"&$B348&\"'!$g$9\"),\"\"),\"\")","v":""},false,{"$f":"IFERROR(INDIRECT(\"'\"&$B348&\"'!$u$7\"),FALSE)","v":false},{"$f":"IFERROR(INDIRECT(\"'\"&$B348&\"'!$u$10\"),FALSE)","v":false},{"$f":"IFERROR(INDIRECT(\"'\"&$B348&\"'!$AC$12\"),FALSE)","v":false},{"$f":"IFERROR(INDIRECT(\"'\"&$B348&\"'!$ad$12\"),FALSE)","v":false},null,{"$f":"IFERROR(INDIRECT(\"'\"&$B348&\"'!$d$10\"),\"\")","v":""},{"$f":"IFERROR(INDIRECT(\"'\"&$B348&\"'!$d$33\"),\"\")","v":""},{"$f":"IFERROR(INDIRECT(\"'\"&$B348&\"'!$j$33\")+INDIRECT(\"'\"&$B348&\"'!$k$33\"),\"\")","v":""},{"$f":"IFERROR(INDIRECT(\"'\"&$B348&\"'!$q$33\"),\"\")","v":""},{"$f":"IFERROR(INDIRECT(\"'\"&$B348&\"'!$e$33\"),\"\")","v":""},{"$f":"IFERROR(INDIRECT(\"'\"&$B348&\"'!$L$33\"),\"\")","v":""},{"$f":"IFERROR(INDIRECT(\"'\"&$B348&\"'!$g$33\")+INDIRECT(\"'\"&$B348&\"'!$h$33\")+INDIRECT(\"'\"&$B348&\"'!$i$33\"),\"\")","v":""}]
[313,{"$f":"IFERROR(IF(OR(SHEETNAME(A349)=\"HIDE\",SHEETNAME(A349)=\"Start Here\",SHEETNAME(A349)=\"Template\"),\"\",SHEETNAME(A349)),\"\")","v":""},{"$f":"IFERROR(INDIRECT(\"'\"&$B349&\"'!$d$6\"),\"\")","v":""},{"$f":"IFERROR(INDIRECT(\"'\"&$B349&\"'!$d$7\"),\"\")","v":""},{"$f":"IFERROR(INDIRECT(\"'\"&$B349&\"'!$d$8\"),\"\")","v":""},{"$f":"IFERROR(IF(OR(SHEETNAME($A349)=\"HIDE\",SHEETNAME($A349)=\"Start Here\",SHEETNAME($A349)=\"Template\"),\"\",HYPERLINK(\"#'\"&B349&\"'!A1\",\"Go to Sheet\")),\"\")","v":""},{"$f":"IFERROR(IF(INDIRECT(\"'\"&$B349&\"'!$U$7\"),INDIRECT(\"'\"&$B349&\"'!$u$9\"),\"(\"&INDIRECT(\"'\"&$B349&\"'!$U$8\")&\")\"),\"\")","v":""},{"$f":"IF(L349,\"This site has incomplete Cost and Revenue data.  \",\"\")&IF(M349,\"WFRS data for previous quarters is incomplete.  \",\"\")&IF(K349,IFERROR(INDIRECT(\"'\"&$B349&\"'!$g$9\"),\"\"),\"\")","v":""},false,{"$f":"IFERROR(INDIRECT(\"'\"&$B349&\"'!$u$7\"),FALSE)","v":false},{"$f":"IFERROR(INDIRECT(\"'\"&$B349&\"'!$u$10\"),FALSE)","v":false},{"$f":"IFERROR(INDIRECT(\"'\"&$B349&\"'!$AC$12\"),FALSE)","v":false},{"$f":"IFERROR(INDIRECT(\"'\"&$B349&\"'!$ad$12\"),FALSE)","v":false},null,{"$f":"IFERROR(INDIRECT(\"'\"&$B349&\"'!$d$10\"),\"\")","v":""},{"$f":"IFERROR(INDIRECT(\"'\"&$B349&\"'!$d$33\"),\"\")","v":""},{"$f":"IFERROR(INDIRECT(\"'\"&$B349&\"'!$j$33\")+INDIRECT(\"'\"&$B349&\"'!$k$33\"),\"\")","v":""},{"$f":"IFERROR(INDIRECT(\"'\"&$B349&\"'!$q$33\"),\"\")","v":""},{"$f":"IFERROR(INDIRECT(\"'\"&$B349&\"'!$e$33\"),\"\")","v":""},{"$f":"IFERROR(INDIRECT(\"'\"&$B349&\"'!$L$33\"),\"\")","v":""},{"$f":"IFERROR(INDIRECT(\"'\"&$B349&\"'!$g$33\")+INDIRECT(\"'\"&$B349&\"'!$h$33\")+INDIRECT(\"'\"&$B349&\"'!$i$33\"),\"\")","v":""}]
[314,{"$f":"IFERROR(IF(OR(SHEETNAME(A350)=\"HIDE\",SHEETNAME(A350)=\"Start Here\",SHEETNAME(A350)=\"Template\"),\"\",SHEETNAME(A350)),\"\")","v":""},{"$f":"IFERROR(INDIRECT(\"'\"&$B350&\"'!$d$6\"),\"\")","v":""},{"$f":"IFERROR(INDIRECT(\"'\"&$B350&\"'!$d$7\"),\"\")","v":""},{"$f":"IFERROR(INDIRECT(\"'\"&$B350&\"'!$d$8\"),\"\")","v":""},{"$f":"IFERROR(IF(OR(SHEETNAME($A350)=\"HIDE\",SHEETNAME($A350)=\"Start Here\",SHEETNAME($A350)=\"Template\"),\"\",HYPERLINK(\"#'\"&B350&\"'!A1\",\"Go to Sheet\")),\"\")","v":""},{"$f":"IFERROR(IF(INDIRECT(\"'\"&$B350&\"'!$U$7\"),INDIRECT(\"'\"&$B350&\"'!$u$9\"),\"(\"&INDIRECT(\"'\"&$B350&\"'!$U$8\")&\")\"),\"\")","v":""},{"$f":"IF(L350,\"This site has incomplete Cost and Revenue data.  \",\"\")&IF(M350,\"WFRS data for previous quarters is incomplete.  \",\"\")&IF(K350,IFERROR(INDIRECT(\"'\"&$B350&\"'!$g$9\"),\"\"),\"\")","v":""},false,{"$f":"IFERROR(INDIRECT(\"'\"&$B350&\"'!$u$7\"),FALSE)","v":false},{"$f":"IFERROR(INDIRECT(\"'\"&$B350&\"'!$u$10\"),FALSE)","v":false},{"$f":"IFERROR(INDIRECT(\"'\"&$B350&\"'!$AC$12\"),FALSE)","v":false},{"$f":"IFERROR(INDIRECT(\"'\"&$B350&\"'!$ad$12\"),FALSE)","v":false},null,{"$f":"IFERROR(INDIRECT(\"'\"&$B350&\"'!$d$10\"),\"\")","v":""},{"$f":"IFERROR(INDIRECT(\"'\"&$B350&\"'!$d$33\"),\"\")","v":""},{"$f":"IFERROR(INDIRECT(\"'\"&$B350&\"'!$j$33\")+INDIRECT(\"'\"&$B350&\"'!$k$33\"),\"\")","v":""},{"$f":"IFERROR(INDIRECT(\"'\"&$B350&\"'!$q$33\"),\"\")","v":""},{"$f":"IFERROR(INDIRECT(\"'\"&$B350&\"'!$e$33\"),\"\")","v":""},{"$f":"IFERROR(INDIRECT(\"'\"&$B350&\"'!$L$33\"),\"\")","v":""},{"$f":"IFERROR(INDIRECT(\"'\"&$B350&\"'!$g$33\")+INDIRECT(\"'\"&$B350&\"'!$h$33\")+INDIRECT(\"'\"&$B350&\"'!$i$33\"),\"\")","v":""}]
[315,{"$f":"IFERROR(IF(OR(SHEETNAME(A351)=\"HIDE\",SHEETNAME(A351)=\"Start Here\",SHEETNAME(A351)=\"Template\"),\"\",SHEETNAME(A351)),\"\")","v":""},{"$f":"IFERROR(INDIRECT(\"'\"&$B351&\"'!$d$6\"),\"\")","v":""},{"$f":"IFERROR(INDIRECT(\"'\"&$B351&\"'!$d$7\"),\"\")","v":""},{"$f":"IFERROR(INDIRECT(\"'\"&$B351&\"'!$d$8\"),\"\")","v":""},{"$f":"IFERROR(IF(OR(SHEETNAME($A351)=\"HIDE\",SHEETNAME($A351)=\"Start Here\",SHEETNAME($A351)=\"Template\"),\"\",HYPERLINK(\"#'\"&B351&\"'!A1\",\"Go to Sheet\")),\"\")","v":""},{"$f":"IFERROR(IF(INDIRECT(\"'\"&$B351&\"'!$U$7\"),INDIRECT(\"'\"&$B351&\"'!$u$9\"),\"(\"&INDIRECT(\"'\"&$B351&\"'!$U$8\")&\")\"),\"\")","v":""},{"$f":"IF(L351,\"This site has incomplete Cost and Revenue data.  \",\"\")&IF(M351,\"WFRS data for previous quarters is incomplete.  \",\"\")&IF(K351,IFERROR(INDIRECT(\"'\"&$B351&\"'!$g$9\"),\"\"),\"\")","v":""},false,{"$f":"IFERROR(INDIRECT(\"'\"&$B351&\"'!$u$7\"),FALSE)","v":false},{"$f":"IFERROR(INDIRECT(\"'\"&$B351&\"'!$u$10\"),FALSE)","v":false},{"$f":"IFERROR(INDIRECT(\"'\"&$B351&\"'!$AC$12\"),FALSE)","v":false},{"$f":"IFERROR(INDIRECT(\"'\"&$B351&\"'!$ad$12\"),FALSE)","v":false},null,{"$f":"IFERROR(INDIRECT(\"'\"&$B351&\"'!$d$10\"),\"\")","v":""},{"$f":"IFERROR(INDIRECT(\"'\"&$B351&\"'!$d$33\"),\"\")","v":""},{"$f":"IFERROR(INDIRECT(\"'\"&$B351&\"'!$j$33\")+INDIRECT(\"'\"&$B351&\"'!$k$33\"),\"\")","v":""},{"$f":"IFERROR(INDIRECT(\"'\"&$B351&\"'!$q$33\"),\"\")","v":""},{"$f":"IFERROR(INDIRECT(\"'\"&$B351&\"'!$e$33\"),\"\")","v":""},{"$f":"IFERROR(INDIRECT(\"'\"&$B351&\"'!$L$33\"),\"\")","v":""},{"$f":"IFERROR(INDIRECT(\"'\"&$B351&\"'!$g$33\")+INDIRECT(\"'\"&$B351&\"'!$h$33\")+INDIRECT(\"'\"&$B351&\"'!$i$33\"),\"\")","v":""}]
[316,{"$f":"IFERROR(IF(OR(SHEETNAME(A352)=\"HIDE\",SHEETNAME(A352)=\"Start Here\",SHEETNAME(A352)=\"Template\"),\"\",SHEETNAME(A352)),\"\")","v":""},{"$f":"IFERROR(INDIRECT(\"'\"&$B352&\"'!$d$6\"),\"\")","v":""},{"$f":"IFERROR(INDIRECT(\"'\"&$B352&\"'!$d$7\"),\"\")","v":""},{"$f":"IFERROR(INDIRECT(\"'\"&$B352&\"'!$d$8\"),\"\")","v":""},{"$f":"IFERROR(IF(OR(SHEETNAME($A352)=\"HIDE\",SHEETNAME($A352)=\"Start Here\",SHEETNAME($A352)=\"Template\"),\"\",HYPERLINK(\"#'\"&B352&\"'!A1\",\"Go to Sheet\")),\"\")","v":""},{"$f":"IFERROR(IF(INDIRECT(\"'\"&$B352&\"'!$U$7\"),INDIRECT(\"'\"&$B352&\"'!$u$9\"),\"(\"&INDIRECT(\"'\"&$B352&\"'!$U$8\")&\")\"),\"\")","v":""},{"$f":"IF(L352,\"This site has incomplete Cost and Revenue data.  \",\"\")&IF(M352,\"WFRS data for previous quarters is incomplete.  \",\"\")&IF(K352,IFERROR(INDIRECT(\"'\"&$B352&\"'!$g$9\"),\"\"),\"\")","v":""},false,{"$f":"IFERROR(INDIRECT(\"'\"&$B352&\"'!$u$7\"),FALSE)","v":false},{"$f":"IFERROR(INDIRECT(\"'\"&$B352&\"'!$u$10\"),FALSE)","v":false},{"$f":"IFERROR(INDIRECT(\"'\"&$B352&\"'!$AC$12\"),FALSE)","v":false},{"$f":"IFERROR(INDIRECT(\"'\"&$B352&\"'!$ad$12\"),FALSE)","v":false},null,{"$f":"IFERROR(INDIRECT(\"'\"&$B352&\"'!$d$10\"),\"\")","v":""},{"$f":"IFERROR(INDIRECT(\"'\"&$B352&\"'!$d$33\"),\"\")","v":""},{"$f":"IFERROR(INDIRECT(\"'\"&$B352&\"'!$j$33\")+INDIRECT(\"'\"&$B352&\"'!$k$33\"),\"\")","v":""},{"$f":"IFERROR(INDIRECT(\"'\"&$B352&\"'!$q$33\"),\"\")","v":""},{"$f":"IFERROR(INDIRECT(\"'\"&$B352&\"'!$e$33\"),\"\")","v":""},{"$f":"IFERROR(INDIRECT(\"'\"&$B352&\"'!$L$33\"),\"\")","v":""},{"$f":"IFERROR(INDIRECT(\"'\"&$B352&\"'!$g$33\")+INDIRECT(\"'\"&$B352&\"'!$h$33\")+INDIRECT(\"'\"&$B352&\"'!$i$33\"),\"\")","v":""}]
[317,{"$f":"IFERROR(IF(OR(SHEETNAME(A353)=\"HIDE\",SHEETNAME(A353)=\"Start Here\",SHEETNAME(A353)=\"Template\"),\"\",SHEETNAME(A353)),\"\")","v":""},{"$f":"IFERROR(INDIRECT(\"'\"&$B353&\"'!$d$6\"),\"\")","v":""},{"$f":"IFERROR(INDIRECT(\"'\"&$B353&\"'!$d$7\"),\"\")","v":""},{"$f":"IFERROR(INDIRECT(\"'\"&$B353&\"'!$d$8\"),\"\")","v":""},{"$f":"IFERROR(IF(OR(SHEETNAME($A353)=\"HIDE\",SHEETNAME($A353)=\"Start Here\",SHEETNAME($A353)=\"Template\"),\"\",HYPERLINK(\"#'\"&B353&\"'!A1\",\"Go to Sheet\")),\"\")","v":""},{"$f":"IFERROR(IF(INDIRECT(\"'\"&$B353&\"'!$U$7\"),INDIRECT(\"'\"&$B353&\"'!$u$9\"),\"(\"&INDIRECT(\"'\"&$B353&\"'!$U$8\")&\")\"),\"\")","v":""},{"$f":"IF(L353,\"This site has incomplete Cost and Revenue data.  \",\"\")&IF(M353,\"WFRS data for previous quarters is incomplete.  \",\"\")&IF(K353,IFERROR(INDIRECT(\"'\"&$B353&\"'!$g$9\"),\"\"),\"\")","v":""},false,{"$f":"IFERROR(INDIRECT(\"'\"&$B353&\"'!$u$7\"),FALSE)","v":false},{"$f":"IFERROR(INDIRECT(\"'\"&$B353&\"'!$u$10\"),FALSE)","v":false},{"$f":"IFERROR(INDIRECT(\"'\"&$B353&\"'!$AC$12\"),FALSE)","v":false},{"$f":"IFERROR(INDIRECT(\"'\"&$B353&\"'!$ad$12\"),FALSE)","v":false},null,{"$f":"IFERROR(INDIRECT(\"'\"&$B353&\"'!$d$10\"),\"\")","v":""},{"$f":"IFERROR(INDIRECT(\"'\"&$B353&\"'!$d$33\"),\"\")","v":""},{"$f":"IFERROR(INDIRECT(\"'\"&$B353&\"'!$j$33\")+INDIRECT(\"'\"&$B353&\"'!$k$33\"),\"\")","v":""},{"$f":"IFERROR(INDIRECT(\"'\"&$B353&\"'!$q$33\"),\"\")","v":""},{"$f":"IFERROR(INDIRECT(\"'\"&$B353&\"'!$e$33\"),\"\")","v":""},{"$f":"IFERROR(INDIRECT(\"'\"&$B353&\"'!$L$33\"),\"\")","v":""},{"$f":"IFERROR(INDIRECT(\"'\"&$B353&\"'!$g$33\")+INDIRECT(\"'\"&$B353&\"'!$h$33\")+INDIRECT(\"'\"&$B353&\"'!$i$33\"),\"\")","v":""}]
[318,{"$f":"IFERROR(IF(OR(SHEETNAME(A354)=\"HIDE\",SHEETNAME(A354)=\"Start Here\",SHEETNAME(A354)=\"Template\"),\"\",SHEETNAME(A354)),\"\")","v":""},{"$f":"IFERROR(INDIRECT(\"'\"&$B354&\"'!$d$6\"),\"\")","v":""},{"$f":"IFERROR(INDIRECT(\"'\"&$B354&\"'!$d$7\"),\"\")","v":""},{"$f":"IFERROR(INDIRECT(\"'\"&$B354&\"'!$d$8\"),\"\")","v":""},{"$f":"IFERROR(IF(OR(SHEETNAME($A354)=\"HIDE\",SHEETNAME($A354)=\"Start Here\",SHEETNAME($A354)=\"Template\"),\"\",HYPERLINK(\"#'\"&B354&\"'!A1\",\"Go to Sheet\")),\"\")","v":""},{"$f":"IFERROR(IF(INDIRECT(\"'\"&$B354&\"'!$U$7\"),INDIRECT(\"'\"&$B354&\"'!$u$9\"),\"(\"&INDIRECT(\"'\"&$B354&\"'!$U$8\")&\")\"),\"\")","v":""},{"$f":"IF(L354,\"This site has incomplete Cost and Revenue data.  \",\"\")&IF(M354,\"WFRS data for previous quarters is incomplete.  \",\"\")&IF(K354,IFERROR(INDIRECT(\"'\"&$B354&\"'!$g$9\"),\"\"),\"\")","v":""},false,{"$f":"IFERROR(INDIRECT(\"'\"&$B354&\"'!$u$7\"),FALSE)","v":false},{"$f":"IFERROR(INDIRECT(\"'\"&$B354&\"'!$u$10\"),FALSE)","v":false},{"$f":"IFERROR(INDIRECT(\"'\"&$B354&\"'!$AC$12\"),FALSE)","v":false},{"$f":"IFERROR(INDIRECT(\"'\"&$B354&\"'!$ad$12\"),FALSE)","v":false},null,{"$f":"IFERROR(INDIRECT(\"'\"&$B354&\"'!$d$10\"),\"\")","v":""},{"$f":"IFERROR(INDIRECT(\"'\"&$B354&\"'!$d$33\"),\"\")","v":""},{"$f":"IFERROR(INDIRECT(\"'\"&$B354&\"'!$j$33\")+INDIRECT(\"'\"&$B354&\"'!$k$33\"),\"\")","v":""},{"$f":"IFERROR(INDIRECT(\"'\"&$B354&\"'!$q$33\"),\"\")","v":""},{"$f":"IFERROR(INDIRECT(\"'\"&$B354&\"'!$e$33\"),\"\")","v":""},{"$f":"IFERROR(INDIRECT(\"'\"&$B354&\"'!$L$33\"),\"\")","v":""},{"$f":"IFERROR(INDIRECT(\"'\"&$B354&\"'!$g$33\")+INDIRECT(\"'\"&$B354&\"'!$h$33\")+INDIRECT(\"'\"&$B354&\"'!$i$33\"),\"\")","v":""}]
[319,{"$f":"IFERROR(IF(OR(SHEETNAME(A355)=\"HIDE\",SHEETNAME(A355)=\"Start Here\",SHEETNAME(A355)=\"Template\"),\"\",SHEETNAME(A355)),\"\")","v":""},{"$f":"IFERROR(INDIRECT(\"'\"&$B355&\"'!$d$6\"),\"\")","v":""},{"$f":"IFERROR(INDIRECT(\"'\"&$B355&\"'!$d$7\"),\"\")","v":""},{"$f":"IFERROR(INDIRECT(\"'\"&$B355&\"'!$d$8\"),\"\")","v":""},{"$f":"IFERROR(IF(OR(SHEETNAME($A355)=\"HIDE\",SHEETNAME($A355)=\"Start Here\",SHEETNAME($A355)=\"Template\"),\"\",HYPERLINK(\"#'\"&B355&\"'!A1\",\"Go to Sheet\")),\"\")","v":""},{"$f":"IFERROR(IF(INDIRECT(\"'\"&$B355&\"'!$U$7\"),INDIRECT(\"'\"&$B355&\"'!$u$9\"),\"(\"&INDIRECT(\"'\"&$B355&\"'!$U$8\")&\")\"),\"\")","v":""},{"$f":"IF(L355,\"This site has incomplete Cost and Revenue data.  \",\"\")&IF(M355,\"WFRS data for previous quarters is incomplete.  \",\"\")&IF(K355,IFERROR(INDIRECT(\"'\"&$B355&\"'!$g$9\"),\"\"),\"\")","v":""},false,{"$f":"IFERROR(INDIRECT(\"'\"&$B355&\"'!$u$7\"),FALSE)","v":false},{"$f":"IFERROR(INDIRECT(\"'\"&$B355&\"'!$u$10\"),FALSE)","v":false},{"$f":"IFERROR(INDIRECT(\"'\"&$B355&\"'!$AC$12\"),FALSE)","v":false},{"$f":"IFERROR(INDIRECT(\"'\"&$B355&\"'!$ad$12\"),FALSE)","v":false},null,{"$f":"IFERROR(INDIRECT(\"'\"&$B355&\"'!$d$10\"),\"\")","v":""},{"$f":"IFERROR(INDIRECT(\"'\"&$B355&\"'!$d$33\"),\"\")","v":""},{"$f":"IFERROR(INDIRECT(\"'\"&$B355&\"'!$j$33\")+INDIRECT(\"'\"&$B355&\"'!$k$33\"),\"\")","v":""},{"$f":"IFERROR(INDIRECT(\"'\"&$B355&\"'!$q$33\"),\"\")","v":""},{"$f":"IFERROR(INDIRECT(\"'\"&$B355&\"'!$e$33\"),\"\")","v":""},{"$f":"IFERROR(INDIRECT(\"'\"&$B355&\"'!$L$33\"),\"\")","v":""},{"$f":"IFERROR(INDIRECT(\"'\"&$B355&\"'!$g$33\")+INDIRECT(\"'\"&$B355&\"'!$h$33\")+INDIRECT(\"'\"&$B355&\"'!$i$33\"),\"\")","v":""}]
[320,{"$f":"IFERROR(IF(OR(SHEETNAME(A356)=\"HIDE\",SHEETNAME(A356)=\"Start Here\",SHEETNAME(A356)=\"Template\"),\"\",SHEETNAME(A356)),\"\")","v":""},{"$f":"IFERROR(INDIRECT(\"'\"&$B356&\"'!$d$6\"),\"\")","v":""},{"$f":"IFERROR(INDIRECT(\"'\"&$B356&\"'!$d$7\"),\"\")","v":""},{"$f":"IFERROR(INDIRECT(\"'\"&$B356&\"'!$d$8\"),\"\")","v":""},{"$f":"IFERROR(IF(OR(SHEETNAME($A356)=\"HIDE\",SHEETNAME($A356)=\"Start Here\",SHEETNAME($A356)=\"Template\"),\"\",HYPERLINK(\"#'\"&B356&\"'!A1\",\"Go to Sheet\")),\"\")","v":""},{"$f":"IFERROR(IF(INDIRECT(\"'\"&$B356&\"'!$U$7\"),INDIRECT(\"'\"&$B356&\"'!$u$9\"),\"(\"&INDIRECT(\"'\"&$B356&\"'!$U$8\")&\")\"),\"\")","v":""},{"$f":"IF(L356,\"This site has incomplete Cost and Revenue data.  \",\"\")&IF(M356,\"WFRS data for previous quarters is incomplete.  \",\"\")&IF(K356,IFERROR(INDIRECT(\"'\"&$B356&\"'!$g$9\"),\"\"),\"\")","v":""},false,{"$f":"IFERROR(INDIRECT(\"'\"&$B356&\"'!$u$7\"),FALSE)","v":false},{"$f":"IFERROR(INDIRECT(\"'\"&$B356&\"'!$u$10\"),FALSE)","v":false},{"$f":"IFERROR(INDIRECT(\"'\"&$B356&\"'!$AC$12\"),FALSE)","v":false},{"$f":"IFERROR(INDIRECT(\"'\"&$B356&\"'!$ad$12\"),FALSE)","v":false},null,{"$f":"IFERROR(INDIRECT(\"'\"&$B356&\"'!$d$10\"),\"\")","v":""},{"$f":"IFERROR(INDIRECT(\"'\"&$B356&\"'!$d$33\"),\"\")","v":""},{"$f":"IFERROR(INDIRECT(\"'\"&$B356&\"'!$j$33\")+INDIRECT(\"'\"&$B356&\"'!$k$33\"),\"\")","v":""},{"$f":"IFERROR(INDIRECT(\"'\"&$B356&\"'!$q$33\"),\"\")","v":""},{"$f":"IFERROR(INDIRECT(\"'\"&$B356&\"'!$e$33\"),\"\")","v":""},{"$f":"IFERROR(INDIRECT(\"'\"&$B356&\"'!$L$33\"),\"\")","v":""},{"$f":"IFERROR(INDIRECT(\"'\"&$B356&\"'!$g$33\")+INDIRECT(\"'\"&$B356&\"'!$h$33\")+INDIRECT(\"'\"&$B356&\"'!$i$33\"),\"\")","v":""}]
[321,{"$f":"IFERROR(IF(OR(SHEETNAME(A357)=\"HIDE\",SHEETNAME(A357)=\"Start Here\",SHEETNAME(A357)=\"Template\"),\"\",SHEETNAME(A357)),\"\")","v":""},{"$f":"IFERROR(INDIRECT(\"'\"&$B357&\"'!$d$6\"),\"\")","v":""},{"$f":"IFERROR(INDIRECT(\"'\"&$B357&\"'!$d$7\"),\"\")","v":""},{"$f":"IFERROR(INDIRECT(\"'\"&$B357&\"'!$d$8\"),\"\")","v":""},{"$f":"IFERROR(IF(OR(SHEETNAME($A357)=\"HIDE\",SHEETNAME($A357)=\"Start Here\",SHEETNAME($A357)=\"Template\"),\"\",HYPERLINK(\"#'\"&B357&\"'!A1\",\"Go to Sheet\")),\"\")","v":""},{"$f":"IFERROR(IF(INDIRECT(\"'\"&$B357&\"'!$U$7\"),INDIRECT(\"'\"&$B357&\"'!$u$9\"),\"(\"&INDIRECT(\"'\"&$B357&\"'!$U$8\")&\")\"),\"\")","v":""},{"$f":"IF(L357,\"This site has incomplete Cost and Revenue data.  \",\"\")&IF(M357,\"WFRS data for previous quarters is incomplete.  \",\"\")&IF(K357,IFERROR(INDIRECT(\"'\"&$B357&\"'!$g$9\"),\"\"),\"\")","v":""},false,{"$f":"IFERROR(INDIRECT(\"'\"&$B357&\"'!$u$7\"),FALSE)","v":false},{"$f":"IFERROR(INDIRECT(\"'\"&$B357&\"'!$u$10\"),FALSE)","v":false},{"$f":"IFERROR(INDIRECT(\"'\"&$B357&\"'!$AC$12\"),FALSE)","v":false},{"$f":"IFERROR(INDIRECT(\"'\"&$B357&\"'!$ad$12\"),FALSE)","v":false},null,{"$f":"IFERROR(INDIRECT(\"'\"&$B357&\"'!$d$10\"),\"\")","v":""},{"$f":"IFERROR(INDIRECT(\"'\"&$B357&\"'!$d$33\"),\"\")","v":""},{"$f":"IFERROR(INDIRECT(\"'\"&$B357&\"'!$j$33\")+INDIRECT(\"'\"&$B357&\"'!$k$33\"),\"\")","v":""},{"$f":"IFERROR(INDIRECT(\"'\"&$B357&\"'!$q$33\"),\"\")","v":""},{"$f":"IFERROR(INDIRECT(\"'\"&$B357&\"'!$e$33\"),\"\")","v":""},{"$f":"IFERROR(INDIRECT(\"'\"&$B357&\"'!$L$33\"),\"\")","v":""},{"$f":"IFERROR(INDIRECT(\"'\"&$B357&\"'!$g$33\")+INDIRECT(\"'\"&$B357&\"'!$h$33\")+INDIRECT(\"'\"&$B357&\"'!$i$33\"),\"\")","v":""}]
[322,{"$f":"IFERROR(IF(OR(SHEETNAME(A358)=\"HIDE\",SHEETNAME(A358)=\"Start Here\",SHEETNAME(A358)=\"Template\"),\"\",SHEETNAME(A358)),\"\")","v":""},{"$f":"IFERROR(INDIRECT(\"'\"&$B358&\"'!$d$6\"),\"\")","v":""},{"$f":"IFERROR(INDIRECT(\"'\"&$B358&\"'!$d$7\"),\"\")","v":""},{"$f":"IFERROR(INDIRECT(\"'\"&$B358&\"'!$d$8\"),\"\")","v":""},{"$f":"IFERROR(IF(OR(SHEETNAME($A358)=\"HIDE\",SHEETNAME($A358)=\"Start Here\",SHEETNAME($A358)=\"Template\"),\"\",HYPERLINK(\"#'\"&B358&\"'!A1\",\"Go to Sheet\")),\"\")","v":""},{"$f":"IFERROR(IF(INDIRECT(\"'\"&$B358&\"'!$U$7\"),INDIRECT(\"'\"&$B358&\"'!$u$9\"),\"(\"&INDIRECT(\"'\"&$B358&\"'!$U$8\")&\")\"),\"\")","v":""},{"$f":"IF(L358,\"This site has incomplete Cost and Revenue data.  \",\"\")&IF(M358,\"WFRS data for previous quarters is incomplete.  \",\"\")&IF(K358,IFERROR(INDIRECT(\"'\"&$B358&\"'!$g$9\"),\"\"),\"\")","v":""},{"$f":"NOT(E358=\"\")","v":false},{"$f":"IFERROR(INDIRECT(\"'\"&$B358&\"'!$u$7\"),FALSE)","v":false},{"$f":"IFERROR(INDIRECT(\"'\"&$B358&\"'!$u$10\"),FALSE)","v":false},{"$f":"IFERROR(INDIRECT(\"'\"&$B358&\"'!$AC$12\"),FALSE)","v":false},{"$f":"IFERROR(INDIRECT(\"'\"&$B358&\"'!$ad$12\"),FALSE)","v":false},null,{"$f":"IFERROR(INDIRECT(\"'\"&$B358&\"'!$d$10\"),\"\")","v":""},{"$f":"IFERROR(INDIRECT(\"'\"&$B358&\"'!$d$33\"),\"\")","v":""},{"$f":"IFERROR(INDIRECT(\"'\"&$B358&\"'!$j$33\")+INDIRECT(\"'\"&$B358&\"'!$k$33\"),\"\")","v":""},{"$f":"IFERROR(INDIRECT(\"'\"&$B358&\"'!$q$33\"),\"\")","v":""},{"$f":"IFERROR(INDIRECT(\"'\"&$B358&\"'!$e$33\"),\"\")","v":""},{"$f":"IFERROR(INDIRECT(\"'\"&$B358&\"'!$L$33\"),\"\")","v":""},{"$f":"IFERROR(INDIRECT(\"'\"&$B358&\"'!$g$33\")+INDIRECT(\"'\"&$B358&\"'!$h$33\")+INDIRECT(\"'\"&$B358&\"'!$i$33\"),\"\")","v":""}]
[323,{"$f":"IFERROR(IF(OR(SHEETNAME(A359)=\"HIDE\",SHEETNAME(A359)=\"Start Here\",SHEETNAME(A359)=\"Template\"),\"\",SHEETNAME(A359)),\"\")","v":""},{"$f":"IFERROR(INDIRECT(\"'\"&$B359&\"'!$d$6\"),\"\")","v":""},{"$f":"IFERROR(INDIRECT(\"'\"&$B359&\"'!$d$7\"),\"\")","v":""},{"$f":"IFERROR(INDIRECT(\"'\"&$B359&\"'!$d$8\"),\"\")","v":""},{"$f":"IFERROR(IF(OR(SHEETNAME($A359)=\"HIDE\",SHEETNAME($A359)=\"Start Here\",SHEETNAME($A359)=\"Template\"),\"\",HYPERLINK(\"#'\"&B359&\"'!A1\",\"Go to Sheet\")),\"\")","v":""},{"$f":"IFERROR(IF(INDIRECT(\"'\"&$B359&\"'!$U$7\"),INDIRECT(\"'\"&$B359&\"'!$u$9\"),\"(\"&INDIRECT(\"'\"&$B359&\"'!$U$8\")&\")\"),\"\")","v":""},{"$f":"IF(L359,\"This site has incomplete Cost and Revenue data.  \",\"\")&IF(M359,\"WFRS data for previous quarters is incomplete.  \",\"\")&IF(K359,IFERROR(INDIRECT(\"'\"&$B359&\"'!$g$9\"),\"\"),\"\")","v":""},false,{"$f":"IFERROR(INDIRECT(\"'\"&$B359&\"'!$u$7\"),FALSE)","v":false},{"$f":"IFERROR(INDIRECT(\"'\"&$B359&\"'!$u$10\"),FALSE)","v":false},{"$f":"IFERROR(INDIRECT(\"'\"&$B359&\"'!$AC$12\"),FALSE)","v":false},{"$f":"IFERROR(INDIRECT(\"'\"&$B359&\"'!$ad$12\"),FALSE)","v":false},null,{"$f":"IFERROR(INDIRECT(\"'\"&$B359&\"'!$d$10\"),\"\")","v":""},{"$f":"IFERROR(INDIRECT(\"'\"&$B359&\"'!$d$33\"),\"\")","v":""},{"$f":"IFERROR(INDIRECT(\"'\"&$B359&\"'!$j$33\")+INDIRECT(\"'\"&$B359&\"'!$k$33\"),\"\")","v":""},{"$f":"IFERROR(INDIRECT(\"'\"&$B359&\"'!$q$33\"),\"\")","v":""},{"$f":"IFERROR(INDIRECT(\"'\"&$B359&\"'!$e$33\"),\"\")","v":""},{"$f":"IFERROR(INDIRECT(\"'\"&$B359&\"'!$L$33\"),\"\")","v":""},{"$f":"IFERROR(INDIRECT(\"'\"&$B359&\"'!$g$33\")+INDIRECT(\"'\"&$B359&\"'!$h$33\")+INDIRECT(\"'\"&$B359&\"'!$i$33\"),\"\")","v":""}]
[324,{"$f":"IFERROR(IF(OR(SHEETNAME(A360)=\"HIDE\",SHEETNAME(A360)=\"Start Here\",SHEETNAME(A360)=\"Template\"),\"\",SHEETNAME(A360)),\"\")","v":""},{"$f":"IFERROR(INDIRECT(\"'\"&$B360&\"'!$d$6\"),\"\")","v":""},{"$f":"IFERROR(INDIRECT(\"'\"&$B360&\"'!$d$7\"),\"\")","v":""},{"$f":"IFERROR(INDIRECT(\"'\"&$B360&\"'!$d$8\"),\"\")","v":""},{"$f":"IFERROR(IF(OR(SHEETNAME($A360)=\"HIDE\",SHEETNAME($A360)=\"Start Here\",SHEETNAME($A360)=\"Template\"),\"\",HYPERLINK(\"#'\"&B360&\"'!A1\",\"Go to Sheet\")),\"\")","v":""},{"$f":"IFERROR(IF(INDIRECT(\"'\"&$B360&\"'!$U$7\"),INDIRECT(\"'\"&$B360&\"'!$u$9\"),\"(\"&INDIRECT(\"'\"&$B360&\"'!$U$8\")&\")\"),\"\")","v":""},{"$f":"IF(L360,\"This site has incomplete Cost and Revenue data.  \",\"\")&IF(M360,\"WFRS data for previous quarters is incomplete.  \",\"\")&IF(K360,IFERROR(INDIRECT(\"'\"&$B360&\"'!$g$9\"),\"\"),\"\")","v":""},false,{"$f":"IFERROR(INDIRECT(\"'\"&$B360&\"'!$u$7\"),FALSE)","v":false},{"$f":"IFERROR(INDIRECT(\"'\"&$B360&\"'!$u$10\"),FALSE)","v":false},{"$f":"IFERROR(INDIRECT(\"'\"&$B360&\"'!$AC$12\"),FALSE)","v":false},{"$f":"IFERROR(INDIRECT(\"'\"&$B360&\"'!$ad$12\"),FALSE)","v":false},null,{"$f":"IFERROR(INDIRECT(\"'\"&$B360&\"'!$d$10\"),\"\")","v":""},{"$f":"IFERROR(INDIRECT(\"'\"&$B360&\"'!$d$33\"),\"\")","v":""},{"$f":"IFERROR(INDIRECT(\"'\"&$B360&\"'!$j$33\")+INDIRECT(\"'\"&$B360&\"'!$k$33\"),\"\")","v":""},{"$f":"IFERROR(INDIRECT(\"'\"&$B360&\"'!$q$33\"),\"\")","v":""},{"$f":"IFERROR(INDIRECT(\"'\"&$B360&\"'!$e$33\"),\"\")","v":""},{"$f":"IFERROR(INDIRECT(\"'\"&$B360&\"'!$L$33\"),\"\")","v":""},{"$f":"IFERROR(INDIRECT(\"'\"&$B360&\"'!$g$33\")+INDIRECT(\"'\"&$B360&\"'!$h$33\")+INDIRECT(\"'\"&$B360&\"'!$i$33\"),\"\")","v":""}]
[325,{"$f":"IFERROR(IF(OR(SHEETNAME(A361)=\"HIDE\",SHEETNAME(A361)=\"Start Here\",SHEETNAME(A361)=\"Template\"),\"\",SHEETNAME(A361)),\"\")","v":""},{"$f":"IFERROR(INDIRECT(\"'\"&$B361&\"'!$d$6\"),\"\")","v":""},{"$f":"IFERROR(INDIRECT(\"'\"&$B361&\"'!$d$7\"),\"\")","v":""},{"$f":"IFERROR(INDIRECT(\"'\"&$B361&\"'!$d$8\"),\"\")","v":""},{"$f":"IFERROR(IF(OR(SHEETNAME($A361)=\"HIDE\",SHEETNAME($A361)=\"Start Here\",SHEETNAME($A361)=\"Template\"),\"\",HYPERLINK(\"#'\"&B361&\"'!A1\",\"Go to Sheet\")),\"\")","v":""},{"$f":"IFERROR(IF(INDIRECT(\"'\"&$B361&\"'!$U$7\"),INDIRECT(\"'\"&$B361&\"'!$u$9\"),\"(\"&INDIRECT(\"'\"&$B361&\"'!$U$8\")&\")\"),\"\")","v":""},{"$f":"IF(L361,\"This site has incomplete Cost and Revenue data.  \",\"\")&IF(M361,\"WFRS data for previous quarters is incomplete.  \",\"\")&IF(K361,IFERROR(INDIRECT(\"'\"&$B361&\"'!$g$9\"),\"\"),\"\")","v":""},false,{"$f":"IFERROR(INDIRECT(\"'\"&$B361&\"'!$u$7\"),FALSE)","v":false},{"$f":"IFERROR(INDIRECT(\"'\"&$B361&\"'!$u$10\"),FALSE)","v":false},{"$f":"IFERROR(INDIRECT(\"'\"&$B361&\"'!$AC$12\"),FALSE)","v":false},{"$f":"IFERROR(INDIRECT(\"'\"&$B361&\"'!$ad$12\"),FALSE)","v":false},null,{"$f":"IFERROR(INDIRECT(\"'\"&$B361&\"'!$d$10\"),\"\")","v":""},{"$f":"IFERROR(INDIRECT(\"'\"&$B361&\"'!$d$33\"),\"\")","v":""},{"$f":"IFERROR(INDIRECT(\"'\"&$B361&\"'!$j$33\")+INDIRECT(\"'\"&$B361&\"'!$k$33\"),\"\")","v":""},{"$f":"IFERROR(INDIRECT(\"'\"&$B361&\"'!$q$33\"),\"\")","v":""},{"$f":"IFERROR(INDIRECT(\"'\"&$B361&\"'!$e$33\"),\"\")","v":""},{"$f":"IFERROR(INDIRECT(\"'\"&$B361&\"'!$L$33\"),\"\")","v":""},{"$f":"IFERROR(INDIRECT(\"'\"&$B361&\"'!$g$33\")+INDIRECT(\"'\"&$B361&\"'!$h$33\")+INDIRECT(\"'\"&$B361&\"'!$i$33\"),\"\")","v":""}]
[326,{"$f":"IFERROR(IF(OR(SHEETNAME(A362)=\"HIDE\",SHEETNAME(A362)=\"Start Here\",SHEETNAME(A362)=\"Template\"),\"\",SHEETNAME(A362)),\"\")","v":""},{"$f":"IFERROR(INDIRECT(\"'\"&$B362&\"'!$d$6\"),\"\")","v":""},{"$f":"IFERROR(INDIRECT(\"'\"&$B362&\"'!$d$7\"),\"\")","v":""},{"$f":"IFERROR(INDIRECT(\"'\"&$B362&\"'!$d$8\"),\"\")","v":""},{"$f":"IFERROR(IF(OR(SHEETNAME($A362)=\"HIDE\",SHEETNAME($A362)=\"Start Here\",SHEETNAME($A362)=\"Template\"),\"\",HYPERLINK(\"#'\"&B362&\"'!A1\",\"Go to Sheet\")),\"\")","v":""},{"$f":"IFERROR(IF(INDIRECT(\"'\"&$B362&\"'!$U$7\"),INDIRECT(\"'\"&$B362&\"'!$u$9\"),\"(\"&INDIRECT(\"'\"&$B362&\"'!$U$8\")&\")\"),\"\")","v":""},{"$f":"IF(L362,\"This site has incomplete Cost and Revenue data.  \",\"\")&IF(M362,\"WFRS data for previous quarters is incomplete.  \",\"\")&IF(K362,IFERROR(INDIRECT(\"'\"&$B362&\"'!$g$9\"),\"\"),\"\")","v":""},false,{"$f":"IFERROR(INDIRECT(\"'\"&$B362&\"'!$u$7\"),FALSE)","v":false},{"$f":"IFERROR(INDIRECT(\"'\"&$B362&\"'!$u$10\"),FALSE)","v":false},{"$f":"IFERROR(INDIRECT(\"'\"&$B362&\"'!$AC$12\"),FALSE)","v":false},{"$f":"IFERROR(INDIRECT(\"'\"&$B362&\"'!$ad$12\"),FALSE)","v":false},null,{"$f":"IFERROR(INDIRECT(\"'\"&$B362&\"'!$d$10\"),\"\")","v":""},{"$f":"IFERROR(INDIRECT(\"'\"&$B362&\"'!$d$33\"),\"\")","v":""},{"$f":"IFERROR(INDIRECT(\"'\"&$B362&\"'!$j$33\")+INDIRECT(\"'\"&$B362&\"'!$k$33\"),\"\")","v":""},{"$f":"IFERROR(INDIRECT(\"'\"&$B362&\"'!$q$33\"),\"\")","v":""},{"$f":"IFERROR(INDIRECT(\"'\"&$B362&\"'!$e$33\"),\"\")","v":""},{"$f":"IFERROR(INDIRECT(\"'\"&$B362&\"'!$L$33\"),\"\")","v":""},{"$f":"IFERROR(INDIRECT(\"'\"&$B362&\"'!$g$33\")+INDIRECT(\"'\"&$B362&\"'!$h$33\")+INDIRECT(\"'\"&$B362&\"'!$i$33\"),\"\")","v":""}]
[327,{"$f":"IFERROR(IF(OR(SHEETNAME(A363)=\"HIDE\",SHEETNAME(A363)=\"Start Here\",SHEETNAME(A363)=\"Template\"),\"\",SHEETNAME(A363)),\"\")","v":""},{"$f":"IFERROR(INDIRECT(\"'\"&$B363&\"'!$d$6\"),\"\")","v":""},{"$f":"IFERROR(INDIRECT(\"'\"&$B363&\"'!$d$7\"),\"\")","v":""},{"$f":"IFERROR(INDIRECT(\"'\"&$B363&\"'!$d$8\"),\"\")","v":""},{"$f":"IFERROR(IF(OR(SHEETNAME($A363)=\"HIDE\",SHEETNAME($A363)=\"Start Here\",SHEETNAME($A363)=\"Template\"),\"\",HYPERLINK(\"#'\"&B363&\"'!A1\",\"Go to Sheet\")),\"\")","v":""},{"$f":"IFERROR(IF(INDIRECT(\"'\"&$B363&\"'!$U$7\"),INDIRECT(\"'\"&$B363&\"'!$u$9\"),\"(\"&INDIRECT(\"'\"&$B363&\"'!$U$8\")&\")\"),\"\")","v":""},{"$f":"IF(L363,\"This site has incomplete Cost and Revenue data.  \",\"\")&IF(M363,\"WFRS data for previous quarters is incomplete.  \",\"\")&IF(K363,IFERROR(INDIRECT(\"'\"&$B363&\"'!$g$9\"),\"\"),\"\")","v":""},false,{"$f":"IFERROR(INDIRECT(\"'\"&$B363&\"'!$u$7\"),FALSE)","v":false},{"$f":"IFERROR(INDIRECT(\"'\"&$B363&\"'!$u$10\"),FALSE)","v":false},{"$f":"IFERROR(INDIRECT(\"'\"&$B363&\"'!$AC$12\"),FALSE)","v":false},{"$f":"IFERROR(INDIRECT(\"'\"&$B363&\"'!$ad$12\"),FALSE)","v":false},null,{"$f":"IFERROR(INDIRECT(\"'\"&$B363&\"'!$d$10\"),\"\")","v":""},{"$f":"IFERROR(INDIRECT(\"'\"&$B363&\"'!$d$33\"),\"\")","v":""},{"$f":"IFERROR(INDIRECT(\"'\"&$B363&\"'!$j$33\")+INDIRECT(\"'\"&$B363&\"'!$k$33\"),\"\")","v":""},{"$f":"IFERROR(INDIRECT(\"'\"&$B363&\"'!$q$33\"),\"\")","v":""},{"$f":"IFERROR(INDIRECT(\"'\"&$B363&\"'!$e$33\"),\"\")","v":""},{"$f":"IFERROR(INDIRECT(\"'\"&$B363&\"'!$L$33\"),\"\")","v":""},{"$f":"IFERROR(INDIRECT(\"'\"&$B363&\"'!$g$33\")+INDIRECT(\"'\"&$B363&\"'!$h$33\")+INDIRECT(\"'\"&$B363&\"'!$i$33\"),\"\")","v":""}]
[328,{"$f":"IFERROR(IF(OR(SHEETNAME(A364)=\"HIDE\",SHEETNAME(A364)=\"Start Here\",SHEETNAME(A364)=\"Template\"),\"\",SHEETNAME(A364)),\"\")","v":""},{"$f":"IFERROR(INDIRECT(\"'\"&$B364&\"'!$d$6\"),\"\")","v":""},{"$f":"IFERROR(INDIRECT(\"'\"&$B364&\"'!$d$7\"),\"\")","v":""},{"$f":"IFERROR(INDIRECT(\"'\"&$B364&\"'!$d$8\"),\"\")","v":""},{"$f":"IFERROR(IF(OR(SHEETNAME($A364)=\"HIDE\",SHEETNAME($A364)=\"Start Here\",SHEETNAME($A364)=\"Template\"),\"\",HYPERLINK(\"#'\"&B364&\"'!A1\",\"Go to Sheet\")),\"\")","v":""},{"$f":"IFERROR(IF(INDIRECT(\"'\"&$B364&\"'!$U$7\"),INDIRECT(\"'\"&$B364&\"'!$u$9\"),\"(\"&INDIRECT(\"'\"&$B364&\"'!$U$8\")&\")\"),\"\")","v":""},{"$f":"IF(L364,\"This site has incomplete Cost and Revenue data.  \",\"\")&IF(M364,\"WFRS data for previous quarters is incomplete.  \",\"\")&IF(K364,IFERROR(INDIRECT(\"'\"&$B364&\"'!$g$9\"),\"\"),\"\")","v":""},false,{"$f":"IFERROR(INDIRECT(\"'\"&$B364&\"'!$u$7\"),FALSE)","v":false},{"$f":"IFERROR(INDIRECT(\"'\"&$B364&\"'!$u$10\"),FALSE)","v":false},{"$f":"IFERROR(INDIRECT(\"'\"&$B364&\"'!$AC$12\"),FALSE)","v":false},{"$f":"IFERROR(INDIRECT(\"'\"&$B364&\"'!$ad$12\"),FALSE)","v":false},null,{"$f":"IFERROR(INDIRECT(\"'\"&$B364&\"'!$d$10\"),\"\")","v":""},{"$f":"IFERROR(INDIRECT(\"'\"&$B364&\"'!$d$33\"),\"\")","v":""},{"$f":"IFERROR(INDIRECT(\"'\"&$B364&\"'!$j$33\")+INDIRECT(\"'\"&$B364&\"'!$k$33\"),\"\")","v":""},{"$f":"IFERROR(INDIRECT(\"'\"&$B364&\"'!$q$33\"),\"\")","v":""},{"$f":"IFERROR(INDIRECT(\"'\"&$B364&\"'!$e$33\"),\"\")","v":""},{"$f":"IFERROR(INDIRECT(\"'\"&$B364&\"'!$L$33\"),\"\")","v":""},{"$f":"IFERROR(INDIRECT(\"'\"&$B364&\"'!$g$33\")+INDIRECT(\"'\"&$B364&\"'!$h$33\")+INDIRECT(\"'\"&$B364&\"'!$i$33\"),\"\")","v":""}]
[329,{"$f":"IFERROR(IF(OR(SHEETNAME(A365)=\"HIDE\",SHEETNAME(A365)=\"Start Here\",SHEETNAME(A365)=\"Template\"),\"\",SHEETNAME(A365)),\"\")","v":""},{"$f":"IFERROR(INDIRECT(\"'\"&$B365&\"'!$d$6\"),\"\")","v":""},{"$f":"IFERROR(INDIRECT(\"'\"&$B365&\"'!$d$7\"),\"\")","v":""},{"$f":"IFERROR(INDIRECT(\"'\"&$B365&\"'!$d$8\"),\"\")","v":""},{"$f":"IFERROR(IF(OR(SHEETNAME($A365)=\"HIDE\",SHEETNAME($A365)=\"Start Here\",SHEETNAME($A365)=\"Template\"),\"\",HYPERLINK(\"#'\"&B365&\"'!A1\",\"Go to Sheet\")),\"\")","v":""},{"$f":"IFERROR(IF(INDIRECT(\"'\"&$B365&\"'!$U$7\"),INDIRECT(\"'\"&$B365&\"'!$u$9\"),\"(\"&INDIRECT(\"'\"&$B365&\"'!$U$8\")&\")\"),\"\")","v":""},{"$f":"IF(L365,\"This site has incomplete Cost and Revenue data.  \",\"\")&IF(M365,\"WFRS data for previous quarters is incomplete.  \",\"\")&IF(K365,IFERROR(INDIRECT(\"'\"&$B365&\"'!$g$9\"),\"\"),\"\")","v":""},false,{"$f":"IFERROR(INDIRECT(\"'\"&$B365&\"'!$u$7\"),FALSE)","v":false},{"$f":"IFERROR(INDIRECT(\"'\"&$B365&\"'!$u$10\"),FALSE)","v":false},{"$f":"IFERROR(INDIRECT(\"'\"&$B365&\"'!$AC$12\"),FALSE)","v":false},{"$f":"IFERROR(INDIRECT(\"'\"&$B365&\"'!$ad$12\"),FALSE)","v":false},null,{"$f":"IFERROR(INDIRECT(\"'\"&$B365&\"'!$d$10\"),\"\")","v":""},{"$f":"IFERROR(INDIRECT(\"'\"&$B365&\"'!$d$33\"),\"\")","v":""},{"$f":"IFERROR(INDIRECT(\"'\"&$B365&\"'!$j$33\")+INDIRECT(\"'\"&$B365&\"'!$k$33\"),\"\")","v":""},{"$f":"IFERROR(INDIRECT(\"'\"&$B365&\"'!$q$33\"),\"\")","v":""},{"$f":"IFERROR(INDIRECT(\"'\"&$B365&\"'!$e$33\"),\"\")","v":""},{"$f":"IFERROR(INDIRECT(\"'\"&$B365&\"'!$L$33\"),\"\")","v":""},{"$f":"IFERROR(INDIRECT(\"'\"&$B365&\"'!$g$33\")+INDIRECT(\"'\"&$B365&\"'!$h$33\")+INDIRECT(\"'\"&$B365&\"'!$i$33\"),\"\")","v":""}]
[330,{"$f":"IFERROR(IF(OR(SHEETNAME(A366)=\"HIDE\",SHEETNAME(A366)=\"Start Here\",SHEETNAME(A366)=\"Template\"),\"\",SHEETNAME(A366)),\"\")","v":""},{"$f":"IFERROR(INDIRECT(\"'\"&$B366&\"'!$d$6\"),\"\")","v":""},{"$f":"IFERROR(INDIRECT(\"'\"&$B366&\"'!$d$7\"),\"\")","v":""},{"$f":"IFERROR(INDIRECT(\"'\"&$B366&\"'!$d$8\"),\"\")","v":""},{"$f":"IFERROR(IF(OR(SHEETNAME($A366)=\"HIDE\",SHEETNAME($A366)=\"Start Here\",SHEETNAME($A366)=\"Template\"),\"\",HYPERLINK(\"#'\"&B366&\"'!A1\",\"Go to Sheet\")),\"\")","v":""},{"$f":"IFERROR(IF(INDIRECT(\"'\"&$B366&\"'!$U$7\"),INDIRECT(\"'\"&$B366&\"'!$u$9\"),\"(\"&INDIRECT(\"'\"&$B366&\"'!$U$8\")&\")\"),\"\")","v":""},{"$f":"IF(L366,\"This site has incomplete Cost and Revenue data.  \",\"\")&IF(M366,\"WFRS data for previous quarters is incomplete.  \",\"\")&IF(K366,IFERROR(INDIRECT(\"'\"&$B366&\"'!$g$9\"),\"\"),\"\")","v":""},false,{"$f":"IFERROR(INDIRECT(\"'\"&$B366&\"'!$u$7\"),FALSE)","v":false},{"$f":"IFERROR(INDIRECT(\"'\"&$B366&\"'!$u$10\"),FALSE)","v":false},{"$f":"IFERROR(INDIRECT(\"'\"&$B366&\"'!$AC$12\"),FALSE)","v":false},{"$f":"IFERROR(INDIRECT(\"'\"&$B366&\"'!$ad$12\"),FALSE)","v":false},null,{"$f":"IFERROR(INDIRECT(\"'\"&$B366&\"'!$d$10\"),\"\")","v":""},{"$f":"IFERROR(INDIRECT(\"'\"&$B366&\"'!$d$33\"),\"\")","v":""},{"$f":"IFERROR(INDIRECT(\"'\"&$B366&\"'!$j$33\")+INDIRECT(\"'\"&$B366&\"'!$k$33\"),\"\")","v":""},{"$f":"IFERROR(INDIRECT(\"'\"&$B366&\"'!$q$33\"),\"\")","v":""},{"$f":"IFERROR(INDIRECT(\"'\"&$B366&\"'!$e$33\"),\"\")","v":""},{"$f":"IFERROR(INDIRECT(\"'\"&$B366&\"'!$L$33\"),\"\")","v":""},{"$f":"IFERROR(INDIRECT(\"'\"&$B366&\"'!$g$33\")+INDIRECT(\"'\"&$B366&\"'!$h$33\")+INDIRECT(\"'\"&$B366&\"'!$i$33\"),\"\")","v":""}]
[331,{"$f":"IFERROR(IF(OR(SHEETNAME(A367)=\"HIDE\",SHEETNAME(A367)=\"Start Here\",SHEETNAME(A367)=\"Template\"),\"\",SHEETNAME(A367)),\"\")","v":""},{"$f":"IFERROR(INDIRECT(\"'\"&$B367&\"'!$d$6\"),\"\")","v":""},{"$f":"IFERROR(INDIRECT(\"'\"&$B367&\"'!$d$7\"),\"\")","v":""},{"$f":"IFERROR(INDIRECT(\"'\"&$B367&\"'!$d$8\"),\"\")","v":""},{"$f":"IFERROR(IF(OR(SHEETNAME($A367)=\"HIDE\",SHEETNAME($A367)=\"Start Here\",SHEETNAME($A367)=\"Template\"),\"\",HYPERLINK(\"#'\"&B367&\"'!A1\",\"Go to Sheet\")),\"\")","v":""},{"$f":"IFERROR(IF(INDIRECT(\"'\"&$B367&\"'!$U$7\"),INDIRECT(\"'\"&$B367&\"'!$u$9\"),\"(\"&INDIRECT(\"'\"&$B367&\"'!$U$8\")&\")\"),\"\")","v":""},{"$f":"IF(L367,\"This site has incomplete Cost and Revenue data.  \",\"\")&IF(M367,\"WFRS data for previous quarters is incomplete.  \",\"\")&IF(K367,IFERROR(INDIRECT(\"'\"&$B367&\"'!$g$9\"),\"\"),\"\")","v":""},false,{"$f":"IFERROR(INDIRECT(\"'\"&$B367&\"'!$u$7\"),FALSE)","v":false},{"$f":"IFERROR(INDIRECT(\"'\"&$B367&\"'!$u$10\"),FALSE)","v":false},{"$f":"IFERROR(INDIRECT(\"'\"&$B367&\"'!$AC$12\"),FALSE)","v":false},{"$f":"IFERROR(INDIRECT(\"'\"&$B367&\"'!$ad$12\"),FALSE)","v":false},null,{"$f":"IFERROR(INDIRECT(\"'\"&$B367&\"'!$d$10\"),\"\")","v":""},{"$f":"IFERROR(INDIRECT(\"'\"&$B367&\"'!$d$33\"),\"\")","v":""},{"$f":"IFERROR(INDIRECT(\"'\"&$B367&\"'!$j$33\")+INDIRECT(\"'\"&$B367&\"'!$k$33\"),\"\")","v":""},{"$f":"IFERROR(INDIRECT(\"'\"&$B367&\"'!$q$33\"),\"\")","v":""},{"$f":"IFERROR(INDIRECT(\"'\"&$B367&\"'!$e$33\"),\"\")","v":""},{"$f":"IFERROR(INDIRECT(\"'\"&$B367&\"'!$L$33\"),\"\")","v":""},{"$f":"IFERROR(INDIRECT(\"'\"&$B367&\"'!$g$33\")+INDIRECT(\"'\"&$B367&\"'!$h$33\")+INDIRECT(\"'\"&$B367&\"'!$i$33\"),\"\")","v":""}]
[332,{"$f":"IFERROR(IF(OR(SHEETNAME(A368)=\"HIDE\",SHEETNAME(A368)=\"Start Here\",SHEETNAME(A368)=\"Template\"),\"\",SHEETNAME(A368)),\"\")","v":""},{"$f":"IFERROR(INDIRECT(\"'\"&$B368&\"'!$d$6\"),\"\")","v":""},{"$f":"IFERROR(INDIRECT(\"'\"&$B368&\"'!$d$7\"),\"\")","v":""},{"$f":"IFERROR(INDIRECT(\"'\"&$B368&\"'!$d$8\"),\"\")","v":""},{"$f":"IFERROR(IF(OR(SHEETNAME($A368)=\"HIDE\",SHEETNAME($A368)=\"Start Here\",SHEETNAME($A368)=\"Template\"),\"\",HYPERLINK(\"#'\"&B368&\"'!A1\",\"Go to Sheet\")),\"\")","v":""},{"$f":"IFERROR(IF(INDIRECT(\"'\"&$B368&\"'!$U$7\"),INDIRECT(\"'\"&$B368&\"'!$u$9\"),\"(\"&INDIRECT(\"'\"&$B368&\"'!$U$8\")&\")\"),\"\")","v":""},{"$f":"IF(L368,\"This site has incomplete Cost and Revenue data.  \",\"\")&IF(M368,\"WFRS data for previous quarters is incomplete.  \",\"\")&IF(K368,IFERROR(INDIRECT(\"'\"&$B368&\"'!$g$9\"),\"\"),\"\")","v":""},false,{"$f":"IFERROR(INDIRECT(\"'\"&$B368&\"'!$u$7\"),FALSE)","v":false},{"$f":"IFERROR(INDIRECT(\"'\"&$B368&\"'!$u$10\"),FALSE)","v":false},{"$f":"IFERROR(INDIRECT(\"'\"&$B368&\"'!$AC$12\"),FALSE)","v":false},{"$f":"IFERROR(INDIRECT(\"'\"&$B368&\"'!$ad$12\"),FALSE)","v":false},null,{"$f":"IFERROR(INDIRECT(\"'\"&$B368&\"'!$d$10\"),\"\")","v":""},{"$f":"IFERROR(INDIRECT(\"'\"&$B368&\"'!$d$33\"),\"\")","v":""},{"$f":"IFERROR(INDIRECT(\"'\"&$B368&\"'!$j$33\")+INDIRECT(\"'\"&$B368&\"'!$k$33\"),\"\")","v":""},{"$f":"IFERROR(INDIRECT(\"'\"&$B368&\"'!$q$33\"),\"\")","v":""},{"$f":"IFERROR(INDIRECT(\"'\"&$B368&\"'!$e$33\"),\"\")","v":""},{"$f":"IFERROR(INDIRECT(\"'\"&$B368&\"'!$L$33\"),\"\")","v":""},{"$f":"IFERROR(INDIRECT(\"'\"&$B368&\"'!$g$33\")+INDIRECT(\"'\"&$B368&\"'!$h$33\")+INDIRECT(\"'\"&$B368&\"'!$i$33\"),\"\")","v":""}]
[333,{"$f":"IFERROR(IF(OR(SHEETNAME(A369)=\"HIDE\",SHEETNAME(A369)=\"Start Here\",SHEETNAME(A369)=\"Template\"),\"\",SHEETNAME(A369)),\"\")","v":""},{"$f":"IFERROR(INDIRECT(\"'\"&$B369&\"'!$d$6\"),\"\")","v":""},{"$f":"IFERROR(INDIRECT(\"'\"&$B369&\"'!$d$7\"),\"\")","v":""},{"$f":"IFERROR(INDIRECT(\"'\"&$B369&\"'!$d$8\"),\"\")","v":""},{"$f":"IFERROR(IF(OR(SHEETNAME($A369)=\"HIDE\",SHEETNAME($A369)=\"Start Here\",SHEETNAME($A369)=\"Template\"),\"\",HYPERLINK(\"#'\"&B369&\"'!A1\",\"Go to Sheet\")),\"\")","v":""},{"$f":"IFERROR(IF(INDIRECT(\"'\"&$B369&\"'!$U$7\"),INDIRECT(\"'\"&$B369&\"'!$u$9\"),\"(\"&INDIRECT(\"'\"&$B369&\"'!$U$8\")&\")\"),\"\")","v":""},{"$f":"IF(L369,\"This site has incomplete Cost and Revenue data.  \",\"\")&IF(M369,\"WFRS data for previous quarters is incomplete.  \",\"\")&IF(K369,IFERROR(INDIRECT(\"'\"&$B369&\"'!$g$9\"),\"\"),\"\")","v":""},false,{"$f":"IFERROR(INDIRECT(\"'\"&$B369&\"'!$u$7\"),FALSE)","v":false},{"$f":"IFERROR(INDIRECT(\"'\"&$B369&\"'!$u$10\"),FALSE)","v":false},{"$f":"IFERROR(INDIRECT(\"'\"&$B369&\"'!$AC$12\"),FALSE)","v":false},{"$f":"IFERROR(INDIRECT(\"'\"&$B369&\"'!$ad$12\"),FALSE)","v":false},null,{"$f":"IFERROR(INDIRECT(\"'\"&$B369&\"'!$d$10\"),\"\")","v":""},{"$f":"IFERROR(INDIRECT(\"'\"&$B369&\"'!$d$33\"),\"\")","v":""},{"$f":"IFERROR(INDIRECT(\"'\"&$B369&\"'!$j$33\")+INDIRECT(\"'\"&$B369&\"'!$k$33\"),\"\")","v":""},{"$f":"IFERROR(INDIRECT(\"'\"&$B369&\"'!$q$33\"),\"\")","v":""},{"$f":"IFERROR(INDIRECT(\"'\"&$B369&\"'!$e$33\"),\"\")","v":""},{"$f":"IFERROR(INDIRECT(\"'\"&$B369&\"'!$L$33\"),\"\")","v":""},{"$f":"IFERROR(INDIRECT(\"'\"&$B369&\"'!$g$33\")+INDIRECT(\"'\"&$B369&\"'!$h$33\")+INDIRECT(\"'\"&$B369&\"'!$i$33\"),\"\")","v":""}]
[334,{"$f":"IFERROR(IF(OR(SHEETNAME(A370)=\"HIDE\",SHEETNAME(A370)=\"Start Here\",SHEETNAME(A370)=\"Template\"),\"\",SHEETNAME(A370)),\"\")","v":""},{"$f":"IFERROR(INDIRECT(\"'\"&$B370&\"'!$d$6\"),\"\")","v":""},{"$f":"IFERROR(INDIRECT(\"'\"&$B370&\"'!$d$7\"),\"\")","v":""},{"$f":"IFERROR(INDIRECT(\"'\"&$B370&\"'!$d$8\"),\"\")","v":""},{"$f":"IFERROR(IF(OR(SHEETNAME($A370)=\"HIDE\",SHEETNAME($A370)=\"Start Here\",SHEETNAME($A370)=\"Template\"),\"\",HYPERLINK(\"#'\"&B370&\"'!A1\",\"Go to Sheet\")),\"\")","v":""},{"$f":"IFERROR(IF(INDIRECT(\"'\"&$B370&\"'!$U$7\"),INDIRECT(\"'\"&$B370&\"'!$u$9\"),\"(\"&INDIRECT(\"'\"&$B370&\"'!$U$8\")&\")\"),\"\")","v":""},{"$f":"IF(L370,\"This site has incomplete Cost and Revenue data.  \",\"\")&IF(M370,\"WFRS data for previous quarters is incomplete.  \",\"\")&IF(K370,IFERROR(INDIRECT(\"'\"&$B370&\"'!$g$9\"),\"\"),\"\")","v":""},false,{"$f":"IFERROR(INDIRECT(\"'\"&$B370&\"'!$u$7\"),FALSE)","v":false},{"$f":"IFERROR(INDIRECT(\"'\"&$B370&\"'!$u$10\"),FALSE)","v":false},{"$f":"IFERROR(INDIRECT(\"'\"&$B370&\"'!$AC$12\"),FALSE)","v":false},{"$f":"IFERROR(INDIRECT(\"'\"&$B370&\"'!$ad$12\"),FALSE)","v":false},null,{"$f":"IFERROR(INDIRECT(\"'\"&$B370&\"'!$d$10\"),\"\")","v":""},{"$f":"IFERROR(INDIRECT(\"'\"&$B370&\"'!$d$33\"),\"\")","v":""},{"$f":"IFERROR(INDIRECT(\"'\"&$B370&\"'!$j$33\")+INDIRECT(\"'\"&$B370&\"'!$k$33\"),\"\")","v":""},{"$f":"IFERROR(INDIRECT(\"'\"&$B370&\"'!$q$33\"),\"\")","v":""},{"$f":"IFERROR(INDIRECT(\"'\"&$B370&\"'!$e$33\"),\"\")","v":""},{"$f":"IFERROR(INDIRECT(\"'\"&$B370&\"'!$L$33\"),\"\")","v":""},{"$f":"IFERROR(INDIRECT(\"'\"&$B370&\"'!$g$33\")+INDIRECT(\"'\"&$B370&\"'!$h$33\")+INDIRECT(\"'\"&$B370&\"'!$i$33\"),\"\")","v":""}]
[335,{"$f":"IFERROR(IF(OR(SHEETNAME(A371)=\"HIDE\",SHEETNAME(A371)=\"Start Here\",SHEETNAME(A371)=\"Template\"),\"\",SHEETNAME(A371)),\"\")","v":""},{"$f":"IFERROR(INDIRECT(\"'\"&$B371&\"'!$d$6\"),\"\")","v":""},{"$f":"IFERROR(INDIRECT(\"'\"&$B371&\"'!$d$7\"),\"\")","v":""},{"$f":"IFERROR(INDIRECT(\"'\"&$B371&\"'!$d$8\"),\"\")","v":""},{"$f":"IFERROR(IF(OR(SHEETNAME($A371)=\"HIDE\",SHEETNAME($A371)=\"Start Here\",SHEETNAME($A371)=\"Template\"),\"\",HYPERLINK(\"#'\"&B371&\"'!A1\",\"Go to Sheet\")),\"\")","v":""},{"$f":"IFERROR(IF(INDIRECT(\"'\"&$B371&\"'!$U$7\"),INDIRECT(\"'\"&$B371&\"'!$u$9\"),\"(\"&INDIRECT(\"'\"&$B371&\"'!$U$8\")&\")\"),\"\")","v":""},{"$f":"IF(L371,\"This site has incomplete Cost and Revenue data.  \",\"\")&IF(M371,\"WFRS data for previous quarters is incomplete.  \",\"\")&IF(K371,IFERROR(INDIRECT(\"'\"&$B371&\"'!$g$9\"),\"\"),\"\")","v":""},false,{"$f":"IFERROR(INDIRECT(\"'\"&$B371&\"'!$u$7\"),FALSE)","v":false},{"$f":"IFERROR(INDIRECT(\"'\"&$B371&\"'!$u$10\"),FALSE)","v":false},{"$f":"IFERROR(INDIRECT(\"'\"&$B371&\"'!$AC$12\"),FALSE)","v":false},{"$f":"IFERROR(INDIRECT(\"'\"&$B371&\"'!$ad$12\"),FALSE)","v":false},null,{"$f":"IFERROR(INDIRECT(\"'\"&$B371&\"'!$d$10\"),\"\")","v":""},{"$f":"IFERROR(INDIRECT(\"'\"&$B371&\"'!$d$33\"),\"\")","v":""},{"$f":"IFERROR(INDIRECT(\"'\"&$B371&\"'!$j$33\")+INDIRECT(\"'\"&$B371&\"'!$k$33\"),\"\")","v":""},{"$f":"IFERROR(INDIRECT(\"'\"&$B371&\"'!$q$33\"),\"\")","v":""},{"$f":"IFERROR(INDIRECT(\"'\"&$B371&\"'!$e$33\"),\"\")","v":""},{"$f":"IFERROR(INDIRECT(\"'\"&$B371&\"'!$L$33\"),\"\")","v":""},{"$f":"IFERROR(INDIRECT(\"'\"&$B371&\"'!$g$33\")+INDIRECT(\"'\"&$B371&\"'!$h$33\")+INDIRECT(\"'\"&$B371&\"'!$i$33\"),\"\")","v":""}]
[336,{"$f":"IFERROR(IF(OR(SHEETNAME(A372)=\"HIDE\",SHEETNAME(A372)=\"Start Here\",SHEETNAME(A372)=\"Template\"),\"\",SHEETNAME(A372)),\"\")","v":""},{"$f":"IFERROR(INDIRECT(\"'\"&$B372&\"'!$d$6\"),\"\")","v":""},{"$f":"IFERROR(INDIRECT(\"'\"&$B372&\"'!$d$7\"),\"\")","v":""},{"$f":"IFERROR(INDIRECT(\"'\"&$B372&\"'!$d$8\"),\"\")","v":""},{"$f":"IFERROR(IF(OR(SHEETNAME($A372)=\"HIDE\",SHEETNAME($A372)=\"Start Here\",SHEETNAME($A372)=\"Template\"),\"\",HYPERLINK(\"#'\"&B372&\"'!A1\",\"Go to Sheet\")),\"\")","v":""},{"$f":"IFERROR(IF(INDIRECT(\"'\"&$B372&\"'!$U$7\"),INDIRECT(\"'\"&$B372&\"'!$u$9\"),\"(\"&INDIRECT(\"'\"&$B372&\"'!$U$8\")&\")\"),\"\")","v":""},{"$f":"IF(L372,\"This site has incomplete Cost and Revenue data.  \",\"\")&IF(M372,\"WFRS data for previous quarters is incomplete.  \",\"\")&IF(K372,IFERROR(INDIRECT(\"'\"&$B372&\"'!$g$9\"),\"\"),\"\")","v":""},false,{"$f":"IFERROR(INDIRECT(\"'\"&$B372&\"'!$u$7\"),FALSE)","v":false},{"$f":"IFERROR(INDIRECT(\"'\"&$B372&\"'!$u$10\"),FALSE)","v":false},{"$f":"IFERROR(INDIRECT(\"'\"&$B372&\"'!$AC$12\"),FALSE)","v":false},{"$f":"IFERROR(INDIRECT(\"'\"&$B372&\"'!$ad$12\"),FALSE)","v":false},null,{"$f":"IFERROR(INDIRECT(\"'\"&$B372&\"'!$d$10\"),\"\")","v":""},{"$f":"IFERROR(INDIRECT(\"'\"&$B372&\"'!$d$33\"),\"\")","v":""},{"$f":"IFERROR(INDIRECT(\"'\"&$B372&\"'!$j$33\")+INDIRECT(\"'\"&$B372&\"'!$k$33\"),\"\")","v":""},{"$f":"IFERROR(INDIRECT(\"'\"&$B372&\"'!$q$33\"),\"\")","v":""},{"$f":"IFERROR(INDIRECT(\"'\"&$B372&\"'!$e$33\"),\"\")","v":""},{"$f":"IFERROR(INDIRECT(\"'\"&$B372&\"'!$L$33\"),\"\")","v":""},{"$f":"IFERROR(INDIRECT(\"'\"&$B372&\"'!$g$33\")+INDIRECT(\"'\"&$B372&\"'!$h$33\")+INDIRECT(\"'\"&$B372&\"'!$i$33\"),\"\")","v":""}]
[337,{"$f":"IFERROR(IF(OR(SHEETNAME(A373)=\"HIDE\",SHEETNAME(A373)=\"Start Here\",SHEETNAME(A373)=\"Template\"),\"\",SHEETNAME(A373)),\"\")","v":""},{"$f":"IFERROR(INDIRECT(\"'\"&$B373&\"'!$d$6\"),\"\")","v":""},{"$f":"IFERROR(INDIRECT(\"'\"&$B373&\"'!$d$7\"),\"\")","v":""},{"$f":"IFERROR(INDIRECT(\"'\"&$B373&\"'!$d$8\"),\"\")","v":""},{"$f":"IFERROR(IF(OR(SHEETNAME($A373)=\"HIDE\",SHEETNAME($A373)=\"Start Here\",SHEETNAME($A373)=\"Template\"),\"\",HYPERLINK(\"#'\"&B373&\"'!A1\",\"Go to Sheet\")),\"\")","v":""},{"$f":"IFERROR(IF(INDIRECT(\"'\"&$B373&\"'!$U$7\"),INDIRECT(\"'\"&$B373&\"'!$u$9\"),\"(\"&INDIRECT(\"'\"&$B373&\"'!$U$8\")&\")\"),\"\")","v":""},{"$f":"IF(L373,\"This site has incomplete Cost and Revenue data.  \",\"\")&IF(M373,\"WFRS data for previous quarters is incomplete.  \",\"\")&IF(K373,IFERROR(INDIRECT(\"'\"&$B373&\"'!$g$9\"),\"\"),\"\")","v":""},false,{"$f":"IFERROR(INDIRECT(\"'\"&$B373&\"'!$u$7\"),FALSE)","v":false},{"$f":"IFERROR(INDIRECT(\"'\"&$B373&\"'!$u$10\"),FALSE)","v":false},{"$f":"IFERROR(INDIRECT(\"'\"&$B373&\"'!$AC$12\"),FALSE)","v":false},{"$f":"IFERROR(INDIRECT(\"'\"&$B373&\"'!$ad$12\"),FALSE)","v":false},null,{"$f":"IFERROR(INDIRECT(\"'\"&$B373&\"'!$d$10\"),\"\")","v":""},{"$f":"IFERROR(INDIRECT(\"'\"&$B373&\"'!$d$33\"),\"\")","v":""},{"$f":"IFERROR(INDIRECT(\"'\"&$B373&\"'!$j$33\")+INDIRECT(\"'\"&$B373&\"'!$k$33\"),\"\")","v":""},{"$f":"IFERROR(INDIRECT(\"'\"&$B373&\"'!$q$33\"),\"\")","v":""},{"$f":"IFERROR(INDIRECT(\"'\"&$B373&\"'!$e$33\"),\"\")","v":""},{"$f":"IFERROR(INDIRECT(\"'\"&$B373&\"'!$L$33\"),\"\")","v":""},{"$f":"IFERROR(INDIRECT(\"'\"&$B373&\"'!$g$33\")+INDIRECT(\"'\"&$B373&\"'!$h$33\")+INDIRECT(\"'\"&$B373&\"'!$i$33\"),\"\")","v":""}]
[338,{"$f":"IFERROR(IF(OR(SHEETNAME(A374)=\"HIDE\",SHEETNAME(A374)=\"Start Here\",SHEETNAME(A374)=\"Template\"),\"\",SHEETNAME(A374)),\"\")","v":""},{"$f":"IFERROR(INDIRECT(\"'\"&$B374&\"'!$d$6\"),\"\")","v":""},{"$f":"IFERROR(INDIRECT(\"'\"&$B374&\"'!$d$7\"),\"\")","v":""},{"$f":"IFERROR(INDIRECT(\"'\"&$B374&\"'!$d$8\"),\"\")","v":""},{"$f":"IFERROR(IF(OR(SHEETNAME($A374)=\"HIDE\",SHEETNAME($A374)=\"Start Here\",SHEETNAME($A374)=\"Template\"),\"\",HYPERLINK(\"#'\"&B374&\"'!A1\",\"Go to Sheet\")),\"\")","v":""},{"$f":"IFERROR(IF(INDIRECT(\"'\"&$B374&\"'!$U$7\"),INDIRECT(\"'\"&$B374&\"'!$u$9\"),\"(\"&INDIRECT(\"'\"&$B374&\"'!$U$8\")&\")\"),\"\")","v":""},{"$f":"IF(L374,\"This site has incomplete Cost and Revenue data.  \",\"\")&IF(M374,\"WFRS data for previous quarters is incomplete.  \",\"\")&IF(K374,IFERROR(INDIRECT(\"'\"&$B374&\"'!$g$9\"),\"\"),\"\")","v":""},false,{"$f":"IFERROR(INDIRECT(\"'\"&$B374&\"'!$u$7\"),FALSE)","v":false},{"$f":"IFERROR(INDIRECT(\"'\"&$B374&\"'!$u$10\"),FALSE)","v":false},{"$f":"IFERROR(INDIRECT(\"'\"&$B374&\"'!$AC$12\"),FALSE)","v":false},{"$f":"IFERROR(INDIRECT(\"'\"&$B374&\"'!$ad$12\"),FALSE)","v":false},null,{"$f":"IFERROR(INDIRECT(\"'\"&$B374&\"'!$d$10\"),\"\")","v":""},{"$f":"IFERROR(INDIRECT(\"'\"&$B374&\"'!$d$33\"),\"\")","v":""},{"$f":"IFERROR(INDIRECT(\"'\"&$B374&\"'!$j$33\")+INDIRECT(\"'\"&$B374&\"'!$k$33\"),\"\")","v":""},{"$f":"IFERROR(INDIRECT(\"'\"&$B374&\"'!$q$33\"),\"\")","v":""},{"$f":"IFERROR(INDIRECT(\"'\"&$B374&\"'!$e$33\"),\"\")","v":""},{"$f":"IFERROR(INDIRECT(\"'\"&$B374&\"'!$L$33\"),\"\")","v":""},{"$f":"IFERROR(INDIRECT(\"'\"&$B374&\"'!$g$33\")+INDIRECT(\"'\"&$B374&\"'!$h$33\")+INDIRECT(\"'\"&$B374&\"'!$i$33\"),\"\")","v":""}]
[339,{"$f":"IFERROR(IF(OR(SHEETNAME(A375)=\"HIDE\",SHEETNAME(A375)=\"Start Here\",SHEETNAME(A375)=\"Template\"),\"\",SHEETNAME(A375)),\"\")","v":""},{"$f":"IFERROR(INDIRECT(\"'\"&$B375&\"'!$d$6\"),\"\")","v":""},{"$f":"IFERROR(INDIRECT(\"'\"&$B375&\"'!$d$7\"),\"\")","v":""},{"$f":"IFERROR(INDIRECT(\"'\"&$B375&\"'!$d$8\"),\"\")","v":""},{"$f":"IFERROR(IF(OR(SHEETNAME($A375)=\"HIDE\",SHEETNAME($A375)=\"Start Here\",SHEETNAME($A375)=\"Template\"),\"\",HYPERLINK(\"#'\"&B375&\"'!A1\",\"Go to Sheet\")),\"\")","v":""},{"$f":"IFERROR(IF(INDIRECT(\"'\"&$B375&\"'!$U$7\"),INDIRECT(\"'\"&$B375&\"'!$u$9\"),\"(\"&INDIRECT(\"'\"&$B375&\"'!$U$8\")&\")\"),\"\")","v":""},{"$f":"IF(L375,\"This site has incomplete Cost and Revenue data.  \",\"\")&IF(M375,\"WFRS data for previous quarters is incomplete.  \",\"\")&IF(K375,IFERROR(INDIRECT(\"'\"&$B375&\"'!$g$9\"),\"\"),\"\")","v":""},false,{"$f":"IFERROR(INDIRECT(\"'\"&$B375&\"'!$u$7\"),FALSE)","v":false},{"$f":"IFERROR(INDIRECT(\"'\"&$B375&\"'!$u$10\"),FALSE)","v":false},{"$f":"IFERROR(INDIRECT(\"'\"&$B375&\"'!$AC$12\"),FALSE)","v":false},{"$f":"IFERROR(INDIRECT(\"'\"&$B375&\"'!$ad$12\"),FALSE)","v":false},null,{"$f":"IFERROR(INDIRECT(\"'\"&$B375&\"'!$d$10\"),\"\")","v":""},{"$f":"IFERROR(INDIRECT(\"'\"&$B375&\"'!$d$33\"),\"\")","v":""},{"$f":"IFERROR(INDIRECT(\"'\"&$B375&\"'!$j$33\")+INDIRECT(\"'\"&$B375&\"'!$k$33\"),\"\")","v":""},{"$f":"IFERROR(INDIRECT(\"'\"&$B375&\"'!$q$33\"),\"\")","v":""},{"$f":"IFERROR(INDIRECT(\"'\"&$B375&\"'!$e$33\"),\"\")","v":""},{"$f":"IFERROR(INDIRECT(\"'\"&$B375&\"'!$L$33\"),\"\")","v":""},{"$f":"IFERROR(INDIRECT(\"'\"&$B375&\"'!$g$33\")+INDIRECT(\"'\"&$B375&\"'!$h$33\")+INDIRECT(\"'\"&$B375&\"'!$i$33\"),\"\")","v":""}]
[340,{"$f":"IFERROR(IF(OR(SHEETNAME(A376)=\"HIDE\",SHEETNAME(A376)=\"Start Here\",SHEETNAME(A376)=\"Template\"),\"\",SHEETNAME(A376)),\"\")","v":""},{"$f":"IFERROR(INDIRECT(\"'\"&$B376&\"'!$d$6\"),\"\")","v":""},{"$f":"IFERROR(INDIRECT(\"'\"&$B376&\"'!$d$7\"),\"\")","v":""},{"$f":"IFERROR(INDIRECT(\"'\"&$B376&\"'!$d$8\"),\"\")","v":""},{"$f":"IFERROR(IF(OR(SHEETNAME($A376)=\"HIDE\",SHEETNAME($A376)=\"Start Here\",SHEETNAME($A376)=\"Template\"),\"\",HYPERLINK(\"#'\"&B376&\"'!A1\",\"Go to Sheet\")),\"\")","v":""},{"$f":"IFERROR(IF(INDIRECT(\"'\"&$B376&\"'!$U$7\"),INDIRECT(\"'\"&$B376&\"'!$u$9\"),\"(\"&INDIRECT(\"'\"&$B376&\"'!$U$8\")&\")\"),\"\")","v":""},{"$f":"IF(L376,\"This site has incomplete Cost and Revenue data.  \",\"\")&IF(M376,\"WFRS data for previous quarters is incomplete.  \",\"\")&IF(K376,IFERROR(INDIRECT(\"'\"&$B376&\"'!$g$9\"),\"\"),\"\")","v":""},false,{"$f":"IFERROR(INDIRECT(\"'\"&$B376&\"'!$u$7\"),FALSE)","v":false},{"$f":"IFERROR(INDIRECT(\"'\"&$B376&\"'!$u$10\"),FALSE)","v":false},{"$f":"IFERROR(INDIRECT(\"'\"&$B376&\"'!$AC$12\"),FALSE)","v":false},{"$f":"IFERROR(INDIRECT(\"'\"&$B376&\"'!$ad$12\"),FALSE)","v":false},null,{"$f":"IFERROR(INDIRECT(\"'\"&$B376&\"'!$d$10\"),\"\")","v":""},{"$f":"IFERROR(INDIRECT(\"'\"&$B376&\"'!$d$33\"),\"\")","v":""},{"$f":"IFERROR(INDIRECT(\"'\"&$B376&\"'!$j$33\")+INDIRECT(\"'\"&$B376&\"'!$k$33\"),\"\")","v":""},{"$f":"IFERROR(INDIRECT(\"'\"&$B376&\"'!$q$33\"),\"\")","v":""},{"$f":"IFERROR(INDIRECT(\"'\"&$B376&\"'!$e$33\"),\"\")","v":""},{"$f":"IFERROR(INDIRECT(\"'\"&$B376&\"'!$L$33\"),\"\")","v":""},{"$f":"IFERROR(INDIRECT(\"'\"&$B376&\"'!$g$33\")+INDIRECT(\"'\"&$B376&\"'!$h$33\")+INDIRECT(\"'\"&$B376&\"'!$i$33\"),\"\")","v":""}]
[341,{"$f":"IFERROR(IF(OR(SHEETNAME(A377)=\"HIDE\",SHEETNAME(A377)=\"Start Here\",SHEETNAME(A377)=\"Template\"),\"\",SHEETNAME(A377)),\"\")","v":""},{"$f":"IFERROR(INDIRECT(\"'\"&$B377&\"'!$d$6\"),\"\")","v":""},{"$f":"IFERROR(INDIRECT(\"'\"&$B377&\"'!$d$7\"),\"\")","v":""},{"$f":"IFERROR(INDIRECT(\"'\"&$B377&\"'!$d$8\"),\"\")","v":""},{"$f":"IFERROR(IF(OR(SHEETNAME($A377)=\"HIDE\",SHEETNAME($A377)=\"Start Here\",SHEETNAME($A377)=\"Template\"),\"\",HYPERLINK(\"#'\"&B377&\"'!A1\",\"Go to Sheet\")),\"\")","v":""},{"$f":"IFERROR(IF(INDIRECT(\"'\"&$B377&\"'!$U$7\"),INDIRECT(\"'\"&$B377&\"'!$u$9\"),\"(\"&INDIRECT(\"'\"&$B377&\"'!$U$8\")&\")\"),\"\")","v":""},{"$f":"IF(L377,\"This site has incomplete Cost and Revenue data.  \",\"\")&IF(M377,\"WFRS data for previous quarters is incomplete.  \",\"\")&IF(K377,IFERROR(INDIRECT(\"'\"&$B377&\"'!$g$9\"),\"\"),\"\")","v":""},false,{"$f":"IFERROR(INDIRECT(\"'\"&$B377&\"'!$u$7\"),FALSE)","v":false},{"$f":"IFERROR(INDIRECT(\"'\"&$B377&\"'!$u$10\"),FALSE)","v":false},{"$f":"IFERROR(INDIRECT(\"'\"&$B377&\"'!$AC$12\"),FALSE)","v":false},{"$f":"IFERROR(INDIRECT(\"'\"&$B377&\"'!$ad$12\"),FALSE)","v":false},null,{"$f":"IFERROR(INDIRECT(\"'\"&$B377&\"'!$d$10\"),\"\")","v":""},{"$f":"IFERROR(INDIRECT(\"'\"&$B377&\"'!$d$33\"),\"\")","v":""},{"$f":"IFERROR(INDIRECT(\"'\"&$B377&\"'!$j$33\")+INDIRECT(\"'\"&$B377&\"'!$k$33\"),\"\")","v":""},{"$f":"IFERROR(INDIRECT(\"'\"&$B377&\"'!$q$33\"),\"\")","v":""},{"$f":"IFERROR(INDIRECT(\"'\"&$B377&\"'!$e$33\"),\"\")","v":""},{"$f":"IFERROR(INDIRECT(\"'\"&$B377&\"'!$L$33\"),\"\")","v":""},{"$f":"IFERROR(INDIRECT(\"'\"&$B377&\"'!$g$33\")+INDIRECT(\"'\"&$B377&\"'!$h$33\")+INDIRECT(\"'\"&$B377&\"'!$i$33\"),\"\")","v":""}]
[342,{"$f":"IFERROR(IF(OR(SHEETNAME(A378)=\"HIDE\",SHEETNAME(A378)=\"Start Here\",SHEETNAME(A378)=\"Template\"),\"\",SHEETNAME(A378)),\"\")","v":""},{"$f":"IFERROR(INDIRECT(\"'\"&$B378&\"'!$d$6\"),\"\")","v":""},{"$f":"IFERROR(INDIRECT(\"'\"&$B378&\"'!$d$7\"),\"\")","v":""},{"$f":"IFERROR(INDIRECT(\"'\"&$B378&\"'!$d$8\"),\"\")","v":""},{"$f":"IFERROR(IF(OR(SHEETNAME($A378)=\"HIDE\",SHEETNAME($A378)=\"Start Here\",SHEETNAME($A378)=\"Template\"),\"\",HYPERLINK(\"#'\"&B378&\"'!A1\",\"Go to Sheet\")),\"\")","v":""},{"$f":"IFERROR(IF(INDIRECT(\"'\"&$B378&\"'!$U$7\"),INDIRECT(\"'\"&$B378&\"'!$u$9\"),\"(\"&INDIRECT(\"'\"&$B378&\"'!$U$8\")&\")\"),\"\")","v":""},{"$f":"IF(L378,\"This site has incomplete Cost and Revenue data.  \",\"\")&IF(M378,\"WFRS data for previous quarters is incomplete.  \",\"\")&IF(K378,IFERROR(INDIRECT(\"'\"&$B378&\"'!$g$9\"),\"\"),\"\")","v":""},false,{"$f":"IFERROR(INDIRECT(\"'\"&$B378&\"'!$u$7\"),FALSE)","v":false},{"$f":"IFERROR(INDIRECT(\"'\"&$B378&\"'!$u$10\"),FALSE)","v":false},{"$f":"IFERROR(INDIRECT(\"'\"&$B378&\"'!$AC$12\"),FALSE)","v":false},{"$f":"IFERROR(INDIRECT(\"'\"&$B378&\"'!$ad$12\"),FALSE)","v":false},null,{"$f":"IFERROR(INDIRECT(\"'\"&$B378&\"'!$d$10\"),\"\")","v":""},{"$f":"IFERROR(INDIRECT(\"'\"&$B378&\"'!$d$33\"),\"\")","v":""},{"$f":"IFERROR(INDIRECT(\"'\"&$B378&\"'!$j$33\")+INDIRECT(\"'\"&$B378&\"'!$k$33\"),\"\")","v":""},{"$f":"IFERROR(INDIRECT(\"'\"&$B378&\"'!$q$33\"),\"\")","v":""},{"$f":"IFERROR(INDIRECT(\"'\"&$B378&\"'!$e$33\"),\"\")","v":""},{"$f":"IFERROR(INDIRECT(\"'\"&$B378&\"'!$L$33\"),\"\")","v":""},{"$f":"IFERROR(INDIRECT(\"'\"&$B378&\"'!$g$33\")+INDIRECT(\"'\"&$B378&\"'!$h$33\")+INDIRECT(\"'\"&$B378&\"'!$i$33\"),\"\")","v":""}]
[343,{"$f":"IFERROR(IF(OR(SHEETNAME(A379)=\"HIDE\",SHEETNAME(A379)=\"Start Here\",SHEETNAME(A379)=\"Template\"),\"\",SHEETNAME(A379)),\"\")","v":""},{"$f":"IFERROR(INDIRECT(\"'\"&$B379&\"'!$d$6\"),\"\")","v":""},{"$f":"IFERROR(INDIRECT(\"'\"&$B379&\"'!$d$7\"),\"\")","v":""},{"$f":"IFERROR(INDIRECT(\"'\"&$B379&\"'!$d$8\"),\"\")","v":""},{"$f":"IFERROR(IF(OR(SHEETNAME($A379)=\"HIDE\",SHEETNAME($A379)=\"Start Here\",SHEETNAME($A379)=\"Template\"),\"\",HYPERLINK(\"#'\"&B379&\"'!A1\",\"Go to Sheet\")),\"\")","v":""},{"$f":"IFERROR(IF(INDIRECT(\"'\"&$B379&\"'!$U$7\"),INDIRECT(\"'\"&$B379&\"'!$u$9\"),\"(\"&INDIRECT(\"'\"&$B379&\"'!$U$8\")&\")\"),\"\")","v":""},{"$f":"IF(L379,\"This site has incomplete Cost and Revenue data.  \",\"\")&IF(M379,\"WFRS data for previous quarters is incomplete.  \",\"\")&IF(K379,IFERROR(INDIRECT(\"'\"&$B379&\"'!$g$9\"),\"\"),\"\")","v":""},false,{"$f":"IFERROR(INDIRECT(\"'\"&$B379&\"'!$u$7\"),FALSE)","v":false},{"$f":"IFERROR(INDIRECT(\"'\"&$B379&\"'!$u$10\"),FALSE)","v":false},{"$f":"IFERROR(INDIRECT(\"'\"&$B379&\"'!$AC$12\"),FALSE)","v":false},{"$f":"IFERROR(INDIRECT(\"'\"&$B379&\"'!$ad$12\"),FALSE)","v":false},null,{"$f":"IFERROR(INDIRECT(\"'\"&$B379&\"'!$d$10\"),\"\")","v":""},{"$f":"IFERROR(INDIRECT(\"'\"&$B379&\"'!$d$33\"),\"\")","v":""},{"$f":"IFERROR(INDIRECT(\"'\"&$B379&\"'!$j$33\")+INDIRECT(\"'\"&$B379&\"'!$k$33\"),\"\")","v":""},{"$f":"IFERROR(INDIRECT(\"'\"&$B379&\"'!$q$33\"),\"\")","v":""},{"$f":"IFERROR(INDIRECT(\"'\"&$B379&\"'!$e$33\"),\"\")","v":""},{"$f":"IFERROR(INDIRECT(\"'\"&$B379&\"'!$L$33\"),\"\")","v":""},{"$f":"IFERROR(INDIRECT(\"'\"&$B379&\"'!$g$33\")+INDIRECT(\"'\"&$B379&\"'!$h$33\")+INDIRECT(\"'\"&$B379&\"'!$i$33\"),\"\")","v":""}]
[344,{"$f":"IFERROR(IF(OR(SHEETNAME(A380)=\"HIDE\",SHEETNAME(A380)=\"Start Here\",SHEETNAME(A380)=\"Template\"),\"\",SHEETNAME(A380)),\"\")","v":""},{"$f":"IFERROR(INDIRECT(\"'\"&$B380&\"'!$d$6\"),\"\")","v":""},{"$f":"IFERROR(INDIRECT(\"'\"&$B380&\"'!$d$7\"),\"\")","v":""},{"$f":"IFERROR(INDIRECT(\"'\"&$B380&\"'!$d$8\"),\"\")","v":""},{"$f":"IFERROR(IF(OR(SHEETNAME($A380)=\"HIDE\",SHEETNAME($A380)=\"Start Here\",SHEETNAME($A380)=\"Template\"),\"\",HYPERLINK(\"#'\"&B380&\"'!A1\",\"Go to Sheet\")),\"\")","v":""},{"$f":"IFERROR(IF(INDIRECT(\"'\"&$B380&\"'!$U$7\"),INDIRECT(\"'\"&$B380&\"'!$u$9\"),\"(\"&INDIRECT(\"'\"&$B380&\"'!$U$8\")&\")\"),\"\")","v":""},{"$f":"IF(L380,\"This site has incomplete Cost and Revenue data.  \",\"\")&IF(M380,\"WFRS data for previous quarters is incomplete.  \",\"\")&IF(K380,IFERROR(INDIRECT(\"'\"&$B380&\"'!$g$9\"),\"\"),\"\")","v":""},false,{"$f":"IFERROR(INDIRECT(\"'\"&$B380&\"'!$u$7\"),FALSE)","v":false},{"$f":"IFERROR(INDIRECT(\"'\"&$B380&\"'!$u$10\"),FALSE)","v":false},{"$f":"IFERROR(INDIRECT(\"'\"&$B380&\"'!$AC$12\"),FALSE)","v":false},{"$f":"IFERROR(INDIRECT(\"'\"&$B380&\"'!$ad$12\"),FALSE)","v":false},null,{"$f":"IFERROR(INDIRECT(\"'\"&$B380&\"'!$d$10\"),\"\")","v":""},{"$f":"IFERROR(INDIRECT(\"'\"&$B380&\"'!$d$33\"),\"\")","v":""},{"$f":"IFERROR(INDIRECT(\"'\"&$B380&\"'!$j$33\")+INDIRECT(\"'\"&$B380&\"'!$k$33\"),\"\")","v":""},{"$f":"IFERROR(INDIRECT(\"'\"&$B380&\"'!$q$33\"),\"\")","v":""},{"$f":"IFERROR(INDIRECT(\"'\"&$B380&\"'!$e$33\"),\"\")","v":""},{"$f":"IFERROR(INDIRECT(\"'\"&$B380&\"'!$L$33\"),\"\")","v":""},{"$f":"IFERROR(INDIRECT(\"'\"&$B380&\"'!$g$33\")+INDIRECT(\"'\"&$B380&\"'!$h$33\")+INDIRECT(\"'\"&$B380&\"'!$i$33\"),\"\")","v":""}]
[345,{"$f":"IFERROR(IF(OR(SHEETNAME(A381)=\"HIDE\",SHEETNAME(A381)=\"Start Here\",SHEETNAME(A381)=\"Template\"),\"\",SHEETNAME(A381)),\"\")","v":""},{"$f":"IFERROR(INDIRECT(\"'\"&$B381&\"'!$d$6\"),\"\")","v":""},{"$f":"IFERROR(INDIRECT(\"'\"&$B381&\"'!$d$7\"),\"\")","v":""},{"$f":"IFERROR(INDIRECT(\"'\"&$B381&\"'!$d$8\"),\"\")","v":""},{"$f":"IFERROR(IF(OR(SHEETNAME($A381)=\"HIDE\",SHEETNAME($A381)=\"Start Here\",SHEETNAME($A381)=\"Template\"),\"\",HYPERLINK(\"#'\"&B381&\"'!A1\",\"Go to Sheet\")),\"\")","v":""},{"$f":"IFERROR(IF(INDIRECT(\"'\"&$B381&\"'!$U$7\"),INDIRECT(\"'\"&$B381&\"'!$u$9\"),\"(\"&INDIRECT(\"'\"&$B381&\"'!$U$8\")&\")\"),\"\")","v":""},{"$f":"IF(L381,\"This site has incomplete Cost and Revenue data.  \",\"\")&IF(M381,\"WFRS data for previous quarters is incomplete.  \",\"\")&IF(K381,IFERROR(INDIRECT(\"'\"&$B381&\"'!$g$9\"),\"\"),\"\")","v":""},false,{"$f":"IFERROR(INDIRECT(\"'\"&$B381&\"'!$u$7\"),FALSE)","v":false},{"$f":"IFERROR(INDIRECT(\"'\"&$B381&\"'!$u$10\"),FALSE)","v":false},{"$f":"IFERROR(INDIRECT(\"'\"&$B381&\"'!$AC$12\"),FALSE)","v":false},{"$f":"IFERROR(INDIRECT(\"'\"&$B381&\"'!$ad$12\"),FALSE)","v":false},null,{"$f":"IFERROR(INDIRECT(\"'\"&$B381&\"'!$d$10\"),\"\")","v":""},{"$f":"IFERROR(INDIRECT(\"'\"&$B381&\"'!$d$33\"),\"\")","v":""},{"$f":"IFERROR(INDIRECT(\"'\"&$B381&\"'!$j$33\")+INDIRECT(\"'\"&$B381&\"'!$k$33\"),\"\")","v":""},{"$f":"IFERROR(INDIRECT(\"'\"&$B381&\"'!$q$33\"),\"\")","v":""},{"$f":"IFERROR(INDIRECT(\"'\"&$B381&\"'!$e$33\"),\"\")","v":""},{"$f":"IFERROR(INDIRECT(\"'\"&$B381&\"'!$L$33\"),\"\")","v":""},{"$f":"IFERROR(INDIRECT(\"'\"&$B381&\"'!$g$33\")+INDIRECT(\"'\"&$B381&\"'!$h$33\")+INDIRECT(\"'\"&$B381&\"'!$i$33\"),\"\")","v":""}]
[346,{"$f":"IFERROR(IF(OR(SHEETNAME(A382)=\"HIDE\",SHEETNAME(A382)=\"Start Here\",SHEETNAME(A382)=\"Template\"),\"\",SHEETNAME(A382)),\"\")","v":""},{"$f":"IFERROR(INDIRECT(\"'\"&$B382&\"'!$d$6\"),\"\")","v":""},{"$f":"IFERROR(INDIRECT(\"'\"&$B382&\"'!$d$7\"),\"\")","v":""},{"$f":"IFERROR(INDIRECT(\"'\"&$B382&\"'!$d$8\"),\"\")","v":""},{"$f":"IFERROR(IF(OR(SHEETNAME($A382)=\"HIDE\",SHEETNAME($A382)=\"Start Here\",SHEETNAME($A382)=\"Template\"),\"\",HYPERLINK(\"#'\"&B382&\"'!A1\",\"Go to Sheet\")),\"\")","v":""},{"$f":"IFERROR(IF(INDIRECT(\"'\"&$B382&\"'!$U$7\"),INDIRECT(\"'\"&$B382&\"'!$u$9\"),\"(\"&INDIRECT(\"'\"&$B382&\"'!$U$8\")&\")\"),\"\")","v":""},{"$f":"IF(L382,\"This site has incomplete Cost and Revenue data.  \",\"\")&IF(M382,\"WFRS data for previous quarters is incomplete.  \",\"\")&IF(K382,IFERROR(INDIRECT(\"'\"&$B382&\"'!$g$9\"),\"\"),\"\")","v":""},false,{"$f":"IFERROR(INDIRECT(\"'\"&$B382&\"'!$u$7\"),FALSE)","v":false},{"$f":"IFERROR(INDIRECT(\"'\"&$B382&\"'!$u$10\"),FALSE)","v":false},{"$f":"IFERROR(INDIRECT(\"'\"&$B382&\"'!$AC$12\"),FALSE)","v":false},{"$f":"IFERROR(INDIRECT(\"'\"&$B382&\"'!$ad$12\"),FALSE)","v":false},null,{"$f":"IFERROR(INDIRECT(\"'\"&$B382&\"'!$d$10\"),\"\")","v":""},{"$f":"IFERROR(INDIRECT(\"'\"&$B382&\"'!$d$33\"),\"\")","v":""},{"$f":"IFERROR(INDIRECT(\"'\"&$B382&\"'!$j$33\")+INDIRECT(\"'\"&$B382&\"'!$k$33\"),\"\")","v":""},{"$f":"IFERROR(INDIRECT(\"'\"&$B382&\"'!$q$33\"),\"\")","v":""},{"$f":"IFERROR(INDIRECT(\"'\"&$B382&\"'!$e$33\"),\"\")","v":""},{"$f":"IFERROR(INDIRECT(\"'\"&$B382&\"'!$L$33\"),\"\")","v":""},{"$f":"IFERROR(INDIRECT(\"'\"&$B382&\"'!$g$33\")+INDIRECT(\"'\"&$B382&\"'!$h$33\")+INDIRECT(\"'\"&$B382&\"'!$i$33\"),\"\")","v":""}]
[347,{"$f":"IFERROR(IF(OR(SHEETNAME(A383)=\"HIDE\",SHEETNAME(A383)=\"Start Here\",SHEETNAME(A383)=\"Template\"),\"\",SHEETNAME(A383)),\"\")","v":""},{"$f":"IFERROR(INDIRECT(\"'\"&$B383&\"'!$d$6\"),\"\")","v":""},{"$f":"IFERROR(INDIRECT(\"'\"&$B383&\"'!$d$7\"),\"\")","v":""},{"$f":"IFERROR(INDIRECT(\"'\"&$B383&\"'!$d$8\"),\"\")","v":""},{"$f":"IFERROR(IF(OR(SHEETNAME($A383)=\"HIDE\",SHEETNAME($A383)=\"Start Here\",SHEETNAME($A383)=\"Template\"),\"\",HYPERLINK(\"#'\"&B383&\"'!A1\",\"Go to Sheet\")),\"\")","v":""},{"$f":"IFERROR(IF(INDIRECT(\"'\"&$B383&\"'!$U$7\"),INDIRECT(\"'\"&$B383&\"'!$u$9\"),\"(\"&INDIRECT(\"'\"&$B383&\"'!$U$8\")&\")\"),\"\")","v":""},{"$f":"IF(L383,\"This site has incomplete Cost and Revenue data.  \",\"\")&IF(M383,\"WFRS data for previous quarters is incomplete.  \",\"\")&IF(K383,IFERROR(INDIRECT(\"'\"&$B383&\"'!$g$9\"),\"\"),\"\")","v":""},false,{"$f":"IFERROR(INDIRECT(\"'\"&$B383&\"'!$u$7\"),FALSE)","v":false},{"$f":"IFERROR(INDIRECT(\"'\"&$B383&\"'!$u$10\"),FALSE)","v":false},{"$f":"IFERROR(INDIRECT(\"'\"&$B383&\"'!$AC$12\"),FALSE)","v":false},{"$f":"IFERROR(INDIRECT(\"'\"&$B383&\"'!$ad$12\"),FALSE)","v":false},null,{"$f":"IFERROR(INDIRECT(\"'\"&$B383&\"'!$d$10\"),\"\")","v":""},{"$f":"IFERROR(INDIRECT(\"'\"&$B383&\"'!$d$33\"),\"\")","v":""},{"$f":"IFERROR(INDIRECT(\"'\"&$B383&\"'!$j$33\")+INDIRECT(\"'\"&$B383&\"'!$k$33\"),\"\")","v":""},{"$f":"IFERROR(INDIRECT(\"'\"&$B383&\"'!$q$33\"),\"\")","v":""},{"$f":"IFERROR(INDIRECT(\"'\"&$B383&\"'!$e$33\"),\"\")","v":""},{"$f":"IFERROR(INDIRECT(\"'\"&$B383&\"'!$L$33\"),\"\")","v":""},{"$f":"IFERROR(INDIRECT(\"'\"&$B383&\"'!$g$33\")+INDIRECT(\"'\"&$B383&\"'!$h$33\")+INDIRECT(\"'\"&$B383&\"'!$i$33\"),\"\")","v":""}]
[348,{"$f":"IFERROR(IF(OR(SHEETNAME(A384)=\"HIDE\",SHEETNAME(A384)=\"Start Here\",SHEETNAME(A384)=\"Template\"),\"\",SHEETNAME(A384)),\"\")","v":""},{"$f":"IFERROR(INDIRECT(\"'\"&$B384&\"'!$d$6\"),\"\")","v":""},{"$f":"IFERROR(INDIRECT(\"'\"&$B384&\"'!$d$7\"),\"\")","v":""},{"$f":"IFERROR(INDIRECT(\"'\"&$B384&\"'!$d$8\"),\"\")","v":""},{"$f":"IFERROR(IF(OR(SHEETNAME($A384)=\"HIDE\",SHEETNAME($A384)=\"Start Here\",SHEETNAME($A384)=\"Template\"),\"\",HYPERLINK(\"#'\"&B384&\"'!A1\",\"Go to Sheet\")),\"\")","v":""},{"$f":"IFERROR(IF(INDIRECT(\"'\"&$B384&\"'!$U$7\"),INDIRECT(\"'\"&$B384&\"'!$u$9\"),\"(\"&INDIRECT(\"'\"&$B384&\"'!$U$8\")&\")\"),\"\")","v":""},{"$f":"IF(L384,\"This site has incomplete Cost and Revenue data.  \",\"\")&IF(M384,\"WFRS data for previous quarters is incomplete.  \",\"\")&IF(K384,IFERROR(INDIRECT(\"'\"&$B384&\"'!$g$9\"),\"\"),\"\")","v":""},false,{"$f":"IFERROR(INDIRECT(\"'\"&$B384&\"'!$u$7\"),FALSE)","v":false},{"$f":"IFERROR(INDIRECT(\"'\"&$B384&\"'!$u$10\"),FALSE)","v":false},{"$f":"IFERROR(INDIRECT(\"'\"&$B384&\"'!$AC$12\"),FALSE)","v":false},{"$f":"IFERROR(INDIRECT(\"'\"&$B384&\"'!$ad$12\"),FALSE)","v":false},null,{"$f":"IFERROR(INDIRECT(\"'\"&$B384&\"'!$d$10\"),\"\")","v":""},{"$f":"IFERROR(INDIRECT(\"'\"&$B384&\"'!$d$33\"),\"\")","v":""},{"$f":"IFERROR(INDIRECT(\"'\"&$B384&\"'!$j$33\")+INDIRECT(\"'\"&$B384&\"'!$k$33\"),\"\")","v":""},{"$f":"IFERROR(INDIRECT(\"'\"&$B384&\"'!$q$33\"),\"\")","v":""},{"$f":"IFERROR(INDIRECT(\"'\"&$B384&\"'!$e$33\"),\"\")","v":""},{"$f":"IFERROR(INDIRECT(\"'\"&$B384&\"'!$L$33\"),\"\")","v":""},{"$f":"IFERROR(INDIRECT(\"'\"&$B384&\"'!$g$33\")+INDIRECT(\"'\"&$B384&\"'!$h$33\")+INDIRECT(\"'\"&$B384&\"'!$i$33\"),\"\")","v":""}]
[349,{"$f":"IFERROR(IF(OR(SHEETNAME(A385)=\"HIDE\",SHEETNAME(A385)=\"Start Here\",SHEETNAME(A385)=\"Template\"),\"\",SHEETNAME(A385)),\"\")","v":""},{"$f":"IFERROR(INDIRECT(\"'\"&$B385&\"'!$d$6\"),\"\")","v":""},{"$f":"IFERROR(INDIRECT(\"'\"&$B385&\"'!$d$7\"),\"\")","v":""},{"$f":"IFERROR(INDIRECT(\"'\"&$B385&\"'!$d$8\"),\"\")","v":""},{"$f":"IFERROR(IF(OR(SHEETNAME($A385)=\"HIDE\",SHEETNAME($A385)=\"Start Here\",SHEETNAME($A385)=\"Template\"),\"\",HYPERLINK(\"#'\"&B385&\"'!A1\",\"Go to Sheet\")),\"\")","v":""},{"$f":"IFERROR(IF(INDIRECT(\"'\"&$B385&\"'!$U$7\"),INDIRECT(\"'\"&$B385&\"'!$u$9\"),\"(\"&INDIRECT(\"'\"&$B385&\"'!$U$8\")&\")\"),\"\")","v":""},{"$f":"IF(L385,\"This site has incomplete Cost and Revenue data.  \",\"\")&IF(M385,\"WFRS data for previous quarters is incomplete.  \",\"\")&IF(K385,IFERROR(INDIRECT(\"'\"&$B385&\"'!$g$9\"),\"\"),\"\")","v":""},false,{"$f":"IFERROR(INDIRECT(\"'\"&$B385&\"'!$u$7\"),FALSE)","v":false},{"$f":"IFERROR(INDIRECT(\"'\"&$B385&\"'!$u$10\"),FALSE)","v":false},{"$f":"IFERROR(INDIRECT(\"'\"&$B385&\"'!$AC$12\"),FALSE)","v":false},{"$f":"IFERROR(INDIRECT(\"'\"&$B385&\"'!$ad$12\"),FALSE)","v":false},null,{"$f":"IFERROR(INDIRECT(\"'\"&$B385&\"'!$d$10\"),\"\")","v":""},{"$f":"IFERROR(INDIRECT(\"'\"&$B385&\"'!$d$33\"),\"\")","v":""},{"$f":"IFERROR(INDIRECT(\"'\"&$B385&\"'!$j$33\")+INDIRECT(\"'\"&$B385&\"'!$k$33\"),\"\")","v":""},{"$f":"IFERROR(INDIRECT(\"'\"&$B385&\"'!$q$33\"),\"\")","v":""},{"$f":"IFERROR(INDIRECT(\"'\"&$B385&\"'!$e$33\"),\"\")","v":""},{"$f":"IFERROR(INDIRECT(\"'\"&$B385&\"'!$L$33\"),\"\")","v":""},{"$f":"IFERROR(INDIRECT(\"'\"&$B385&\"'!$g$33\")+INDIRECT(\"'\"&$B385&\"'!$h$33\")+INDIRECT(\"'\"&$B385&\"'!$i$33\"),\"\")","v":""}]
[350,{"$f":"IFERROR(IF(OR(SHEETNAME(A386)=\"HIDE\",SHEETNAME(A386)=\"Start Here\",SHEETNAME(A386)=\"Template\"),\"\",SHEETNAME(A386)),\"\")","v":""},{"$f":"IFERROR(INDIRECT(\"'\"&$B386&\"'!$d$6\"),\"\")","v":""},{"$f":"IFERROR(INDIRECT(\"'\"&$B386&\"'!$d$7\"),\"\")","v":""},{"$f":"IFERROR(INDIRECT(\"'\"&$B386&\"'!$d$8\"),\"\")","v":""},{"$f":"IFERROR(IF(OR(SHEETNAME($A386)=\"HIDE\",SHEETNAME($A386)=\"Start Here\",SHEETNAME($A386)=\"Template\"),\"\",HYPERLINK(\"#'\"&B386&\"'!A1\",\"Go to Sheet\")),\"\")","v":""},{"$f":"IFERROR(IF(INDIRECT(\"'\"&$B386&\"'!$U$7\"),INDIRECT(\"'\"&$B386&\"'!$u$9\"),\"(\"&INDIRECT(\"'\"&$B386&\"'!$U$8\")&\")\"),\"\")","v":""},{"$f":"IF(L386,\"This site has incomplete Cost and Revenue data.  \",\"\")&IF(M386,\"WFRS data for previous quarters is incomplete.  \",\"\")&IF(K386,IFERROR(INDIRECT(\"'\"&$B386&\"'!$g$9\"),\"\"),\"\")","v":""},false,{"$f":"IFERROR(INDIRECT(\"'\"&$B386&\"'!$u$7\"),FALSE)","v":false},{"$f":"IFERROR(INDIRECT(\"'\"&$B386&\"'!$u$10\"),FALSE)","v":false},{"$f":"IFERROR(INDIRECT(\"'\"&$B386&\"'!$AC$12\"),FALSE)","v":false},{"$f":"IFERROR(INDIRECT(\"'\"&$B386&\"'!$ad$12\"),FALSE)","v":false},null,{"$f":"IFERROR(INDIRECT(\"'\"&$B386&\"'!$d$10\"),\"\")","v":""},{"$f":"IFERROR(INDIRECT(\"'\"&$B386&\"'!$d$33\"),\"\")","v":""},{"$f":"IFERROR(INDIRECT(\"'\"&$B386&\"'!$j$33\")+INDIRECT(\"'\"&$B386&\"'!$k$33\"),\"\")","v":""},{"$f":"IFERROR(INDIRECT(\"'\"&$B386&\"'!$q$33\"),\"\")","v":""},{"$f":"IFERROR(INDIRECT(\"'\"&$B386&\"'!$e$33\"),\"\")","v":""},{"$f":"IFERROR(INDIRECT(\"'\"&$B386&\"'!$L$33\"),\"\")","v":""},{"$f":"IFERROR(INDIRECT(\"'\"&$B386&\"'!$g$33\")+INDIRECT(\"'\"&$B386&\"'!$h$33\")+INDIRECT(\"'\"&$B386&\"'!$i$33\"),\"\")","v":""}]
[351,{"$f":"IFERROR(IF(OR(SHEETNAME(A387)=\"HIDE\",SHEETNAME(A387)=\"Start Here\",SHEETNAME(A387)=\"Template\"),\"\",SHEETNAME(A387)),\"\")","v":""},{"$f":"IFERROR(INDIRECT(\"'\"&$B387&\"'!$d$6\"),\"\")","v":""},{"$f":"IFERROR(INDIRECT(\"'\"&$B387&\"'!$d$7\"),\"\")","v":""},{"$f":"IFERROR(INDIRECT(\"'\"&$B387&\"'!$d$8\"),\"\")","v":""},{"$f":"IFERROR(IF(OR(SHEETNAME($A387)=\"HIDE\",SHEETNAME($A387)=\"Start Here\",SHEETNAME($A387)=\"Template\"),\"\",HYPERLINK(\"#'\"&B387&\"'!A1\",\"Go to Sheet\")),\"\")","v":""},{"$f":"IFERROR(IF(INDIRECT(\"'\"&$B387&\"'!$U$7\"),INDIRECT(\"'\"&$B387&\"'!$u$9\"),\"(\"&INDIRECT(\"'\"&$B387&\"'!$U$8\")&\")\"),\"\")","v":""},{"$f":"IF(L387,\"This site has incomplete Cost and Revenue data.  \",\"\")&IF(M387,\"WFRS data for previous quarters is incomplete.  \",\"\")&IF(K387,IFERROR(INDIRECT(\"'\"&$B387&\"'!$g$9\"),\"\"),\"\")","v":""},false,{"$f":"IFERROR(INDIRECT(\"'\"&$B387&\"'!$u$7\"),FALSE)","v":false},{"$f":"IFERROR(INDIRECT(\"'\"&$B387&\"'!$u$10\"),FALSE)","v":false},{"$f":"IFERROR(INDIRECT(\"'\"&$B387&\"'!$AC$12\"),FALSE)","v":false},{"$f":"IFERROR(INDIRECT(\"'\"&$B387&\"'!$ad$12\"),FALSE)","v":false},null,{"$f":"IFERROR(INDIRECT(\"'\"&$B387&\"'!$d$10\"),\"\")","v":""},{"$f":"IFERROR(INDIRECT(\"'\"&$B387&\"'!$d$33\"),\"\")","v":""},{"$f":"IFERROR(INDIRECT(\"'\"&$B387&\"'!$j$33\")+INDIRECT(\"'\"&$B387&\"'!$k$33\"),\"\")","v":""},{"$f":"IFERROR(INDIRECT(\"'\"&$B387&\"'!$q$33\"),\"\")","v":""},{"$f":"IFERROR(INDIRECT(\"'\"&$B387&\"'!$e$33\"),\"\")","v":""},{"$f":"IFERROR(INDIRECT(\"'\"&$B387&\"'!$L$33\"),\"\")","v":""},{"$f":"IFERROR(INDIRECT(\"'\"&$B387&\"'!$g$33\")+INDIRECT(\"'\"&$B387&\"'!$h$33\")+INDIRECT(\"'\"&$B387&\"'!$i$33\"),\"\")","v":""}]
[352,{"$f":"IFERROR(IF(OR(SHEETNAME(A388)=\"HIDE\",SHEETNAME(A388)=\"Start Here\",SHEETNAME(A388)=\"Template\"),\"\",SHEETNAME(A388)),\"\")","v":""},{"$f":"IFERROR(INDIRECT(\"'\"&$B388&\"'!$d$6\"),\"\")","v":""},{"$f":"IFERROR(INDIRECT(\"'\"&$B388&\"'!$d$7\"),\"\")","v":""},{"$f":"IFERROR(INDIRECT(\"'\"&$B388&\"'!$d$8\"),\"\")","v":""},{"$f":"IFERROR(IF(OR(SHEETNAME($A388)=\"HIDE\",SHEETNAME($A388)=\"Start Here\",SHEETNAME($A388)=\"Template\"),\"\",HYPERLINK(\"#'\"&B388&\"'!A1\",\"Go to Sheet\")),\"\")","v":""},{"$f":"IFERROR(IF(INDIRECT(\"'\"&$B388&\"'!$U$7\"),INDIRECT(\"'\"&$B388&\"'!$u$9\"),\"(\"&INDIRECT(\"'\"&$B388&\"'!$U$8\")&\")\"),\"\")","v":""},{"$f":"IF(L388,\"This site has incomplete Cost and Revenue data.  \",\"\")&IF(M388,\"WFRS data for previous quarters is incomplete.  \",\"\")&IF(K388,IFERROR(INDIRECT(\"'\"&$B388&\"'!$g$9\"),\"\"),\"\")","v":""},false,{"$f":"IFERROR(INDIRECT(\"'\"&$B388&\"'!$u$7\"),FALSE)","v":false},{"$f":"IFERROR(INDIRECT(\"'\"&$B388&\"'!$u$10\"),FALSE)","v":false},{"$f":"IFERROR(INDIRECT(\"'\"&$B388&\"'!$AC$12\"),FALSE)","v":false},{"$f":"IFERROR(INDIRECT(\"'\"&$B388&\"'!$ad$12\"),FALSE)","v":false},null,{"$f":"IFERROR(INDIRECT(\"'\"&$B388&\"'!$d$10\"),\"\")","v":""},{"$f":"IFERROR(INDIRECT(\"'\"&$B388&\"'!$d$33\"),\"\")","v":""},{"$f":"IFERROR(INDIRECT(\"'\"&$B388&\"'!$j$33\")+INDIRECT(\"'\"&$B388&\"'!$k$33\"),\"\")","v":""},{"$f":"IFERROR(INDIRECT(\"'\"&$B388&\"'!$q$33\"),\"\")","v":""},{"$f":"IFERROR(INDIRECT(\"'\"&$B388&\"'!$e$33\"),\"\")","v":""},{"$f":"IFERROR(INDIRECT(\"'\"&$B388&\"'!$L$33\"),\"\")","v":""},{"$f":"IFERROR(INDIRECT(\"'\"&$B388&\"'!$g$33\")+INDIRECT(\"'\"&$B388&\"'!$h$33\")+INDIRECT(\"'\"&$B388&\"'!$i$33\"),\"\")","v":""}]
[353,{"$f":"IFERROR(IF(OR(SHEETNAME(A389)=\"HIDE\",SHEETNAME(A389)=\"Start Here\",SHEETNAME(A389)=\"Template\"),\"\",SHEETNAME(A389)),\"\")","v":""},{"$f":"IFERROR(INDIRECT(\"'\"&$B389&\"'!$d$6\"),\"\")","v":""},{"$f":"IFERROR(INDIRECT(\"'\"&$B389&\"'!$d$7\"),\"\")","v":""},{"$f":"IFERROR(INDIRECT(\"'\"&$B389&\"'!$d$8\"),\"\")","v":""},{"$f":"IFERROR(IF(OR(SHEETNAME($A389)=\"HIDE\",SHEETNAME($A389)=\"Start Here\",SHEETNAME($A389)=\"Template\"),\"\",HYPERLINK(\"#'\"&B389&\"'!A1\",\"Go to Sheet\")),\"\")","v":""},{"$f":"IFERROR(IF(INDIRECT(\"'\"&$B389&\"'!$U$7\"),INDIRECT(\"'\"&$B389&\"'!$u$9\"),\"(\"&INDIRECT(\"'\"&$B389&\"'!$U$8\")&\")\"),\"\")","v":""},{"$f":"IF(L389,\"This site has incomplete Cost and Revenue data.  \",\"\")&IF(M389,\"WFRS data for previous quarters is incomplete.  \",\"\")&IF(K389,IFERROR(INDIRECT(\"'\"&$B389&\"'!$g$9\"),\"\"),\"\")","v":""},false,{"$f":"IFERROR(INDIRECT(\"'\"&$B389&\"'!$u$7\"),FALSE)","v":false},{"$f":"IFERROR(INDIRECT(\"'\"&$B389&\"'!$u$10\"),FALSE)","v":false},{"$f":"IFERROR(INDIRECT(\"'\"&$B389&\"'!$AC$12\"),FALSE)","v":false},{"$f":"IFERROR(INDIRECT(\"'\"&$B389&\"'!$ad$12\"),FALSE)","v":false},null,{"$f":"IFERROR(INDIRECT(\"'\"&$B389&\"'!$d$10\"),\"\")","v":""},{"$f":"IFERROR(INDIRECT(\"'\"&$B389&\"'!$d$33\"),\"\")","v":""},{"$f":"IFERROR(INDIRECT(\"'\"&$B389&\"'!$j$33\")+INDIRECT(\"'\"&$B389&\"'!$k$33\"),\"\")","v":""},{"$f":"IFERROR(INDIRECT(\"'\"&$B389&\"'!$q$33\"),\"\")","v":""},{"$f":"IFERROR(INDIRECT(\"'\"&$B389&\"'!$e$33\"),\"\")","v":""},{"$f":"IFERROR(INDIRECT(\"'\"&$B389&\"'!$L$33\"),\"\")","v":""},{"$f":"IFERROR(INDIRECT(\"'\"&$B389&\"'!$g$33\")+INDIRECT(\"'\"&$B389&\"'!$h$33\")+INDIRECT(\"'\"&$B389&\"'!$i$33\"),\"\")","v":""}]
[354,{"$f":"IFERROR(IF(OR(SHEETNAME(A390)=\"HIDE\",SHEETNAME(A390)=\"Start Here\",SHEETNAME(A390)=\"Template\"),\"\",SHEETNAME(A390)),\"\")","v":""},{"$f":"IFERROR(INDIRECT(\"'\"&$B390&\"'!$d$6\"),\"\")","v":""},{"$f":"IFERROR(INDIRECT(\"'\"&$B390&\"'!$d$7\"),\"\")","v":""},{"$f":"IFERROR(INDIRECT(\"'\"&$B390&\"'!$d$8\"),\"\")","v":""},{"$f":"IFERROR(IF(OR(SHEETNAME($A390)=\"HIDE\",SHEETNAME($A390)=\"Start Here\",SHEETNAME($A390)=\"Template\"),\"\",HYPERLINK(\"#'\"&B390&\"'!A1\",\"Go to Sheet\")),\"\")","v":""},{"$f":"IFERROR(IF(INDIRECT(\"'\"&$B390&\"'!$U$7\"),INDIRECT(\"'\"&$B390&\"'!$u$9\"),\"(\"&INDIRECT(\"'\"&$B390&\"'!$U$8\")&\")\"),\"\")","v":""},{"$f":"IF(L390,\"This site has incomplete Cost and Revenue data.  \",\"\")&IF(M390,\"WFRS data for previous quarters is incomplete.  \",\"\")&IF(K390,IFERROR(INDIRECT(\"'\"&$B390&\"'!$g$9\"),\"\"),\"\")","v":""},false,{"$f":"IFERROR(INDIRECT(\"'\"&$B390&\"'!$u$7\"),FALSE)","v":false},{"$f":"IFERROR(INDIRECT(\"'\"&$B390&\"'!$u$10\"),FALSE)","v":false},{"$f":"IFERROR(INDIRECT(\"'\"&$B390&\"'!$AC$12\"),FALSE)","v":false},{"$f":"IFERROR(INDIRECT(\"'\"&$B390&\"'!$ad$12\"),FALSE)","v":false},null,{"$f":"IFERROR(INDIRECT(\"'\"&$B390&\"'!$d$10\"),\"\")","v":""},{"$f":"IFERROR(INDIRECT(\"'\"&$B390&\"'!$d$33\"),\"\")","v":""},{"$f":"IFERROR(INDIRECT(\"'\"&$B390&\"'!$j$33\")+INDIRECT(\"'\"&$B390&\"'!$k$33\"),\"\")","v":""},{"$f":"IFERROR(INDIRECT(\"'\"&$B390&\"'!$q$33\"),\"\")","v":""},{"$f":"IFERROR(INDIRECT(\"'\"&$B390&\"'!$e$33\"),\"\")","v":""},{"$f":"IFERROR(INDIRECT(\"'\"&$B390&\"'!$L$33\"),\"\")","v":""},{"$f":"IFERROR(INDIRECT(\"'\"&$B390&\"'!$g$33\")+INDIRECT(\"'\"&$B390&\"'!$h$33\")+INDIRECT(\"'\"&$B390&\"'!$i$33\"),\"\")","v":""}]
[355,{"$f":"IFERROR(IF(OR(SHEETNAME(A391)=\"HIDE\",SHEETNAME(A391)=\"Start Here\",SHEETNAME(A391)=\"Template\"),\"\",SHEETNAME(A391)),\"\")","v":""},{"$f":"IFERROR(INDIRECT(\"'\"&$B391&\"'!$d$6\"),\"\")","v":""},{"$f":"IFERROR(INDIRECT(\"'\"&$B391&\"'!$d$7\"),\"\")","v":""},{"$f":"IFERROR(INDIRECT(\"'\"&$B391&\"'!$d$8\"),\"\")","v":""},{"$f":"IFERROR(IF(OR(SHEETNAME($A391)=\"HIDE\",SHEETNAME($A391)=\"Start Here\",SHEETNAME($A391)=\"Template\"),\"\",HYPERLINK(\"#'\"&B391&\"'!A1\",\"Go to Sheet\")),\"\")","v":""},{"$f":"IFERROR(IF(INDIRECT(\"'\"&$B391&\"'!$U$7\"),INDIRECT(\"'\"&$B391&\"'!$u$9\"),\"(\"&INDIRECT(\"'\"&$B391&\"'!$U$8\")&\")\"),\"\")","v":""},{"$f":"IF(L391,\"This site has incomplete Cost and Revenue data.  \",\"\")&IF(M391,\"WFRS data for previous quarters is incomplete.  \",\"\")&IF(K391,IFERROR(INDIRECT(\"'\"&$B391&\"'!$g$9\"),\"\"),\"\")","v":""},false,{"$f":"IFERROR(INDIRECT(\"'\"&$B391&\"'!$u$7\"),FALSE)","v":false},{"$f":"IFERROR(INDIRECT(\"'\"&$B391&\"'!$u$10\"),FALSE)","v":false},{"$f":"IFERROR(INDIRECT(\"'\"&$B391&\"'!$AC$12\"),FALSE)","v":false},{"$f":"IFERROR(INDIRECT(\"'\"&$B391&\"'!$ad$12\"),FALSE)","v":false},null,{"$f":"IFERROR(INDIRECT(\"'\"&$B391&\"'!$d$10\"),\"\")","v":""},{"$f":"IFERROR(INDIRECT(\"'\"&$B391&\"'!$d$33\"),\"\")","v":""},{"$f":"IFERROR(INDIRECT(\"'\"&$B391&\"'!$j$33\")+INDIRECT(\"'\"&$B391&\"'!$k$33\"),\"\")","v":""},{"$f":"IFERROR(INDIRECT(\"'\"&$B391&\"'!$q$33\"),\"\")","v":""},{"$f":"IFERROR(INDIRECT(\"'\"&$B391&\"'!$e$33\"),\"\")","v":""},{"$f":"IFERROR(INDIRECT(\"'\"&$B391&\"'!$L$33\"),\"\")","v":""},{"$f":"IFERROR(INDIRECT(\"'\"&$B391&\"'!$g$33\")+INDIRECT(\"'\"&$B391&\"'!$h$33\")+INDIRECT(\"'\"&$B391&\"'!$i$33\"),\"\")","v":""}]
[356,{"$f":"IFERROR(IF(OR(SHEETNAME(A392)=\"HIDE\",SHEETNAME(A392)=\"Start Here\",SHEETNAME(A392)=\"Template\"),\"\",SHEETNAME(A392)),\"\")","v":""},{"$f":"IFERROR(INDIRECT(\"'\"&$B392&\"'!$d$6\"),\"\")","v":""},{"$f":"IFERROR(INDIRECT(\"'\"&$B392&\"'!$d$7\"),\"\")","v":""},{"$f":"IFERROR(INDIRECT(\"'\"&$B392&\"'!$d$8\"),\"\")","v":""},{"$f":"IFERROR(IF(OR(SHEETNAME($A392)=\"HIDE\",SHEETNAME($A392)=\"Start Here\",SHEETNAME($A392)=\"Template\"),\"\",HYPERLINK(\"#'\"&B392&\"'!A1\",\"Go to Sheet\")),\"\")","v":""},{"$f":"IFERROR(IF(INDIRECT(\"'\"&$B392&\"'!$U$7\"),INDIRECT(\"'\"&$B392&\"'!$u$9\"),\"(\"&INDIRECT(\"'\"&$B392&\"'!$U$8\")&\")\"),\"\")","v":""},{"$f":"IF(L392,\"This site has incomplete Cost and Revenue data.  \",\"\")&IF(M392,\"WFRS data for previous quarters is incomplete.  \",\"\")&IF(K392,IFERROR(INDIRECT(\"'\"&$B392&\"'!$g$9\"),\"\"),\"\")","v":""},false,{"$f":"IFERROR(INDIRECT(\"'\"&$B392&\"'!$u$7\"),FALSE)","v":false},{"$f":"IFERROR(INDIRECT(\"'\"&$B392&\"'!$u$10\"),FALSE)","v":false},{"$f":"IFERROR(INDIRECT(\"'\"&$B392&\"'!$AC$12\"),FALSE)","v":false},{"$f":"IFERROR(INDIRECT(\"'\"&$B392&\"'!$ad$12\"),FALSE)","v":false},null,{"$f":"IFERROR(INDIRECT(\"'\"&$B392&\"'!$d$10\"),\"\")","v":""},{"$f":"IFERROR(INDIRECT(\"'\"&$B392&\"'!$d$33\"),\"\")","v":""},{"$f":"IFERROR(INDIRECT(\"'\"&$B392&\"'!$j$33\")+INDIRECT(\"'\"&$B392&\"'!$k$33\"),\"\")","v":""},{"$f":"IFERROR(INDIRECT(\"'\"&$B392&\"'!$q$33\"),\"\")","v":""},{"$f":"IFERROR(INDIRECT(\"'\"&$B392&\"'!$e$33\"),\"\")","v":""},{"$f":"IFERROR(INDIRECT(\"'\"&$B392&\"'!$L$33\"),\"\")","v":""},{"$f":"IFERROR(INDIRECT(\"'\"&$B392&\"'!$g$33\")+INDIRECT(\"'\"&$B392&\"'!$h$33\")+INDIRECT(\"'\"&$B392&\"'!$i$33\"),\"\")","v":""}]
[357,{"$f":"IFERROR(IF(OR(SHEETNAME(A393)=\"HIDE\",SHEETNAME(A393)=\"Start Here\",SHEETNAME(A393)=\"Template\"),\"\",SHEETNAME(A393)),\"\")","v":""},{"$f":"IFERROR(INDIRECT(\"'\"&$B393&\"'!$d$6\"),\"\")","v":""},{"$f":"IFERROR(INDIRECT(\"'\"&$B393&\"'!$d$7\"),\"\")","v":""},{"$f":"IFERROR(INDIRECT(\"'\"&$B393&\"'!$d$8\"),\"\")","v":""},{"$f":"IFERROR(IF(OR(SHEETNAME($A393)=\"HIDE\",SHEETNAME($A393)=\"Start Here\",SHEETNAME($A393)=\"Template\"),\"\",HYPERLINK(\"#'\"&B393&\"'!A1\",\"Go to Sheet\")),\"\")","v":""},{"$f":"IFERROR(IF(INDIRECT(\"'\"&$B393&\"'!$U$7\"),INDIRECT(\"'\"&$B393&\"'!$u$9\"),\"(\"&INDIRECT(\"'\"&$B393&\"'!$U$8\")&\")\"),\"\")","v":""},{"$f":"IF(L393,\"This site has incomplete Cost and Revenue data.  \",\"\")&IF(M393,\"WFRS data for previous quarters is incomplete.  \",\"\")&IF(K393,IFERROR(INDIRECT(\"'\"&$B393&\"'!$g$9\"),\"\"),\"\")","v":""},false,{"$f":"IFERROR(INDIRECT(\"'\"&$B393&\"'!$u$7\"),FALSE)","v":false},{"$f":"IFERROR(INDIRECT(\"'\"&$B393&\"'!$u$10\"),FALSE)","v":false},{"$f":"IFERROR(INDIRECT(\"'\"&$B393&\"'!$AC$12\"),FALSE)","v":false},{"$f":"IFERROR(INDIRECT(\"'\"&$B393&\"'!$ad$12\"),FALSE)","v":false},null,{"$f":"IFERROR(INDIRECT(\"'\"&$B393&\"'!$d$10\"),\"\")","v":""},{"$f":"IFERROR(INDIRECT(\"'\"&$B393&\"'!$d$33\"),\"\")","v":""},{"$f":"IFERROR(INDIRECT(\"'\"&$B393&\"'!$j$33\")+INDIRECT(\"'\"&$B393&\"'!$k$33\"),\"\")","v":""},{"$f":"IFERROR(INDIRECT(\"'\"&$B393&\"'!$q$33\"),\"\")","v":""},{"$f":"IFERROR(INDIRECT(\"'\"&$B393&\"'!$e$33\"),\"\")","v":""},{"$f":"IFERROR(INDIRECT(\"'\"&$B393&\"'!$L$33\"),\"\")","v":""},{"$f":"IFERROR(INDIRECT(\"'\"&$B393&\"'!$g$33\")+INDIRECT(\"'\"&$B393&\"'!$h$33\")+INDIRECT(\"'\"&$B393&\"'!$i$33\"),\"\")","v":""}]
[358,{"$f":"IFERROR(IF(OR(SHEETNAME(A394)=\"HIDE\",SHEETNAME(A394)=\"Start Here\",SHEETNAME(A394)=\"Template\"),\"\",SHEETNAME(A394)),\"\")","v":""},{"$f":"IFERROR(INDIRECT(\"'\"&$B394&\"'!$d$6\"),\"\")","v":""},{"$f":"IFERROR(INDIRECT(\"'\"&$B394&\"'!$d$7\"),\"\")","v":""},{"$f":"IFERROR(INDIRECT(\"'\"&$B394&\"'!$d$8\"),\"\")","v":""},{"$f":"IFERROR(IF(OR(SHEETNAME($A394)=\"HIDE\",SHEETNAME($A394)=\"Start Here\",SHEETNAME($A394)=\"Template\"),\"\",HYPERLINK(\"#'\"&B394&\"'!A1\",\"Go to Sheet\")),\"\")","v":""},{"$f":"IFERROR(IF(INDIRECT(\"'\"&$B394&\"'!$U$7\"),INDIRECT(\"'\"&$B394&\"'!$u$9\"),\"(\"&INDIRECT(\"'\"&$B394&\"'!$U$8\")&\")\"),\"\")","v":""},{"$f":"IF(L394,\"This site has incomplete Cost and Revenue data.  \",\"\")&IF(M394,\"WFRS data for previous quarters is incomplete.  \",\"\")&IF(K394,IFERROR(INDIRECT(\"'\"&$B394&\"'!$g$9\"),\"\"),\"\")","v":""},false,{"$f":"IFERROR(INDIRECT(\"'\"&$B394&\"'!$u$7\"),FALSE)","v":false},{"$f":"IFERROR(INDIRECT(\"'\"&$B394&\"'!$u$10\"),FALSE)","v":false},{"$f":"IFERROR(INDIRECT(\"'\"&$B394&\"'!$AC$12\"),FALSE)","v":false},{"$f":"IFERROR(INDIRECT(\"'\"&$B394&\"'!$ad$12\"),FALSE)","v":false},null,{"$f":"IFERROR(INDIRECT(\"'\"&$B394&\"'!$d$10\"),\"\")","v":""},{"$f":"IFERROR(INDIRECT(\"'\"&$B394&\"'!$d$33\"),\"\")","v":""},{"$f":"IFERROR(INDIRECT(\"'\"&$B394&\"'!$j$33\")+INDIRECT(\"'\"&$B394&\"'!$k$33\"),\"\")","v":""},{"$f":"IFERROR(INDIRECT(\"'\"&$B394&\"'!$q$33\"),\"\")","v":""},{"$f":"IFERROR(INDIRECT(\"'\"&$B394&\"'!$e$33\"),\"\")","v":""},{"$f":"IFERROR(INDIRECT(\"'\"&$B394&\"'!$L$33\"),\"\")","v":""},{"$f":"IFERROR(INDIRECT(\"'\"&$B394&\"'!$g$33\")+INDIRECT(\"'\"&$B394&\"'!$h$33\")+INDIRECT(\"'\"&$B394&\"'!$i$33\"),\"\")","v":""}]
[359,{"$f":"IFERROR(IF(OR(SHEETNAME(A395)=\"HIDE\",SHEETNAME(A395)=\"Start Here\",SHEETNAME(A395)=\"Template\"),\"\",SHEETNAME(A395)),\"\")","v":""},{"$f":"IFERROR(INDIRECT(\"'\"&$B395&\"'!$d$6\"),\"\")","v":""},{"$f":"IFERROR(INDIRECT(\"'\"&$B395&\"'!$d$7\"),\"\")","v":""},{"$f":"IFERROR(INDIRECT(\"'\"&$B395&\"'!$d$8\"),\"\")","v":""},{"$f":"IFERROR(IF(OR(SHEETNAME($A395)=\"HIDE\",SHEETNAME($A395)=\"Start Here\",SHEETNAME($A395)=\"Template\"),\"\",HYPERLINK(\"#'\"&B395&\"'!A1\",\"Go to Sheet\")),\"\")","v":""},{"$f":"IFERROR(IF(INDIRECT(\"'\"&$B395&\"'!$U$7\"),INDIRECT(\"'\"&$B395&\"'!$u$9\"),\"(\"&INDIRECT(\"'\"&$B395&\"'!$U$8\")&\")\"),\"\")","v":""},{"$f":"IF(L395,\"This site has incomplete Cost and Revenue data.  \",\"\")&IF(M395,\"WFRS data for previous quarters is incomplete.  \",\"\")&IF(K395,IFERROR(INDIRECT(\"'\"&$B395&\"'!$g$9\"),\"\"),\"\")","v":""},false,{"$f":"IFERROR(INDIRECT(\"'\"&$B395&\"'!$u$7\"),FALSE)","v":false},{"$f":"IFERROR(INDIRECT(\"'\"&$B395&\"'!$u$10\"),FALSE)","v":false},{"$f":"IFERROR(INDIRECT(\"'\"&$B395&\"'!$AC$12\"),FALSE)","v":false},{"$f":"IFERROR(INDIRECT(\"'\"&$B395&\"'!$ad$12\"),FALSE)","v":false},null,{"$f":"IFERROR(INDIRECT(\"'\"&$B395&\"'!$d$10\"),\"\")","v":""},{"$f":"IFERROR(INDIRECT(\"'\"&$B395&\"'!$d$33\"),\"\")","v":""},{"$f":"IFERROR(INDIRECT(\"'\"&$B395&\"'!$j$33\")+INDIRECT(\"'\"&$B395&\"'!$k$33\"),\"\")","v":""},{"$f":"IFERROR(INDIRECT(\"'\"&$B395&\"'!$q$33\"),\"\")","v":""},{"$f":"IFERROR(INDIRECT(\"'\"&$B395&\"'!$e$33\"),\"\")","v":""},{"$f":"IFERROR(INDIRECT(\"'\"&$B395&\"'!$L$33\"),\"\")","v":""},{"$f":"IFERROR(INDIRECT(\"'\"&$B395&\"'!$g$33\")+INDIRECT(\"'\"&$B395&\"'!$h$33\")+INDIRECT(\"'\"&$B395&\"'!$i$33\"),\"\")","v":""}]
[360,{"$f":"IFERROR(IF(OR(SHEETNAME(A396)=\"HIDE\",SHEETNAME(A396)=\"Start Here\",SHEETNAME(A396)=\"Template\"),\"\",SHEETNAME(A396)),\"\")","v":""},{"$f":"IFERROR(INDIRECT(\"'\"&$B396&\"'!$d$6\"),\"\")","v":""},{"$f":"IFERROR(INDIRECT(\"'\"&$B396&\"'!$d$7\"),\"\")","v":""},{"$f":"IFERROR(INDIRECT(\"'\"&$B396&\"'!$d$8\"),\"\")","v":""},{"$f":"IFERROR(IF(OR(SHEETNAME($A396)=\"HIDE\",SHEETNAME($A396)=\"Start Here\",SHEETNAME($A396)=\"Template\"),\"\",HYPERLINK(\"#'\"&B396&\"'!A1\",\"Go to Sheet\")),\"\")","v":""},{"$f":"IFERROR(IF(INDIRECT(\"'\"&$B396&\"'!$U$7\"),INDIRECT(\"'\"&$B396&\"'!$u$9\"),\"(\"&INDIRECT(\"'\"&$B396&\"'!$U$8\")&\")\"),\"\")","v":""},{"$f":"IF(L396,\"This site has incomplete Cost and Revenue data.  \",\"\")&IF(M396,\"WFRS data for previous quarters is incomplete.  \",\"\")&IF(K396,IFERROR(INDIRECT(\"'\"&$B396&\"'!$g$9\"),\"\"),\"\")","v":""},false,{"$f":"IFERROR(INDIRECT(\"'\"&$B396&\"'!$u$7\"),FALSE)","v":false},{"$f":"IFERROR(INDIRECT(\"'\"&$B396&\"'!$u$10\"),FALSE)","v":false},{"$f":"IFERROR(INDIRECT(\"'\"&$B396&\"'!$AC$12\"),FALSE)","v":false},{"$f":"IFERROR(INDIRECT(\"'\"&$B396&\"'!$ad$12\"),FALSE)","v":false},null,{"$f":"IFERROR(INDIRECT(\"'\"&$B396&\"'!$d$10\"),\"\")","v":""},{"$f":"IFERROR(INDIRECT(\"'\"&$B396&\"'!$d$33\"),\"\")","v":""},{"$f":"IFERROR(INDIRECT(\"'\"&$B396&\"'!$j$33\")+INDIRECT(\"'\"&$B396&\"'!$k$33\"),\"\")","v":""},{"$f":"IFERROR(INDIRECT(\"'\"&$B396&\"'!$q$33\"),\"\")","v":""},{"$f":"IFERROR(INDIRECT(\"'\"&$B396&\"'!$e$33\"),\"\")","v":""},{"$f":"IFERROR(INDIRECT(\"'\"&$B396&\"'!$L$33\"),\"\")","v":""},{"$f":"IFERROR(INDIRECT(\"'\"&$B396&\"'!$g$33\")+INDIRECT(\"'\"&$B396&\"'!$h$33\")+INDIRECT(\"'\"&$B396&\"'!$i$33\"),\"\")","v":""}]
[361,{"$f":"IFERROR(IF(OR(SHEETNAME(A397)=\"HIDE\",SHEETNAME(A397)=\"Start Here\",SHEETNAME(A397)=\"Template\"),\"\",SHEETNAME(A397)),\"\")","v":""},{"$f":"IFERROR(INDIRECT(\"'\"&$B397&\"'!$d$6\"),\"\")","v":""},{"$f":"IFERROR(INDIRECT(\"'\"&$B397&\"'!$d$7\"),\"\")","v":""},{"$f":"IFERROR(INDIRECT(\"'\"&$B397&\"'!$d$8\"),\"\")","v":""},{"$f":"IFERROR(IF(OR(SHEETNAME($A397)=\"HIDE\",SHEETNAME($A397)=\"Start Here\",SHEETNAME($A397)=\"Template\"),\"\",HYPERLINK(\"#'\"&B397&\"'!A1\",\"Go to Sheet\")),\"\")","v":""},{"$f":"IFERROR(IF(INDIRECT(\"'\"&$B397&\"'!$U$7\"),INDIRECT(\"'\"&$B397&\"'!$u$9\"),\"(\"&INDIRECT(\"'\"&$B397&\"'!$U$8\")&\")\"),\"\")","v":""},{"$f":"IF(L397,\"This site has incomplete Cost and Revenue data.  \",\"\")&IF(M397,\"WFRS data for previous quarters is incomplete.  \",\"\")&IF(K397,IFERROR(INDIRECT(\"'\"&$B397&\"'!$g$9\"),\"\"),\"\")","v":""},false,{"$f":"IFERROR(INDIRECT(\"'\"&$B397&\"'!$u$7\"),FALSE)","v":false},{"$f":"IFERROR(INDIRECT(\"'\"&$B397&\"'!$u$10\"),FALSE)","v":false},{"$f":"IFERROR(INDIRECT(\"'\"&$B397&\"'!$AC$12\"),FALSE)","v":false},{"$f":"IFERROR(INDIRECT(\"'\"&$B397&\"'!$ad$12\"),FALSE)","v":false},null,{"$f":"IFERROR(INDIRECT(\"'\"&$B397&\"'!$d$10\"),\"\")","v":""},{"$f":"IFERROR(INDIRECT(\"'\"&$B397&\"'!$d$33\"),\"\")","v":""},{"$f":"IFERROR(INDIRECT(\"'\"&$B397&\"'!$j$33\")+INDIRECT(\"'\"&$B397&\"'!$k$33\"),\"\")","v":""},{"$f":"IFERROR(INDIRECT(\"'\"&$B397&\"'!$q$33\"),\"\")","v":""},{"$f":"IFERROR(INDIRECT(\"'\"&$B397&\"'!$e$33\"),\"\")","v":""},{"$f":"IFERROR(INDIRECT(\"'\"&$B397&\"'!$L$33\"),\"\")","v":""},{"$f":"IFERROR(INDIRECT(\"'\"&$B397&\"'!$g$33\")+INDIRECT(\"'\"&$B397&\"'!$h$33\")+INDIRECT(\"'\"&$B397&\"'!$i$33\"),\"\")","v":""}]
[362,{"$f":"IFERROR(IF(OR(SHEETNAME(A398)=\"HIDE\",SHEETNAME(A398)=\"Start Here\",SHEETNAME(A398)=\"Template\"),\"\",SHEETNAME(A398)),\"\")","v":""},{"$f":"IFERROR(INDIRECT(\"'\"&$B398&\"'!$d$6\"),\"\")","v":""},{"$f":"IFERROR(INDIRECT(\"'\"&$B398&\"'!$d$7\"),\"\")","v":""},{"$f":"IFERROR(INDIRECT(\"'\"&$B398&\"'!$d$8\"),\"\")","v":""},{"$f":"IFERROR(IF(OR(SHEETNAME($A398)=\"HIDE\",SHEETNAME($A398)=\"Start Here\",SHEETNAME($A398)=\"Template\"),\"\",HYPERLINK(\"#'\"&B398&\"'!A1\",\"Go to Sheet\")),\"\")","v":""},{"$f":"IFERROR(IF(INDIRECT(\"'\"&$B398&\"'!$U$7\"),INDIRECT(\"'\"&$B398&\"'!$u$9\"),\"(\"&INDIRECT(\"'\"&$B398&\"'!$U$8\")&\")\"),\"\")","v":""},{"$f":"IF(L398,\"This site has incomplete Cost and Revenue data.  \",\"\")&IF(M398,\"WFRS data for previous quarters is incomplete.  \",\"\")&IF(K398,IFERROR(INDIRECT(\"'\"&$B398&\"'!$g$9\"),\"\"),\"\")","v":""},false,{"$f":"IFERROR(INDIRECT(\"'\"&$B398&\"'!$u$7\"),FALSE)","v":false},{"$f":"IFERROR(INDIRECT(\"'\"&$B398&\"'!$u$10\"),FALSE)","v":false},{"$f":"IFERROR(INDIRECT(\"'\"&$B398&\"'!$AC$12\"),FALSE)","v":false},{"$f":"IFERROR(INDIRECT(\"'\"&$B398&\"'!$ad$12\"),FALSE)","v":false},null,{"$f":"IFERROR(INDIRECT(\"'\"&$B398&\"'!$d$10\"),\"\")","v":""},{"$f":"IFERROR(INDIRECT(\"'\"&$B398&\"'!$d$33\"),\"\")","v":""},{"$f":"IFERROR(INDIRECT(\"'\"&$B398&\"'!$j$33\")+INDIRECT(\"'\"&$B398&\"'!$k$33\"),\"\")","v":""},{"$f":"IFERROR(INDIRECT(\"'\"&$B398&\"'!$q$33\"),\"\")","v":""},{"$f":"IFERROR(INDIRECT(\"'\"&$B398&\"'!$e$33\"),\"\")","v":""},{"$f":"IFERROR(INDIRECT(\"'\"&$B398&\"'!$L$33\"),\"\")","v":""},{"$f":"IFERROR(INDIRECT(\"'\"&$B398&\"'!$g$33\")+INDIRECT(\"'\"&$B398&\"'!$h$33\")+INDIRECT(\"'\"&$B398&\"'!$i$33\"),\"\")","v":""}]
[363,{"$f":"IFERROR(IF(OR(SHEETNAME(A399)=\"HIDE\",SHEETNAME(A399)=\"Start Here\",SHEETNAME(A399)=\"Template\"),\"\",SHEETNAME(A399)),\"\")","v":""},{"$f":"IFERROR(INDIRECT(\"'\"&$B399&\"'!$d$6\"),\"\")","v":""},{"$f":"IFERROR(INDIRECT(\"'\"&$B399&\"'!$d$7\"),\"\")","v":""},{"$f":"IFERROR(INDIRECT(\"'\"&$B399&\"'!$d$8\"),\"\")","v":""},{"$f":"IFERROR(IF(OR(SHEETNAME($A399)=\"HIDE\",SHEETNAME($A399)=\"Start Here\",SHEETNAME($A399)=\"Template\"),\"\",HYPERLINK(\"#'\"&B399&\"'!A1\",\"Go to Sheet\")),\"\")","v":""},{"$f":"IFERROR(IF(INDIRECT(\"'\"&$B399&\"'!$U$7\"),INDIRECT(\"'\"&$B399&\"'!$u$9\"),\"(\"&INDIRECT(\"'\"&$B399&\"'!$U$8\")&\")\"),\"\")","v":""},{"$f":"IF(L399,\"This site has incomplete Cost and Revenue data.  \",\"\")&IF(M399,\"WFRS data for previous quarters is incomplete.  \",\"\")&IF(K399,IFERROR(INDIRECT(\"'\"&$B399&\"'!$g$9\"),\"\"),\"\")","v":""},false,{"$f":"IFERROR(INDIRECT(\"'\"&$B399&\"'!$u$7\"),FALSE)","v":false},{"$f":"IFERROR(INDIRECT(\"'\"&$B399&\"'!$u$10\"),FALSE)","v":false},{"$f":"IFERROR(INDIRECT(\"'\"&$B399&\"'!$AC$12\"),FALSE)","v":false},{"$f":"IFERROR(INDIRECT(\"'\"&$B399&\"'!$ad$12\"),FALSE)","v":false},null,{"$f":"IFERROR(INDIRECT(\"'\"&$B399&\"'!$d$10\"),\"\")","v":""},{"$f":"IFERROR(INDIRECT(\"'\"&$B399&\"'!$d$33\"),\"\")","v":""},{"$f":"IFERROR(INDIRECT(\"'\"&$B399&\"'!$j$33\")+INDIRECT(\"'\"&$B399&\"'!$k$33\"),\"\")","v":""},{"$f":"IFERROR(INDIRECT(\"'\"&$B399&\"'!$q$33\"),\"\")","v":""},{"$f":"IFERROR(INDIRECT(\"'\"&$B399&\"'!$e$33\"),\"\")","v":""},{"$f":"IFERROR(INDIRECT(\"'\"&$B399&\"'!$L$33\"),\"\")","v":""},{"$f":"IFERROR(INDIRECT(\"'\"&$B399&\"'!$g$33\")+INDIRECT(\"'\"&$B399&\"'!$h$33\")+INDIRECT(\"'\"&$B399&\"'!$i$33\"),\"\")","v":""}]
[364,{"$f":"IFERROR(IF(OR(SHEETNAME(A400)=\"HIDE\",SHEETNAME(A400)=\"Start Here\",SHEETNAME(A400)=\"Template\"),\"\",SHEETNAME(A400)),\"\")","v":""},{"$f":"IFERROR(INDIRECT(\"'\"&$B400&\"'!$d$6\"),\"\")","v":""},{"$f":"IFERROR(INDIRECT(\"'\"&$B400&\"'!$d$7\"),\"\")","v":""},{"$f":"IFERROR(INDIRECT(\"'\"&$B400&\"'!$d$8\"),\"\")","v":""},{"$f":"IFERROR(IF(OR(SHEETNAME($A400)=\"HIDE\",SHEETNAME($A400)=\"Start Here\",SHEETNAME($A400)=\"Template\"),\"\",HYPERLINK(\"#'\"&B400&\"'!A1\",\"Go to Sheet\")),\"\")","v":""},{"$f":"IFERROR(IF(INDIRECT(\"'\"&$B400&\"'!$U$7\"),INDIRECT(\"'\"&$B400&\"'!$u$9\"),\"(\"&INDIRECT(\"'\"&$B400&\"'!$U$8\")&\")\"),\"\")","v":""},{"$f":"IF(L400,\"This site has incomplete Cost and Revenue data.  \",\"\")&IF(M400,\"WFRS data for previous quarters is incomplete.  \",\"\")&IF(K400,IFERROR(INDIRECT(\"'\"&$B400&\"'!$g$9\"),\"\"),\"\")","v":""},false,{"$f":"IFERROR(INDIRECT(\"'\"&$B400&\"'!$u$7\"),FALSE)","v":false},{"$f":"IFERROR(INDIRECT(\"'\"&$B400&\"'!$u$10\"),FALSE)","v":false},{"$f":"IFERROR(INDIRECT(\"'\"&$B400&\"'!$AC$12\"),FALSE)","v":false},{"$f":"IFERROR(INDIRECT(\"'\"&$B400&\"'!$ad$12\"),FALSE)","v":false},null,{"$f":"IFERROR(INDIRECT(\"'\"&$B400&\"'!$d$10\"),\"\")","v":""},{"$f":"IFERROR(INDIRECT(\"'\"&$B400&\"'!$d$33\"),\"\")","v":""},{"$f":"IFERROR(INDIRECT(\"'\"&$B400&\"'!$j$33\")+INDIRECT(\"'\"&$B400&\"'!$k$33\"),\"\")","v":""},{"$f":"IFERROR(INDIRECT(\"'\"&$B400&\"'!$q$33\"),\"\")","v":""},{"$f":"IFERROR(INDIRECT(\"'\"&$B400&\"'!$e$33\"),\"\")","v":""},{"$f":"IFERROR(INDIRECT(\"'\"&$B400&\"'!$L$33\"),\"\")","v":""},{"$f":"IFERROR(INDIRECT(\"'\"&$B400&\"'!$g$33\")+INDIRECT(\"'\"&$B400&\"'!$h$33\")+INDIRECT(\"'\"&$B400&\"'!$i$33\"),\"\")","v":""}]
[365,{"$f":"IFERROR(IF(OR(SHEETNAME(A401)=\"HIDE\",SHEETNAME(A401)=\"Start Here\",SHEETNAME(A401)=\"Template\"),\"\",SHEETNAME(A401)),\"\")","v":""},{"$f":"IFERROR(INDIRECT(\"'\"&$B401&\"'!$d$6\"),\"\")","v":""},{"$f":"IFERROR(INDIRECT(\"'\"&$B401&\"'!$d$7\"),\"\")","v":""},{"$f":"IFERROR(INDIRECT(\"'\"&$B401&\"'!$d$8\"),\"\")","v":""},{"$f":"IFERROR(IF(OR(SHEETNAME($A401)=\"HIDE\",SHEETNAME($A401)=\"Start Here\",SHEETNAME($A401)=\"Template\"),\"\",HYPERLINK(\"#'\"&B401&\"'!A1\",\"Go to Sheet\")),\"\")","v":""},{"$f":"IFERROR(IF(INDIRECT(\"'\"&$B401&\"'!$U$7\"),INDIRECT(\"'\"&$B401&\"'!$u$9\"),\"(\"&INDIRECT(\"'\"&$B401&\"'!$U$8\")&\")\"),\"\")","v":""},{"$f":"IF(L401,\"This site has incomplete Cost and Revenue data.  \",\"\")&IF(M401,\"WFRS data for previous quarters is incomplete.  \",\"\")&IF(K401,IFERROR(INDIRECT(\"'\"&$B401&\"'!$g$9\"),\"\"),\"\")","v":""},false,{"$f":"IFERROR(INDIRECT(\"'\"&$B401&\"'!$u$7\"),FALSE)","v":false},{"$f":"IFERROR(INDIRECT(\"'\"&$B401&\"'!$u$10\"),FALSE)","v":false},{"$f":"IFERROR(INDIRECT(\"'\"&$B401&\"'!$AC$12\"),FALSE)","v":false},{"$f":"IFERROR(INDIRECT(\"'\"&$B401&\"'!$ad$12\"),FALSE)","v":false},null,{"$f":"IFERROR(INDIRECT(\"'\"&$B401&\"'!$d$10\"),\"\")","v":""},{"$f":"IFERROR(INDIRECT(\"'\"&$B401&\"'!$d$33\"),\"\")","v":""},{"$f":"IFERROR(INDIRECT(\"'\"&$B401&\"'!$j$33\")+INDIRECT(\"'\"&$B401&\"'!$k$33\"),\"\")","v":""},{"$f":"IFERROR(INDIRECT(\"'\"&$B401&\"'!$q$33\"),\"\")","v":""},{"$f":"IFERROR(INDIRECT(\"'\"&$B401&\"'!$e$33\"),\"\")","v":""},{"$f":"IFERROR(INDIRECT(\"'\"&$B401&\"'!$L$33\"),\"\")","v":""},{"$f":"IFERROR(INDIRECT(\"'\"&$B401&\"'!$g$33\")+INDIRECT(\"'\"&$B401&\"'!$h$33\")+INDIRECT(\"'\"&$B401&\"'!$i$33\"),\"\")","v":""}]
[366,{"$f":"IFERROR(IF(OR(SHEETNAME(A402)=\"HIDE\",SHEETNAME(A402)=\"Start Here\",SHEETNAME(A402)=\"Template\"),\"\",SHEETNAME(A402)),\"\")","v":""},{"$f":"IFERROR(INDIRECT(\"'\"&$B402&\"'!$d$6\"),\"\")","v":""},{"$f":"IFERROR(INDIRECT(\"'\"&$B402&\"'!$d$7\"),\"\")","v":""},{"$f":"IFERROR(INDIRECT(\"'\"&$B402&\"'!$d$8\"),\"\")","v":""},{"$f":"IFERROR(IF(OR(SHEETNAME($A402)=\"HIDE\",SHEETNAME($A402)=\"Start Here\",SHEETNAME($A402)=\"Template\"),\"\",HYPERLINK(\"#'\"&B402&\"'!A1\",\"Go to Sheet\")),\"\")","v":""},{"$f":"IFERROR(IF(INDIRECT(\"'\"&$B402&\"'!$U$7\"),INDIRECT(\"'\"&$B402&\"'!$u$9\"),\"(\"&INDIRECT(\"'\"&$B402&\"'!$U$8\")&\")\"),\"\")","v":""},{"$f":"IF(L402,\"This site has incomplete Cost and Revenue data.  \",\"\")&IF(M402,\"WFRS data for previous quarters is incomplete.  \",\"\")&IF(K402,IFERROR(INDIRECT(\"'\"&$B402&\"'!$g$9\"),\"\"),\"\")","v":""},false,{"$f":"IFERROR(INDIRECT(\"'\"&$B402&\"'!$u$7\"),FALSE)","v":false},{"$f":"IFERROR(INDIRECT(\"'\"&$B402&\"'!$u$10\"),FALSE)","v":false},{"$f":"IFERROR(INDIRECT(\"'\"&$B402&\"'!$AC$12\"),FALSE)","v":false},{"$f":"IFERROR(INDIRECT(\"'\"&$B402&\"'!$ad$12\"),FALSE)","v":false},null,{"$f":"IFERROR(INDIRECT(\"'\"&$B402&\"'!$d$10\"),\"\")","v":""},{"$f":"IFERROR(INDIRECT(\"'\"&$B402&\"'!$d$33\"),\"\")","v":""},{"$f":"IFERROR(INDIRECT(\"'\"&$B402&\"'!$j$33\")+INDIRECT(\"'\"&$B402&\"'!$k$33\"),\"\")","v":""},{"$f":"IFERROR(INDIRECT(\"'\"&$B402&\"'!$q$33\"),\"\")","v":""},{"$f":"IFERROR(INDIRECT(\"'\"&$B402&\"'!$e$33\"),\"\")","v":""},{"$f":"IFERROR(INDIRECT(\"'\"&$B402&\"'!$L$33\"),\"\")","v":""},{"$f":"IFERROR(INDIRECT(\"'\"&$B402&\"'!$g$33\")+INDIRECT(\"'\"&$B402&\"'!$h$33\")+INDIRECT(\"'\"&$B402&\"'!$i$33\"),\"\")","v":""}]
[367,{"$f":"IFERROR(IF(OR(SHEETNAME(A403)=\"HIDE\",SHEETNAME(A403)=\"Start Here\",SHEETNAME(A403)=\"Template\"),\"\",SHEETNAME(A403)),\"\")","v":""},{"$f":"IFERROR(INDIRECT(\"'\"&$B403&\"'!$d$6\"),\"\")","v":""},{"$f":"IFERROR(INDIRECT(\"'\"&$B403&\"'!$d$7\"),\"\")","v":""},{"$f":"IFERROR(INDIRECT(\"'\"&$B403&\"'!$d$8\"),\"\")","v":""},{"$f":"IFERROR(IF(OR(SHEETNAME($A403)=\"HIDE\",SHEETNAME($A403)=\"Start Here\",SHEETNAME($A403)=\"Template\"),\"\",HYPERLINK(\"#'\"&B403&\"'!A1\",\"Go to Sheet\")),\"\")","v":""},{"$f":"IFERROR(IF(INDIRECT(\"'\"&$B403&\"'!$U$7\"),INDIRECT(\"'\"&$B403&\"'!$u$9\"),\"(\"&INDIRECT(\"'\"&$B403&\"'!$U$8\")&\")\"),\"\")","v":""},{"$f":"IF(L403,\"This site has incomplete Cost and Revenue data.  \",\"\")&IF(M403,\"WFRS data for previous quarters is incomplete.  \",\"\")&IF(K403,IFERROR(INDIRECT(\"'\"&$B403&\"'!$g$9\"),\"\"),\"\")","v":""},false,{"$f":"IFERROR(INDIRECT(\"'\"&$B403&\"'!$u$7\"),FALSE)","v":false},{"$f":"IFERROR(INDIRECT(\"'\"&$B403&\"'!$u$10\"),FALSE)","v":false},{"$f":"IFERROR(INDIRECT(\"'\"&$B403&\"'!$AC$12\"),FALSE)","v":false},{"$f":"IFERROR(INDIRECT(\"'\"&$B403&\"'!$ad$12\"),FALSE)","v":false},null,{"$f":"IFERROR(INDIRECT(\"'\"&$B403&\"'!$d$10\"),\"\")","v":""},{"$f":"IFERROR(INDIRECT(\"'\"&$B403&\"'!$d$33\"),\"\")","v":""},{"$f":"IFERROR(INDIRECT(\"'\"&$B403&\"'!$j$33\")+INDIRECT(\"'\"&$B403&\"'!$k$33\"),\"\")","v":""},{"$f":"IFERROR(INDIRECT(\"'\"&$B403&\"'!$q$33\"),\"\")","v":""},{"$f":"IFERROR(INDIRECT(\"'\"&$B403&\"'!$e$33\"),\"\")","v":""},{"$f":"IFERROR(INDIRECT(\"'\"&$B403&\"'!$L$33\"),\"\")","v":""},{"$f":"IFERROR(INDIRECT(\"'\"&$B403&\"'!$g$33\")+INDIRECT(\"'\"&$B403&\"'!$h$33\")+INDIRECT(\"'\"&$B403&\"'!$i$33\"),\"\")","v":""}]
[368,{"$f":"IFERROR(IF(OR(SHEETNAME(A404)=\"HIDE\",SHEETNAME(A404)=\"Start Here\",SHEETNAME(A404)=\"Template\"),\"\",SHEETNAME(A404)),\"\")","v":""},{"$f":"IFERROR(INDIRECT(\"'\"&$B404&\"'!$d$6\"),\"\")","v":""},{"$f":"IFERROR(INDIRECT(\"'\"&$B404&\"'!$d$7\"),\"\")","v":""},{"$f":"IFERROR(INDIRECT(\"'\"&$B404&\"'!$d$8\"),\"\")","v":""},{"$f":"IFERROR(IF(OR(SHEETNAME($A404)=\"HIDE\",SHEETNAME($A404)=\"Start Here\",SHEETNAME($A404)=\"Template\"),\"\",HYPERLINK(\"#'\"&B404&\"'!A1\",\"Go to Sheet\")),\"\")","v":""},{"$f":"IFERROR(IF(INDIRECT(\"'\"&$B404&\"'!$U$7\"),INDIRECT(\"'\"&$B404&\"'!$u$9\"),\"(\"&INDIRECT(\"'\"&$B404&\"'!$U$8\")&\")\"),\"\")","v":""},{"$f":"IF(L404,\"This site has incomplete Cost and Revenue data.  \",\"\")&IF(M404,\"WFRS data for previous quarters is incomplete.  \",\"\")&IF(K404,IFERROR(INDIRECT(\"'\"&$B404&\"'!$g$9\"),\"\"),\"\")","v":""},false,{"$f":"IFERROR(INDIRECT(\"'\"&$B404&\"'!$u$7\"),FALSE)","v":false},{"$f":"IFERROR(INDIRECT(\"'\"&$B404&\"'!$u$10\"),FALSE)","v":false},{"$f":"IFERROR(INDIRECT(\"'\"&$B404&\"'!$AC$12\"),FALSE)","v":false},{"$f":"IFERROR(INDIRECT(\"'\"&$B404&\"'!$ad$12\"),FALSE)","v":false},null,{"$f":"IFERROR(INDIRECT(\"'\"&$B404&\"'!$d$10\"),\"\")","v":""},{"$f":"IFERROR(INDIRECT(\"'\"&$B404&\"'!$d$33\"),\"\")","v":""},{"$f":"IFERROR(INDIRECT(\"'\"&$B404&\"'!$j$33\")+INDIRECT(\"'\"&$B404&\"'!$k$33\"),\"\")","v":""},{"$f":"IFERROR(INDIRECT(\"'\"&$B404&\"'!$q$33\"),\"\")","v":""},{"$f":"IFERROR(INDIRECT(\"'\"&$B404&\"'!$e$33\"),\"\")","v":""},{"$f":"IFERROR(INDIRECT(\"'\"&$B404&\"'!$L$33\"),\"\")","v":""},{"$f":"IFERROR(INDIRECT(\"'\"&$B404&\"'!$g$33\")+INDIRECT(\"'\"&$B404&\"'!$h$33\")+INDIRECT(\"'\"&$B404&\"'!$i$33\"),\"\")","v":""}]
[369,{"$f":"IFERROR(IF(OR(SHEETNAME(A405)=\"HIDE\",SHEETNAME(A405)=\"Start Here\",SHEETNAME(A405)=\"Template\"),\"\",SHEETNAME(A405)),\"\")","v":""},{"$f":"IFERROR(INDIRECT(\"'\"&$B405&\"'!$d$6\"),\"\")","v":""},{"$f":"IFERROR(INDIRECT(\"'\"&$B405&\"'!$d$7\"),\"\")","v":""},{"$f":"IFERROR(INDIRECT(\"'\"&$B405&\"'!$d$8\"),\"\")","v":""},{"$f":"IFERROR(IF(OR(SHEETNAME($A405)=\"HIDE\",SHEETNAME($A405)=\"Start Here\",SHEETNAME($A405)=\"Template\"),\"\",HYPERLINK(\"#'\"&B405&\"'!A1\",\"Go to Sheet\")),\"\")","v":""},{"$f":"IFERROR(IF(INDIRECT(\"'\"&$B405&\"'!$U$7\"),INDIRECT(\"'\"&$B405&\"'!$u$9\"),\"(\"&INDIRECT(\"'\"&$B405&\"'!$U$8\")&\")\"),\"\")","v":""},{"$f":"IF(L405,\"This site has incomplete Cost and Revenue data.  \",\"\")&IF(M405,\"WFRS data for previous quarters is incomplete.  \",\"\")&IF(K405,IFERROR(INDIRECT(\"'\"&$B405&\"'!$g$9\"),\"\"),\"\")","v":""},false,{"$f":"IFERROR(INDIRECT(\"'\"&$B405&\"'!$u$7\"),FALSE)","v":false},{"$f":"IFERROR(INDIRECT(\"'\"&$B405&\"'!$u$10\"),FALSE)","v":false},{"$f":"IFERROR(INDIRECT(\"'\"&$B405&\"'!$AC$12\"),FALSE)","v":false},{"$f":"IFERROR(INDIRECT(\"'\"&$B405&\"'!$ad$12\"),FALSE)","v":false},null,{"$f":"IFERROR(INDIRECT(\"'\"&$B405&\"'!$d$10\"),\"\")","v":""},{"$f":"IFERROR(INDIRECT(\"'\"&$B405&\"'!$d$33\"),\"\")","v":""},{"$f":"IFERROR(INDIRECT(\"'\"&$B405&\"'!$j$33\")+INDIRECT(\"'\"&$B405&\"'!$k$33\"),\"\")","v":""},{"$f":"IFERROR(INDIRECT(\"'\"&$B405&\"'!$q$33\"),\"\")","v":""},{"$f":"IFERROR(INDIRECT(\"'\"&$B405&\"'!$e$33\"),\"\")","v":""},{"$f":"IFERROR(INDIRECT(\"'\"&$B405&\"'!$L$33\"),\"\")","v":""},{"$f":"IFERROR(INDIRECT(\"'\"&$B405&\"'!$g$33\")+INDIRECT(\"'\"&$B405&\"'!$h$33\")+INDIRECT(\"'\"&$B405&\"'!$i$33\"),\"\")","v":""}]
[370,{"$f":"IFERROR(IF(OR(SHEETNAME(A406)=\"HIDE\",SHEETNAME(A406)=\"Start Here\",SHEETNAME(A406)=\"Template\"),\"\",SHEETNAME(A406)),\"\")","v":""},{"$f":"IFERROR(INDIRECT(\"'\"&$B406&\"'!$d$6\"),\"\")","v":""},{"$f":"IFERROR(INDIRECT(\"'\"&$B406&\"'!$d$7\"),\"\")","v":""},{"$f":"IFERROR(INDIRECT(\"'\"&$B406&\"'!$d$8\"),\"\")","v":""},{"$f":"IFERROR(IF(OR(SHEETNAME($A406)=\"HIDE\",SHEETNAME($A406)=\"Start Here\",SHEETNAME($A406)=\"Template\"),\"\",HYPERLINK(\"#'\"&B406&\"'!A1\",\"Go to Sheet\")),\"\")","v":""},{"$f":"IFERROR(IF(INDIRECT(\"'\"&$B406&\"'!$U$7\"),INDIRECT(\"'\"&$B406&\"'!$u$9\"),\"(\"&INDIRECT(\"'\"&$B406&\"'!$U$8\")&\")\"),\"\")","v":""},{"$f":"IF(L406,\"This site has incomplete Cost and Revenue data.  \",\"\")&IF(M406,\"WFRS data for previous quarters is incomplete.  \",\"\")&IF(K406,IFERROR(INDIRECT(\"'\"&$B406&\"'!$g$9\"),\"\"),\"\")","v":""},false,{"$f":"IFERROR(INDIRECT(\"'\"&$B406&\"'!$u$7\"),FALSE)","v":false},{"$f":"IFERROR(INDIRECT(\"'\"&$B406&\"'!$u$10\"),FALSE)","v":false},{"$f":"IFERROR(INDIRECT(\"'\"&$B406&\"'!$AC$12\"),FALSE)","v":false},{"$f":"IFERROR(INDIRECT(\"'\"&$B406&\"'!$ad$12\"),FALSE)","v":false},null,{"$f":"IFERROR(INDIRECT(\"'\"&$B406&\"'!$d$10\"),\"\")","v":""},{"$f":"IFERROR(INDIRECT(\"'\"&$B406&\"'!$d$33\"),\"\")","v":""},{"$f":"IFERROR(INDIRECT(\"'\"&$B406&\"'!$j$33\")+INDIRECT(\"'\"&$B406&\"'!$k$33\"),\"\")","v":""},{"$f":"IFERROR(INDIRECT(\"'\"&$B406&\"'!$q$33\"),\"\")","v":""},{"$f":"IFERROR(INDIRECT(\"'\"&$B406&\"'!$e$33\"),\"\")","v":""},{"$f":"IFERROR(INDIRECT(\"'\"&$B406&\"'!$L$33\"),\"\")","v":""},{"$f":"IFERROR(INDIRECT(\"'\"&$B406&\"'!$g$33\")+INDIRECT(\"'\"&$B406&\"'!$h$33\")+INDIRECT(\"'\"&$B406&\"'!$i$33\"),\"\")","v":""}]
[371,{"$f":"IFERROR(IF(OR(SHEETNAME(A407)=\"HIDE\",SHEETNAME(A407)=\"Start Here\",SHEETNAME(A407)=\"Template\"),\"\",SHEETNAME(A407)),\"\")","v":""},{"$f":"IFERROR(INDIRECT(\"'\"&$B407&\"'!$d$6\"),\"\")","v":""},{"$f":"IFERROR(INDIRECT(\"'\"&$B407&\"'!$d$7\"),\"\")","v":""},{"$f":"IFERROR(INDIRECT(\"'\"&$B407&\"'!$d$8\"),\"\")","v":""},{"$f":"IFERROR(IF(OR(SHEETNAME($A407)=\"HIDE\",SHEETNAME($A407)=\"Start Here\",SHEETNAME($A407)=\"Template\"),\"\",HYPERLINK(\"#'\"&B407&\"'!A1\",\"Go to Sheet\")),\"\")","v":""},{"$f":"IFERROR(IF(INDIRECT(\"'\"&$B407&\"'!$U$7\"),INDIRECT(\"'\"&$B407&\"'!$u$9\"),\"(\"&INDIRECT(\"'\"&$B407&\"'!$U$8\")&\")\"),\"\")","v":""},{"$f":"IF(L407,\"This site has incomplete Cost and Revenue data.  \",\"\")&IF(M407,\"WFRS data for previous quarters is incomplete.  \",\"\")&IF(K407,IFERROR(INDIRECT(\"'\"&$B407&\"'!$g$9\"),\"\"),\"\")","v":""},false,{"$f":"IFERROR(INDIRECT(\"'\"&$B407&\"'!$u$7\"),FALSE)","v":false},{"$f":"IFERROR(INDIRECT(\"'\"&$B407&\"'!$u$10\"),FALSE)","v":false},{"$f":"IFERROR(INDIRECT(\"'\"&$B407&\"'!$AC$12\"),FALSE)","v":false},{"$f":"IFERROR(INDIRECT(\"'\"&$B407&\"'!$ad$12\"),FALSE)","v":false},null,{"$f":"IFERROR(INDIRECT(\"'\"&$B407&\"'!$d$10\"),\"\")","v":""},{"$f":"IFERROR(INDIRECT(\"'\"&$B407&\"'!$d$33\"),\"\")","v":""},{"$f":"IFERROR(INDIRECT(\"'\"&$B407&\"'!$j$33\")+INDIRECT(\"'\"&$B407&\"'!$k$33\"),\"\")","v":""},{"$f":"IFERROR(INDIRECT(\"'\"&$B407&\"'!$q$33\"),\"\")","v":""},{"$f":"IFERROR(INDIRECT(\"'\"&$B407&\"'!$e$33\"),\"\")","v":""},{"$f":"IFERROR(INDIRECT(\"'\"&$B407&\"'!$L$33\"),\"\")","v":""},{"$f":"IFERROR(INDIRECT(\"'\"&$B407&\"'!$g$33\")+INDIRECT(\"'\"&$B407&\"'!$h$33\")+INDIRECT(\"'\"&$B407&\"'!$i$33\"),\"\")","v":""}]
[372,{"$f":"IFERROR(IF(OR(SHEETNAME(A408)=\"HIDE\",SHEETNAME(A408)=\"Start Here\",SHEETNAME(A408)=\"Template\"),\"\",SHEETNAME(A408)),\"\")","v":""},{"$f":"IFERROR(INDIRECT(\"'\"&$B408&\"'!$d$6\"),\"\")","v":""},{"$f":"IFERROR(INDIRECT(\"'\"&$B408&\"'!$d$7\"),\"\")","v":""},{"$f":"IFERROR(INDIRECT(\"'\"&$B408&\"'!$d$8\"),\"\")","v":""},{"$f":"IFERROR(IF(OR(SHEETNAME($A408)=\"HIDE\",SHEETNAME($A408)=\"Start Here\",SHEETNAME($A408)=\"Template\"),\"\",HYPERLINK(\"#'\"&B408&\"'!A1\",\"Go to Sheet\")),\"\")","v":""},{"$f":"IFERROR(IF(INDIRECT(\"'\"&$B408&\"'!$U$7\"),INDIRECT(\"'\"&$B408&\"'!$u$9\"),\"(\"&INDIRECT(\"'\"&$B408&\"'!$U$8\")&\")\"),\"\")","v":""},{"$f":"IF(L408,\"This site has incomplete Cost and Revenue data.  \",\"\")&IF(M408,\"WFRS data for previous quarters is incomplete.  \",\"\")&IF(K408,IFERROR(INDIRECT(\"'\"&$B408&\"'!$g$9\"),\"\"),\"\")","v":""},false,{"$f":"IFERROR(INDIRECT(\"'\"&$B408&\"'!$u$7\"),FALSE)","v":false},{"$f":"IFERROR(INDIRECT(\"'\"&$B408&\"'!$u$10\"),FALSE)","v":false},{"$f":"IFERROR(INDIRECT(\"'\"&$B408&\"'!$AC$12\"),FALSE)","v":false},{"$f":"IFERROR(INDIRECT(\"'\"&$B408&\"'!$ad$12\"),FALSE)","v":false},null,{"$f":"IFERROR(INDIRECT(\"'\"&$B408&\"'!$d$10\"),\"\")","v":""},{"$f":"IFERROR(INDIRECT(\"'\"&$B408&\"'!$d$33\"),\"\")","v":""},{"$f":"IFERROR(INDIRECT(\"'\"&$B408&\"'!$j$33\")+INDIRECT(\"'\"&$B408&\"'!$k$33\"),\"\")","v":""},{"$f":"IFERROR(INDIRECT(\"'\"&$B408&\"'!$q$33\"),\"\")","v":""},{"$f":"IFERROR(INDIRECT(\"'\"&$B408&\"'!$e$33\"),\"\")","v":""},{"$f":"IFERROR(INDIRECT(\"'\"&$B408&\"'!$L$33\"),\"\")","v":""},{"$f":"IFERROR(INDIRECT(\"'\"&$B408&\"'!$g$33\")+INDIRECT(\"'\"&$B408&\"'!$h$33\")+INDIRECT(\"'\"&$B408&\"'!$i$33\"),\"\")","v":""}]
[373,{"$f":"IFERROR(IF(OR(SHEETNAME(A409)=\"HIDE\",SHEETNAME(A409)=\"Start Here\",SHEETNAME(A409)=\"Template\"),\"\",SHEETNAME(A409)),\"\")","v":""},{"$f":"IFERROR(INDIRECT(\"'\"&$B409&\"'!$d$6\"),\"\")","v":""},{"$f":"IFERROR(INDIRECT(\"'\"&$B409&\"'!$d$7\"),\"\")","v":""},{"$f":"IFERROR(INDIRECT(\"'\"&$B409&\"'!$d$8\"),\"\")","v":""},{"$f":"IFERROR(IF(OR(SHEETNAME($A409)=\"HIDE\",SHEETNAME($A409)=\"Start Here\",SHEETNAME($A409)=\"Template\"),\"\",HYPERLINK(\"#'\"&B409&\"'!A1\",\"Go to Sheet\")),\"\")","v":""},{"$f":"IFERROR(IF(INDIRECT(\"'\"&$B409&\"'!$U$7\"),INDIRECT(\"'\"&$B409&\"'!$u$9\"),\"(\"&INDIRECT(\"'\"&$B409&\"'!$U$8\")&\")\"),\"\")","v":""},{"$f":"IF(L409,\"This site has incomplete Cost and Revenue data.  \",\"\")&IF(M409,\"WFRS data for previous quarters is incomplete.  \",\"\")&IF(K409,IFERROR(INDIRECT(\"'\"&$B409&\"'!$g$9\"),\"\"),\"\")","v":""},false,{"$f":"IFERROR(INDIRECT(\"'\"&$B409&\"'!$u$7\"),FALSE)","v":false},{"$f":"IFERROR(INDIRECT(\"'\"&$B409&\"'!$u$10\"),FALSE)","v":false},{"$f":"IFERROR(INDIRECT(\"'\"&$B409&\"'!$AC$12\"),FALSE)","v":false},{"$f":"IFERROR(INDIRECT(\"'\"&$B409&\"'!$ad$12\"),FALSE)","v":false},null,{"$f":"IFERROR(INDIRECT(\"'\"&$B409&\"'!$d$10\"),\"\")","v":""},{"$f":"IFERROR(INDIRECT(\"'\"&$B409&\"'!$d$33\"),\"\")","v":""},{"$f":"IFERROR(INDIRECT(\"'\"&$B409&\"'!$j$33\")+INDIRECT(\"'\"&$B409&\"'!$k$33\"),\"\")","v":""},{"$f":"IFERROR(INDIRECT(\"'\"&$B409&\"'!$q$33\"),\"\")","v":""},{"$f":"IFERROR(INDIRECT(\"'\"&$B409&\"'!$e$33\"),\"\")","v":""},{"$f":"IFERROR(INDIRECT(\"'\"&$B409&\"'!$L$33\"),\"\")","v":""},{"$f":"IFERROR(INDIRECT(\"'\"&$B409&\"'!$g$33\")+INDIRECT(\"'\"&$B409&\"'!$h$33\")+INDIRECT(\"'\"&$B409&\"'!$i$33\"),\"\")","v":""}]
[374,{"$f":"IFERROR(IF(OR(SHEETNAME(A410)=\"HIDE\",SHEETNAME(A410)=\"Start Here\",SHEETNAME(A410)=\"Template\"),\"\",SHEETNAME(A410)),\"\")","v":""},{"$f":"IFERROR(INDIRECT(\"'\"&$B410&\"'!$d$6\"),\"\")","v":""},{"$f":"IFERROR(INDIRECT(\"'\"&$B410&\"'!$d$7\"),\"\")","v":""},{"$f":"IFERROR(INDIRECT(\"'\"&$B410&\"'!$d$8\"),\"\")","v":""},{"$f":"IFERROR(IF(OR(SHEETNAME($A410)=\"HIDE\",SHEETNAME($A410)=\"Start Here\",SHEETNAME($A410)=\"Template\"),\"\",HYPERLINK(\"#'\"&B410&\"'!A1\",\"Go to Sheet\")),\"\")","v":""},{"$f":"IFERROR(IF(INDIRECT(\"'\"&$B410&\"'!$U$7\"),INDIRECT(\"'\"&$B410&\"'!$u$9\"),\"(\"&INDIRECT(\"'\"&$B410&\"'!$U$8\")&\")\"),\"\")","v":""},{"$f":"IF(L410,\"This site has incomplete Cost and Revenue data.  \",\"\")&IF(M410,\"WFRS data for previous quarters is incomplete.  \",\"\")&IF(K410,IFERROR(INDIRECT(\"'\"&$B410&\"'!$g$9\"),\"\"),\"\")","v":""},false,{"$f":"IFERROR(INDIRECT(\"'\"&$B410&\"'!$u$7\"),FALSE)","v":false},{"$f":"IFERROR(INDIRECT(\"'\"&$B410&\"'!$u$10\"),FALSE)","v":false},{"$f":"IFERROR(INDIRECT(\"'\"&$B410&\"'!$AC$12\"),FALSE)","v":false},{"$f":"IFERROR(INDIRECT(\"'\"&$B410&\"'!$ad$12\"),FALSE)","v":false},null,{"$f":"IFERROR(INDIRECT(\"'\"&$B410&\"'!$d$10\"),\"\")","v":""},{"$f":"IFERROR(INDIRECT(\"'\"&$B410&\"'!$d$33\"),\"\")","v":""},{"$f":"IFERROR(INDIRECT(\"'\"&$B410&\"'!$j$33\")+INDIRECT(\"'\"&$B410&\"'!$k$33\"),\"\")","v":""},{"$f":"IFERROR(INDIRECT(\"'\"&$B410&\"'!$q$33\"),\"\")","v":""},{"$f":"IFERROR(INDIRECT(\"'\"&$B410&\"'!$e$33\"),\"\")","v":""},{"$f":"IFERROR(INDIRECT(\"'\"&$B410&\"'!$L$33\"),\"\")","v":""},{"$f":"IFERROR(INDIRECT(\"'\"&$B410&\"'!$g$33\")+INDIRECT(\"'\"&$B410&\"'!$h$33\")+INDIRECT(\"'\"&$B410&\"'!$i$33\"),\"\")","v":""}]
[375,{"$f":"IFERROR(IF(OR(SHEETNAME(A411)=\"HIDE\",SHEETNAME(A411)=\"Start Here\",SHEETNAME(A411)=\"Template\"),\"\",SHEETNAME(A411)),\"\")","v":""},{"$f":"IFERROR(INDIRECT(\"'\"&$B411&\"'!$d$6\"),\"\")","v":""},{"$f":"IFERROR(INDIRECT(\"'\"&$B411&\"'!$d$7\"),\"\")","v":""},{"$f":"IFERROR(INDIRECT(\"'\"&$B411&\"'!$d$8\"),\"\")","v":""},{"$f":"IFERROR(IF(OR(SHEETNAME($A411)=\"HIDE\",SHEETNAME($A411)=\"Start Here\",SHEETNAME($A411)=\"Template\"),\"\",HYPERLINK(\"#'\"&B411&\"'!A1\",\"Go to Sheet\")),\"\")","v":""},{"$f":"IFERROR(IF(INDIRECT(\"'\"&$B411&\"'!$U$7\"),INDIRECT(\"'\"&$B411&\"'!$u$9\"),\"(\"&INDIRECT(\"'\"&$B411&\"'!$U$8\")&\")\"),\"\")","v":""},{"$f":"IF(L411,\"This site has incomplete Cost and Revenue data.  \",\"\")&IF(M411,\"WFRS data for previous quarters is incomplete.  \",\"\")&IF(K411,IFERROR(INDIRECT(\"'\"&$B411&\"'!$g$9\"),\"\"),\"\")","v":""},false,{"$f":"IFERROR(INDIRECT(\"'\"&$B411&\"'!$u$7\"),FALSE)","v":false},{"$f":"IFERROR(INDIRECT(\"'\"&$B411&\"'!$u$10\"),FALSE)","v":false},{"$f":"IFERROR(INDIRECT(\"'\"&$B411&\"'!$AC$12\"),FALSE)","v":false},{"$f":"IFERROR(INDIRECT(\"'\"&$B411&\"'!$ad$12\"),FALSE)","v":false},null,{"$f":"IFERROR(INDIRECT(\"'\"&$B411&\"'!$d$10\"),\"\")","v":""},{"$f":"IFERROR(INDIRECT(\"'\"&$B411&\"'!$d$33\"),\"\")","v":""},{"$f":"IFERROR(INDIRECT(\"'\"&$B411&\"'!$j$33\")+INDIRECT(\"'\"&$B411&\"'!$k$33\"),\"\")","v":""},{"$f":"IFERROR(INDIRECT(\"'\"&$B411&\"'!$q$33\"),\"\")","v":""},{"$f":"IFERROR(INDIRECT(\"'\"&$B411&\"'!$e$33\"),\"\")","v":""},{"$f":"IFERROR(INDIRECT(\"'\"&$B411&\"'!$L$33\"),\"\")","v":""},{"$f":"IFERROR(INDIRECT(\"'\"&$B411&\"'!$g$33\")+INDIRECT(\"'\"&$B411&\"'!$h$33\")+INDIRECT(\"'\"&$B411&\"'!$i$33\"),\"\")","v":""}]
[376,{"$f":"IFERROR(IF(OR(SHEETNAME(A412)=\"HIDE\",SHEETNAME(A412)=\"Start Here\",SHEETNAME(A412)=\"Template\"),\"\",SHEETNAME(A412)),\"\")","v":""},{"$f":"IFERROR(INDIRECT(\"'\"&$B412&\"'!$d$6\"),\"\")","v":""},{"$f":"IFERROR(INDIRECT(\"'\"&$B412&\"'!$d$7\"),\"\")","v":""},{"$f":"IFERROR(INDIRECT(\"'\"&$B412&\"'!$d$8\"),\"\")","v":""},{"$f":"IFERROR(IF(OR(SHEETNAME($A412)=\"HIDE\",SHEETNAME($A412)=\"Start Here\",SHEETNAME($A412)=\"Template\"),\"\",HYPERLINK(\"#'\"&B412&\"'!A1\",\"Go to Sheet\")),\"\")","v":""},{"$f":"IFERROR(IF(INDIRECT(\"'\"&$B412&\"'!$U$7\"),INDIRECT(\"'\"&$B412&\"'!$u$9\"),\"(\"&INDIRECT(\"'\"&$B412&\"'!$U$8\")&\")\"),\"\")","v":""},{"$f":"IF(L412,\"This site has incomplete Cost and Revenue data.  \",\"\")&IF(M412,\"WFRS data for previous quarters is incomplete.  \",\"\")&IF(K412,IFERROR(INDIRECT(\"'\"&$B412&\"'!$g$9\"),\"\"),\"\")","v":""},false,{"$f":"IFERROR(INDIRECT(\"'\"&$B412&\"'!$u$7\"),FALSE)","v":false},{"$f":"IFERROR(INDIRECT(\"'\"&$B412&\"'!$u$10\"),FALSE)","v":false},{"$f":"IFERROR(INDIRECT(\"'\"&$B412&\"'!$AC$12\"),FALSE)","v":false},{"$f":"IFERROR(INDIRECT(\"'\"&$B412&\"'!$ad$12\"),FALSE)","v":false},null,{"$f":"IFERROR(INDIRECT(\"'\"&$B412&\"'!$d$10\"),\"\")","v":""},{"$f":"IFERROR(INDIRECT(\"'\"&$B412&\"'!$d$33\"),\"\")","v":""},{"$f":"IFERROR(INDIRECT(\"'\"&$B412&\"'!$j$33\")+INDIRECT(\"'\"&$B412&\"'!$k$33\"),\"\")","v":""},{"$f":"IFERROR(INDIRECT(\"'\"&$B412&\"'!$q$33\"),\"\")","v":""},{"$f":"IFERROR(INDIRECT(\"'\"&$B412&\"'!$e$33\"),\"\")","v":""},{"$f":"IFERROR(INDIRECT(\"'\"&$B412&\"'!$L$33\"),\"\")","v":""},{"$f":"IFERROR(INDIRECT(\"'\"&$B412&\"'!$g$33\")+INDIRECT(\"'\"&$B412&\"'!$h$33\")+INDIRECT(\"'\"&$B412&\"'!$i$33\"),\"\")","v":""}]
[377,{"$f":"IFERROR(IF(OR(SHEETNAME(A413)=\"HIDE\",SHEETNAME(A413)=\"Start Here\",SHEETNAME(A413)=\"Template\"),\"\",SHEETNAME(A413)),\"\")","v":""},{"$f":"IFERROR(INDIRECT(\"'\"&$B413&\"'!$d$6\"),\"\")","v":""},{"$f":"IFERROR(INDIRECT(\"'\"&$B413&\"'!$d$7\"),\"\")","v":""},{"$f":"IFERROR(INDIRECT(\"'\"&$B413&\"'!$d$8\"),\"\")","v":""},{"$f":"IFERROR(IF(OR(SHEETNAME($A413)=\"HIDE\",SHEETNAME($A413)=\"Start Here\",SHEETNAME($A413)=\"Template\"),\"\",HYPERLINK(\"#'\"&B413&\"'!A1\",\"Go to Sheet\")),\"\")","v":""},{"$f":"IFERROR(IF(INDIRECT(\"'\"&$B413&\"'!$U$7\"),INDIRECT(\"'\"&$B413&\"'!$u$9\"),\"(\"&INDIRECT(\"'\"&$B413&\"'!$U$8\")&\")\"),\"\")","v":""},{"$f":"IF(L413,\"This site has incomplete Cost and Revenue data.  \",\"\")&IF(M413,\"WFRS data for previous quarters is incomplete.  \",\"\")&IF(K413,IFERROR(INDIRECT(\"'\"&$B413&\"'!$g$9\"),\"\"),\"\")","v":""},false,{"$f":"IFERROR(INDIRECT(\"'\"&$B413&\"'!$u$7\"),FALSE)","v":false},{"$f":"IFERROR(INDIRECT(\"'\"&$B413&\"'!$u$10\"),FALSE)","v":false},{"$f":"IFERROR(INDIRECT(\"'\"&$B413&\"'!$AC$12\"),FALSE)","v":false},{"$f":"IFERROR(INDIRECT(\"'\"&$B413&\"'!$ad$12\"),FALSE)","v":false},null,{"$f":"IFERROR(INDIRECT(\"'\"&$B413&\"'!$d$10\"),\"\")","v":""},{"$f":"IFERROR(INDIRECT(\"'\"&$B413&\"'!$d$33\"),\"\")","v":""},{"$f":"IFERROR(INDIRECT(\"'\"&$B413&\"'!$j$33\")+INDIRECT(\"'\"&$B413&\"'!$k$33\"),\"\")","v":""},{"$f":"IFERROR(INDIRECT(\"'\"&$B413&\"'!$q$33\"),\"\")","v":""},{"$f":"IFERROR(INDIRECT(\"'\"&$B413&\"'!$e$33\"),\"\")","v":""},{"$f":"IFERROR(INDIRECT(\"'\"&$B413&\"'!$L$33\"),\"\")","v":""},{"$f":"IFERROR(INDIRECT(\"'\"&$B413&\"'!$g$33\")+INDIRECT(\"'\"&$B413&\"'!$h$33\")+INDIRECT(\"'\"&$B413&\"'!$i$33\"),\"\")","v":""}]
[378,{"$f":"IFERROR(IF(OR(SHEETNAME(A414)=\"HIDE\",SHEETNAME(A414)=\"Start Here\",SHEETNAME(A414)=\"Template\"),\"\",SHEETNAME(A414)),\"\")","v":""},{"$f":"IFERROR(INDIRECT(\"'\"&$B414&\"'!$d$6\"),\"\")","v":""},{"$f":"IFERROR(INDIRECT(\"'\"&$B414&\"'!$d$7\"),\"\")","v":""},{"$f":"IFERROR(INDIRECT(\"'\"&$B414&\"'!$d$8\"),\"\")","v":""},{"$f":"IFERROR(IF(OR(SHEETNAME($A414)=\"HIDE\",SHEETNAME($A414)=\"Start Here\",SHEETNAME($A414)=\"Template\"),\"\",HYPERLINK(\"#'\"&B414&\"'!A1\",\"Go to Sheet\")),\"\")","v":""},{"$f":"IFERROR(IF(INDIRECT(\"'\"&$B414&\"'!$U$7\"),INDIRECT(\"'\"&$B414&\"'!$u$9\"),\"(\"&INDIRECT(\"'\"&$B414&\"'!$U$8\")&\")\"),\"\")","v":""},{"$f":"IF(L414,\"This site has incomplete Cost and Revenue data.  \",\"\")&IF(M414,\"WFRS data for previous quarters is incomplete.  \",\"\")&IF(K414,IFERROR(INDIRECT(\"'\"&$B414&\"'!$g$9\"),\"\"),\"\")","v":""},false,{"$f":"IFERROR(INDIRECT(\"'\"&$B414&\"'!$u$7\"),FALSE)","v":false},{"$f":"IFERROR(INDIRECT(\"'\"&$B414&\"'!$u$10\"),FALSE)","v":false},{"$f":"IFERROR(INDIRECT(\"'\"&$B414&\"'!$AC$12\"),FALSE)","v":false},{"$f":"IFERROR(INDIRECT(\"'\"&$B414&\"'!$ad$12\"),FALSE)","v":false},null,{"$f":"IFERROR(INDIRECT(\"'\"&$B414&\"'!$d$10\"),\"\")","v":""},{"$f":"IFERROR(INDIRECT(\"'\"&$B414&\"'!$d$33\"),\"\")","v":""},{"$f":"IFERROR(INDIRECT(\"'\"&$B414&\"'!$j$33\")+INDIRECT(\"'\"&$B414&\"'!$k$33\"),\"\")","v":""},{"$f":"IFERROR(INDIRECT(\"'\"&$B414&\"'!$q$33\"),\"\")","v":""},{"$f":"IFERROR(INDIRECT(\"'\"&$B414&\"'!$e$33\"),\"\")","v":""},{"$f":"IFERROR(INDIRECT(\"'\"&$B414&\"'!$L$33\"),\"\")","v":""},{"$f":"IFERROR(INDIRECT(\"'\"&$B414&\"'!$g$33\")+INDIRECT(\"'\"&$B414&\"'!$h$33\")+INDIRECT(\"'\"&$B414&\"'!$i$33\"),\"\")","v":""}]
[379,{"$f":"IFERROR(IF(OR(SHEETNAME(A415)=\"HIDE\",SHEETNAME(A415)=\"Start Here\",SHEETNAME(A415)=\"Template\"),\"\",SHEETNAME(A415)),\"\")","v":""},{"$f":"IFERROR(INDIRECT(\"'\"&$B415&\"'!$d$6\"),\"\")","v":""},{"$f":"IFERROR(INDIRECT(\"'\"&$B415&\"'!$d$7\"),\"\")","v":""},{"$f":"IFERROR(INDIRECT(\"'\"&$B415&\"'!$d$8\"),\"\")","v":""},{"$f":"IFERROR(IF(OR(SHEETNAME($A415)=\"HIDE\",SHEETNAME($A415)=\"Start Here\",SHEETNAME($A415)=\"Template\"),\"\",HYPERLINK(\"#'\"&B415&\"'!A1\",\"Go to Sheet\")),\"\")","v":""},{"$f":"IFERROR(IF(INDIRECT(\"'\"&$B415&\"'!$U$7\"),INDIRECT(\"'\"&$B415&\"'!$u$9\"),\"(\"&INDIRECT(\"'\"&$B415&\"'!$U$8\")&\")\"),\"\")","v":""},{"$f":"IF(L415,\"This site has incomplete Cost and Revenue data.  \",\"\")&IF(M415,\"WFRS data for previous quarters is incomplete.  \",\"\")&IF(K415,IFERROR(INDIRECT(\"'\"&$B415&\"'!$g$9\"),\"\"),\"\")","v":""},false,{"$f":"IFERROR(INDIRECT(\"'\"&$B415&\"'!$u$7\"),FALSE)","v":false},{"$f":"IFERROR(INDIRECT(\"'\"&$B415&\"'!$u$10\"),FALSE)","v":false},{"$f":"IFERROR(INDIRECT(\"'\"&$B415&\"'!$AC$12\"),FALSE)","v":false},{"$f":"IFERROR(INDIRECT(\"'\"&$B415&\"'!$ad$12\"),FALSE)","v":false},null,{"$f":"IFERROR(INDIRECT(\"'\"&$B415&\"'!$d$10\"),\"\")","v":""},{"$f":"IFERROR(INDIRECT(\"'\"&$B415&\"'!$d$33\"),\"\")","v":""},{"$f":"IFERROR(INDIRECT(\"'\"&$B415&\"'!$j$33\")+INDIRECT(\"'\"&$B415&\"'!$k$33\"),\"\")","v":""},{"$f":"IFERROR(INDIRECT(\"'\"&$B415&\"'!$q$33\"),\"\")","v":""},{"$f":"IFERROR(INDIRECT(\"'\"&$B415&\"'!$e$33\"),\"\")","v":""},{"$f":"IFERROR(INDIRECT(\"'\"&$B415&\"'!$L$33\"),\"\")","v":""},{"$f":"IFERROR(INDIRECT(\"'\"&$B415&\"'!$g$33\")+INDIRECT(\"'\"&$B415&\"'!$h$33\")+INDIRECT(\"'\"&$B415&\"'!$i$33\"),\"\")","v":""}]
[380,{"$f":"IFERROR(IF(OR(SHEETNAME(A416)=\"HIDE\",SHEETNAME(A416)=\"Start Here\",SHEETNAME(A416)=\"Template\"),\"\",SHEETNAME(A416)),\"\")","v":""},{"$f":"IFERROR(INDIRECT(\"'\"&$B416&\"'!$d$6\"),\"\")","v":""},{"$f":"IFERROR(INDIRECT(\"'\"&$B416&\"'!$d$7\"),\"\")","v":""},{"$f":"IFERROR(INDIRECT(\"'\"&$B416&\"'!$d$8\"),\"\")","v":""},{"$f":"IFERROR(IF(OR(SHEETNAME($A416)=\"HIDE\",SHEETNAME($A416)=\"Start Here\",SHEETNAME($A416)=\"Template\"),\"\",HYPERLINK(\"#'\"&B416&\"'!A1\",\"Go to Sheet\")),\"\")","v":""},{"$f":"IFERROR(IF(INDIRECT(\"'\"&$B416&\"'!$U$7\"),INDIRECT(\"'\"&$B416&\"'!$u$9\"),\"(\"&INDIRECT(\"'\"&$B416&\"'!$U$8\")&\")\"),\"\")","v":""},{"$f":"IF(L416,\"This site has incomplete Cost and Revenue data.  \",\"\")&IF(M416,\"WFRS data for previous quarters is incomplete.  \",\"\")&IF(K416,IFERROR(INDIRECT(\"'\"&$B416&\"'!$g$9\"),\"\"),\"\")","v":""},false,{"$f":"IFERROR(INDIRECT(\"'\"&$B416&\"'!$u$7\"),FALSE)","v":false},{"$f":"IFERROR(INDIRECT(\"'\"&$B416&\"'!$u$10\"),FALSE)","v":false},{"$f":"IFERROR(INDIRECT(\"'\"&$B416&\"'!$AC$12\"),FALSE)","v":false},{"$f":"IFERROR(INDIRECT(\"'\"&$B416&\"'!$ad$12\"),FALSE)","v":false},null,{"$f":"IFERROR(INDIRECT(\"'\"&$B416&\"'!$d$10\"),\"\")","v":""},{"$f":"IFERROR(INDIRECT(\"'\"&$B416&\"'!$d$33\"),\"\")","v":""},{"$f":"IFERROR(INDIRECT(\"'\"&$B416&\"'!$j$33\")+INDIRECT(\"'\"&$B416&\"'!$k$33\"),\"\")","v":""},{"$f":"IFERROR(INDIRECT(\"'\"&$B416&\"'!$q$33\"),\"\")","v":""},{"$f":"IFERROR(INDIRECT(\"'\"&$B416&\"'!$e$33\"),\"\")","v":""},{"$f":"IFERROR(INDIRECT(\"'\"&$B416&\"'!$L$33\"),\"\")","v":""},{"$f":"IFERROR(INDIRECT(\"'\"&$B416&\"'!$g$33\")+INDIRECT(\"'\"&$B416&\"'!$h$33\")+INDIRECT(\"'\"&$B416&\"'!$i$33\"),\"\")","v":""}]
[381,{"$f":"IFERROR(IF(OR(SHEETNAME(A417)=\"HIDE\",SHEETNAME(A417)=\"Start Here\",SHEETNAME(A417)=\"Template\"),\"\",SHEETNAME(A417)),\"\")","v":""},{"$f":"IFERROR(INDIRECT(\"'\"&$B417&\"'!$d$6\"),\"\")","v":""},{"$f":"IFERROR(INDIRECT(\"'\"&$B417&\"'!$d$7\"),\"\")","v":""},{"$f":"IFERROR(INDIRECT(\"'\"&$B417&\"'!$d$8\"),\"\")","v":""},{"$f":"IFERROR(IF(OR(SHEETNAME($A417)=\"HIDE\",SHEETNAME($A417)=\"Start Here\",SHEETNAME($A417)=\"Template\"),\"\",HYPERLINK(\"#'\"&B417&\"'!A1\",\"Go to Sheet\")),\"\")","v":""},{"$f":"IFERROR(IF(INDIRECT(\"'\"&$B417&\"'!$U$7\"),INDIRECT(\"'\"&$B417&\"'!$u$9\"),\"(\"&INDIRECT(\"'\"&$B417&\"'!$U$8\")&\")\"),\"\")","v":""},{"$f":"IF(L417,\"This site has incomplete Cost and Revenue data.  \",\"\")&IF(M417,\"WFRS data for previous quarters is incomplete.  \",\"\")&IF(K417,IFERROR(INDIRECT(\"'\"&$B417&\"'!$g$9\"),\"\"),\"\")","v":""},false,{"$f":"IFERROR(INDIRECT(\"'\"&$B417&\"'!$u$7\"),FALSE)","v":false},{"$f":"IFERROR(INDIRECT(\"'\"&$B417&\"'!$u$10\"),FALSE)","v":false},{"$f":"IFERROR(INDIRECT(\"'\"&$B417&\"'!$AC$12\"),FALSE)","v":false},{"$f":"IFERROR(INDIRECT(\"'\"&$B417&\"'!$ad$12\"),FALSE)","v":false},null,{"$f":"IFERROR(INDIRECT(\"'\"&$B417&\"'!$d$10\"),\"\")","v":""},{"$f":"IFERROR(INDIRECT(\"'\"&$B417&\"'!$d$33\"),\"\")","v":""},{"$f":"IFERROR(INDIRECT(\"'\"&$B417&\"'!$j$33\")+INDIRECT(\"'\"&$B417&\"'!$k$33\"),\"\")","v":""},{"$f":"IFERROR(INDIRECT(\"'\"&$B417&\"'!$q$33\"),\"\")","v":""},{"$f":"IFERROR(INDIRECT(\"'\"&$B417&\"'!$e$33\"),\"\")","v":""},{"$f":"IFERROR(INDIRECT(\"'\"&$B417&\"'!$L$33\"),\"\")","v":""},{"$f":"IFERROR(INDIRECT(\"'\"&$B417&\"'!$g$33\")+INDIRECT(\"'\"&$B417&\"'!$h$33\")+INDIRECT(\"'\"&$B417&\"'!$i$33\"),\"\")","v":""}]
[382,{"$f":"IFERROR(IF(OR(SHEETNAME(A418)=\"HIDE\",SHEETNAME(A418)=\"Start Here\",SHEETNAME(A418)=\"Template\"),\"\",SHEETNAME(A418)),\"\")","v":""},{"$f":"IFERROR(INDIRECT(\"'\"&$B418&\"'!$d$6\"),\"\")","v":""},{"$f":"IFERROR(INDIRECT(\"'\"&$B418&\"'!$d$7\"),\"\")","v":""},{"$f":"IFERROR(INDIRECT(\"'\"&$B418&\"'!$d$8\"),\"\")","v":""},{"$f":"IFERROR(IF(OR(SHEETNAME($A418)=\"HIDE\",SHEETNAME($A418)=\"Start Here\",SHEETNAME($A418)=\"Template\"),\"\",HYPERLINK(\"#'\"&B418&\"'!A1\",\"Go to Sheet\")),\"\")","v":""},{"$f":"IFERROR(IF(INDIRECT(\"'\"&$B418&\"'!$U$7\"),INDIRECT(\"'\"&$B418&\"'!$u$9\"),\"(\"&INDIRECT(\"'\"&$B418&\"'!$U$8\")&\")\"),\"\")","v":""},{"$f":"IF(L418,\"This site has incomplete Cost and Revenue data.  \",\"\")&IF(M418,\"WFRS data for previous quarters is incomplete.  \",\"\")&IF(K418,IFERROR(INDIRECT(\"'\"&$B418&\"'!$g$9\"),\"\"),\"\")","v":""},false,{"$f":"IFERROR(INDIRECT(\"'\"&$B418&\"'!$u$7\"),FALSE)","v":false},{"$f":"IFERROR(INDIRECT(\"'\"&$B418&\"'!$u$10\"),FALSE)","v":false},{"$f":"IFERROR(INDIRECT(\"'\"&$B418&\"'!$AC$12\"),FALSE)","v":false},{"$f":"IFERROR(INDIRECT(\"'\"&$B418&\"'!$ad$12\"),FALSE)","v":false},null,{"$f":"IFERROR(INDIRECT(\"'\"&$B418&\"'!$d$10\"),\"\")","v":""},{"$f":"IFERROR(INDIRECT(\"'\"&$B418&\"'!$d$33\"),\"\")","v":""},{"$f":"IFERROR(INDIRECT(\"'\"&$B418&\"'!$j$33\")+INDIRECT(\"'\"&$B418&\"'!$k$33\"),\"\")","v":""},{"$f":"IFERROR(INDIRECT(\"'\"&$B418&\"'!$q$33\"),\"\")","v":""},{"$f":"IFERROR(INDIRECT(\"'\"&$B418&\"'!$e$33\"),\"\")","v":""},{"$f":"IFERROR(INDIRECT(\"'\"&$B418&\"'!$L$33\"),\"\")","v":""},{"$f":"IFERROR(INDIRECT(\"'\"&$B418&\"'!$g$33\")+INDIRECT(\"'\"&$B418&\"'!$h$33\")+INDIRECT(\"'\"&$B418&\"'!$i$33\"),\"\")","v":""}]
[383,{"$f":"IFERROR(IF(OR(SHEETNAME(A419)=\"HIDE\",SHEETNAME(A419)=\"Start Here\",SHEETNAME(A419)=\"Template\"),\"\",SHEETNAME(A419)),\"\")","v":""},{"$f":"IFERROR(INDIRECT(\"'\"&$B419&\"'!$d$6\"),\"\")","v":""},{"$f":"IFERROR(INDIRECT(\"'\"&$B419&\"'!$d$7\"),\"\")","v":""},{"$f":"IFERROR(INDIRECT(\"'\"&$B419&\"'!$d$8\"),\"\")","v":""},{"$f":"IFERROR(IF(OR(SHEETNAME($A419)=\"HIDE\",SHEETNAME($A419)=\"Start Here\",SHEETNAME($A419)=\"Template\"),\"\",HYPERLINK(\"#'\"&B419&\"'!A1\",\"Go to Sheet\")),\"\")","v":""},{"$f":"IFERROR(IF(INDIRECT(\"'\"&$B419&\"'!$U$7\"),INDIRECT(\"'\"&$B419&\"'!$u$9\"),\"(\"&INDIRECT(\"'\"&$B419&\"'!$U$8\")&\")\"),\"\")","v":""},{"$f":"IF(L419,\"This site has incomplete Cost and Revenue data.  \",\"\")&IF(M419,\"WFRS data for previous quarters is incomplete.  \",\"\")&IF(K419,IFERROR(INDIRECT(\"'\"&$B419&\"'!$g$9\"),\"\"),\"\")","v":""},false,{"$f":"IFERROR(INDIRECT(\"'\"&$B419&\"'!$u$7\"),FALSE)","v":false},{"$f":"IFERROR(INDIRECT(\"'\"&$B419&\"'!$u$10\"),FALSE)","v":false},{"$f":"IFERROR(INDIRECT(\"'\"&$B419&\"'!$AC$12\"),FALSE)","v":false},{"$f":"IFERROR(INDIRECT(\"'\"&$B419&\"'!$ad$12\"),FALSE)","v":false},null,{"$f":"IFERROR(INDIRECT(\"'\"&$B419&\"'!$d$10\"),\"\")","v":""},{"$f":"IFERROR(INDIRECT(\"'\"&$B419&\"'!$d$33\"),\"\")","v":""},{"$f":"IFERROR(INDIRECT(\"'\"&$B419&\"'!$j$33\")+INDIRECT(\"'\"&$B419&\"'!$k$33\"),\"\")","v":""},{"$f":"IFERROR(INDIRECT(\"'\"&$B419&\"'!$q$33\"),\"\")","v":""},{"$f":"IFERROR(INDIRECT(\"'\"&$B419&\"'!$e$33\"),\"\")","v":""},{"$f":"IFERROR(INDIRECT(\"'\"&$B419&\"'!$L$33\"),\"\")","v":""},{"$f":"IFERROR(INDIRECT(\"'\"&$B419&\"'!$g$33\")+INDIRECT(\"'\"&$B419&\"'!$h$33\")+INDIRECT(\"'\"&$B419&\"'!$i$33\"),\"\")","v":""}]
[384,{"$f":"IFERROR(IF(OR(SHEETNAME(A420)=\"HIDE\",SHEETNAME(A420)=\"Start Here\",SHEETNAME(A420)=\"Template\"),\"\",SHEETNAME(A420)),\"\")","v":""},{"$f":"IFERROR(INDIRECT(\"'\"&$B420&\"'!$d$6\"),\"\")","v":""},{"$f":"IFERROR(INDIRECT(\"'\"&$B420&\"'!$d$7\"),\"\")","v":""},{"$f":"IFERROR(INDIRECT(\"'\"&$B420&\"'!$d$8\"),\"\")","v":""},{"$f":"IFERROR(IF(OR(SHEETNAME($A420)=\"HIDE\",SHEETNAME($A420)=\"Start Here\",SHEETNAME($A420)=\"Template\"),\"\",HYPERLINK(\"#'\"&B420&\"'!A1\",\"Go to Sheet\")),\"\")","v":""},{"$f":"IFERROR(IF(INDIRECT(\"'\"&$B420&\"'!$U$7\"),INDIRECT(\"'\"&$B420&\"'!$u$9\"),\"(\"&INDIRECT(\"'\"&$B420&\"'!$U$8\")&\")\"),\"\")","v":""},{"$f":"IF(L420,\"This site has incomplete Cost and Revenue data.  \",\"\")&IF(M420,\"WFRS data for previous quarters is incomplete.  \",\"\")&IF(K420,IFERROR(INDIRECT(\"'\"&$B420&\"'!$g$9\"),\"\"),\"\")","v":""},false,{"$f":"IFERROR(INDIRECT(\"'\"&$B420&\"'!$u$7\"),FALSE)","v":false},{"$f":"IFERROR(INDIRECT(\"'\"&$B420&\"'!$u$10\"),FALSE)","v":false},{"$f":"IFERROR(INDIRECT(\"'\"&$B420&\"'!$AC$12\"),FALSE)","v":false},{"$f":"IFERROR(INDIRECT(\"'\"&$B420&\"'!$ad$12\"),FALSE)","v":false},null,{"$f":"IFERROR(INDIRECT(\"'\"&$B420&\"'!$d$10\"),\"\")","v":""},{"$f":"IFERROR(INDIRECT(\"'\"&$B420&\"'!$d$33\"),\"\")","v":""},{"$f":"IFERROR(INDIRECT(\"'\"&$B420&\"'!$j$33\")+INDIRECT(\"'\"&$B420&\"'!$k$33\"),\"\")","v":""},{"$f":"IFERROR(INDIRECT(\"'\"&$B420&\"'!$q$33\"),\"\")","v":""},{"$f":"IFERROR(INDIRECT(\"'\"&$B420&\"'!$e$33\"),\"\")","v":""},{"$f":"IFERROR(INDIRECT(\"'\"&$B420&\"'!$L$33\"),\"\")","v":""},{"$f":"IFERROR(INDIRECT(\"'\"&$B420&\"'!$g$33\")+INDIRECT(\"'\"&$B420&\"'!$h$33\")+INDIRECT(\"'\"&$B420&\"'!$i$33\"),\"\")","v":""}]
[385,{"$f":"IFERROR(IF(OR(SHEETNAME(A421)=\"HIDE\",SHEETNAME(A421)=\"Start Here\",SHEETNAME(A421)=\"Template\"),\"\",SHEETNAME(A421)),\"\")","v":""},{"$f":"IFERROR(INDIRECT(\"'\"&$B421&\"'!$d$6\"),\"\")","v":""},{"$f":"IFERROR(INDIRECT(\"'\"&$B421&\"'!$d$7\"),\"\")","v":""},{"$f":"IFERROR(INDIRECT(\"'\"&$B421&\"'!$d$8\"),\"\")","v":""},{"$f":"IFERROR(IF(OR(SHEETNAME($A421)=\"HIDE\",SHEETNAME($A421)=\"Start Here\",SHEETNAME($A421)=\"Template\"),\"\",HYPERLINK(\"#'\"&B421&\"'!A1\",\"Go to Sheet\")),\"\")","v":""},{"$f":"IFERROR(IF(INDIRECT(\"'\"&$B421&\"'!$U$7\"),INDIRECT(\"'\"&$B421&\"'!$u$9\"),\"(\"&INDIRECT(\"'\"&$B421&\"'!$U$8\")&\")\"),\"\")","v":""},{"$f":"IF(L421,\"This site has incomplete Cost and Revenue data.  \",\"\")&IF(M421,\"WFRS data for previous quarters is incomplete.  \",\"\")&IF(K421,IFERROR(INDIRECT(\"'\"&$B421&\"'!$g$9\"),\"\"),\"\")","v":""},false,{"$f":"IFERROR(INDIRECT(\"'\"&$B421&\"'!$u$7\"),FALSE)","v":false},{"$f":"IFERROR(INDIRECT(\"'\"&$B421&\"'!$u$10\"),FALSE)","v":false},{"$f":"IFERROR(INDIRECT(\"'\"&$B421&\"'!$AC$12\"),FALSE)","v":false},{"$f":"IFERROR(INDIRECT(\"'\"&$B421&\"'!$ad$12\"),FALSE)","v":false},null,{"$f":"IFERROR(INDIRECT(\"'\"&$B421&\"'!$d$10\"),\"\")","v":""},{"$f":"IFERROR(INDIRECT(\"'\"&$B421&\"'!$d$33\"),\"\")","v":""},{"$f":"IFERROR(INDIRECT(\"'\"&$B421&\"'!$j$33\")+INDIRECT(\"'\"&$B421&\"'!$k$33\"),\"\")","v":""},{"$f":"IFERROR(INDIRECT(\"'\"&$B421&\"'!$q$33\"),\"\")","v":""},{"$f":"IFERROR(INDIRECT(\"'\"&$B421&\"'!$e$33\"),\"\")","v":""},{"$f":"IFERROR(INDIRECT(\"'\"&$B421&\"'!$L$33\"),\"\")","v":""},{"$f":"IFERROR(INDIRECT(\"'\"&$B421&\"'!$g$33\")+INDIRECT(\"'\"&$B421&\"'!$h$33\")+INDIRECT(\"'\"&$B421&\"'!$i$33\"),\"\")","v":""}]
[386,{"$f":"IFERROR(IF(OR(SHEETNAME(A422)=\"HIDE\",SHEETNAME(A422)=\"Start Here\",SHEETNAME(A422)=\"Template\"),\"\",SHEETNAME(A422)),\"\")","v":""},{"$f":"IFERROR(INDIRECT(\"'\"&$B422&\"'!$d$6\"),\"\")","v":""},{"$f":"IFERROR(INDIRECT(\"'\"&$B422&\"'!$d$7\"),\"\")","v":""},{"$f":"IFERROR(INDIRECT(\"'\"&$B422&\"'!$d$8\"),\"\")","v":""},{"$f":"IFERROR(IF(OR(SHEETNAME($A422)=\"HIDE\",SHEETNAME($A422)=\"Start Here\",SHEETNAME($A422)=\"Template\"),\"\",HYPERLINK(\"#'\"&B422&\"'!A1\",\"Go to Sheet\")),\"\")","v":""},{"$f":"IFERROR(IF(INDIRECT(\"'\"&$B422&\"'!$U$7\"),INDIRECT(\"'\"&$B422&\"'!$u$9\"),\"(\"&INDIRECT(\"'\"&$B422&\"'!$U$8\")&\")\"),\"\")","v":""},{"$f":"IF(L422,\"This site has incomplete Cost and Revenue data.  \",\"\")&IF(M422,\"WFRS data for previous quarters is incomplete.  \",\"\")&IF(K422,IFERROR(INDIRECT(\"'\"&$B422&\"'!$g$9\"),\"\"),\"\")","v":""},{"$f":"NOT(E422=\"\")","v":false},{"$f":"IFERROR(INDIRECT(\"'\"&$B422&\"'!$u$7\"),FALSE)","v":false},{"$f":"IFERROR(INDIRECT(\"'\"&$B422&\"'!$u$10\"),FALSE)","v":false},{"$f":"IFERROR(INDIRECT(\"'\"&$B422&\"'!$AC$12\"),FALSE)","v":false},{"$f":"IFERROR(INDIRECT(\"'\"&$B422&\"'!$ad$12\"),FALSE)","v":false},null,{"$f":"IFERROR(INDIRECT(\"'\"&$B422&\"'!$d$10\"),\"\")","v":""},{"$f":"IFERROR(INDIRECT(\"'\"&$B422&\"'!$d$33\"),\"\")","v":""},{"$f":"IFERROR(INDIRECT(\"'\"&$B422&\"'!$j$33\")+INDIRECT(\"'\"&$B422&\"'!$k$33\"),\"\")","v":""},{"$f":"IFERROR(INDIRECT(\"'\"&$B422&\"'!$q$33\"),\"\")","v":""},{"$f":"IFERROR(INDIRECT(\"'\"&$B422&\"'!$e$33\"),\"\")","v":""},{"$f":"IFERROR(INDIRECT(\"'\"&$B422&\"'!$L$33\"),\"\")","v":""},{"$f":"IFERROR(INDIRECT(\"'\"&$B422&\"'!$g$33\")+INDIRECT(\"'\"&$B422&\"'!$h$33\")+INDIRECT(\"'\"&$B422&\"'!$i$33\"),\"\")","v":""}]
[387,{"$f":"IFERROR(IF(OR(SHEETNAME(A423)=\"HIDE\",SHEETNAME(A423)=\"Start Here\",SHEETNAME(A423)=\"Template\"),\"\",SHEETNAME(A423)),\"\")","v":""},{"$f":"IFERROR(INDIRECT(\"'\"&$B423&\"'!$d$6\"),\"\")","v":""},{"$f":"IFERROR(INDIRECT(\"'\"&$B423&\"'!$d$7\"),\"\")","v":""},{"$f":"IFERROR(INDIRECT(\"'\"&$B423&\"'!$d$8\"),\"\")","v":""},{"$f":"IFERROR(IF(OR(SHEETNAME($A423)=\"HIDE\",SHEETNAME($A423)=\"Start Here\",SHEETNAME($A423)=\"Template\"),\"\",HYPERLINK(\"#'\"&B423&\"'!A1\",\"Go to Sheet\")),\"\")","v":""},{"$f":"IFERROR(IF(INDIRECT(\"'\"&$B423&\"'!$U$7\"),INDIRECT(\"'\"&$B423&\"'!$u$9\"),\"(\"&INDIRECT(\"'\"&$B423&\"'!$U$8\")&\")\"),\"\")","v":""},{"$f":"IF(L423,\"This site has incomplete Cost and Revenue data.  \",\"\")&IF(M423,\"WFRS data for previous quarters is incomplete.  \",\"\")&IF(K423,IFERROR(INDIRECT(\"'\"&$B423&\"'!$g$9\"),\"\"),\"\")","v":""},false,{"$f":"IFERROR(INDIRECT(\"'\"&$B423&\"'!$u$7\"),FALSE)","v":false},{"$f":"IFERROR(INDIRECT(\"'\"&$B423&\"'!$u$10\"),FALSE)","v":false},{"$f":"IFERROR(INDIRECT(\"'\"&$B423&\"'!$AC$12\"),FALSE)","v":false},{"$f":"IFERROR(INDIRECT(\"'\"&$B423&\"'!$ad$12\"),FALSE)","v":false},null,{"$f":"IFERROR(INDIRECT(\"'\"&$B423&\"'!$d$10\"),\"\")","v":""},{"$f":"IFERROR(INDIRECT(\"'\"&$B423&\"'!$d$33\"),\"\")","v":""},{"$f":"IFERROR(INDIRECT(\"'\"&$B423&\"'!$j$33\")+INDIRECT(\"'\"&$B423&\"'!$k$33\"),\"\")","v":""},{"$f":"IFERROR(INDIRECT(\"'\"&$B423&\"'!$q$33\"),\"\")","v":""},{"$f":"IFERROR(INDIRECT(\"'\"&$B423&\"'!$e$33\"),\"\")","v":""},{"$f":"IFERROR(INDIRECT(\"'\"&$B423&\"'!$L$33\"),\"\")","v":""},{"$f":"IFERROR(INDIRECT(\"'\"&$B423&\"'!$g$33\")+INDIRECT(\"'\"&$B423&\"'!$h$33\")+INDIRECT(\"'\"&$B423&\"'!$i$33\"),\"\")","v":""}]
[388,{"$f":"IFERROR(IF(OR(SHEETNAME(A424)=\"HIDE\",SHEETNAME(A424)=\"Start Here\",SHEETNAME(A424)=\"Template\"),\"\",SHEETNAME(A424)),\"\")","v":""},{"$f":"IFERROR(INDIRECT(\"'\"&$B424&\"'!$d$6\"),\"\")","v":""},{"$f":"IFERROR(INDIRECT(\"'\"&$B424&\"'!$d$7\"),\"\")","v":""},{"$f":"IFERROR(INDIRECT(\"'\"&$B424&\"'!$d$8\"),\"\")","v":""},{"$f":"IFERROR(IF(OR(SHEETNAME($A424)=\"HIDE\",SHEETNAME($A424)=\"Start Here\",SHEETNAME($A424)=\"Template\"),\"\",HYPERLINK(\"#'\"&B424&\"'!A1\",\"Go to Sheet\")),\"\")","v":""},{"$f":"IFERROR(IF(INDIRECT(\"'\"&$B424&\"'!$U$7\"),INDIRECT(\"'\"&$B424&\"'!$u$9\"),\"(\"&INDIRECT(\"'\"&$B424&\"'!$U$8\")&\")\"),\"\")","v":""},{"$f":"IF(L424,\"This site has incomplete Cost and Revenue data.  \",\"\")&IF(M424,\"WFRS data for previous quarters is incomplete.  \",\"\")&IF(K424,IFERROR(INDIRECT(\"'\"&$B424&\"'!$g$9\"),\"\"),\"\")","v":""},false,{"$f":"IFERROR(INDIRECT(\"'\"&$B424&\"'!$u$7\"),FALSE)","v":false},{"$f":"IFERROR(INDIRECT(\"'\"&$B424&\"'!$u$10\"),FALSE)","v":false},{"$f":"IFERROR(INDIRECT(\"'\"&$B424&\"'!$AC$12\"),FALSE)","v":false},{"$f":"IFERROR(INDIRECT(\"'\"&$B424&\"'!$ad$12\"),FALSE)","v":false},null,{"$f":"IFERROR(INDIRECT(\"'\"&$B424&\"'!$d$10\"),\"\")","v":""},{"$f":"IFERROR(INDIRECT(\"'\"&$B424&\"'!$d$33\"),\"\")","v":""},{"$f":"IFERROR(INDIRECT(\"'\"&$B424&\"'!$j$33\")+INDIRECT(\"'\"&$B424&\"'!$k$33\"),\"\")","v":""},{"$f":"IFERROR(INDIRECT(\"'\"&$B424&\"'!$q$33\"),\"\")","v":""},{"$f":"IFERROR(INDIRECT(\"'\"&$B424&\"'!$e$33\"),\"\")","v":""},{"$f":"IFERROR(INDIRECT(\"'\"&$B424&\"'!$L$33\"),\"\")","v":""},{"$f":"IFERROR(INDIRECT(\"'\"&$B424&\"'!$g$33\")+INDIRECT(\"'\"&$B424&\"'!$h$33\")+INDIRECT(\"'\"&$B424&\"'!$i$33\"),\"\")","v":""}]
[389,{"$f":"IFERROR(IF(OR(SHEETNAME(A425)=\"HIDE\",SHEETNAME(A425)=\"Start Here\",SHEETNAME(A425)=\"Template\"),\"\",SHEETNAME(A425)),\"\")","v":""},{"$f":"IFERROR(INDIRECT(\"'\"&$B425&\"'!$d$6\"),\"\")","v":""},{"$f":"IFERROR(INDIRECT(\"'\"&$B425&\"'!$d$7\"),\"\")","v":""},{"$f":"IFERROR(INDIRECT(\"'\"&$B425&\"'!$d$8\"),\"\")","v":""},{"$f":"IFERROR(IF(OR(SHEETNAME($A425)=\"HIDE\",SHEETNAME($A425)=\"Start Here\",SHEETNAME($A425)=\"Template\"),\"\",HYPERLINK(\"#'\"&B425&\"'!A1\",\"Go to Sheet\")),\"\")","v":""},{"$f":"IFERROR(IF(INDIRECT(\"'\"&$B425&\"'!$U$7\"),INDIRECT(\"'\"&$B425&\"'!$u$9\"),\"(\"&INDIRECT(\"'\"&$B425&\"'!$U$8\")&\")\"),\"\")","v":""},{"$f":"IF(L425,\"This site has incomplete Cost and Revenue data.  \",\"\")&IF(M425,\"WFRS data for previous quarters is incomplete.  \",\"\")&IF(K425,IFERROR(INDIRECT(\"'\"&$B425&\"'!$g$9\"),\"\"),\"\")","v":""},false,{"$f":"IFERROR(INDIRECT(\"'\"&$B425&\"'!$u$7\"),FALSE)","v":false},{"$f":"IFERROR(INDIRECT(\"'\"&$B425&\"'!$u$10\"),FALSE)","v":false},{"$f":"IFERROR(INDIRECT(\"'\"&$B425&\"'!$AC$12\"),FALSE)","v":false},{"$f":"IFERROR(INDIRECT(\"'\"&$B425&\"'!$ad$12\"),FALSE)","v":false},null,{"$f":"IFERROR(INDIRECT(\"'\"&$B425&\"'!$d$10\"),\"\")","v":""},{"$f":"IFERROR(INDIRECT(\"'\"&$B425&\"'!$d$33\"),\"\")","v":""},{"$f":"IFERROR(INDIRECT(\"'\"&$B425&\"'!$j$33\")+INDIRECT(\"'\"&$B425&\"'!$k$33\"),\"\")","v":""},{"$f":"IFERROR(INDIRECT(\"'\"&$B425&\"'!$q$33\"),\"\")","v":""},{"$f":"IFERROR(INDIRECT(\"'\"&$B425&\"'!$e$33\"),\"\")","v":""},{"$f":"IFERROR(INDIRECT(\"'\"&$B425&\"'!$L$33\"),\"\")","v":""},{"$f":"IFERROR(INDIRECT(\"'\"&$B425&\"'!$g$33\")+INDIRECT(\"'\"&$B425&\"'!$h$33\")+INDIRECT(\"'\"&$B425&\"'!$i$33\"),\"\")","v":""}]
[390,{"$f":"IFERROR(IF(OR(SHEETNAME(A426)=\"HIDE\",SHEETNAME(A426)=\"Start Here\",SHEETNAME(A426)=\"Template\"),\"\",SHEETNAME(A426)),\"\")","v":""},{"$f":"IFERROR(INDIRECT(\"'\"&$B426&\"'!$d$6\"),\"\")","v":""},{"$f":"IFERROR(INDIRECT(\"'\"&$B426&\"'!$d$7\"),\"\")","v":""},{"$f":"IFERROR(INDIRECT(\"'\"&$B426&\"'!$d$8\"),\"\")","v":""},{"$f":"IFERROR(IF(OR(SHEETNAME($A426)=\"HIDE\",SHEETNAME($A426)=\"Start Here\",SHEETNAME($A426)=\"Template\"),\"\",HYPERLINK(\"#'\"&B426&\"'!A1\",\"Go to Sheet\")),\"\")","v":""},{"$f":"IFERROR(IF(INDIRECT(\"'\"&$B426&\"'!$U$7\"),INDIRECT(\"'\"&$B426&\"'!$u$9\"),\"(\"&INDIRECT(\"'\"&$B426&\"'!$U$8\")&\")\"),\"\")","v":""},{"$f":"IF(L426,\"This site has incomplete Cost and Revenue data.  \",\"\")&IF(M426,\"WFRS data for previous quarters is incomplete.  \",\"\")&IF(K426,IFERROR(INDIRECT(\"'\"&$B426&\"'!$g$9\"),\"\"),\"\")","v":""},false,{"$f":"IFERROR(INDIRECT(\"'\"&$B426&\"'!$u$7\"),FALSE)","v":false},{"$f":"IFERROR(INDIRECT(\"'\"&$B426&\"'!$u$10\"),FALSE)","v":false},{"$f":"IFERROR(INDIRECT(\"'\"&$B426&\"'!$AC$12\"),FALSE)","v":false},{"$f":"IFERROR(INDIRECT(\"'\"&$B426&\"'!$ad$12\"),FALSE)","v":false},null,{"$f":"IFERROR(INDIRECT(\"'\"&$B426&\"'!$d$10\"),\"\")","v":""},{"$f":"IFERROR(INDIRECT(\"'\"&$B426&\"'!$d$33\"),\"\")","v":""},{"$f":"IFERROR(INDIRECT(\"'\"&$B426&\"'!$j$33\")+INDIRECT(\"'\"&$B426&\"'!$k$33\"),\"\")","v":""},{"$f":"IFERROR(INDIRECT(\"'\"&$B426&\"'!$q$33\"),\"\")","v":""},{"$f":"IFERROR(INDIRECT(\"'\"&$B426&\"'!$e$33\"),\"\")","v":""},{"$f":"IFERROR(INDIRECT(\"'\"&$B426&\"'!$L$33\"),\"\")","v":""},{"$f":"IFERROR(INDIRECT(\"'\"&$B426&\"'!$g$33\")+INDIRECT(\"'\"&$B426&\"'!$h$33\")+INDIRECT(\"'\"&$B426&\"'!$i$33\"),\"\")","v":""}]
[391,{"$f":"IFERROR(IF(OR(SHEETNAME(A427)=\"HIDE\",SHEETNAME(A427)=\"Start Here\",SHEETNAME(A427)=\"Template\"),\"\",SHEETNAME(A427)),\"\")","v":""},{"$f":"IFERROR(INDIRECT(\"'\"&$B427&\"'!$d$6\"),\"\")","v":""},{"$f":"IFERROR(INDIRECT(\"'\"&$B427&\"'!$d$7\"),\"\")","v":""},{"$f":"IFERROR(INDIRECT(\"'\"&$B427&\"'!$d$8\"),\"\")","v":""},{"$f":"IFERROR(IF(OR(SHEETNAME($A427)=\"HIDE\",SHEETNAME($A427)=\"Start Here\",SHEETNAME($A427)=\"Template\"),\"\",HYPERLINK(\"#'\"&B427&\"'!A1\",\"Go to Sheet\")),\"\")","v":""},{"$f":"IFERROR(IF(INDIRECT(\"'\"&$B427&\"'!$U$7\"),INDIRECT(\"'\"&$B427&\"'!$u$9\"),\"(\"&INDIRECT(\"'\"&$B427&\"'!$U$8\")&\")\"),\"\")","v":""},{"$f":"IF(L427,\"This site has incomplete Cost and Revenue data.  \",\"\")&IF(M427,\"WFRS data for previous quarters is incomplete.  \",\"\")&IF(K427,IFERROR(INDIRECT(\"'\"&$B427&\"'!$g$9\"),\"\"),\"\")","v":""},false,{"$f":"IFERROR(INDIRECT(\"'\"&$B427&\"'!$u$7\"),FALSE)","v":false},{"$f":"IFERROR(INDIRECT(\"'\"&$B427&\"'!$u$10\"),FALSE)","v":false},{"$f":"IFERROR(INDIRECT(\"'\"&$B427&\"'!$AC$12\"),FALSE)","v":false},{"$f":"IFERROR(INDIRECT(\"'\"&$B427&\"'!$ad$12\"),FALSE)","v":false},null,{"$f":"IFERROR(INDIRECT(\"'\"&$B427&\"'!$d$10\"),\"\")","v":""},{"$f":"IFERROR(INDIRECT(\"'\"&$B427&\"'!$d$33\"),\"\")","v":""},{"$f":"IFERROR(INDIRECT(\"'\"&$B427&\"'!$j$33\")+INDIRECT(\"'\"&$B427&\"'!$k$33\"),\"\")","v":""},{"$f":"IFERROR(INDIRECT(\"'\"&$B427&\"'!$q$33\"),\"\")","v":""},{"$f":"IFERROR(INDIRECT(\"'\"&$B427&\"'!$e$33\"),\"\")","v":""},{"$f":"IFERROR(INDIRECT(\"'\"&$B427&\"'!$L$33\"),\"\")","v":""},{"$f":"IFERROR(INDIRECT(\"'\"&$B427&\"'!$g$33\")+INDIRECT(\"'\"&$B427&\"'!$h$33\")+INDIRECT(\"'\"&$B427&\"'!$i$33\"),\"\")","v":""}]
[392,{"$f":"IFERROR(IF(OR(SHEETNAME(A428)=\"HIDE\",SHEETNAME(A428)=\"Start Here\",SHEETNAME(A428)=\"Template\"),\"\",SHEETNAME(A428)),\"\")","v":""},{"$f":"IFERROR(INDIRECT(\"'\"&$B428&\"'!$d$6\"),\"\")","v":""},{"$f":"IFERROR(INDIRECT(\"'\"&$B428&\"'!$d$7\"),\"\")","v":""},{"$f":"IFERROR(INDIRECT(\"'\"&$B428&\"'!$d$8\"),\"\")","v":""},{"$f":"IFERROR(IF(OR(SHEETNAME($A428)=\"HIDE\",SHEETNAME($A428)=\"Start Here\",SHEETNAME($A428)=\"Template\"),\"\",HYPERLINK(\"#'\"&B428&\"'!A1\",\"Go to Sheet\")),\"\")","v":""},{"$f":"IFERROR(IF(INDIRECT(\"'\"&$B428&\"'!$U$7\"),INDIRECT(\"'\"&$B428&\"'!$u$9\"),\"(\"&INDIRECT(\"'\"&$B428&\"'!$U$8\")&\")\"),\"\")","v":""},{"$f":"IF(L428,\"This site has incomplete Cost and Revenue data.  \",\"\")&IF(M428,\"WFRS data for previous quarters is incomplete.  \",\"\")&IF(K428,IFERROR(INDIRECT(\"'\"&$B428&\"'!$g$9\"),\"\"),\"\")","v":""},false,{"$f":"IFERROR(INDIRECT(\"'\"&$B428&\"'!$u$7\"),FALSE)","v":false},{"$f":"IFERROR(INDIRECT(\"'\"&$B428&\"'!$u$10\"),FALSE)","v":false},{"$f":"IFERROR(INDIRECT(\"'\"&$B428&\"'!$AC$12\"),FALSE)","v":false},{"$f":"IFERROR(INDIRECT(\"'\"&$B428&\"'!$ad$12\"),FALSE)","v":false},null,{"$f":"IFERROR(INDIRECT(\"'\"&$B428&\"'!$d$10\"),\"\")","v":""},{"$f":"IFERROR(INDIRECT(\"'\"&$B428&\"'!$d$33\"),\"\")","v":""},{"$f":"IFERROR(INDIRECT(\"'\"&$B428&\"'!$j$33\")+INDIRECT(\"'\"&$B428&\"'!$k$33\"),\"\")","v":""},{"$f":"IFERROR(INDIRECT(\"'\"&$B428&\"'!$q$33\"),\"\")","v":""},{"$f":"IFERROR(INDIRECT(\"'\"&$B428&\"'!$e$33\"),\"\")","v":""},{"$f":"IFERROR(INDIRECT(\"'\"&$B428&\"'!$L$33\"),\"\")","v":""},{"$f":"IFERROR(INDIRECT(\"'\"&$B428&\"'!$g$33\")+INDIRECT(\"'\"&$B428&\"'!$h$33\")+INDIRECT(\"'\"&$B428&\"'!$i$33\"),\"\")","v":""}]
[393,{"$f":"IFERROR(IF(OR(SHEETNAME(A429)=\"HIDE\",SHEETNAME(A429)=\"Start Here\",SHEETNAME(A429)=\"Template\"),\"\",SHEETNAME(A429)),\"\")","v":""},{"$f":"IFERROR(INDIRECT(\"'\"&$B429&\"'!$d$6\"),\"\")","v":""},{"$f":"IFERROR(INDIRECT(\"'\"&$B429&\"'!$d$7\"),\"\")","v":""},{"$f":"IFERROR(INDIRECT(\"'\"&$B429&\"'!$d$8\"),\"\")","v":""},{"$f":"IFERROR(IF(OR(SHEETNAME($A429)=\"HIDE\",SHEETNAME($A429)=\"Start Here\",SHEETNAME($A429)=\"Template\"),\"\",HYPERLINK(\"#'\"&B429&\"'!A1\",\"Go to Sheet\")),\"\")","v":""},{"$f":"IFERROR(IF(INDIRECT(\"'\"&$B429&\"'!$U$7\"),INDIRECT(\"'\"&$B429&\"'!$u$9\"),\"(\"&INDIRECT(\"'\"&$B429&\"'!$U$8\")&\")\"),\"\")","v":""},{"$f":"IF(L429,\"This site has incomplete Cost and Revenue data.  \",\"\")&IF(M429,\"WFRS data for previous quarters is incomplete.  \",\"\")&IF(K429,IFERROR(INDIRECT(\"'\"&$B429&\"'!$g$9\"),\"\"),\"\")","v":""},false,{"$f":"IFERROR(INDIRECT(\"'\"&$B429&\"'!$u$7\"),FALSE)","v":false},{"$f":"IFERROR(INDIRECT(\"'\"&$B429&\"'!$u$10\"),FALSE)","v":false},{"$f":"IFERROR(INDIRECT(\"'\"&$B429&\"'!$AC$12\"),FALSE)","v":false},{"$f":"IFERROR(INDIRECT(\"'\"&$B429&\"'!$ad$12\"),FALSE)","v":false},null,{"$f":"IFERROR(INDIRECT(\"'\"&$B429&\"'!$d$10\"),\"\")","v":""},{"$f":"IFERROR(INDIRECT(\"'\"&$B429&\"'!$d$33\"),\"\")","v":""},{"$f":"IFERROR(INDIRECT(\"'\"&$B429&\"'!$j$33\")+INDIRECT(\"'\"&$B429&\"'!$k$33\"),\"\")","v":""},{"$f":"IFERROR(INDIRECT(\"'\"&$B429&\"'!$q$33\"),\"\")","v":""},{"$f":"IFERROR(INDIRECT(\"'\"&$B429&\"'!$e$33\"),\"\")","v":""},{"$f":"IFERROR(INDIRECT(\"'\"&$B429&\"'!$L$33\"),\"\")","v":""},{"$f":"IFERROR(INDIRECT(\"'\"&$B429&\"'!$g$33\")+INDIRECT(\"'\"&$B429&\"'!$h$33\")+INDIRECT(\"'\"&$B429&\"'!$i$33\"),\"\")","v":""}]
[394,{"$f":"IFERROR(IF(OR(SHEETNAME(A430)=\"HIDE\",SHEETNAME(A430)=\"Start Here\",SHEETNAME(A430)=\"Template\"),\"\",SHEETNAME(A430)),\"\")","v":""},{"$f":"IFERROR(INDIRECT(\"'\"&$B430&\"'!$d$6\"),\"\")","v":""},{"$f":"IFERROR(INDIRECT(\"'\"&$B430&\"'!$d$7\"),\"\")","v":""},{"$f":"IFERROR(INDIRECT(\"'\"&$B430&\"'!$d$8\"),\"\")","v":""},{"$f":"IFERROR(IF(OR(SHEETNAME($A430)=\"HIDE\",SHEETNAME($A430)=\"Start Here\",SHEETNAME($A430)=\"Template\"),\"\",HYPERLINK(\"#'\"&B430&\"'!A1\",\"Go to Sheet\")),\"\")","v":""},{"$f":"IFERROR(IF(INDIRECT(\"'\"&$B430&\"'!$U$7\"),INDIRECT(\"'\"&$B430&\"'!$u$9\"),\"(\"&INDIRECT(\"'\"&$B430&\"'!$U$8\")&\")\"),\"\")","v":""},{"$f":"IF(L430,\"This site has incomplete Cost and Revenue data.  \",\"\")&IF(M430,\"WFRS data for previous quarters is incomplete.  \",\"\")&IF(K430,IFERROR(INDIRECT(\"'\"&$B430&\"'!$g$9\"),\"\"),\"\")","v":""},false,{"$f":"IFERROR(INDIRECT(\"'\"&$B430&\"'!$u$7\"),FALSE)","v":false},{"$f":"IFERROR(INDIRECT(\"'\"&$B430&\"'!$u$10\"),FALSE)","v":false},{"$f":"IFERROR(INDIRECT(\"'\"&$B430&\"'!$AC$12\"),FALSE)","v":false},{"$f":"IFERROR(INDIRECT(\"'\"&$B430&\"'!$ad$12\"),FALSE)","v":false},null,{"$f":"IFERROR(INDIRECT(\"'\"&$B430&\"'!$d$10\"),\"\")","v":""},{"$f":"IFERROR(INDIRECT(\"'\"&$B430&\"'!$d$33\"),\"\")","v":""},{"$f":"IFERROR(INDIRECT(\"'\"&$B430&\"'!$j$33\")+INDIRECT(\"'\"&$B430&\"'!$k$33\"),\"\")","v":""},{"$f":"IFERROR(INDIRECT(\"'\"&$B430&\"'!$q$33\"),\"\")","v":""},{"$f":"IFERROR(INDIRECT(\"'\"&$B430&\"'!$e$33\"),\"\")","v":""},{"$f":"IFERROR(INDIRECT(\"'\"&$B430&\"'!$L$33\"),\"\")","v":""},{"$f":"IFERROR(INDIRECT(\"'\"&$B430&\"'!$g$33\")+INDIRECT(\"'\"&$B430&\"'!$h$33\")+INDIRECT(\"'\"&$B430&\"'!$i$33\"),\"\")","v":""}]
[395,{"$f":"IFERROR(IF(OR(SHEETNAME(A431)=\"HIDE\",SHEETNAME(A431)=\"Start Here\",SHEETNAME(A431)=\"Template\"),\"\",SHEETNAME(A431)),\"\")","v":""},{"$f":"IFERROR(INDIRECT(\"'\"&$B431&\"'!$d$6\"),\"\")","v":""},{"$f":"IFERROR(INDIRECT(\"'\"&$B431&\"'!$d$7\"),\"\")","v":""},{"$f":"IFERROR(INDIRECT(\"'\"&$B431&\"'!$d$8\"),\"\")","v":""},{"$f":"IFERROR(IF(OR(SHEETNAME($A431)=\"HIDE\",SHEETNAME($A431)=\"Start Here\",SHEETNAME($A431)=\"Template\"),\"\",HYPERLINK(\"#'\"&B431&\"'!A1\",\"Go to Sheet\")),\"\")","v":""},{"$f":"IFERROR(IF(INDIRECT(\"'\"&$B431&\"'!$U$7\"),INDIRECT(\"'\"&$B431&\"'!$u$9\"),\"(\"&INDIRECT(\"'\"&$B431&\"'!$U$8\")&\")\"),\"\")","v":""},{"$f":"IF(L431,\"This site has incomplete Cost and Revenue data.  \",\"\")&IF(M431,\"WFRS data for previous quarters is incomplete.  \",\"\")&IF(K431,IFERROR(INDIRECT(\"'\"&$B431&\"'!$g$9\"),\"\"),\"\")","v":""},false,{"$f":"IFERROR(INDIRECT(\"'\"&$B431&\"'!$u$7\"),FALSE)","v":false},{"$f":"IFERROR(INDIRECT(\"'\"&$B431&\"'!$u$10\"),FALSE)","v":false},{"$f":"IFERROR(INDIRECT(\"'\"&$B431&\"'!$AC$12\"),FALSE)","v":false},{"$f":"IFERROR(INDIRECT(\"'\"&$B431&\"'!$ad$12\"),FALSE)","v":false},null,{"$f":"IFERROR(INDIRECT(\"'\"&$B431&\"'!$d$10\"),\"\")","v":""},{"$f":"IFERROR(INDIRECT(\"'\"&$B431&\"'!$d$33\"),\"\")","v":""},{"$f":"IFERROR(INDIRECT(\"'\"&$B431&\"'!$j$33\")+INDIRECT(\"'\"&$B431&\"'!$k$33\"),\"\")","v":""},{"$f":"IFERROR(INDIRECT(\"'\"&$B431&\"'!$q$33\"),\"\")","v":""},{"$f":"IFERROR(INDIRECT(\"'\"&$B431&\"'!$e$33\"),\"\")","v":""},{"$f":"IFERROR(INDIRECT(\"'\"&$B431&\"'!$L$33\"),\"\")","v":""},{"$f":"IFERROR(INDIRECT(\"'\"&$B431&\"'!$g$33\")+INDIRECT(\"'\"&$B431&\"'!$h$33\")+INDIRECT(\"'\"&$B431&\"'!$i$33\"),\"\")","v":""}]
[396,{"$f":"IFERROR(IF(OR(SHEETNAME(A432)=\"HIDE\",SHEETNAME(A432)=\"Start Here\",SHEETNAME(A432)=\"Template\"),\"\",SHEETNAME(A432)),\"\")","v":""},{"$f":"IFERROR(INDIRECT(\"'\"&$B432&\"'!$d$6\"),\"\")","v":""},{"$f":"IFERROR(INDIRECT(\"'\"&$B432&\"'!$d$7\"),\"\")","v":""},{"$f":"IFERROR(INDIRECT(\"'\"&$B432&\"'!$d$8\"),\"\")","v":""},{"$f":"IFERROR(IF(OR(SHEETNAME($A432)=\"HIDE\",SHEETNAME($A432)=\"Start Here\",SHEETNAME($A432)=\"Template\"),\"\",HYPERLINK(\"#'\"&B432&\"'!A1\",\"Go to Sheet\")),\"\")","v":""},{"$f":"IFERROR(IF(INDIRECT(\"'\"&$B432&\"'!$U$7\"),INDIRECT(\"'\"&$B432&\"'!$u$9\"),\"(\"&INDIRECT(\"'\"&$B432&\"'!$U$8\")&\")\"),\"\")","v":""},{"$f":"IF(L432,\"This site has incomplete Cost and Revenue data.  \",\"\")&IF(M432,\"WFRS data for previous quarters is incomplete.  \",\"\")&IF(K432,IFERROR(INDIRECT(\"'\"&$B432&\"'!$g$9\"),\"\"),\"\")","v":""},false,{"$f":"IFERROR(INDIRECT(\"'\"&$B432&\"'!$u$7\"),FALSE)","v":false},{"$f":"IFERROR(INDIRECT(\"'\"&$B432&\"'!$u$10\"),FALSE)","v":false},{"$f":"IFERROR(INDIRECT(\"'\"&$B432&\"'!$AC$12\"),FALSE)","v":false},{"$f":"IFERROR(INDIRECT(\"'\"&$B432&\"'!$ad$12\"),FALSE)","v":false},null,{"$f":"IFERROR(INDIRECT(\"'\"&$B432&\"'!$d$10\"),\"\")","v":""},{"$f":"IFERROR(INDIRECT(\"'\"&$B432&\"'!$d$33\"),\"\")","v":""},{"$f":"IFERROR(INDIRECT(\"'\"&$B432&\"'!$j$33\")+INDIRECT(\"'\"&$B432&\"'!$k$33\"),\"\")","v":""},{"$f":"IFERROR(INDIRECT(\"'\"&$B432&\"'!$q$33\"),\"\")","v":""},{"$f":"IFERROR(INDIRECT(\"'\"&$B432&\"'!$e$33\"),\"\")","v":""},{"$f":"IFERROR(INDIRECT(\"'\"&$B432&\"'!$L$33\"),\"\")","v":""},{"$f":"IFERROR(INDIRECT(\"'\"&$B432&\"'!$g$33\")+INDIRECT(\"'\"&$B432&\"'!$h$33\")+INDIRECT(\"'\"&$B432&\"'!$i$33\"),\"\")","v":""}]
[397,{"$f":"IFERROR(IF(OR(SHEETNAME(A433)=\"HIDE\",SHEETNAME(A433)=\"Start Here\",SHEETNAME(A433)=\"Template\"),\"\",SHEETNAME(A433)),\"\")","v":""},{"$f":"IFERROR(INDIRECT(\"'\"&$B433&\"'!$d$6\"),\"\")","v":""},{"$f":"IFERROR(INDIRECT(\"'\"&$B433&\"'!$d$7\"),\"\")","v":""},{"$f":"IFERROR(INDIRECT(\"'\"&$B433&\"'!$d$8\"),\"\")","v":""},{"$f":"IFERROR(IF(OR(SHEETNAME($A433)=\"HIDE\",SHEETNAME($A433)=\"Start Here\",SHEETNAME($A433)=\"Template\"),\"\",HYPERLINK(\"#'\"&B433&\"'!A1\",\"Go to Sheet\")),\"\")","v":""},{"$f":"IFERROR(IF(INDIRECT(\"'\"&$B433&\"'!$U$7\"),INDIRECT(\"'\"&$B433&\"'!$u$9\"),\"(\"&INDIRECT(\"'\"&$B433&\"'!$U$8\")&\")\"),\"\")","v":""},{"$f":"IF(L433,\"This site has incomplete Cost and Revenue data.  \",\"\")&IF(M433,\"WFRS data for previous quarters is incomplete.  \",\"\")&IF(K433,IFERROR(INDIRECT(\"'\"&$B433&\"'!$g$9\"),\"\"),\"\")","v":""},false,{"$f":"IFERROR(INDIRECT(\"'\"&$B433&\"'!$u$7\"),FALSE)","v":false},{"$f":"IFERROR(INDIRECT(\"'\"&$B433&\"'!$u$10\"),FALSE)","v":false},{"$f":"IFERROR(INDIRECT(\"'\"&$B433&\"'!$AC$12\"),FALSE)","v":false},{"$f":"IFERROR(INDIRECT(\"'\"&$B433&\"'!$ad$12\"),FALSE)","v":false},null,{"$f":"IFERROR(INDIRECT(\"'\"&$B433&\"'!$d$10\"),\"\")","v":""},{"$f":"IFERROR(INDIRECT(\"'\"&$B433&\"'!$d$33\"),\"\")","v":""},{"$f":"IFERROR(INDIRECT(\"'\"&$B433&\"'!$j$33\")+INDIRECT(\"'\"&$B433&\"'!$k$33\"),\"\")","v":""},{"$f":"IFERROR(INDIRECT(\"'\"&$B433&\"'!$q$33\"),\"\")","v":""},{"$f":"IFERROR(INDIRECT(\"'\"&$B433&\"'!$e$33\"),\"\")","v":""},{"$f":"IFERROR(INDIRECT(\"'\"&$B433&\"'!$L$33\"),\"\")","v":""},{"$f":"IFERROR(INDIRECT(\"'\"&$B433&\"'!$g$33\")+INDIRECT(\"'\"&$B433&\"'!$h$33\")+INDIRECT(\"'\"&$B433&\"'!$i$33\"),\"\")","v":""}]
[398,{"$f":"IFERROR(IF(OR(SHEETNAME(A434)=\"HIDE\",SHEETNAME(A434)=\"Start Here\",SHEETNAME(A434)=\"Template\"),\"\",SHEETNAME(A434)),\"\")","v":""},{"$f":"IFERROR(INDIRECT(\"'\"&$B434&\"'!$d$6\"),\"\")","v":""},{"$f":"IFERROR(INDIRECT(\"'\"&$B434&\"'!$d$7\"),\"\")","v":""},{"$f":"IFERROR(INDIRECT(\"'\"&$B434&\"'!$d$8\"),\"\")","v":""},{"$f":"IFERROR(IF(OR(SHEETNAME($A434)=\"HIDE\",SHEETNAME($A434)=\"Start Here\",SHEETNAME($A434)=\"Template\"),\"\",HYPERLINK(\"#'\"&B434&\"'!A1\",\"Go to Sheet\")),\"\")","v":""},{"$f":"IFERROR(IF(INDIRECT(\"'\"&$B434&\"'!$U$7\"),INDIRECT(\"'\"&$B434&\"'!$u$9\"),\"(\"&INDIRECT(\"'\"&$B434&\"'!$U$8\")&\")\"),\"\")","v":""},{"$f":"IF(L434,\"This site has incomplete Cost and Revenue data.  \",\"\")&IF(M434,\"WFRS data for previous quarters is incomplete.  \",\"\")&IF(K434,IFERROR(INDIRECT(\"'\"&$B434&\"'!$g$9\"),\"\"),\"\")","v":""},false,{"$f":"IFERROR(INDIRECT(\"'\"&$B434&\"'!$u$7\"),FALSE)","v":false},{"$f":"IFERROR(INDIRECT(\"'\"&$B434&\"'!$u$10\"),FALSE)","v":false},{"$f":"IFERROR(INDIRECT(\"'\"&$B434&\"'!$AC$12\"),FALSE)","v":false},{"$f":"IFERROR(INDIRECT(\"'\"&$B434&\"'!$ad$12\"),FALSE)","v":false},null,{"$f":"IFERROR(INDIRECT(\"'\"&$B434&\"'!$d$10\"),\"\")","v":""},{"$f":"IFERROR(INDIRECT(\"'\"&$B434&\"'!$d$33\"),\"\")","v":""},{"$f":"IFERROR(INDIRECT(\"'\"&$B434&\"'!$j$33\")+INDIRECT(\"'\"&$B434&\"'!$k$33\"),\"\")","v":""},{"$f":"IFERROR(INDIRECT(\"'\"&$B434&\"'!$q$33\"),\"\")","v":""},{"$f":"IFERROR(INDIRECT(\"'\"&$B434&\"'!$e$33\"),\"\")","v":""},{"$f":"IFERROR(INDIRECT(\"'\"&$B434&\"'!$L$33\"),\"\")","v":""},{"$f":"IFERROR(INDIRECT(\"'\"&$B434&\"'!$g$33\")+INDIRECT(\"'\"&$B434&\"'!$h$33\")+INDIRECT(\"'\"&$B434&\"'!$i$33\"),\"\")","v":""}]
[399,{"$f":"IFERROR(IF(OR(SHEETNAME(A435)=\"HIDE\",SHEETNAME(A435)=\"Start Here\",SHEETNAME(A435)=\"Template\"),\"\",SHEETNAME(A435)),\"\")","v":""},{"$f":"IFERROR(INDIRECT(\"'\"&$B435&\"'!$d$6\"),\"\")","v":""},{"$f":"IFERROR(INDIRECT(\"'\"&$B435&\"'!$d$7\"),\"\")","v":""},{"$f":"IFERROR(INDIRECT(\"'\"&$B435&\"'!$d$8\"),\"\")","v":""},{"$f":"IFERROR(IF(OR(SHEETNAME($A435)=\"HIDE\",SHEETNAME($A435)=\"Start Here\",SHEETNAME($A435)=\"Template\"),\"\",HYPERLINK(\"#'\"&B435&\"'!A1\",\"Go to Sheet\")),\"\")","v":""},{"$f":"IFERROR(IF(INDIRECT(\"'\"&$B435&\"'!$U$7\"),INDIRECT(\"'\"&$B435&\"'!$u$9\"),\"(\"&INDIRECT(\"'\"&$B435&\"'!$U$8\")&\")\"),\"\")","v":""},{"$f":"IF(L435,\"This site has incomplete Cost and Revenue data.  \",\"\")&IF(M435,\"WFRS data for previous quarters is incomplete.  \",\"\")&IF(K435,IFERROR(INDIRECT(\"'\"&$B435&\"'!$g$9\"),\"\"),\"\")","v":""},false,{"$f":"IFERROR(INDIRECT(\"'\"&$B435&\"'!$u$7\"),FALSE)","v":false},{"$f":"IFERROR(INDIRECT(\"'\"&$B435&\"'!$u$10\"),FALSE)","v":false},{"$f":"IFERROR(INDIRECT(\"'\"&$B435&\"'!$AC$12\"),FALSE)","v":false},{"$f":"IFERROR(INDIRECT(\"'\"&$B435&\"'!$ad$12\"),FALSE)","v":false},null,{"$f":"IFERROR(INDIRECT(\"'\"&$B435&\"'!$d$10\"),\"\")","v":""},{"$f":"IFERROR(INDIRECT(\"'\"&$B435&\"'!$d$33\"),\"\")","v":""},{"$f":"IFERROR(INDIRECT(\"'\"&$B435&\"'!$j$33\")+INDIRECT(\"'\"&$B435&\"'!$k$33\"),\"\")","v":""},{"$f":"IFERROR(INDIRECT(\"'\"&$B435&\"'!$q$33\"),\"\")","v":""},{"$f":"IFERROR(INDIRECT(\"'\"&$B435&\"'!$e$33\"),\"\")","v":""},{"$f":"IFERROR(INDIRECT(\"'\"&$B435&\"'!$L$33\"),\"\")","v":""},{"$f":"IFERROR(INDIRECT(\"'\"&$B435&\"'!$g$33\")+INDIRECT(\"'\"&$B435&\"'!$h$33\")+INDIRECT(\"'\"&$B435&\"'!$i$33\"),\"\")","v":""}]
[400,{"$f":"IFERROR(IF(OR(SHEETNAME(A436)=\"HIDE\",SHEETNAME(A436)=\"Start Here\",SHEETNAME(A436)=\"Template\"),\"\",SHEETNAME(A436)),\"\")","v":""},{"$f":"IFERROR(INDIRECT(\"'\"&$B436&\"'!$d$6\"),\"\")","v":""},{"$f":"IFERROR(INDIRECT(\"'\"&$B436&\"'!$d$7\"),\"\")","v":""},{"$f":"IFERROR(INDIRECT(\"'\"&$B436&\"'!$d$8\"),\"\")","v":""},{"$f":"IFERROR(IF(OR(SHEETNAME($A436)=\"HIDE\",SHEETNAME($A436)=\"Start Here\",SHEETNAME($A436)=\"Template\"),\"\",HYPERLINK(\"#'\"&B436&\"'!A1\",\"Go to Sheet\")),\"\")","v":""},{"$f":"IFERROR(IF(INDIRECT(\"'\"&$B436&\"'!$U$7\"),INDIRECT(\"'\"&$B436&\"'!$u$9\"),\"(\"&INDIRECT(\"'\"&$B436&\"'!$U$8\")&\")\"),\"\")","v":""},{"$f":"IF(L436,\"This site has incomplete Cost and Revenue data.  \",\"\")&IF(M436,\"WFRS data for previous quarters is incomplete.  \",\"\")&IF(K436,IFERROR(INDIRECT(\"'\"&$B436&\"'!$g$9\"),\"\"),\"\")","v":""},false,{"$f":"IFERROR(INDIRECT(\"'\"&$B436&\"'!$u$7\"),FALSE)","v":false},{"$f":"IFERROR(INDIRECT(\"'\"&$B436&\"'!$u$10\"),FALSE)","v":false},{"$f":"IFERROR(INDIRECT(\"'\"&$B436&\"'!$AC$12\"),FALSE)","v":false},{"$f":"IFERROR(INDIRECT(\"'\"&$B436&\"'!$ad$12\"),FALSE)","v":false},null,{"$f":"IFERROR(INDIRECT(\"'\"&$B436&\"'!$d$10\"),\"\")","v":""},{"$f":"IFERROR(INDIRECT(\"'\"&$B436&\"'!$d$33\"),\"\")","v":""},{"$f":"IFERROR(INDIRECT(\"'\"&$B436&\"'!$j$33\")+INDIRECT(\"'\"&$B436&\"'!$k$33\"),\"\")","v":""},{"$f":"IFERROR(INDIRECT(\"'\"&$B436&\"'!$q$33\"),\"\")","v":""},{"$f":"IFERROR(INDIRECT(\"'\"&$B436&\"'!$e$33\"),\"\")","v":""},{"$f":"IFERROR(INDIRECT(\"'\"&$B436&\"'!$L$33\"),\"\")","v":""},{"$f":"IFERROR(INDIRECT(\"'\"&$B436&\"'!$g$33\")+INDIRECT(\"'\"&$B436&\"'!$h$33\")+INDIRECT(\"'\"&$B436&\"'!$i$33\"),\"\")","v":""}]
[401,{"$f":"IFERROR(IF(OR(SHEETNAME(A437)=\"HIDE\",SHEETNAME(A437)=\"Start Here\",SHEETNAME(A437)=\"Template\"),\"\",SHEETNAME(A437)),\"\")","v":""},{"$f":"IFERROR(INDIRECT(\"'\"&$B437&\"'!$d$6\"),\"\")","v":""},{"$f":"IFERROR(INDIRECT(\"'\"&$B437&\"'!$d$7\"),\"\")","v":""},{"$f":"IFERROR(INDIRECT(\"'\"&$B437&\"'!$d$8\"),\"\")","v":""},{"$f":"IFERROR(IF(OR(SHEETNAME($A437)=\"HIDE\",SHEETNAME($A437)=\"Start Here\",SHEETNAME($A437)=\"Template\"),\"\",HYPERLINK(\"#'\"&B437&\"'!A1\",\"Go to Sheet\")),\"\")","v":""},{"$f":"IFERROR(IF(INDIRECT(\"'\"&$B437&\"'!$U$7\"),INDIRECT(\"'\"&$B437&\"'!$u$9\"),\"(\"&INDIRECT(\"'\"&$B437&\"'!$U$8\")&\")\"),\"\")","v":""},{"$f":"IF(L437,\"This site has incomplete Cost and Revenue data.  \",\"\")&IF(M437,\"WFRS data for previous quarters is incomplete.  \",\"\")&IF(K437,IFERROR(INDIRECT(\"'\"&$B437&\"'!$g$9\"),\"\"),\"\")","v":""},false,{"$f":"IFERROR(INDIRECT(\"'\"&$B437&\"'!$u$7\"),FALSE)","v":false},{"$f":"IFERROR(INDIRECT(\"'\"&$B437&\"'!$u$10\"),FALSE)","v":false},{"$f":"IFERROR(INDIRECT(\"'\"&$B437&\"'!$AC$12\"),FALSE)","v":false},{"$f":"IFERROR(INDIRECT(\"'\"&$B437&\"'!$ad$12\"),FALSE)","v":false},null,{"$f":"IFERROR(INDIRECT(\"'\"&$B437&\"'!$d$10\"),\"\")","v":""},{"$f":"IFERROR(INDIRECT(\"'\"&$B437&\"'!$d$33\"),\"\")","v":""},{"$f":"IFERROR(INDIRECT(\"'\"&$B437&\"'!$j$33\")+INDIRECT(\"'\"&$B437&\"'!$k$33\"),\"\")","v":""},{"$f":"IFERROR(INDIRECT(\"'\"&$B437&\"'!$q$33\"),\"\")","v":""},{"$f":"IFERROR(INDIRECT(\"'\"&$B437&\"'!$e$33\"),\"\")","v":""},{"$f":"IFERROR(INDIRECT(\"'\"&$B437&\"'!$L$33\"),\"\")","v":""},{"$f":"IFERROR(INDIRECT(\"'\"&$B437&\"'!$g$33\")+INDIRECT(\"'\"&$B437&\"'!$h$33\")+INDIRECT(\"'\"&$B437&\"'!$i$33\"),\"\")","v":""}]
[402,{"$f":"IFERROR(IF(OR(SHEETNAME(A438)=\"HIDE\",SHEETNAME(A438)=\"Start Here\",SHEETNAME(A438)=\"Template\"),\"\",SHEETNAME(A438)),\"\")","v":""},{"$f":"IFERROR(INDIRECT(\"'\"&$B438&\"'!$d$6\"),\"\")","v":""},{"$f":"IFERROR(INDIRECT(\"'\"&$B438&\"'!$d$7\"),\"\")","v":""},{"$f":"IFERROR(INDIRECT(\"'\"&$B438&\"'!$d$8\"),\"\")","v":""},{"$f":"IFERROR(IF(OR(SHEETNAME($A438)=\"HIDE\",SHEETNAME($A438)=\"Start Here\",SHEETNAME($A438)=\"Template\"),\"\",HYPERLINK(\"#'\"&B438&\"'!A1\",\"Go to Sheet\")),\"\")","v":""},{"$f":"IFERROR(IF(INDIRECT(\"'\"&$B438&\"'!$U$7\"),INDIRECT(\"'\"&$B438&\"'!$u$9\"),\"(\"&INDIRECT(\"'\"&$B438&\"'!$U$8\")&\")\"),\"\")","v":""},{"$f":"IF(L438,\"This site has incomplete Cost and Revenue data.  \",\"\")&IF(M438,\"WFRS data for previous quarters is incomplete.  \",\"\")&IF(K438,IFERROR(INDIRECT(\"'\"&$B438&\"'!$g$9\"),\"\"),\"\")","v":""},false,{"$f":"IFERROR(INDIRECT(\"'\"&$B438&\"'!$u$7\"),FALSE)","v":false},{"$f":"IFERROR(INDIRECT(\"'\"&$B438&\"'!$u$10\"),FALSE)","v":false},{"$f":"IFERROR(INDIRECT(\"'\"&$B438&\"'!$AC$12\"),FALSE)","v":false},{"$f":"IFERROR(INDIRECT(\"'\"&$B438&\"'!$ad$12\"),FALSE)","v":false},null,{"$f":"IFERROR(INDIRECT(\"'\"&$B438&\"'!$d$10\"),\"\")","v":""},{"$f":"IFERROR(INDIRECT(\"'\"&$B438&\"'!$d$33\"),\"\")","v":""},{"$f":"IFERROR(INDIRECT(\"'\"&$B438&\"'!$j$33\")+INDIRECT(\"'\"&$B438&\"'!$k$33\"),\"\")","v":""},{"$f":"IFERROR(INDIRECT(\"'\"&$B438&\"'!$q$33\"),\"\")","v":""},{"$f":"IFERROR(INDIRECT(\"'\"&$B438&\"'!$e$33\"),\"\")","v":""},{"$f":"IFERROR(INDIRECT(\"'\"&$B438&\"'!$L$33\"),\"\")","v":""},{"$f":"IFERROR(INDIRECT(\"'\"&$B438&\"'!$g$33\")+INDIRECT(\"'\"&$B438&\"'!$h$33\")+INDIRECT(\"'\"&$B438&\"'!$i$33\"),\"\")","v":""}]
[403,{"$f":"IFERROR(IF(OR(SHEETNAME(A439)=\"HIDE\",SHEETNAME(A439)=\"Start Here\",SHEETNAME(A439)=\"Template\"),\"\",SHEETNAME(A439)),\"\")","v":""},{"$f":"IFERROR(INDIRECT(\"'\"&$B439&\"'!$d$6\"),\"\")","v":""},{"$f":"IFERROR(INDIRECT(\"'\"&$B439&\"'!$d$7\"),\"\")","v":""},{"$f":"IFERROR(INDIRECT(\"'\"&$B439&\"'!$d$8\"),\"\")","v":""},{"$f":"IFERROR(IF(OR(SHEETNAME($A439)=\"HIDE\",SHEETNAME($A439)=\"Start Here\",SHEETNAME($A439)=\"Template\"),\"\",HYPERLINK(\"#'\"&B439&\"'!A1\",\"Go to Sheet\")),\"\")","v":""},{"$f":"IFERROR(IF(INDIRECT(\"'\"&$B439&\"'!$U$7\"),INDIRECT(\"'\"&$B439&\"'!$u$9\"),\"(\"&INDIRECT(\"'\"&$B439&\"'!$U$8\")&\")\"),\"\")","v":""},{"$f":"IF(L439,\"This site has incomplete Cost and Revenue data.  \",\"\")&IF(M439,\"WFRS data for previous quarters is incomplete.  \",\"\")&IF(K439,IFERROR(INDIRECT(\"'\"&$B439&\"'!$g$9\"),\"\"),\"\")","v":""},false,{"$f":"IFERROR(INDIRECT(\"'\"&$B439&\"'!$u$7\"),FALSE)","v":false},{"$f":"IFERROR(INDIRECT(\"'\"&$B439&\"'!$u$10\"),FALSE)","v":false},{"$f":"IFERROR(INDIRECT(\"'\"&$B439&\"'!$AC$12\"),FALSE)","v":false},{"$f":"IFERROR(INDIRECT(\"'\"&$B439&\"'!$ad$12\"),FALSE)","v":false},null,{"$f":"IFERROR(INDIRECT(\"'\"&$B439&\"'!$d$10\"),\"\")","v":""},{"$f":"IFERROR(INDIRECT(\"'\"&$B439&\"'!$d$33\"),\"\")","v":""},{"$f":"IFERROR(INDIRECT(\"'\"&$B439&\"'!$j$33\")+INDIRECT(\"'\"&$B439&\"'!$k$33\"),\"\")","v":""},{"$f":"IFERROR(INDIRECT(\"'\"&$B439&\"'!$q$33\"),\"\")","v":""},{"$f":"IFERROR(INDIRECT(\"'\"&$B439&\"'!$e$33\"),\"\")","v":""},{"$f":"IFERROR(INDIRECT(\"'\"&$B439&\"'!$L$33\"),\"\")","v":""},{"$f":"IFERROR(INDIRECT(\"'\"&$B439&\"'!$g$33\")+INDIRECT(\"'\"&$B439&\"'!$h$33\")+INDIRECT(\"'\"&$B439&\"'!$i$33\"),\"\")","v":""}]
[404,{"$f":"IFERROR(IF(OR(SHEETNAME(A440)=\"HIDE\",SHEETNAME(A440)=\"Start Here\",SHEETNAME(A440)=\"Template\"),\"\",SHEETNAME(A440)),\"\")","v":""},{"$f":"IFERROR(INDIRECT(\"'\"&$B440&\"'!$d$6\"),\"\")","v":""},{"$f":"IFERROR(INDIRECT(\"'\"&$B440&\"'!$d$7\"),\"\")","v":""},{"$f":"IFERROR(INDIRECT(\"'\"&$B440&\"'!$d$8\"),\"\")","v":""},{"$f":"IFERROR(IF(OR(SHEETNAME($A440)=\"HIDE\",SHEETNAME($A440)=\"Start Here\",SHEETNAME($A440)=\"Template\"),\"\",HYPERLINK(\"#'\"&B440&\"'!A1\",\"Go to Sheet\")),\"\")","v":""},{"$f":"IFERROR(IF(INDIRECT(\"'\"&$B440&\"'!$U$7\"),INDIRECT(\"'\"&$B440&\"'!$u$9\"),\"(\"&INDIRECT(\"'\"&$B440&\"'!$U$8\")&\")\"),\"\")","v":""},{"$f":"IF(L440,\"This site has incomplete Cost and Revenue data.  \",\"\")&IF(M440,\"WFRS data for previous quarters is incomplete.  \",\"\")&IF(K440,IFERROR(INDIRECT(\"'\"&$B440&\"'!$g$9\"),\"\"),\"\")","v":""},false,{"$f":"IFERROR(INDIRECT(\"'\"&$B440&\"'!$u$7\"),FALSE)","v":false},{"$f":"IFERROR(INDIRECT(\"'\"&$B440&\"'!$u$10\"),FALSE)","v":false},{"$f":"IFERROR(INDIRECT(\"'\"&$B440&\"'!$AC$12\"),FALSE)","v":false},{"$f":"IFERROR(INDIRECT(\"'\"&$B440&\"'!$ad$12\"),FALSE)","v":false},null,{"$f":"IFERROR(INDIRECT(\"'\"&$B440&\"'!$d$10\"),\"\")","v":""},{"$f":"IFERROR(INDIRECT(\"'\"&$B440&\"'!$d$33\"),\"\")","v":""},{"$f":"IFERROR(INDIRECT(\"'\"&$B440&\"'!$j$33\")+INDIRECT(\"'\"&$B440&\"'!$k$33\"),\"\")","v":""},{"$f":"IFERROR(INDIRECT(\"'\"&$B440&\"'!$q$33\"),\"\")","v":""},{"$f":"IFERROR(INDIRECT(\"'\"&$B440&\"'!$e$33\"),\"\")","v":""},{"$f":"IFERROR(INDIRECT(\"'\"&$B440&\"'!$L$33\"),\"\")","v":""},{"$f":"IFERROR(INDIRECT(\"'\"&$B440&\"'!$g$33\")+INDIRECT(\"'\"&$B440&\"'!$h$33\")+INDIRECT(\"'\"&$B440&\"'!$i$33\"),\"\")","v":""}]
[405,{"$f":"IFERROR(IF(OR(SHEETNAME(A441)=\"HIDE\",SHEETNAME(A441)=\"Start Here\",SHEETNAME(A441)=\"Template\"),\"\",SHEETNAME(A441)),\"\")","v":""},{"$f":"IFERROR(INDIRECT(\"'\"&$B441&\"'!$d$6\"),\"\")","v":""},{"$f":"IFERROR(INDIRECT(\"'\"&$B441&\"'!$d$7\"),\"\")","v":""},{"$f":"IFERROR(INDIRECT(\"'\"&$B441&\"'!$d$8\"),\"\")","v":""},{"$f":"IFERROR(IF(OR(SHEETNAME($A441)=\"HIDE\",SHEETNAME($A441)=\"Start Here\",SHEETNAME($A441)=\"Template\"),\"\",HYPERLINK(\"#'\"&B441&\"'!A1\",\"Go to Sheet\")),\"\")","v":""},{"$f":"IFERROR(IF(INDIRECT(\"'\"&$B441&\"'!$U$7\"),INDIRECT(\"'\"&$B441&\"'!$u$9\"),\"(\"&INDIRECT(\"'\"&$B441&\"'!$U$8\")&\")\"),\"\")","v":""},{"$f":"IF(L441,\"This site has incomplete Cost and Revenue data.  \",\"\")&IF(M441,\"WFRS data for previous quarters is incomplete.  \",\"\")&IF(K441,IFERROR(INDIRECT(\"'\"&$B441&\"'!$g$9\"),\"\"),\"\")","v":""},false,{"$f":"IFERROR(INDIRECT(\"'\"&$B441&\"'!$u$7\"),FALSE)","v":false},{"$f":"IFERROR(INDIRECT(\"'\"&$B441&\"'!$u$10\"),FALSE)","v":false},{"$f":"IFERROR(INDIRECT(\"'\"&$B441&\"'!$AC$12\"),FALSE)","v":false},{"$f":"IFERROR(INDIRECT(\"'\"&$B441&\"'!$ad$12\"),FALSE)","v":false},null,{"$f":"IFERROR(INDIRECT(\"'\"&$B441&\"'!$d$10\"),\"\")","v":""},{"$f":"IFERROR(INDIRECT(\"'\"&$B441&\"'!$d$33\"),\"\")","v":""},{"$f":"IFERROR(INDIRECT(\"'\"&$B441&\"'!$j$33\")+INDIRECT(\"'\"&$B441&\"'!$k$33\"),\"\")","v":""},{"$f":"IFERROR(INDIRECT(\"'\"&$B441&\"'!$q$33\"),\"\")","v":""},{"$f":"IFERROR(INDIRECT(\"'\"&$B441&\"'!$e$33\"),\"\")","v":""},{"$f":"IFERROR(INDIRECT(\"'\"&$B441&\"'!$L$33\"),\"\")","v":""},{"$f":"IFERROR(INDIRECT(\"'\"&$B441&\"'!$g$33\")+INDIRECT(\"'\"&$B441&\"'!$h$33\")+INDIRECT(\"'\"&$B441&\"'!$i$33\"),\"\")","v":""}]
[406,{"$f":"IFERROR(IF(OR(SHEETNAME(A442)=\"HIDE\",SHEETNAME(A442)=\"Start Here\",SHEETNAME(A442)=\"Template\"),\"\",SHEETNAME(A442)),\"\")","v":""},{"$f":"IFERROR(INDIRECT(\"'\"&$B442&\"'!$d$6\"),\"\")","v":""},{"$f":"IFERROR(INDIRECT(\"'\"&$B442&\"'!$d$7\"),\"\")","v":""},{"$f":"IFERROR(INDIRECT(\"'\"&$B442&\"'!$d$8\"),\"\")","v":""},{"$f":"IFERROR(IF(OR(SHEETNAME($A442)=\"HIDE\",SHEETNAME($A442)=\"Start Here\",SHEETNAME($A442)=\"Template\"),\"\",HYPERLINK(\"#'\"&B442&\"'!A1\",\"Go to Sheet\")),\"\")","v":""},{"$f":"IFERROR(IF(INDIRECT(\"'\"&$B442&\"'!$U$7\"),INDIRECT(\"'\"&$B442&\"'!$u$9\"),\"(\"&INDIRECT(\"'\"&$B442&\"'!$U$8\")&\")\"),\"\")","v":""},{"$f":"IF(L442,\"This site has incomplete Cost and Revenue data.  \",\"\")&IF(M442,\"WFRS data for previous quarters is incomplete.  \",\"\")&IF(K442,IFERROR(INDIRECT(\"'\"&$B442&\"'!$g$9\"),\"\"),\"\")","v":""},false,{"$f":"IFERROR(INDIRECT(\"'\"&$B442&\"'!$u$7\"),FALSE)","v":false},{"$f":"IFERROR(INDIRECT(\"'\"&$B442&\"'!$u$10\"),FALSE)","v":false},{"$f":"IFERROR(INDIRECT(\"'\"&$B442&\"'!$AC$12\"),FALSE)","v":false},{"$f":"IFERROR(INDIRECT(\"'\"&$B442&\"'!$ad$12\"),FALSE)","v":false},null,{"$f":"IFERROR(INDIRECT(\"'\"&$B442&\"'!$d$10\"),\"\")","v":""},{"$f":"IFERROR(INDIRECT(\"'\"&$B442&\"'!$d$33\"),\"\")","v":""},{"$f":"IFERROR(INDIRECT(\"'\"&$B442&\"'!$j$33\")+INDIRECT(\"'\"&$B442&\"'!$k$33\"),\"\")","v":""},{"$f":"IFERROR(INDIRECT(\"'\"&$B442&\"'!$q$33\"),\"\")","v":""},{"$f":"IFERROR(INDIRECT(\"'\"&$B442&\"'!$e$33\"),\"\")","v":""},{"$f":"IFERROR(INDIRECT(\"'\"&$B442&\"'!$L$33\"),\"\")","v":""},{"$f":"IFERROR(INDIRECT(\"'\"&$B442&\"'!$g$33\")+INDIRECT(\"'\"&$B442&\"'!$h$33\")+INDIRECT(\"'\"&$B442&\"'!$i$33\"),\"\")","v":""}]
[407,{"$f":"IFERROR(IF(OR(SHEETNAME(A443)=\"HIDE\",SHEETNAME(A443)=\"Start Here\",SHEETNAME(A443)=\"Template\"),\"\",SHEETNAME(A443)),\"\")","v":""},{"$f":"IFERROR(INDIRECT(\"'\"&$B443&\"'!$d$6\"),\"\")","v":""},{"$f":"IFERROR(INDIRECT(\"'\"&$B443&\"'!$d$7\"),\"\")","v":""},{"$f":"IFERROR(INDIRECT(\"'\"&$B443&\"'!$d$8\"),\"\")","v":""},{"$f":"IFERROR(IF(OR(SHEETNAME($A443)=\"HIDE\",SHEETNAME($A443)=\"Start Here\",SHEETNAME($A443)=\"Template\"),\"\",HYPERLINK(\"#'\"&B443&\"'!A1\",\"Go to Sheet\")),\"\")","v":""},{"$f":"IFERROR(IF(INDIRECT(\"'\"&$B443&\"'!$U$7\"),INDIRECT(\"'\"&$B443&\"'!$u$9\"),\"(\"&INDIRECT(\"'\"&$B443&\"'!$U$8\")&\")\"),\"\")","v":""},{"$f":"IF(L443,\"This site has incomplete Cost and Revenue data.  \",\"\")&IF(M443,\"WFRS data for previous quarters is incomplete.  \",\"\")&IF(K443,IFERROR(INDIRECT(\"'\"&$B443&\"'!$g$9\"),\"\"),\"\")","v":""},false,{"$f":"IFERROR(INDIRECT(\"'\"&$B443&\"'!$u$7\"),FALSE)","v":false},{"$f":"IFERROR(INDIRECT(\"'\"&$B443&\"'!$u$10\"),FALSE)","v":false},{"$f":"IFERROR(INDIRECT(\"'\"&$B443&\"'!$AC$12\"),FALSE)","v":false},{"$f":"IFERROR(INDIRECT(\"'\"&$B443&\"'!$ad$12\"),FALSE)","v":false},null,{"$f":"IFERROR(INDIRECT(\"'\"&$B443&\"'!$d$10\"),\"\")","v":""},{"$f":"IFERROR(INDIRECT(\"'\"&$B443&\"'!$d$33\"),\"\")","v":""},{"$f":"IFERROR(INDIRECT(\"'\"&$B443&\"'!$j$33\")+INDIRECT(\"'\"&$B443&\"'!$k$33\"),\"\")","v":""},{"$f":"IFERROR(INDIRECT(\"'\"&$B443&\"'!$q$33\"),\"\")","v":""},{"$f":"IFERROR(INDIRECT(\"'\"&$B443&\"'!$e$33\"),\"\")","v":""},{"$f":"IFERROR(INDIRECT(\"'\"&$B443&\"'!$L$33\"),\"\")","v":""},{"$f":"IFERROR(INDIRECT(\"'\"&$B443&\"'!$g$33\")+INDIRECT(\"'\"&$B443&\"'!$h$33\")+INDIRECT(\"'\"&$B443&\"'!$i$33\"),\"\")","v":""}]
[408,{"$f":"IFERROR(IF(OR(SHEETNAME(A444)=\"HIDE\",SHEETNAME(A444)=\"Start Here\",SHEETNAME(A444)=\"Template\"),\"\",SHEETNAME(A444)),\"\")","v":""},{"$f":"IFERROR(INDIRECT(\"'\"&$B444&\"'!$d$6\"),\"\")","v":""},{"$f":"IFERROR(INDIRECT(\"'\"&$B444&\"'!$d$7\"),\"\")","v":""},{"$f":"IFERROR(INDIRECT(\"'\"&$B444&\"'!$d$8\"),\"\")","v":""},{"$f":"IFERROR(IF(OR(SHEETNAME($A444)=\"HIDE\",SHEETNAME($A444)=\"Start Here\",SHEETNAME($A444)=\"Template\"),\"\",HYPERLINK(\"#'\"&B444&\"'!A1\",\"Go to Sheet\")),\"\")","v":""},{"$f":"IFERROR(IF(INDIRECT(\"'\"&$B444&\"'!$U$7\"),INDIRECT(\"'\"&$B444&\"'!$u$9\"),\"(\"&INDIRECT(\"'\"&$B444&\"'!$U$8\")&\")\"),\"\")","v":""},{"$f":"IF(L444,\"This site has incomplete Cost and Revenue data.  \",\"\")&IF(M444,\"WFRS data for previous quarters is incomplete.  \",\"\")&IF(K444,IFERROR(INDIRECT(\"'\"&$B444&\"'!$g$9\"),\"\"),\"\")","v":""},false,{"$f":"IFERROR(INDIRECT(\"'\"&$B444&\"'!$u$7\"),FALSE)","v":false},{"$f":"IFERROR(INDIRECT(\"'\"&$B444&\"'!$u$10\"),FALSE)","v":false},{"$f":"IFERROR(INDIRECT(\"'\"&$B444&\"'!$AC$12\"),FALSE)","v":false},{"$f":"IFERROR(INDIRECT(\"'\"&$B444&\"'!$ad$12\"),FALSE)","v":false},null,{"$f":"IFERROR(INDIRECT(\"'\"&$B444&\"'!$d$10\"),\"\")","v":""},{"$f":"IFERROR(INDIRECT(\"'\"&$B444&\"'!$d$33\"),\"\")","v":""},{"$f":"IFERROR(INDIRECT(\"'\"&$B444&\"'!$j$33\")+INDIRECT(\"'\"&$B444&\"'!$k$33\"),\"\")","v":""},{"$f":"IFERROR(INDIRECT(\"'\"&$B444&\"'!$q$33\"),\"\")","v":""},{"$f":"IFERROR(INDIRECT(\"'\"&$B444&\"'!$e$33\"),\"\")","v":""},{"$f":"IFERROR(INDIRECT(\"'\"&$B444&\"'!$L$33\"),\"\")","v":""},{"$f":"IFERROR(INDIRECT(\"'\"&$B444&\"'!$g$33\")+INDIRECT(\"'\"&$B444&\"'!$h$33\")+INDIRECT(\"'\"&$B444&\"'!$i$33\"),\"\")","v":""}]
[409,{"$f":"IFERROR(IF(OR(SHEETNAME(A445)=\"HIDE\",SHEETNAME(A445)=\"Start Here\",SHEETNAME(A445)=\"Template\"),\"\",SHEETNAME(A445)),\"\")","v":""},{"$f":"IFERROR(INDIRECT(\"'\"&$B445&\"'!$d$6\"),\"\")","v":""},{"$f":"IFERROR(INDIRECT(\"'\"&$B445&\"'!$d$7\"),\"\")","v":""},{"$f":"IFERROR(INDIRECT(\"'\"&$B445&\"'!$d$8\"),\"\")","v":""},{"$f":"IFERROR(IF(OR(SHEETNAME($A445)=\"HIDE\",SHEETNAME($A445)=\"Start Here\",SHEETNAME($A445)=\"Template\"),\"\",HYPERLINK(\"#'\"&B445&\"'!A1\",\"Go to Sheet\")),\"\")","v":""},{"$f":"IFERROR(IF(INDIRECT(\"'\"&$B445&\"'!$U$7\"),INDIRECT(\"'\"&$B445&\"'!$u$9\"),\"(\"&INDIRECT(\"'\"&$B445&\"'!$U$8\")&\")\"),\"\")","v":""},{"$f":"IF(L445,\"This site has incomplete Cost and Revenue data.  \",\"\")&IF(M445,\"WFRS data for previous quarters is incomplete.  \",\"\")&IF(K445,IFERROR(INDIRECT(\"'\"&$B445&\"'!$g$9\"),\"\"),\"\")","v":""},false,{"$f":"IFERROR(INDIRECT(\"'\"&$B445&\"'!$u$7\"),FALSE)","v":false},{"$f":"IFERROR(INDIRECT(\"'\"&$B445&\"'!$u$10\"),FALSE)","v":false},{"$f":"IFERROR(INDIRECT(\"'\"&$B445&\"'!$AC$12\"),FALSE)","v":false},{"$f":"IFERROR(INDIRECT(\"'\"&$B445&\"'!$ad$12\"),FALSE)","v":false},null,{"$f":"IFERROR(INDIRECT(\"'\"&$B445&\"'!$d$10\"),\"\")","v":""},{"$f":"IFERROR(INDIRECT(\"'\"&$B445&\"'!$d$33\"),\"\")","v":""},{"$f":"IFERROR(INDIRECT(\"'\"&$B445&\"'!$j$33\")+INDIRECT(\"'\"&$B445&\"'!$k$33\"),\"\")","v":""},{"$f":"IFERROR(INDIRECT(\"'\"&$B445&\"'!$q$33\"),\"\")","v":""},{"$f":"IFERROR(INDIRECT(\"'\"&$B445&\"'!$e$33\"),\"\")","v":""},{"$f":"IFERROR(INDIRECT(\"'\"&$B445&\"'!$L$33\"),\"\")","v":""},{"$f":"IFERROR(INDIRECT(\"'\"&$B445&\"'!$g$33\")+INDIRECT(\"'\"&$B445&\"'!$h$33\")+INDIRECT(\"'\"&$B445&\"'!$i$33\"),\"\")","v":""}]
[410,{"$f":"IFERROR(IF(OR(SHEETNAME(A446)=\"HIDE\",SHEETNAME(A446)=\"Start Here\",SHEETNAME(A446)=\"Template\"),\"\",SHEETNAME(A446)),\"\")","v":""},{"$f":"IFERROR(INDIRECT(\"'\"&$B446&\"'!$d$6\"),\"\")","v":""},{"$f":"IFERROR(INDIRECT(\"'\"&$B446&\"'!$d$7\"),\"\")","v":""},{"$f":"IFERROR(INDIRECT(\"'\"&$B446&\"'!$d$8\"),\"\")","v":""},{"$f":"IFERROR(IF(OR(SHEETNAME($A446)=\"HIDE\",SHEETNAME($A446)=\"Start Here\",SHEETNAME($A446)=\"Template\"),\"\",HYPERLINK(\"#'\"&B446&\"'!A1\",\"Go to Sheet\")),\"\")","v":""},{"$f":"IFERROR(IF(INDIRECT(\"'\"&$B446&\"'!$U$7\"),INDIRECT(\"'\"&$B446&\"'!$u$9\"),\"(\"&INDIRECT(\"'\"&$B446&\"'!$U$8\")&\")\"),\"\")","v":""},{"$f":"IF(L446,\"This site has incomplete Cost and Revenue data.  \",\"\")&IF(M446,\"WFRS data for previous quarters is incomplete.  \",\"\")&IF(K446,IFERROR(INDIRECT(\"'\"&$B446&\"'!$g$9\"),\"\"),\"\")","v":""},false,{"$f":"IFERROR(INDIRECT(\"'\"&$B446&\"'!$u$7\"),FALSE)","v":false},{"$f":"IFERROR(INDIRECT(\"'\"&$B446&\"'!$u$10\"),FALSE)","v":false},{"$f":"IFERROR(INDIRECT(\"'\"&$B446&\"'!$AC$12\"),FALSE)","v":false},{"$f":"IFERROR(INDIRECT(\"'\"&$B446&\"'!$ad$12\"),FALSE)","v":false},null,{"$f":"IFERROR(INDIRECT(\"'\"&$B446&\"'!$d$10\"),\"\")","v":""},{"$f":"IFERROR(INDIRECT(\"'\"&$B446&\"'!$d$33\"),\"\")","v":""},{"$f":"IFERROR(INDIRECT(\"'\"&$B446&\"'!$j$33\")+INDIRECT(\"'\"&$B446&\"'!$k$33\"),\"\")","v":""},{"$f":"IFERROR(INDIRECT(\"'\"&$B446&\"'!$q$33\"),\"\")","v":""},{"$f":"IFERROR(INDIRECT(\"'\"&$B446&\"'!$e$33\"),\"\")","v":""},{"$f":"IFERROR(INDIRECT(\"'\"&$B446&\"'!$L$33\"),\"\")","v":""},{"$f":"IFERROR(INDIRECT(\"'\"&$B446&\"'!$g$33\")+INDIRECT(\"'\"&$B446&\"'!$h$33\")+INDIRECT(\"'\"&$B446&\"'!$i$33\"),\"\")","v":""}]
[411,{"$f":"IFERROR(IF(OR(SHEETNAME(A447)=\"HIDE\",SHEETNAME(A447)=\"Start Here\",SHEETNAME(A447)=\"Template\"),\"\",SHEETNAME(A447)),\"\")","v":""},{"$f":"IFERROR(INDIRECT(\"'\"&$B447&\"'!$d$6\"),\"\")","v":""},{"$f":"IFERROR(INDIRECT(\"'\"&$B447&\"'!$d$7\"),\"\")","v":""},{"$f":"IFERROR(INDIRECT(\"'\"&$B447&\"'!$d$8\"),\"\")","v":""},{"$f":"IFERROR(IF(OR(SHEETNAME($A447)=\"HIDE\",SHEETNAME($A447)=\"Start Here\",SHEETNAME($A447)=\"Template\"),\"\",HYPERLINK(\"#'\"&B447&\"'!A1\",\"Go to Sheet\")),\"\")","v":""},{"$f":"IFERROR(IF(INDIRECT(\"'\"&$B447&\"'!$U$7\"),INDIRECT(\"'\"&$B447&\"'!$u$9\"),\"(\"&INDIRECT(\"'\"&$B447&\"'!$U$8\")&\")\"),\"\")","v":""},{"$f":"IF(L447,\"This site has incomplete Cost and Revenue data.  \",\"\")&IF(M447,\"WFRS data for previous quarters is incomplete.  \",\"\")&IF(K447,IFERROR(INDIRECT(\"'\"&$B447&\"'!$g$9\"),\"\"),\"\")","v":""},false,{"$f":"IFERROR(INDIRECT(\"'\"&$B447&\"'!$u$7\"),FALSE)","v":false},{"$f":"IFERROR(INDIRECT(\"'\"&$B447&\"'!$u$10\"),FALSE)","v":false},{"$f":"IFERROR(INDIRECT(\"'\"&$B447&\"'!$AC$12\"),FALSE)","v":false},{"$f":"IFERROR(INDIRECT(\"'\"&$B447&\"'!$ad$12\"),FALSE)","v":false},null,{"$f":"IFERROR(INDIRECT(\"'\"&$B447&\"'!$d$10\"),\"\")","v":""},{"$f":"IFERROR(INDIRECT(\"'\"&$B447&\"'!$d$33\"),\"\")","v":""},{"$f":"IFERROR(INDIRECT(\"'\"&$B447&\"'!$j$33\")+INDIRECT(\"'\"&$B447&\"'!$k$33\"),\"\")","v":""},{"$f":"IFERROR(INDIRECT(\"'\"&$B447&\"'!$q$33\"),\"\")","v":""},{"$f":"IFERROR(INDIRECT(\"'\"&$B447&\"'!$e$33\"),\"\")","v":""},{"$f":"IFERROR(INDIRECT(\"'\"&$B447&\"'!$L$33\"),\"\")","v":""},{"$f":"IFERROR(INDIRECT(\"'\"&$B447&\"'!$g$33\")+INDIRECT(\"'\"&$B447&\"'!$h$33\")+INDIRECT(\"'\"&$B447&\"'!$i$33\"),\"\")","v":""}]
[412,{"$f":"IFERROR(IF(OR(SHEETNAME(A448)=\"HIDE\",SHEETNAME(A448)=\"Start Here\",SHEETNAME(A448)=\"Template\"),\"\",SHEETNAME(A448)),\"\")","v":""},{"$f":"IFERROR(INDIRECT(\"'\"&$B448&\"'!$d$6\"),\"\")","v":""},{"$f":"IFERROR(INDIRECT(\"'\"&$B448&\"'!$d$7\"),\"\")","v":""},{"$f":"IFERROR(INDIRECT(\"'\"&$B448&\"'!$d$8\"),\"\")","v":""},{"$f":"IFERROR(IF(OR(SHEETNAME($A448)=\"HIDE\",SHEETNAME($A448)=\"Start Here\",SHEETNAME($A448)=\"Template\"),\"\",HYPERLINK(\"#'\"&B448&\"'!A1\",\"Go to Sheet\")),\"\")","v":""},{"$f":"IFERROR(IF(INDIRECT(\"'\"&$B448&\"'!$U$7\"),INDIRECT(\"'\"&$B448&\"'!$u$9\"),\"(\"&INDIRECT(\"'\"&$B448&\"'!$U$8\")&\")\"),\"\")","v":""},{"$f":"IF(L448,\"This site has incomplete Cost and Revenue data.  \",\"\")&IF(M448,\"WFRS data for previous quarters is incomplete.  \",\"\")&IF(K448,IFERROR(INDIRECT(\"'\"&$B448&\"'!$g$9\"),\"\"),\"\")","v":""},false,{"$f":"IFERROR(INDIRECT(\"'\"&$B448&\"'!$u$7\"),FALSE)","v":false},{"$f":"IFERROR(INDIRECT(\"'\"&$B448&\"'!$u$10\"),FALSE)","v":false},{"$f":"IFERROR(INDIRECT(\"'\"&$B448&\"'!$AC$12\"),FALSE)","v":false},{"$f":"IFERROR(INDIRECT(\"'\"&$B448&\"'!$ad$12\"),FALSE)","v":false},null,{"$f":"IFERROR(INDIRECT(\"'\"&$B448&\"'!$d$10\"),\"\")","v":""},{"$f":"IFERROR(INDIRECT(\"'\"&$B448&\"'!$d$33\"),\"\")","v":""},{"$f":"IFERROR(INDIRECT(\"'\"&$B448&\"'!$j$33\")+INDIRECT(\"'\"&$B448&\"'!$k$33\"),\"\")","v":""},{"$f":"IFERROR(INDIRECT(\"'\"&$B448&\"'!$q$33\"),\"\")","v":""},{"$f":"IFERROR(INDIRECT(\"'\"&$B448&\"'!$e$33\"),\"\")","v":""},{"$f":"IFERROR(INDIRECT(\"'\"&$B448&\"'!$L$33\"),\"\")","v":""},{"$f":"IFERROR(INDIRECT(\"'\"&$B448&\"'!$g$33\")+INDIRECT(\"'\"&$B448&\"'!$h$33\")+INDIRECT(\"'\"&$B448&\"'!$i$33\"),\"\")","v":""}]
[413,{"$f":"IFERROR(IF(OR(SHEETNAME(A449)=\"HIDE\",SHEETNAME(A449)=\"Start Here\",SHEETNAME(A449)=\"Template\"),\"\",SHEETNAME(A449)),\"\")","v":""},{"$f":"IFERROR(INDIRECT(\"'\"&$B449&\"'!$d$6\"),\"\")","v":""},{"$f":"IFERROR(INDIRECT(\"'\"&$B449&\"'!$d$7\"),\"\")","v":""},{"$f":"IFERROR(INDIRECT(\"'\"&$B449&\"'!$d$8\"),\"\")","v":""},{"$f":"IFERROR(IF(OR(SHEETNAME($A449)=\"HIDE\",SHEETNAME($A449)=\"Start Here\",SHEETNAME($A449)=\"Template\"),\"\",HYPERLINK(\"#'\"&B449&\"'!A1\",\"Go to Sheet\")),\"\")","v":""},{"$f":"IFERROR(IF(INDIRECT(\"'\"&$B449&\"'!$U$7\"),INDIRECT(\"'\"&$B449&\"'!$u$9\"),\"(\"&INDIRECT(\"'\"&$B449&\"'!$U$8\")&\")\"),\"\")","v":""},{"$f":"IF(L449,\"This site has incomplete Cost and Revenue data.  \",\"\")&IF(M449,\"WFRS data for previous quarters is incomplete.  \",\"\")&IF(K449,IFERROR(INDIRECT(\"'\"&$B449&\"'!$g$9\"),\"\"),\"\")","v":""},false,{"$f":"IFERROR(INDIRECT(\"'\"&$B449&\"'!$u$7\"),FALSE)","v":false},{"$f":"IFERROR(INDIRECT(\"'\"&$B449&\"'!$u$10\"),FALSE)","v":false},{"$f":"IFERROR(INDIRECT(\"'\"&$B449&\"'!$AC$12\"),FALSE)","v":false},{"$f":"IFERROR(INDIRECT(\"'\"&$B449&\"'!$ad$12\"),FALSE)","v":false},null,{"$f":"IFERROR(INDIRECT(\"'\"&$B449&\"'!$d$10\"),\"\")","v":""},{"$f":"IFERROR(INDIRECT(\"'\"&$B449&\"'!$d$33\"),\"\")","v":""},{"$f":"IFERROR(INDIRECT(\"'\"&$B449&\"'!$j$33\")+INDIRECT(\"'\"&$B449&\"'!$k$33\"),\"\")","v":""},{"$f":"IFERROR(INDIRECT(\"'\"&$B449&\"'!$q$33\"),\"\")","v":""},{"$f":"IFERROR(INDIRECT(\"'\"&$B449&\"'!$e$33\"),\"\")","v":""},{"$f":"IFERROR(INDIRECT(\"'\"&$B449&\"'!$L$33\"),\"\")","v":""},{"$f":"IFERROR(INDIRECT(\"'\"&$B449&\"'!$g$33\")+INDIRECT(\"'\"&$B449&\"'!$h$33\")+INDIRECT(\"'\"&$B449&\"'!$i$33\"),\"\")","v":""}]
[414,{"$f":"IFERROR(IF(OR(SHEETNAME(A450)=\"HIDE\",SHEETNAME(A450)=\"Start Here\",SHEETNAME(A450)=\"Template\"),\"\",SHEETNAME(A450)),\"\")","v":""},{"$f":"IFERROR(INDIRECT(\"'\"&$B450&\"'!$d$6\"),\"\")","v":""},{"$f":"IFERROR(INDIRECT(\"'\"&$B450&\"'!$d$7\"),\"\")","v":""},{"$f":"IFERROR(INDIRECT(\"'\"&$B450&\"'!$d$8\"),\"\")","v":""},{"$f":"IFERROR(IF(OR(SHEETNAME($A450)=\"HIDE\",SHEETNAME($A450)=\"Start Here\",SHEETNAME($A450)=\"Template\"),\"\",HYPERLINK(\"#'\"&B450&\"'!A1\",\"Go to Sheet\")),\"\")","v":""},{"$f":"IFERROR(IF(INDIRECT(\"'\"&$B450&\"'!$U$7\"),INDIRECT(\"'\"&$B450&\"'!$u$9\"),\"(\"&INDIRECT(\"'\"&$B450&\"'!$U$8\")&\")\"),\"\")","v":""},{"$f":"IF(L450,\"This site has incomplete Cost and Revenue data.  \",\"\")&IF(M450,\"WFRS data for previous quarters is incomplete.  \",\"\")&IF(K450,IFERROR(INDIRECT(\"'\"&$B450&\"'!$g$9\"),\"\"),\"\")","v":""},false,{"$f":"IFERROR(INDIRECT(\"'\"&$B450&\"'!$u$7\"),FALSE)","v":false},{"$f":"IFERROR(INDIRECT(\"'\"&$B450&\"'!$u$10\"),FALSE)","v":false},{"$f":"IFERROR(INDIRECT(\"'\"&$B450&\"'!$AC$12\"),FALSE)","v":false},{"$f":"IFERROR(INDIRECT(\"'\"&$B450&\"'!$ad$12\"),FALSE)","v":false},null,{"$f":"IFERROR(INDIRECT(\"'\"&$B450&\"'!$d$10\"),\"\")","v":""},{"$f":"IFERROR(INDIRECT(\"'\"&$B450&\"'!$d$33\"),\"\")","v":""},{"$f":"IFERROR(INDIRECT(\"'\"&$B450&\"'!$j$33\")+INDIRECT(\"'\"&$B450&\"'!$k$33\"),\"\")","v":""},{"$f":"IFERROR(INDIRECT(\"'\"&$B450&\"'!$q$33\"),\"\")","v":""},{"$f":"IFERROR(INDIRECT(\"'\"&$B450&\"'!$e$33\"),\"\")","v":""},{"$f":"IFERROR(INDIRECT(\"'\"&$B450&\"'!$L$33\"),\"\")","v":""},{"$f":"IFERROR(INDIRECT(\"'\"&$B450&\"'!$g$33\")+INDIRECT(\"'\"&$B450&\"'!$h$33\")+INDIRECT(\"'\"&$B450&\"'!$i$33\"),\"\")","v":""}]
[415,{"$f":"IFERROR(IF(OR(SHEETNAME(A451)=\"HIDE\",SHEETNAME(A451)=\"Start Here\",SHEETNAME(A451)=\"Template\"),\"\",SHEETNAME(A451)),\"\")","v":""},{"$f":"IFERROR(INDIRECT(\"'\"&$B451&\"'!$d$6\"),\"\")","v":""},{"$f":"IFERROR(INDIRECT(\"'\"&$B451&\"'!$d$7\"),\"\")","v":""},{"$f":"IFERROR(INDIRECT(\"'\"&$B451&\"'!$d$8\"),\"\")","v":""},{"$f":"IFERROR(IF(OR(SHEETNAME($A451)=\"HIDE\",SHEETNAME($A451)=\"Start Here\",SHEETNAME($A451)=\"Template\"),\"\",HYPERLINK(\"#'\"&B451&\"'!A1\",\"Go to Sheet\")),\"\")","v":""},{"$f":"IFERROR(IF(INDIRECT(\"'\"&$B451&\"'!$U$7\"),INDIRECT(\"'\"&$B451&\"'!$u$9\"),\"(\"&INDIRECT(\"'\"&$B451&\"'!$U$8\")&\")\"),\"\")","v":""},{"$f":"IF(L451,\"This site has incomplete Cost and Revenue data.  \",\"\")&IF(M451,\"WFRS data for previous quarters is incomplete.  \",\"\")&IF(K451,IFERROR(INDIRECT(\"'\"&$B451&\"'!$g$9\"),\"\"),\"\")","v":""},false,{"$f":"IFERROR(INDIRECT(\"'\"&$B451&\"'!$u$7\"),FALSE)","v":false},{"$f":"IFERROR(INDIRECT(\"'\"&$B451&\"'!$u$10\"),FALSE)","v":false},{"$f":"IFERROR(INDIRECT(\"'\"&$B451&\"'!$AC$12\"),FALSE)","v":false},{"$f":"IFERROR(INDIRECT(\"'\"&$B451&\"'!$ad$12\"),FALSE)","v":false},null,{"$f":"IFERROR(INDIRECT(\"'\"&$B451&\"'!$d$10\"),\"\")","v":""},{"$f":"IFERROR(INDIRECT(\"'\"&$B451&\"'!$d$33\"),\"\")","v":""},{"$f":"IFERROR(INDIRECT(\"'\"&$B451&\"'!$j$33\")+INDIRECT(\"'\"&$B451&\"'!$k$33\"),\"\")","v":""},{"$f":"IFERROR(INDIRECT(\"'\"&$B451&\"'!$q$33\"),\"\")","v":""},{"$f":"IFERROR(INDIRECT(\"'\"&$B451&\"'!$e$33\"),\"\")","v":""},{"$f":"IFERROR(INDIRECT(\"'\"&$B451&\"'!$L$33\"),\"\")","v":""},{"$f":"IFERROR(INDIRECT(\"'\"&$B451&\"'!$g$33\")+INDIRECT(\"'\"&$B451&\"'!$h$33\")+INDIRECT(\"'\"&$B451&\"'!$i$33\"),\"\")","v":""}]
[416,{"$f":"IFERROR(IF(OR(SHEETNAME(A452)=\"HIDE\",SHEETNAME(A452)=\"Start Here\",SHEETNAME(A452)=\"Template\"),\"\",SHEETNAME(A452)),\"\")","v":""},{"$f":"IFERROR(INDIRECT(\"'\"&$B452&\"'!$d$6\"),\"\")","v":""},{"$f":"IFERROR(INDIRECT(\"'\"&$B452&\"'!$d$7\"),\"\")","v":""},{"$f":"IFERROR(INDIRECT(\"'\"&$B452&\"'!$d$8\"),\"\")","v":""},{"$f":"IFERROR(IF(OR(SHEETNAME($A452)=\"HIDE\",SHEETNAME($A452)=\"Start Here\",SHEETNAME($A452)=\"Template\"),\"\",HYPERLINK(\"#'\"&B452&\"'!A1\",\"Go to Sheet\")),\"\")","v":""},{"$f":"IFERROR(IF(INDIRECT(\"'\"&$B452&\"'!$U$7\"),INDIRECT(\"'\"&$B452&\"'!$u$9\"),\"(\"&INDIRECT(\"'\"&$B452&\"'!$U$8\")&\")\"),\"\")","v":""},{"$f":"IF(L452,\"This site has incomplete Cost and Revenue data.  \",\"\")&IF(M452,\"WFRS data for previous quarters is incomplete.  \",\"\")&IF(K452,IFERROR(INDIRECT(\"'\"&$B452&\"'!$g$9\"),\"\"),\"\")","v":""},false,{"$f":"IFERROR(INDIRECT(\"'\"&$B452&\"'!$u$7\"),FALSE)","v":false},{"$f":"IFERROR(INDIRECT(\"'\"&$B452&\"'!$u$10\"),FALSE)","v":false},{"$f":"IFERROR(INDIRECT(\"'\"&$B452&\"'!$AC$12\"),FALSE)","v":false},{"$f":"IFERROR(INDIRECT(\"'\"&$B452&\"'!$ad$12\"),FALSE)","v":false},null,{"$f":"IFERROR(INDIRECT(\"'\"&$B452&\"'!$d$10\"),\"\")","v":""},{"$f":"IFERROR(INDIRECT(\"'\"&$B452&\"'!$d$33\"),\"\")","v":""},{"$f":"IFERROR(INDIRECT(\"'\"&$B452&\"'!$j$33\")+INDIRECT(\"'\"&$B452&\"'!$k$33\"),\"\")","v":""},{"$f":"IFERROR(INDIRECT(\"'\"&$B452&\"'!$q$33\"),\"\")","v":""},{"$f":"IFERROR(INDIRECT(\"'\"&$B452&\"'!$e$33\"),\"\")","v":""},{"$f":"IFERROR(INDIRECT(\"'\"&$B452&\"'!$L$33\"),\"\")","v":""},{"$f":"IFERROR(INDIRECT(\"'\"&$B452&\"'!$g$33\")+INDIRECT(\"'\"&$B452&\"'!$h$33\")+INDIRECT(\"'\"&$B452&\"'!$i$33\"),\"\")","v":""}]
[417,{"$f":"IFERROR(IF(OR(SHEETNAME(A453)=\"HIDE\",SHEETNAME(A453)=\"Start Here\",SHEETNAME(A453)=\"Template\"),\"\",SHEETNAME(A453)),\"\")","v":""},{"$f":"IFERROR(INDIRECT(\"'\"&$B453&\"'!$d$6\"),\"\")","v":""},{"$f":"IFERROR(INDIRECT(\"'\"&$B453&\"'!$d$7\"),\"\")","v":""},{"$f":"IFERROR(INDIRECT(\"'\"&$B453&\"'!$d$8\"),\"\")","v":""},{"$f":"IFERROR(IF(OR(SHEETNAME($A453)=\"HIDE\",SHEETNAME($A453)=\"Start Here\",SHEETNAME($A453)=\"Template\"),\"\",HYPERLINK(\"#'\"&B453&\"'!A1\",\"Go to Sheet\")),\"\")","v":""},{"$f":"IFERROR(IF(INDIRECT(\"'\"&$B453&\"'!$U$7\"),INDIRECT(\"'\"&$B453&\"'!$u$9\"),\"(\"&INDIRECT(\"'\"&$B453&\"'!$U$8\")&\")\"),\"\")","v":""},{"$f":"IF(L453,\"This site has incomplete Cost and Revenue data.  \",\"\")&IF(M453,\"WFRS data for previous quarters is incomplete.  \",\"\")&IF(K453,IFERROR(INDIRECT(\"'\"&$B453&\"'!$g$9\"),\"\"),\"\")","v":""},false,{"$f":"IFERROR(INDIRECT(\"'\"&$B453&\"'!$u$7\"),FALSE)","v":false},{"$f":"IFERROR(INDIRECT(\"'\"&$B453&\"'!$u$10\"),FALSE)","v":false},{"$f":"IFERROR(INDIRECT(\"'\"&$B453&\"'!$AC$12\"),FALSE)","v":false},{"$f":"IFERROR(INDIRECT(\"'\"&$B453&\"'!$ad$12\"),FALSE)","v":false},null,{"$f":"IFERROR(INDIRECT(\"'\"&$B453&\"'!$d$10\"),\"\")","v":""},{"$f":"IFERROR(INDIRECT(\"'\"&$B453&\"'!$d$33\"),\"\")","v":""},{"$f":"IFERROR(INDIRECT(\"'\"&$B453&\"'!$j$33\")+INDIRECT(\"'\"&$B453&\"'!$k$33\"),\"\")","v":""},{"$f":"IFERROR(INDIRECT(\"'\"&$B453&\"'!$q$33\"),\"\")","v":""},{"$f":"IFERROR(INDIRECT(\"'\"&$B453&\"'!$e$33\"),\"\")","v":""},{"$f":"IFERROR(INDIRECT(\"'\"&$B453&\"'!$L$33\"),\"\")","v":""},{"$f":"IFERROR(INDIRECT(\"'\"&$B453&\"'!$g$33\")+INDIRECT(\"'\"&$B453&\"'!$h$33\")+INDIRECT(\"'\"&$B453&\"'!$i$33\"),\"\")","v":""}]
[418,{"$f":"IFERROR(IF(OR(SHEETNAME(A454)=\"HIDE\",SHEETNAME(A454)=\"Start Here\",SHEETNAME(A454)=\"Template\"),\"\",SHEETNAME(A454)),\"\")","v":""},{"$f":"IFERROR(INDIRECT(\"'\"&$B454&\"'!$d$6\"),\"\")","v":""},{"$f":"IFERROR(INDIRECT(\"'\"&$B454&\"'!$d$7\"),\"\")","v":""},{"$f":"IFERROR(INDIRECT(\"'\"&$B454&\"'!$d$8\"),\"\")","v":""},{"$f":"IFERROR(IF(OR(SHEETNAME($A454)=\"HIDE\",SHEETNAME($A454)=\"Start Here\",SHEETNAME($A454)=\"Template\"),\"\",HYPERLINK(\"#'\"&B454&\"'!A1\",\"Go to Sheet\")),\"\")","v":""},{"$f":"IFERROR(IF(INDIRECT(\"'\"&$B454&\"'!$U$7\"),INDIRECT(\"'\"&$B454&\"'!$u$9\"),\"(\"&INDIRECT(\"'\"&$B454&\"'!$U$8\")&\")\"),\"\")","v":""},{"$f":"IF(L454,\"This site has incomplete Cost and Revenue data.  \",\"\")&IF(M454,\"WFRS data for previous quarters is incomplete.  \",\"\")&IF(K454,IFERROR(INDIRECT(\"'\"&$B454&\"'!$g$9\"),\"\"),\"\")","v":""},false,{"$f":"IFERROR(INDIRECT(\"'\"&$B454&\"'!$u$7\"),FALSE)","v":false},{"$f":"IFERROR(INDIRECT(\"'\"&$B454&\"'!$u$10\"),FALSE)","v":false},{"$f":"IFERROR(INDIRECT(\"'\"&$B454&\"'!$AC$12\"),FALSE)","v":false},{"$f":"IFERROR(INDIRECT(\"'\"&$B454&\"'!$ad$12\"),FALSE)","v":false},null,{"$f":"IFERROR(INDIRECT(\"'\"&$B454&\"'!$d$10\"),\"\")","v":""},{"$f":"IFERROR(INDIRECT(\"'\"&$B454&\"'!$d$33\"),\"\")","v":""},{"$f":"IFERROR(INDIRECT(\"'\"&$B454&\"'!$j$33\")+INDIRECT(\"'\"&$B454&\"'!$k$33\"),\"\")","v":""},{"$f":"IFERROR(INDIRECT(\"'\"&$B454&\"'!$q$33\"),\"\")","v":""},{"$f":"IFERROR(INDIRECT(\"'\"&$B454&\"'!$e$33\"),\"\")","v":""},{"$f":"IFERROR(INDIRECT(\"'\"&$B454&\"'!$L$33\"),\"\")","v":""},{"$f":"IFERROR(INDIRECT(\"'\"&$B454&\"'!$g$33\")+INDIRECT(\"'\"&$B454&\"'!$h$33\")+INDIRECT(\"'\"&$B454&\"'!$i$33\"),\"\")","v":""}]
[419,{"$f":"IFERROR(IF(OR(SHEETNAME(A455)=\"HIDE\",SHEETNAME(A455)=\"Start Here\",SHEETNAME(A455)=\"Template\"),\"\",SHEETNAME(A455)),\"\")","v":""},{"$f":"IFERROR(INDIRECT(\"'\"&$B455&\"'!$d$6\"),\"\")","v":""},{"$f":"IFERROR(INDIRECT(\"'\"&$B455&\"'!$d$7\"),\"\")","v":""},{"$f":"IFERROR(INDIRECT(\"'\"&$B455&\"'!$d$8\"),\"\")","v":""},{"$f":"IFERROR(IF(OR(SHEETNAME($A455)=\"HIDE\",SHEETNAME($A455)=\"Start Here\",SHEETNAME($A455)=\"Template\"),\"\",HYPERLINK(\"#'\"&B455&\"'!A1\",\"Go to Sheet\")),\"\")","v":""},{"$f":"IFERROR(IF(INDIRECT(\"'\"&$B455&\"'!$U$7\"),INDIRECT(\"'\"&$B455&\"'!$u$9\"),\"(\"&INDIRECT(\"'\"&$B455&\"'!$U$8\")&\")\"),\"\")","v":""},{"$f":"IF(L455,\"This site has incomplete Cost and Revenue data.  \",\"\")&IF(M455,\"WFRS data for previous quarters is incomplete.  \",\"\")&IF(K455,IFERROR(INDIRECT(\"'\"&$B455&\"'!$g$9\"),\"\"),\"\")","v":""},false,{"$f":"IFERROR(INDIRECT(\"'\"&$B455&\"'!$u$7\"),FALSE)","v":false},{"$f":"IFERROR(INDIRECT(\"'\"&$B455&\"'!$u$10\"),FALSE)","v":false},{"$f":"IFERROR(INDIRECT(\"'\"&$B455&\"'!$AC$12\"),FALSE)","v":false},{"$f":"IFERROR(INDIRECT(\"'\"&$B455&\"'!$ad$12\"),FALSE)","v":false},null,{"$f":"IFERROR(INDIRECT(\"'\"&$B455&\"'!$d$10\"),\"\")","v":""},{"$f":"IFERROR(INDIRECT(\"'\"&$B455&\"'!$d$33\"),\"\")","v":""},{"$f":"IFERROR(INDIRECT(\"'\"&$B455&\"'!$j$33\")+INDIRECT(\"'\"&$B455&\"'!$k$33\"),\"\")","v":""},{"$f":"IFERROR(INDIRECT(\"'\"&$B455&\"'!$q$33\"),\"\")","v":""},{"$f":"IFERROR(INDIRECT(\"'\"&$B455&\"'!$e$33\"),\"\")","v":""},{"$f":"IFERROR(INDIRECT(\"'\"&$B455&\"'!$L$33\"),\"\")","v":""},{"$f":"IFERROR(INDIRECT(\"'\"&$B455&\"'!$g$33\")+INDIRECT(\"'\"&$B455&\"'!$h$33\")+INDIRECT(\"'\"&$B455&\"'!$i$33\"),\"\")","v":""}]
[420,{"$f":"IFERROR(IF(OR(SHEETNAME(A456)=\"HIDE\",SHEETNAME(A456)=\"Start Here\",SHEETNAME(A456)=\"Template\"),\"\",SHEETNAME(A456)),\"\")","v":""},{"$f":"IFERROR(INDIRECT(\"'\"&$B456&\"'!$d$6\"),\"\")","v":""},{"$f":"IFERROR(INDIRECT(\"'\"&$B456&\"'!$d$7\"),\"\")","v":""},{"$f":"IFERROR(INDIRECT(\"'\"&$B456&\"'!$d$8\"),\"\")","v":""},{"$f":"IFERROR(IF(OR(SHEETNAME($A456)=\"HIDE\",SHEETNAME($A456)=\"Start Here\",SHEETNAME($A456)=\"Template\"),\"\",HYPERLINK(\"#'\"&B456&\"'!A1\",\"Go to Sheet\")),\"\")","v":""},{"$f":"IFERROR(IF(INDIRECT(\"'\"&$B456&\"'!$U$7\"),INDIRECT(\"'\"&$B456&\"'!$u$9\"),\"(\"&INDIRECT(\"'\"&$B456&\"'!$U$8\")&\")\"),\"\")","v":""},{"$f":"IF(L456,\"This site has incomplete Cost and Revenue data.  \",\"\")&IF(M456,\"WFRS data for previous quarters is incomplete.  \",\"\")&IF(K456,IFERROR(INDIRECT(\"'\"&$B456&\"'!$g$9\"),\"\"),\"\")","v":""},false,{"$f":"IFERROR(INDIRECT(\"'\"&$B456&\"'!$u$7\"),FALSE)","v":false},{"$f":"IFERROR(INDIRECT(\"'\"&$B456&\"'!$u$10\"),FALSE)","v":false},{"$f":"IFERROR(INDIRECT(\"'\"&$B456&\"'!$AC$12\"),FALSE)","v":false},{"$f":"IFERROR(INDIRECT(\"'\"&$B456&\"'!$ad$12\"),FALSE)","v":false},null,{"$f":"IFERROR(INDIRECT(\"'\"&$B456&\"'!$d$10\"),\"\")","v":""},{"$f":"IFERROR(INDIRECT(\"'\"&$B456&\"'!$d$33\"),\"\")","v":""},{"$f":"IFERROR(INDIRECT(\"'\"&$B456&\"'!$j$33\")+INDIRECT(\"'\"&$B456&\"'!$k$33\"),\"\")","v":""},{"$f":"IFERROR(INDIRECT(\"'\"&$B456&\"'!$q$33\"),\"\")","v":""},{"$f":"IFERROR(INDIRECT(\"'\"&$B456&\"'!$e$33\"),\"\")","v":""},{"$f":"IFERROR(INDIRECT(\"'\"&$B456&\"'!$L$33\"),\"\")","v":""},{"$f":"IFERROR(INDIRECT(\"'\"&$B456&\"'!$g$33\")+INDIRECT(\"'\"&$B456&\"'!$h$33\")+INDIRECT(\"'\"&$B456&\"'!$i$33\"),\"\")","v":""}]
[421,{"$f":"IFERROR(IF(OR(SHEETNAME(A457)=\"HIDE\",SHEETNAME(A457)=\"Start Here\",SHEETNAME(A457)=\"Template\"),\"\",SHEETNAME(A457)),\"\")","v":""},{"$f":"IFERROR(INDIRECT(\"'\"&$B457&\"'!$d$6\"),\"\")","v":""},{"$f":"IFERROR(INDIRECT(\"'\"&$B457&\"'!$d$7\"),\"\")","v":""},{"$f":"IFERROR(INDIRECT(\"'\"&$B457&\"'!$d$8\"),\"\")","v":""},{"$f":"IFERROR(IF(OR(SHEETNAME($A457)=\"HIDE\",SHEETNAME($A457)=\"Start Here\",SHEETNAME($A457)=\"Template\"),\"\",HYPERLINK(\"#'\"&B457&\"'!A1\",\"Go to Sheet\")),\"\")","v":""},{"$f":"IFERROR(IF(INDIRECT(\"'\"&$B457&\"'!$U$7\"),INDIRECT(\"'\"&$B457&\"'!$u$9\"),\"(\"&INDIRECT(\"'\"&$B457&\"'!$U$8\")&\")\"),\"\")","v":""},{"$f":"IF(L457,\"This site has incomplete Cost and Revenue data.  \",\"\")&IF(M457,\"WFRS data for previous quarters is incomplete.  \",\"\")&IF(K457,IFERROR(INDIRECT(\"'\"&$B457&\"'!$g$9\"),\"\"),\"\")","v":""},false,{"$f":"IFERROR(INDIRECT(\"'\"&$B457&\"'!$u$7\"),FALSE)","v":false},{"$f":"IFERROR(INDIRECT(\"'\"&$B457&\"'!$u$10\"),FALSE)","v":false},{"$f":"IFERROR(INDIRECT(\"'\"&$B457&\"'!$AC$12\"),FALSE)","v":false},{"$f":"IFERROR(INDIRECT(\"'\"&$B457&\"'!$ad$12\"),FALSE)","v":false},null,{"$f":"IFERROR(INDIRECT(\"'\"&$B457&\"'!$d$10\"),\"\")","v":""},{"$f":"IFERROR(INDIRECT(\"'\"&$B457&\"'!$d$33\"),\"\")","v":""},{"$f":"IFERROR(INDIRECT(\"'\"&$B457&\"'!$j$33\")+INDIRECT(\"'\"&$B457&\"'!$k$33\"),\"\")","v":""},{"$f":"IFERROR(INDIRECT(\"'\"&$B457&\"'!$q$33\"),\"\")","v":""},{"$f":"IFERROR(INDIRECT(\"'\"&$B457&\"'!$e$33\"),\"\")","v":""},{"$f":"IFERROR(INDIRECT(\"'\"&$B457&\"'!$L$33\"),\"\")","v":""},{"$f":"IFERROR(INDIRECT(\"'\"&$B457&\"'!$g$33\")+INDIRECT(\"'\"&$B457&\"'!$h$33\")+INDIRECT(\"'\"&$B457&\"'!$i$33\"),\"\")","v":""}]
[422,{"$f":"IFERROR(IF(OR(SHEETNAME(A458)=\"HIDE\",SHEETNAME(A458)=\"Start Here\",SHEETNAME(A458)=\"Template\"),\"\",SHEETNAME(A458)),\"\")","v":""},{"$f":"IFERROR(INDIRECT(\"'\"&$B458&\"'!$d$6\"),\"\")","v":""},{"$f":"IFERROR(INDIRECT(\"'\"&$B458&\"'!$d$7\"),\"\")","v":""},{"$f":"IFERROR(INDIRECT(\"'\"&$B458&\"'!$d$8\"),\"\")","v":""},{"$f":"IFERROR(IF(OR(SHEETNAME($A458)=\"HIDE\",SHEETNAME($A458)=\"Start Here\",SHEETNAME($A458)=\"Template\"),\"\",HYPERLINK(\"#'\"&B458&\"'!A1\",\"Go to Sheet\")),\"\")","v":""},{"$f":"IFERROR(IF(INDIRECT(\"'\"&$B458&\"'!$U$7\"),INDIRECT(\"'\"&$B458&\"'!$u$9\"),\"(\"&INDIRECT(\"'\"&$B458&\"'!$U$8\")&\")\"),\"\")","v":""},{"$f":"IF(L458,\"This site has incomplete Cost and Revenue data.  \",\"\")&IF(M458,\"WFRS data for previous quarters is incomplete.  \",\"\")&IF(K458,IFERROR(INDIRECT(\"'\"&$B458&\"'!$g$9\"),\"\"),\"\")","v":""},false,{"$f":"IFERROR(INDIRECT(\"'\"&$B458&\"'!$u$7\"),FALSE)","v":false},{"$f":"IFERROR(INDIRECT(\"'\"&$B458&\"'!$u$10\"),FALSE)","v":false},{"$f":"IFERROR(INDIRECT(\"'\"&$B458&\"'!$AC$12\"),FALSE)","v":false},{"$f":"IFERROR(INDIRECT(\"'\"&$B458&\"'!$ad$12\"),FALSE)","v":false},null,{"$f":"IFERROR(INDIRECT(\"'\"&$B458&\"'!$d$10\"),\"\")","v":""},{"$f":"IFERROR(INDIRECT(\"'\"&$B458&\"'!$d$33\"),\"\")","v":""},{"$f":"IFERROR(INDIRECT(\"'\"&$B458&\"'!$j$33\")+INDIRECT(\"'\"&$B458&\"'!$k$33\"),\"\")","v":""},{"$f":"IFERROR(INDIRECT(\"'\"&$B458&\"'!$q$33\"),\"\")","v":""},{"$f":"IFERROR(INDIRECT(\"'\"&$B458&\"'!$e$33\"),\"\")","v":""},{"$f":"IFERROR(INDIRECT(\"'\"&$B458&\"'!$L$33\"),\"\")","v":""},{"$f":"IFERROR(INDIRECT(\"'\"&$B458&\"'!$g$33\")+INDIRECT(\"'\"&$B458&\"'!$h$33\")+INDIRECT(\"'\"&$B458&\"'!$i$33\"),\"\")","v":""}]
[423,{"$f":"IFERROR(IF(OR(SHEETNAME(A459)=\"HIDE\",SHEETNAME(A459)=\"Start Here\",SHEETNAME(A459)=\"Template\"),\"\",SHEETNAME(A459)),\"\")","v":""},{"$f":"IFERROR(INDIRECT(\"'\"&$B459&\"'!$d$6\"),\"\")","v":""},{"$f":"IFERROR(INDIRECT(\"'\"&$B459&\"'!$d$7\"),\"\")","v":""},{"$f":"IFERROR(INDIRECT(\"'\"&$B459&\"'!$d$8\"),\"\")","v":""},{"$f":"IFERROR(IF(OR(SHEETNAME($A459)=\"HIDE\",SHEETNAME($A459)=\"Start Here\",SHEETNAME($A459)=\"Template\"),\"\",HYPERLINK(\"#'\"&B459&\"'!A1\",\"Go to Sheet\")),\"\")","v":""},{"$f":"IFERROR(IF(INDIRECT(\"'\"&$B459&\"'!$U$7\"),INDIRECT(\"'\"&$B459&\"'!$u$9\"),\"(\"&INDIRECT(\"'\"&$B459&\"'!$U$8\")&\")\"),\"\")","v":""},{"$f":"IF(L459,\"This site has incomplete Cost and Revenue data.  \",\"\")&IF(M459,\"WFRS data for previous quarters is incomplete.  \",\"\")&IF(K459,IFERROR(INDIRECT(\"'\"&$B459&\"'!$g$9\"),\"\"),\"\")","v":""},false,{"$f":"IFERROR(INDIRECT(\"'\"&$B459&\"'!$u$7\"),FALSE)","v":false},{"$f":"IFERROR(INDIRECT(\"'\"&$B459&\"'!$u$10\"),FALSE)","v":false},{"$f":"IFERROR(INDIRECT(\"'\"&$B459&\"'!$AC$12\"),FALSE)","v":false},{"$f":"IFERROR(INDIRECT(\"'\"&$B459&\"'!$ad$12\"),FALSE)","v":false},null,{"$f":"IFERROR(INDIRECT(\"'\"&$B459&\"'!$d$10\"),\"\")","v":""},{"$f":"IFERROR(INDIRECT(\"'\"&$B459&\"'!$d$33\"),\"\")","v":""},{"$f":"IFERROR(INDIRECT(\"'\"&$B459&\"'!$j$33\")+INDIRECT(\"'\"&$B459&\"'!$k$33\"),\"\")","v":""},{"$f":"IFERROR(INDIRECT(\"'\"&$B459&\"'!$q$33\"),\"\")","v":""},{"$f":"IFERROR(INDIRECT(\"'\"&$B459&\"'!$e$33\"),\"\")","v":""},{"$f":"IFERROR(INDIRECT(\"'\"&$B459&\"'!$L$33\"),\"\")","v":""},{"$f":"IFERROR(INDIRECT(\"'\"&$B459&\"'!$g$33\")+INDIRECT(\"'\"&$B459&\"'!$h$33\")+INDIRECT(\"'\"&$B459&\"'!$i$33\"),\"\")","v":""}]
[424,{"$f":"IFERROR(IF(OR(SHEETNAME(A460)=\"HIDE\",SHEETNAME(A460)=\"Start Here\",SHEETNAME(A460)=\"Template\"),\"\",SHEETNAME(A460)),\"\")","v":""},{"$f":"IFERROR(INDIRECT(\"'\"&$B460&\"'!$d$6\"),\"\")","v":""},{"$f":"IFERROR(INDIRECT(\"'\"&$B460&\"'!$d$7\"),\"\")","v":""},{"$f":"IFERROR(INDIRECT(\"'\"&$B460&\"'!$d$8\"),\"\")","v":""},{"$f":"IFERROR(IF(OR(SHEETNAME($A460)=\"HIDE\",SHEETNAME($A460)=\"Start Here\",SHEETNAME($A460)=\"Template\"),\"\",HYPERLINK(\"#'\"&B460&\"'!A1\",\"Go to Sheet\")),\"\")","v":""},{"$f":"IFERROR(IF(INDIRECT(\"'\"&$B460&\"'!$U$7\"),INDIRECT(\"'\"&$B460&\"'!$u$9\"),\"(\"&INDIRECT(\"'\"&$B460&\"'!$U$8\")&\")\"),\"\")","v":""},{"$f":"IF(L460,\"This site has incomplete Cost and Revenue data.  \",\"\")&IF(M460,\"WFRS data for previous quarters is incomplete.  \",\"\")&IF(K460,IFERROR(INDIRECT(\"'\"&$B460&\"'!$g$9\"),\"\"),\"\")","v":""},false,{"$f":"IFERROR(INDIRECT(\"'\"&$B460&\"'!$u$7\"),FALSE)","v":false},{"$f":"IFERROR(INDIRECT(\"'\"&$B460&\"'!$u$10\"),FALSE)","v":false},{"$f":"IFERROR(INDIRECT(\"'\"&$B460&\"'!$AC$12\"),FALSE)","v":false},{"$f":"IFERROR(INDIRECT(\"'\"&$B460&\"'!$ad$12\"),FALSE)","v":false},null,{"$f":"IFERROR(INDIRECT(\"'\"&$B460&\"'!$d$10\"),\"\")","v":""},{"$f":"IFERROR(INDIRECT(\"'\"&$B460&\"'!$d$33\"),\"\")","v":""},{"$f":"IFERROR(INDIRECT(\"'\"&$B460&\"'!$j$33\")+INDIRECT(\"'\"&$B460&\"'!$k$33\"),\"\")","v":""},{"$f":"IFERROR(INDIRECT(\"'\"&$B460&\"'!$q$33\"),\"\")","v":""},{"$f":"IFERROR(INDIRECT(\"'\"&$B460&\"'!$e$33\"),\"\")","v":""},{"$f":"IFERROR(INDIRECT(\"'\"&$B460&\"'!$L$33\"),\"\")","v":""},{"$f":"IFERROR(INDIRECT(\"'\"&$B460&\"'!$g$33\")+INDIRECT(\"'\"&$B460&\"'!$h$33\")+INDIRECT(\"'\"&$B460&\"'!$i$33\"),\"\")","v":""}]
[425,{"$f":"IFERROR(IF(OR(SHEETNAME(A461)=\"HIDE\",SHEETNAME(A461)=\"Start Here\",SHEETNAME(A461)=\"Template\"),\"\",SHEETNAME(A461)),\"\")","v":""},{"$f":"IFERROR(INDIRECT(\"'\"&$B461&\"'!$d$6\"),\"\")","v":""},{"$f":"IFERROR(INDIRECT(\"'\"&$B461&\"'!$d$7\"),\"\")","v":""},{"$f":"IFERROR(INDIRECT(\"'\"&$B461&\"'!$d$8\"),\"\")","v":""},{"$f":"IFERROR(IF(OR(SHEETNAME($A461)=\"HIDE\",SHEETNAME($A461)=\"Start Here\",SHEETNAME($A461)=\"Template\"),\"\",HYPERLINK(\"#'\"&B461&\"'!A1\",\"Go to Sheet\")),\"\")","v":""},{"$f":"IFERROR(IF(INDIRECT(\"'\"&$B461&\"'!$U$7\"),INDIRECT(\"'\"&$B461&\"'!$u$9\"),\"(\"&INDIRECT(\"'\"&$B461&\"'!$U$8\")&\")\"),\"\")","v":""},{"$f":"IF(L461,\"This site has incomplete Cost and Revenue data.  \",\"\")&IF(M461,\"WFRS data for previous quarters is incomplete.  \",\"\")&IF(K461,IFERROR(INDIRECT(\"'\"&$B461&\"'!$g$9\"),\"\"),\"\")","v":""},false,{"$f":"IFERROR(INDIRECT(\"'\"&$B461&\"'!$u$7\"),FALSE)","v":false},{"$f":"IFERROR(INDIRECT(\"'\"&$B461&\"'!$u$10\"),FALSE)","v":false},{"$f":"IFERROR(INDIRECT(\"'\"&$B461&\"'!$AC$12\"),FALSE)","v":false},{"$f":"IFERROR(INDIRECT(\"'\"&$B461&\"'!$ad$12\"),FALSE)","v":false},null,{"$f":"IFERROR(INDIRECT(\"'\"&$B461&\"'!$d$10\"),\"\")","v":""},{"$f":"IFERROR(INDIRECT(\"'\"&$B461&\"'!$d$33\"),\"\")","v":""},{"$f":"IFERROR(INDIRECT(\"'\"&$B461&\"'!$j$33\")+INDIRECT(\"'\"&$B461&\"'!$k$33\"),\"\")","v":""},{"$f":"IFERROR(INDIRECT(\"'\"&$B461&\"'!$q$33\"),\"\")","v":""},{"$f":"IFERROR(INDIRECT(\"'\"&$B461&\"'!$e$33\"),\"\")","v":""},{"$f":"IFERROR(INDIRECT(\"'\"&$B461&\"'!$L$33\"),\"\")","v":""},{"$f":"IFERROR(INDIRECT(\"'\"&$B461&\"'!$g$33\")+INDIRECT(\"'\"&$B461&\"'!$h$33\")+INDIRECT(\"'\"&$B461&\"'!$i$33\"),\"\")","v":""}]
[426,{"$f":"IFERROR(IF(OR(SHEETNAME(A462)=\"HIDE\",SHEETNAME(A462)=\"Start Here\",SHEETNAME(A462)=\"Template\"),\"\",SHEETNAME(A462)),\"\")","v":""},{"$f":"IFERROR(INDIRECT(\"'\"&$B462&\"'!$d$6\"),\"\")","v":""},{"$f":"IFERROR(INDIRECT(\"'\"&$B462&\"'!$d$7\"),\"\")","v":""},{"$f":"IFERROR(INDIRECT(\"'\"&$B462&\"'!$d$8\"),\"\")","v":""},{"$f":"IFERROR(IF(OR(SHEETNAME($A462)=\"HIDE\",SHEETNAME($A462)=\"Start Here\",SHEETNAME($A462)=\"Template\"),\"\",HYPERLINK(\"#'\"&B462&\"'!A1\",\"Go to Sheet\")),\"\")","v":""},{"$f":"IFERROR(IF(INDIRECT(\"'\"&$B462&\"'!$U$7\"),INDIRECT(\"'\"&$B462&\"'!$u$9\"),\"(\"&INDIRECT(\"'\"&$B462&\"'!$U$8\")&\")\"),\"\")","v":""},{"$f":"IF(L462,\"This site has incomplete Cost and Revenue data.  \",\"\")&IF(M462,\"WFRS data for previous quarters is incomplete.  \",\"\")&IF(K462,IFERROR(INDIRECT(\"'\"&$B462&\"'!$g$9\"),\"\"),\"\")","v":""},false,{"$f":"IFERROR(INDIRECT(\"'\"&$B462&\"'!$u$7\"),FALSE)","v":false},{"$f":"IFERROR(INDIRECT(\"'\"&$B462&\"'!$u$10\"),FALSE)","v":false},{"$f":"IFERROR(INDIRECT(\"'\"&$B462&\"'!$AC$12\"),FALSE)","v":false},{"$f":"IFERROR(INDIRECT(\"'\"&$B462&\"'!$ad$12\"),FALSE)","v":false},null,{"$f":"IFERROR(INDIRECT(\"'\"&$B462&\"'!$d$10\"),\"\")","v":""},{"$f":"IFERROR(INDIRECT(\"'\"&$B462&\"'!$d$33\"),\"\")","v":""},{"$f":"IFERROR(INDIRECT(\"'\"&$B462&\"'!$j$33\")+INDIRECT(\"'\"&$B462&\"'!$k$33\"),\"\")","v":""},{"$f":"IFERROR(INDIRECT(\"'\"&$B462&\"'!$q$33\"),\"\")","v":""},{"$f":"IFERROR(INDIRECT(\"'\"&$B462&\"'!$e$33\"),\"\")","v":""},{"$f":"IFERROR(INDIRECT(\"'\"&$B462&\"'!$L$33\"),\"\")","v":""},{"$f":"IFERROR(INDIRECT(\"'\"&$B462&\"'!$g$33\")+INDIRECT(\"'\"&$B462&\"'!$h$33\")+INDIRECT(\"'\"&$B462&\"'!$i$33\"),\"\")","v":""}]
[427,{"$f":"IFERROR(IF(OR(SHEETNAME(A463)=\"HIDE\",SHEETNAME(A463)=\"Start Here\",SHEETNAME(A463)=\"Template\"),\"\",SHEETNAME(A463)),\"\")","v":""},{"$f":"IFERROR(INDIRECT(\"'\"&$B463&\"'!$d$6\"),\"\")","v":""},{"$f":"IFERROR(INDIRECT(\"'\"&$B463&\"'!$d$7\"),\"\")","v":""},{"$f":"IFERROR(INDIRECT(\"'\"&$B463&\"'!$d$8\"),\"\")","v":""},{"$f":"IFERROR(IF(OR(SHEETNAME($A463)=\"HIDE\",SHEETNAME($A463)=\"Start Here\",SHEETNAME($A463)=\"Template\"),\"\",HYPERLINK(\"#'\"&B463&\"'!A1\",\"Go to Sheet\")),\"\")","v":""},{"$f":"IFERROR(IF(INDIRECT(\"'\"&$B463&\"'!$U$7\"),INDIRECT(\"'\"&$B463&\"'!$u$9\"),\"(\"&INDIRECT(\"'\"&$B463&\"'!$U$8\")&\")\"),\"\")","v":""},{"$f":"IF(L463,\"This site has incomplete Cost and Revenue data.  \",\"\")&IF(M463,\"WFRS data for previous quarters is incomplete.  \",\"\")&IF(K463,IFERROR(INDIRECT(\"'\"&$B463&\"'!$g$9\"),\"\"),\"\")","v":""},false,{"$f":"IFERROR(INDIRECT(\"'\"&$B463&\"'!$u$7\"),FALSE)","v":false},{"$f":"IFERROR(INDIRECT(\"'\"&$B463&\"'!$u$10\"),FALSE)","v":false},{"$f":"IFERROR(INDIRECT(\"'\"&$B463&\"'!$AC$12\"),FALSE)","v":false},{"$f":"IFERROR(INDIRECT(\"'\"&$B463&\"'!$ad$12\"),FALSE)","v":false},null,{"$f":"IFERROR(INDIRECT(\"'\"&$B463&\"'!$d$10\"),\"\")","v":""},{"$f":"IFERROR(INDIRECT(\"'\"&$B463&\"'!$d$33\"),\"\")","v":""},{"$f":"IFERROR(INDIRECT(\"'\"&$B463&\"'!$j$33\")+INDIRECT(\"'\"&$B463&\"'!$k$33\"),\"\")","v":""},{"$f":"IFERROR(INDIRECT(\"'\"&$B463&\"'!$q$33\"),\"\")","v":""},{"$f":"IFERROR(INDIRECT(\"'\"&$B463&\"'!$e$33\"),\"\")","v":""},{"$f":"IFERROR(INDIRECT(\"'\"&$B463&\"'!$L$33\"),\"\")","v":""},{"$f":"IFERROR(INDIRECT(\"'\"&$B463&\"'!$g$33\")+INDIRECT(\"'\"&$B463&\"'!$h$33\")+INDIRECT(\"'\"&$B463&\"'!$i$33\"),\"\")","v":""}]
[428,{"$f":"IFERROR(IF(OR(SHEETNAME(A464)=\"HIDE\",SHEETNAME(A464)=\"Start Here\",SHEETNAME(A464)=\"Template\"),\"\",SHEETNAME(A464)),\"\")","v":""},{"$f":"IFERROR(INDIRECT(\"'\"&$B464&\"'!$d$6\"),\"\")","v":""},{"$f":"IFERROR(INDIRECT(\"'\"&$B464&\"'!$d$7\"),\"\")","v":""},{"$f":"IFERROR(INDIRECT(\"'\"&$B464&\"'!$d$8\"),\"\")","v":""},{"$f":"IFERROR(IF(OR(SHEETNAME($A464)=\"HIDE\",SHEETNAME($A464)=\"Start Here\",SHEETNAME($A464)=\"Template\"),\"\",HYPERLINK(\"#'\"&B464&\"'!A1\",\"Go to Sheet\")),\"\")","v":""},{"$f":"IFERROR(IF(INDIRECT(\"'\"&$B464&\"'!$U$7\"),INDIRECT(\"'\"&$B464&\"'!$u$9\"),\"(\"&INDIRECT(\"'\"&$B464&\"'!$U$8\")&\")\"),\"\")","v":""},{"$f":"IF(L464,\"This site has incomplete Cost and Revenue data.  \",\"\")&IF(M464,\"WFRS data for previous quarters is incomplete.  \",\"\")&IF(K464,IFERROR(INDIRECT(\"'\"&$B464&\"'!$g$9\"),\"\"),\"\")","v":""},false,{"$f":"IFERROR(INDIRECT(\"'\"&$B464&\"'!$u$7\"),FALSE)","v":false},{"$f":"IFERROR(INDIRECT(\"'\"&$B464&\"'!$u$10\"),FALSE)","v":false},{"$f":"IFERROR(INDIRECT(\"'\"&$B464&\"'!$AC$12\"),FALSE)","v":false},{"$f":"IFERROR(INDIRECT(\"'\"&$B464&\"'!$ad$12\"),FALSE)","v":false},null,{"$f":"IFERROR(INDIRECT(\"'\"&$B464&\"'!$d$10\"),\"\")","v":""},{"$f":"IFERROR(INDIRECT(\"'\"&$B464&\"'!$d$33\"),\"\")","v":""},{"$f":"IFERROR(INDIRECT(\"'\"&$B464&\"'!$j$33\")+INDIRECT(\"'\"&$B464&\"'!$k$33\"),\"\")","v":""},{"$f":"IFERROR(INDIRECT(\"'\"&$B464&\"'!$q$33\"),\"\")","v":""},{"$f":"IFERROR(INDIRECT(\"'\"&$B464&\"'!$e$33\"),\"\")","v":""},{"$f":"IFERROR(INDIRECT(\"'\"&$B464&\"'!$L$33\"),\"\")","v":""},{"$f":"IFERROR(INDIRECT(\"'\"&$B464&\"'!$g$33\")+INDIRECT(\"'\"&$B464&\"'!$h$33\")+INDIRECT(\"'\"&$B464&\"'!$i$33\"),\"\")","v":""}]
[429,{"$f":"IFERROR(IF(OR(SHEETNAME(A465)=\"HIDE\",SHEETNAME(A465)=\"Start Here\",SHEETNAME(A465)=\"Template\"),\"\",SHEETNAME(A465)),\"\")","v":""},{"$f":"IFERROR(INDIRECT(\"'\"&$B465&\"'!$d$6\"),\"\")","v":""},{"$f":"IFERROR(INDIRECT(\"'\"&$B465&\"'!$d$7\"),\"\")","v":""},{"$f":"IFERROR(INDIRECT(\"'\"&$B465&\"'!$d$8\"),\"\")","v":""},{"$f":"IFERROR(IF(OR(SHEETNAME($A465)=\"HIDE\",SHEETNAME($A465)=\"Start Here\",SHEETNAME($A465)=\"Template\"),\"\",HYPERLINK(\"#'\"&B465&\"'!A1\",\"Go to Sheet\")),\"\")","v":""},{"$f":"IFERROR(IF(INDIRECT(\"'\"&$B465&\"'!$U$7\"),INDIRECT(\"'\"&$B465&\"'!$u$9\"),\"(\"&INDIRECT(\"'\"&$B465&\"'!$U$8\")&\")\"),\"\")","v":""},{"$f":"IF(L465,\"This site has incomplete Cost and Revenue data.  \",\"\")&IF(M465,\"WFRS data for previous quarters is incomplete.  \",\"\")&IF(K465,IFERROR(INDIRECT(\"'\"&$B465&\"'!$g$9\"),\"\"),\"\")","v":""},false,{"$f":"IFERROR(INDIRECT(\"'\"&$B465&\"'!$u$7\"),FALSE)","v":false},{"$f":"IFERROR(INDIRECT(\"'\"&$B465&\"'!$u$10\"),FALSE)","v":false},{"$f":"IFERROR(INDIRECT(\"'\"&$B465&\"'!$AC$12\"),FALSE)","v":false},{"$f":"IFERROR(INDIRECT(\"'\"&$B465&\"'!$ad$12\"),FALSE)","v":false},null,{"$f":"IFERROR(INDIRECT(\"'\"&$B465&\"'!$d$10\"),\"\")","v":""},{"$f":"IFERROR(INDIRECT(\"'\"&$B465&\"'!$d$33\"),\"\")","v":""},{"$f":"IFERROR(INDIRECT(\"'\"&$B465&\"'!$j$33\")+INDIRECT(\"'\"&$B465&\"'!$k$33\"),\"\")","v":""},{"$f":"IFERROR(INDIRECT(\"'\"&$B465&\"'!$q$33\"),\"\")","v":""},{"$f":"IFERROR(INDIRECT(\"'\"&$B465&\"'!$e$33\"),\"\")","v":""},{"$f":"IFERROR(INDIRECT(\"'\"&$B465&\"'!$L$33\"),\"\")","v":""},{"$f":"IFERROR(INDIRECT(\"'\"&$B465&\"'!$g$33\")+INDIRECT(\"'\"&$B465&\"'!$h$33\")+INDIRECT(\"'\"&$B465&\"'!$i$33\"),\"\")","v":""}]
[430,{"$f":"IFERROR(IF(OR(SHEETNAME(A466)=\"HIDE\",SHEETNAME(A466)=\"Start Here\",SHEETNAME(A466)=\"Template\"),\"\",SHEETNAME(A466)),\"\")","v":""},{"$f":"IFERROR(INDIRECT(\"'\"&$B466&\"'!$d$6\"),\"\")","v":""},{"$f":"IFERROR(INDIRECT(\"'\"&$B466&\"'!$d$7\"),\"\")","v":""},{"$f":"IFERROR(INDIRECT(\"'\"&$B466&\"'!$d$8\"),\"\")","v":""},{"$f":"IFERROR(IF(OR(SHEETNAME($A466)=\"HIDE\",SHEETNAME($A466)=\"Start Here\",SHEETNAME($A466)=\"Template\"),\"\",HYPERLINK(\"#'\"&B466&\"'!A1\",\"Go to Sheet\")),\"\")","v":""},{"$f":"IFERROR(IF(INDIRECT(\"'\"&$B466&\"'!$U$7\"),INDIRECT(\"'\"&$B466&\"'!$u$9\"),\"(\"&INDIRECT(\"'\"&$B466&\"'!$U$8\")&\")\"),\"\")","v":""},{"$f":"IF(L466,\"This site has incomplete Cost and Revenue data.  \",\"\")&IF(M466,\"WFRS data for previous quarters is incomplete.  \",\"\")&IF(K466,IFERROR(INDIRECT(\"'\"&$B466&\"'!$g$9\"),\"\"),\"\")","v":""},false,{"$f":"IFERROR(INDIRECT(\"'\"&$B466&\"'!$u$7\"),FALSE)","v":false},{"$f":"IFERROR(INDIRECT(\"'\"&$B466&\"'!$u$10\"),FALSE)","v":false},{"$f":"IFERROR(INDIRECT(\"'\"&$B466&\"'!$AC$12\"),FALSE)","v":false},{"$f":"IFERROR(INDIRECT(\"'\"&$B466&\"'!$ad$12\"),FALSE)","v":false},null,{"$f":"IFERROR(INDIRECT(\"'\"&$B466&\"'!$d$10\"),\"\")","v":""},{"$f":"IFERROR(INDIRECT(\"'\"&$B466&\"'!$d$33\"),\"\")","v":""},{"$f":"IFERROR(INDIRECT(\"'\"&$B466&\"'!$j$33\")+INDIRECT(\"'\"&$B466&\"'!$k$33\"),\"\")","v":""},{"$f":"IFERROR(INDIRECT(\"'\"&$B466&\"'!$q$33\"),\"\")","v":""},{"$f":"IFERROR(INDIRECT(\"'\"&$B466&\"'!$e$33\"),\"\")","v":""},{"$f":"IFERROR(INDIRECT(\"'\"&$B466&\"'!$L$33\"),\"\")","v":""},{"$f":"IFERROR(INDIRECT(\"'\"&$B466&\"'!$g$33\")+INDIRECT(\"'\"&$B466&\"'!$h$33\")+INDIRECT(\"'\"&$B466&\"'!$i$33\"),\"\")","v":""}]
[431,{"$f":"IFERROR(IF(OR(SHEETNAME(A467)=\"HIDE\",SHEETNAME(A467)=\"Start Here\",SHEETNAME(A467)=\"Template\"),\"\",SHEETNAME(A467)),\"\")","v":""},{"$f":"IFERROR(INDIRECT(\"'\"&$B467&\"'!$d$6\"),\"\")","v":""},{"$f":"IFERROR(INDIRECT(\"'\"&$B467&\"'!$d$7\"),\"\")","v":""},{"$f":"IFERROR(INDIRECT(\"'\"&$B467&\"'!$d$8\"),\"\")","v":""},{"$f":"IFERROR(IF(OR(SHEETNAME($A467)=\"HIDE\",SHEETNAME($A467)=\"Start Here\",SHEETNAME($A467)=\"Template\"),\"\",HYPERLINK(\"#'\"&B467&\"'!A1\",\"Go to Sheet\")),\"\")","v":""},{"$f":"IFERROR(IF(INDIRECT(\"'\"&$B467&\"'!$U$7\"),INDIRECT(\"'\"&$B467&\"'!$u$9\"),\"(\"&INDIRECT(\"'\"&$B467&\"'!$U$8\")&\")\"),\"\")","v":""},{"$f":"IF(L467,\"This site has incomplete Cost and Revenue data.  \",\"\")&IF(M467,\"WFRS data for previous quarters is incomplete.  \",\"\")&IF(K467,IFERROR(INDIRECT(\"'\"&$B467&\"'!$g$9\"),\"\"),\"\")","v":""},false,{"$f":"IFERROR(INDIRECT(\"'\"&$B467&\"'!$u$7\"),FALSE)","v":false},{"$f":"IFERROR(INDIRECT(\"'\"&$B467&\"'!$u$10\"),FALSE)","v":false},{"$f":"IFERROR(INDIRECT(\"'\"&$B467&\"'!$AC$12\"),FALSE)","v":false},{"$f":"IFERROR(INDIRECT(\"'\"&$B467&\"'!$ad$12\"),FALSE)","v":false},null,{"$f":"IFERROR(INDIRECT(\"'\"&$B467&\"'!$d$10\"),\"\")","v":""},{"$f":"IFERROR(INDIRECT(\"'\"&$B467&\"'!$d$33\"),\"\")","v":""},{"$f":"IFERROR(INDIRECT(\"'\"&$B467&\"'!$j$33\")+INDIRECT(\"'\"&$B467&\"'!$k$33\"),\"\")","v":""},{"$f":"IFERROR(INDIRECT(\"'\"&$B467&\"'!$q$33\"),\"\")","v":""},{"$f":"IFERROR(INDIRECT(\"'\"&$B467&\"'!$e$33\"),\"\")","v":""},{"$f":"IFERROR(INDIRECT(\"'\"&$B467&\"'!$L$33\"),\"\")","v":""},{"$f":"IFERROR(INDIRECT(\"'\"&$B467&\"'!$g$33\")+INDIRECT(\"'\"&$B467&\"'!$h$33\")+INDIRECT(\"'\"&$B467&\"'!$i$33\"),\"\")","v":""}]
[432,{"$f":"IFERROR(IF(OR(SHEETNAME(A468)=\"HIDE\",SHEETNAME(A468)=\"Start Here\",SHEETNAME(A468)=\"Template\"),\"\",SHEETNAME(A468)),\"\")","v":""},{"$f":"IFERROR(INDIRECT(\"'\"&$B468&\"'!$d$6\"),\"\")","v":""},{"$f":"IFERROR(INDIRECT(\"'\"&$B468&\"'!$d$7\"),\"\")","v":""},{"$f":"IFERROR(INDIRECT(\"'\"&$B468&\"'!$d$8\"),\"\")","v":""},{"$f":"IFERROR(IF(OR(SHEETNAME($A468)=\"HIDE\",SHEETNAME($A468)=\"Start Here\",SHEETNAME($A468)=\"Template\"),\"\",HYPERLINK(\"#'\"&B468&\"'!A1\",\"Go to Sheet\")),\"\")","v":""},{"$f":"IFERROR(IF(INDIRECT(\"'\"&$B468&\"'!$U$7\"),INDIRECT(\"'\"&$B468&\"'!$u$9\"),\"(\"&INDIRECT(\"'\"&$B468&\"'!$U$8\")&\")\"),\"\")","v":""},{"$f":"IF(L468,\"This site has incomplete Cost and Revenue data.  \",\"\")&IF(M468,\"WFRS data for previous quarters is incomplete.  \",\"\")&IF(K468,IFERROR(INDIRECT(\"'\"&$B468&\"'!$g$9\"),\"\"),\"\")","v":""},false,{"$f":"IFERROR(INDIRECT(\"'\"&$B468&\"'!$u$7\"),FALSE)","v":false},{"$f":"IFERROR(INDIRECT(\"'\"&$B468&\"'!$u$10\"),FALSE)","v":false},{"$f":"IFERROR(INDIRECT(\"'\"&$B468&\"'!$AC$12\"),FALSE)","v":false},{"$f":"IFERROR(INDIRECT(\"'\"&$B468&\"'!$ad$12\"),FALSE)","v":false},null,{"$f":"IFERROR(INDIRECT(\"'\"&$B468&\"'!$d$10\"),\"\")","v":""},{"$f":"IFERROR(INDIRECT(\"'\"&$B468&\"'!$d$33\"),\"\")","v":""},{"$f":"IFERROR(INDIRECT(\"'\"&$B468&\"'!$j$33\")+INDIRECT(\"'\"&$B468&\"'!$k$33\"),\"\")","v":""},{"$f":"IFERROR(INDIRECT(\"'\"&$B468&\"'!$q$33\"),\"\")","v":""},{"$f":"IFERROR(INDIRECT(\"'\"&$B468&\"'!$e$33\"),\"\")","v":""},{"$f":"IFERROR(INDIRECT(\"'\"&$B468&\"'!$L$33\"),\"\")","v":""},{"$f":"IFERROR(INDIRECT(\"'\"&$B468&\"'!$g$33\")+INDIRECT(\"'\"&$B468&\"'!$h$33\")+INDIRECT(\"'\"&$B468&\"'!$i$33\"),\"\")","v":""}]
[433,{"$f":"IFERROR(IF(OR(SHEETNAME(A469)=\"HIDE\",SHEETNAME(A469)=\"Start Here\",SHEETNAME(A469)=\"Template\"),\"\",SHEETNAME(A469)),\"\")","v":""},{"$f":"IFERROR(INDIRECT(\"'\"&$B469&\"'!$d$6\"),\"\")","v":""},{"$f":"IFERROR(INDIRECT(\"'\"&$B469&\"'!$d$7\"),\"\")","v":""},{"$f":"IFERROR(INDIRECT(\"'\"&$B469&\"'!$d$8\"),\"\")","v":""},{"$f":"IFERROR(IF(OR(SHEETNAME($A469)=\"HIDE\",SHEETNAME($A469)=\"Start Here\",SHEETNAME($A469)=\"Template\"),\"\",HYPERLINK(\"#'\"&B469&\"'!A1\",\"Go to Sheet\")),\"\")","v":""},{"$f":"IFERROR(IF(INDIRECT(\"'\"&$B469&\"'!$U$7\"),INDIRECT(\"'\"&$B469&\"'!$u$9\"),\"(\"&INDIRECT(\"'\"&$B469&\"'!$U$8\")&\")\"),\"\")","v":""},{"$f":"IF(L469,\"This site has incomplete Cost and Revenue data.  \",\"\")&IF(M469,\"WFRS data for previous quarters is incomplete.  \",\"\")&IF(K469,IFERROR(INDIRECT(\"'\"&$B469&\"'!$g$9\"),\"\"),\"\")","v":""},false,{"$f":"IFERROR(INDIRECT(\"'\"&$B469&\"'!$u$7\"),FALSE)","v":false},{"$f":"IFERROR(INDIRECT(\"'\"&$B469&\"'!$u$10\"),FALSE)","v":false},{"$f":"IFERROR(INDIRECT(\"'\"&$B469&\"'!$AC$12\"),FALSE)","v":false},{"$f":"IFERROR(INDIRECT(\"'\"&$B469&\"'!$ad$12\"),FALSE)","v":false},null,{"$f":"IFERROR(INDIRECT(\"'\"&$B469&\"'!$d$10\"),\"\")","v":""},{"$f":"IFERROR(INDIRECT(\"'\"&$B469&\"'!$d$33\"),\"\")","v":""},{"$f":"IFERROR(INDIRECT(\"'\"&$B469&\"'!$j$33\")+INDIRECT(\"'\"&$B469&\"'!$k$33\"),\"\")","v":""},{"$f":"IFERROR(INDIRECT(\"'\"&$B469&\"'!$q$33\"),\"\")","v":""},{"$f":"IFERROR(INDIRECT(\"'\"&$B469&\"'!$e$33\"),\"\")","v":""},{"$f":"IFERROR(INDIRECT(\"'\"&$B469&\"'!$L$33\"),\"\")","v":""},{"$f":"IFERROR(INDIRECT(\"'\"&$B469&\"'!$g$33\")+INDIRECT(\"'\"&$B469&\"'!$h$33\")+INDIRECT(\"'\"&$B469&\"'!$i$33\"),\"\")","v":""}]
[434,{"$f":"IFERROR(IF(OR(SHEETNAME(A470)=\"HIDE\",SHEETNAME(A470)=\"Start Here\",SHEETNAME(A470)=\"Template\"),\"\",SHEETNAME(A470)),\"\")","v":""},{"$f":"IFERROR(INDIRECT(\"'\"&$B470&\"'!$d$6\"),\"\")","v":""},{"$f":"IFERROR(INDIRECT(\"'\"&$B470&\"'!$d$7\"),\"\")","v":""},{"$f":"IFERROR(INDIRECT(\"'\"&$B470&\"'!$d$8\"),\"\")","v":""},{"$f":"IFERROR(IF(OR(SHEETNAME($A470)=\"HIDE\",SHEETNAME($A470)=\"Start Here\",SHEETNAME($A470)=\"Template\"),\"\",HYPERLINK(\"#'\"&B470&\"'!A1\",\"Go to Sheet\")),\"\")","v":""},{"$f":"IFERROR(IF(INDIRECT(\"'\"&$B470&\"'!$U$7\"),INDIRECT(\"'\"&$B470&\"'!$u$9\"),\"(\"&INDIRECT(\"'\"&$B470&\"'!$U$8\")&\")\"),\"\")","v":""},{"$f":"IF(L470,\"This site has incomplete Cost and Revenue data.  \",\"\")&IF(M470,\"WFRS data for previous quarters is incomplete.  \",\"\")&IF(K470,IFERROR(INDIRECT(\"'\"&$B470&\"'!$g$9\"),\"\"),\"\")","v":""},false,{"$f":"IFERROR(INDIRECT(\"'\"&$B470&\"'!$u$7\"),FALSE)","v":false},{"$f":"IFERROR(INDIRECT(\"'\"&$B470&\"'!$u$10\"),FALSE)","v":false},{"$f":"IFERROR(INDIRECT(\"'\"&$B470&\"'!$AC$12\"),FALSE)","v":false},{"$f":"IFERROR(INDIRECT(\"'\"&$B470&\"'!$ad$12\"),FALSE)","v":false},null,{"$f":"IFERROR(INDIRECT(\"'\"&$B470&\"'!$d$10\"),\"\")","v":""},{"$f":"IFERROR(INDIRECT(\"'\"&$B470&\"'!$d$33\"),\"\")","v":""},{"$f":"IFERROR(INDIRECT(\"'\"&$B470&\"'!$j$33\")+INDIRECT(\"'\"&$B470&\"'!$k$33\"),\"\")","v":""},{"$f":"IFERROR(INDIRECT(\"'\"&$B470&\"'!$q$33\"),\"\")","v":""},{"$f":"IFERROR(INDIRECT(\"'\"&$B470&\"'!$e$33\"),\"\")","v":""},{"$f":"IFERROR(INDIRECT(\"'\"&$B470&\"'!$L$33\"),\"\")","v":""},{"$f":"IFERROR(INDIRECT(\"'\"&$B470&\"'!$g$33\")+INDIRECT(\"'\"&$B470&\"'!$h$33\")+INDIRECT(\"'\"&$B470&\"'!$i$33\"),\"\")","v":""}]
[435,{"$f":"IFERROR(IF(OR(SHEETNAME(A471)=\"HIDE\",SHEETNAME(A471)=\"Start Here\",SHEETNAME(A471)=\"Template\"),\"\",SHEETNAME(A471)),\"\")","v":""},{"$f":"IFERROR(INDIRECT(\"'\"&$B471&\"'!$d$6\"),\"\")","v":""},{"$f":"IFERROR(INDIRECT(\"'\"&$B471&\"'!$d$7\"),\"\")","v":""},{"$f":"IFERROR(INDIRECT(\"'\"&$B471&\"'!$d$8\"),\"\")","v":""},{"$f":"IFERROR(IF(OR(SHEETNAME($A471)=\"HIDE\",SHEETNAME($A471)=\"Start Here\",SHEETNAME($A471)=\"Template\"),\"\",HYPERLINK(\"#'\"&B471&\"'!A1\",\"Go to Sheet\")),\"\")","v":""},{"$f":"IFERROR(IF(INDIRECT(\"'\"&$B471&\"'!$U$7\"),INDIRECT(\"'\"&$B471&\"'!$u$9\"),\"(\"&INDIRECT(\"'\"&$B471&\"'!$U$8\")&\")\"),\"\")","v":""},{"$f":"IF(L471,\"This site has incomplete Cost and Revenue data.  \",\"\")&IF(M471,\"WFRS data for previous quarters is incomplete.  \",\"\")&IF(K471,IFERROR(INDIRECT(\"'\"&$B471&\"'!$g$9\"),\"\"),\"\")","v":""},false,{"$f":"IFERROR(INDIRECT(\"'\"&$B471&\"'!$u$7\"),FALSE)","v":false},{"$f":"IFERROR(INDIRECT(\"'\"&$B471&\"'!$u$10\"),FALSE)","v":false},{"$f":"IFERROR(INDIRECT(\"'\"&$B471&\"'!$AC$12\"),FALSE)","v":false},{"$f":"IFERROR(INDIRECT(\"'\"&$B471&\"'!$ad$12\"),FALSE)","v":false},null,{"$f":"IFERROR(INDIRECT(\"'\"&$B471&\"'!$d$10\"),\"\")","v":""},{"$f":"IFERROR(INDIRECT(\"'\"&$B471&\"'!$d$33\"),\"\")","v":""},{"$f":"IFERROR(INDIRECT(\"'\"&$B471&\"'!$j$33\")+INDIRECT(\"'\"&$B471&\"'!$k$33\"),\"\")","v":""},{"$f":"IFERROR(INDIRECT(\"'\"&$B471&\"'!$q$33\"),\"\")","v":""},{"$f":"IFERROR(INDIRECT(\"'\"&$B471&\"'!$e$33\"),\"\")","v":""},{"$f":"IFERROR(INDIRECT(\"'\"&$B471&\"'!$L$33\"),\"\")","v":""},{"$f":"IFERROR(INDIRECT(\"'\"&$B471&\"'!$g$33\")+INDIRECT(\"'\"&$B471&\"'!$h$33\")+INDIRECT(\"'\"&$B471&\"'!$i$33\"),\"\")","v":""}]
[436,{"$f":"IFERROR(IF(OR(SHEETNAME(A472)=\"HIDE\",SHEETNAME(A472)=\"Start Here\",SHEETNAME(A472)=\"Template\"),\"\",SHEETNAME(A472)),\"\")","v":""},{"$f":"IFERROR(INDIRECT(\"'\"&$B472&\"'!$d$6\"),\"\")","v":""},{"$f":"IFERROR(INDIRECT(\"'\"&$B472&\"'!$d$7\"),\"\")","v":""},{"$f":"IFERROR(INDIRECT(\"'\"&$B472&\"'!$d$8\"),\"\")","v":""},{"$f":"IFERROR(IF(OR(SHEETNAME($A472)=\"HIDE\",SHEETNAME($A472)=\"Start Here\",SHEETNAME($A472)=\"Template\"),\"\",HYPERLINK(\"#'\"&B472&\"'!A1\",\"Go to Sheet\")),\"\")","v":""},{"$f":"IFERROR(IF(INDIRECT(\"'\"&$B472&\"'!$U$7\"),INDIRECT(\"'\"&$B472&\"'!$u$9\"),\"(\"&INDIRECT(\"'\"&$B472&\"'!$U$8\")&\")\"),\"\")","v":""},{"$f":"IF(L472,\"This site has incomplete Cost and Revenue data.  \",\"\")&IF(M472,\"WFRS data for previous quarters is incomplete.  \",\"\")&IF(K472,IFERROR(INDIRECT(\"'\"&$B472&\"'!$g$9\"),\"\"),\"\")","v":""},false,{"$f":"IFERROR(INDIRECT(\"'\"&$B472&\"'!$u$7\"),FALSE)","v":false},{"$f":"IFERROR(INDIRECT(\"'\"&$B472&\"'!$u$10\"),FALSE)","v":false},{"$f":"IFERROR(INDIRECT(\"'\"&$B472&\"'!$AC$12\"),FALSE)","v":false},{"$f":"IFERROR(INDIRECT(\"'\"&$B472&\"'!$ad$12\"),FALSE)","v":false},null,{"$f":"IFERROR(INDIRECT(\"'\"&$B472&\"'!$d$10\"),\"\")","v":""},{"$f":"IFERROR(INDIRECT(\"'\"&$B472&\"'!$d$33\"),\"\")","v":""},{"$f":"IFERROR(INDIRECT(\"'\"&$B472&\"'!$j$33\")+INDIRECT(\"'\"&$B472&\"'!$k$33\"),\"\")","v":""},{"$f":"IFERROR(INDIRECT(\"'\"&$B472&\"'!$q$33\"),\"\")","v":""},{"$f":"IFERROR(INDIRECT(\"'\"&$B472&\"'!$e$33\"),\"\")","v":""},{"$f":"IFERROR(INDIRECT(\"'\"&$B472&\"'!$L$33\"),\"\")","v":""},{"$f":"IFERROR(INDIRECT(\"'\"&$B472&\"'!$g$33\")+INDIRECT(\"'\"&$B472&\"'!$h$33\")+INDIRECT(\"'\"&$B472&\"'!$i$33\"),\"\")","v":""}]
[437,{"$f":"IFERROR(IF(OR(SHEETNAME(A473)=\"HIDE\",SHEETNAME(A473)=\"Start Here\",SHEETNAME(A473)=\"Template\"),\"\",SHEETNAME(A473)),\"\")","v":""},{"$f":"IFERROR(INDIRECT(\"'\"&$B473&\"'!$d$6\"),\"\")","v":""},{"$f":"IFERROR(INDIRECT(\"'\"&$B473&\"'!$d$7\"),\"\")","v":""},{"$f":"IFERROR(INDIRECT(\"'\"&$B473&\"'!$d$8\"),\"\")","v":""},{"$f":"IFERROR(IF(OR(SHEETNAME($A473)=\"HIDE\",SHEETNAME($A473)=\"Start Here\",SHEETNAME($A473)=\"Template\"),\"\",HYPERLINK(\"#'\"&B473&\"'!A1\",\"Go to Sheet\")),\"\")","v":""},{"$f":"IFERROR(IF(INDIRECT(\"'\"&$B473&\"'!$U$7\"),INDIRECT(\"'\"&$B473&\"'!$u$9\"),\"(\"&INDIRECT(\"'\"&$B473&\"'!$U$8\")&\")\"),\"\")","v":""},{"$f":"IF(L473,\"This site has incomplete Cost and Revenue data.  \",\"\")&IF(M473,\"WFRS data for previous quarters is incomplete.  \",\"\")&IF(K473,IFERROR(INDIRECT(\"'\"&$B473&\"'!$g$9\"),\"\"),\"\")","v":""},false,{"$f":"IFERROR(INDIRECT(\"'\"&$B473&\"'!$u$7\"),FALSE)","v":false},{"$f":"IFERROR(INDIRECT(\"'\"&$B473&\"'!$u$10\"),FALSE)","v":false},{"$f":"IFERROR(INDIRECT(\"'\"&$B473&\"'!$AC$12\"),FALSE)","v":false},{"$f":"IFERROR(INDIRECT(\"'\"&$B473&\"'!$ad$12\"),FALSE)","v":false},null,{"$f":"IFERROR(INDIRECT(\"'\"&$B473&\"'!$d$10\"),\"\")","v":""},{"$f":"IFERROR(INDIRECT(\"'\"&$B473&\"'!$d$33\"),\"\")","v":""},{"$f":"IFERROR(INDIRECT(\"'\"&$B473&\"'!$j$33\")+INDIRECT(\"'\"&$B473&\"'!$k$33\"),\"\")","v":""},{"$f":"IFERROR(INDIRECT(\"'\"&$B473&\"'!$q$33\"),\"\")","v":""},{"$f":"IFERROR(INDIRECT(\"'\"&$B473&\"'!$e$33\"),\"\")","v":""},{"$f":"IFERROR(INDIRECT(\"'\"&$B473&\"'!$L$33\"),\"\")","v":""},{"$f":"IFERROR(INDIRECT(\"'\"&$B473&\"'!$g$33\")+INDIRECT(\"'\"&$B473&\"'!$h$33\")+INDIRECT(\"'\"&$B473&\"'!$i$33\"),\"\")","v":""}]
[438,{"$f":"IFERROR(IF(OR(SHEETNAME(A474)=\"HIDE\",SHEETNAME(A474)=\"Start Here\",SHEETNAME(A474)=\"Template\"),\"\",SHEETNAME(A474)),\"\")","v":""},{"$f":"IFERROR(INDIRECT(\"'\"&$B474&\"'!$d$6\"),\"\")","v":""},{"$f":"IFERROR(INDIRECT(\"'\"&$B474&\"'!$d$7\"),\"\")","v":""},{"$f":"IFERROR(INDIRECT(\"'\"&$B474&\"'!$d$8\"),\"\")","v":""},{"$f":"IFERROR(IF(OR(SHEETNAME($A474)=\"HIDE\",SHEETNAME($A474)=\"Start Here\",SHEETNAME($A474)=\"Template\"),\"\",HYPERLINK(\"#'\"&B474&\"'!A1\",\"Go to Sheet\")),\"\")","v":""},{"$f":"IFERROR(IF(INDIRECT(\"'\"&$B474&\"'!$U$7\"),INDIRECT(\"'\"&$B474&\"'!$u$9\"),\"(\"&INDIRECT(\"'\"&$B474&\"'!$U$8\")&\")\"),\"\")","v":""},{"$f":"IF(L474,\"This site has incomplete Cost and Revenue data.  \",\"\")&IF(M474,\"WFRS data for previous quarters is incomplete.  \",\"\")&IF(K474,IFERROR(INDIRECT(\"'\"&$B474&\"'!$g$9\"),\"\"),\"\")","v":""},false,{"$f":"IFERROR(INDIRECT(\"'\"&$B474&\"'!$u$7\"),FALSE)","v":false},{"$f":"IFERROR(INDIRECT(\"'\"&$B474&\"'!$u$10\"),FALSE)","v":false},{"$f":"IFERROR(INDIRECT(\"'\"&$B474&\"'!$AC$12\"),FALSE)","v":false},{"$f":"IFERROR(INDIRECT(\"'\"&$B474&\"'!$ad$12\"),FALSE)","v":false},null,{"$f":"IFERROR(INDIRECT(\"'\"&$B474&\"'!$d$10\"),\"\")","v":""},{"$f":"IFERROR(INDIRECT(\"'\"&$B474&\"'!$d$33\"),\"\")","v":""},{"$f":"IFERROR(INDIRECT(\"'\"&$B474&\"'!$j$33\")+INDIRECT(\"'\"&$B474&\"'!$k$33\"),\"\")","v":""},{"$f":"IFERROR(INDIRECT(\"'\"&$B474&\"'!$q$33\"),\"\")","v":""},{"$f":"IFERROR(INDIRECT(\"'\"&$B474&\"'!$e$33\"),\"\")","v":""},{"$f":"IFERROR(INDIRECT(\"'\"&$B474&\"'!$L$33\"),\"\")","v":""},{"$f":"IFERROR(INDIRECT(\"'\"&$B474&\"'!$g$33\")+INDIRECT(\"'\"&$B474&\"'!$h$33\")+INDIRECT(\"'\"&$B474&\"'!$i$33\"),\"\")","v":""}]
[439,{"$f":"IFERROR(IF(OR(SHEETNAME(A475)=\"HIDE\",SHEETNAME(A475)=\"Start Here\",SHEETNAME(A475)=\"Template\"),\"\",SHEETNAME(A475)),\"\")","v":""},{"$f":"IFERROR(INDIRECT(\"'\"&$B475&\"'!$d$6\"),\"\")","v":""},{"$f":"IFERROR(INDIRECT(\"'\"&$B475&\"'!$d$7\"),\"\")","v":""},{"$f":"IFERROR(INDIRECT(\"'\"&$B475&\"'!$d$8\"),\"\")","v":""},{"$f":"IFERROR(IF(OR(SHEETNAME($A475)=\"HIDE\",SHEETNAME($A475)=\"Start Here\",SHEETNAME($A475)=\"Template\"),\"\",HYPERLINK(\"#'\"&B475&\"'!A1\",\"Go to Sheet\")),\"\")","v":""},{"$f":"IFERROR(IF(INDIRECT(\"'\"&$B475&\"'!$U$7\"),INDIRECT(\"'\"&$B475&\"'!$u$9\"),\"(\"&INDIRECT(\"'\"&$B475&\"'!$U$8\")&\")\"),\"\")","v":""},{"$f":"IF(L475,\"This site has incomplete Cost and Revenue data.  \",\"\")&IF(M475,\"WFRS data for previous quarters is incomplete.  \",\"\")&IF(K475,IFERROR(INDIRECT(\"'\"&$B475&\"'!$g$9\"),\"\"),\"\")","v":""},false,{"$f":"IFERROR(INDIRECT(\"'\"&$B475&\"'!$u$7\"),FALSE)","v":false},{"$f":"IFERROR(INDIRECT(\"'\"&$B475&\"'!$u$10\"),FALSE)","v":false},{"$f":"IFERROR(INDIRECT(\"'\"&$B475&\"'!$AC$12\"),FALSE)","v":false},{"$f":"IFERROR(INDIRECT(\"'\"&$B475&\"'!$ad$12\"),FALSE)","v":false},null,{"$f":"IFERROR(INDIRECT(\"'\"&$B475&\"'!$d$10\"),\"\")","v":""},{"$f":"IFERROR(INDIRECT(\"'\"&$B475&\"'!$d$33\"),\"\")","v":""},{"$f":"IFERROR(INDIRECT(\"'\"&$B475&\"'!$j$33\")+INDIRECT(\"'\"&$B475&\"'!$k$33\"),\"\")","v":""},{"$f":"IFERROR(INDIRECT(\"'\"&$B475&\"'!$q$33\"),\"\")","v":""},{"$f":"IFERROR(INDIRECT(\"'\"&$B475&\"'!$e$33\"),\"\")","v":""},{"$f":"IFERROR(INDIRECT(\"'\"&$B475&\"'!$L$33\"),\"\")","v":""},{"$f":"IFERROR(INDIRECT(\"'\"&$B475&\"'!$g$33\")+INDIRECT(\"'\"&$B475&\"'!$h$33\")+INDIRECT(\"'\"&$B475&\"'!$i$33\"),\"\")","v":""}]
[440,{"$f":"IFERROR(IF(OR(SHEETNAME(A476)=\"HIDE\",SHEETNAME(A476)=\"Start Here\",SHEETNAME(A476)=\"Template\"),\"\",SHEETNAME(A476)),\"\")","v":""},{"$f":"IFERROR(INDIRECT(\"'\"&$B476&\"'!$d$6\"),\"\")","v":""},{"$f":"IFERROR(INDIRECT(\"'\"&$B476&\"'!$d$7\"),\"\")","v":""},{"$f":"IFERROR(INDIRECT(\"'\"&$B476&\"'!$d$8\"),\"\")","v":""},{"$f":"IFERROR(IF(OR(SHEETNAME($A476)=\"HIDE\",SHEETNAME($A476)=\"Start Here\",SHEETNAME($A476)=\"Template\"),\"\",HYPERLINK(\"#'\"&B476&\"'!A1\",\"Go to Sheet\")),\"\")","v":""},{"$f":"IFERROR(IF(INDIRECT(\"'\"&$B476&\"'!$U$7\"),INDIRECT(\"'\"&$B476&\"'!$u$9\"),\"(\"&INDIRECT(\"'\"&$B476&\"'!$U$8\")&\")\"),\"\")","v":""},{"$f":"IF(L476,\"This site has incomplete Cost and Revenue data.  \",\"\")&IF(M476,\"WFRS data for previous quarters is incomplete.  \",\"\")&IF(K476,IFERROR(INDIRECT(\"'\"&$B476&\"'!$g$9\"),\"\"),\"\")","v":""},false,{"$f":"IFERROR(INDIRECT(\"'\"&$B476&\"'!$u$7\"),FALSE)","v":false},{"$f":"IFERROR(INDIRECT(\"'\"&$B476&\"'!$u$10\"),FALSE)","v":false},{"$f":"IFERROR(INDIRECT(\"'\"&$B476&\"'!$AC$12\"),FALSE)","v":false},{"$f":"IFERROR(INDIRECT(\"'\"&$B476&\"'!$ad$12\"),FALSE)","v":false},null,{"$f":"IFERROR(INDIRECT(\"'\"&$B476&\"'!$d$10\"),\"\")","v":""},{"$f":"IFERROR(INDIRECT(\"'\"&$B476&\"'!$d$33\"),\"\")","v":""},{"$f":"IFERROR(INDIRECT(\"'\"&$B476&\"'!$j$33\")+INDIRECT(\"'\"&$B476&\"'!$k$33\"),\"\")","v":""},{"$f":"IFERROR(INDIRECT(\"'\"&$B476&\"'!$q$33\"),\"\")","v":""},{"$f":"IFERROR(INDIRECT(\"'\"&$B476&\"'!$e$33\"),\"\")","v":""},{"$f":"IFERROR(INDIRECT(\"'\"&$B476&\"'!$L$33\"),\"\")","v":""},{"$f":"IFERROR(INDIRECT(\"'\"&$B476&\"'!$g$33\")+INDIRECT(\"'\"&$B476&\"'!$h$33\")+INDIRECT(\"'\"&$B476&\"'!$i$33\"),\"\")","v":""}]
[441,{"$f":"IFERROR(IF(OR(SHEETNAME(A477)=\"HIDE\",SHEETNAME(A477)=\"Start Here\",SHEETNAME(A477)=\"Template\"),\"\",SHEETNAME(A477)),\"\")","v":""},{"$f":"IFERROR(INDIRECT(\"'\"&$B477&\"'!$d$6\"),\"\")","v":""},{"$f":"IFERROR(INDIRECT(\"'\"&$B477&\"'!$d$7\"),\"\")","v":""},{"$f":"IFERROR(INDIRECT(\"'\"&$B477&\"'!$d$8\"),\"\")","v":""},{"$f":"IFERROR(IF(OR(SHEETNAME($A477)=\"HIDE\",SHEETNAME($A477)=\"Start Here\",SHEETNAME($A477)=\"Template\"),\"\",HYPERLINK(\"#'\"&B477&\"'!A1\",\"Go to Sheet\")),\"\")","v":""},{"$f":"IFERROR(IF(INDIRECT(\"'\"&$B477&\"'!$U$7\"),INDIRECT(\"'\"&$B477&\"'!$u$9\"),\"(\"&INDIRECT(\"'\"&$B477&\"'!$U$8\")&\")\"),\"\")","v":""},{"$f":"IF(L477,\"This site has incomplete Cost and Revenue data.  \",\"\")&IF(M477,\"WFRS data for previous quarters is incomplete.  \",\"\")&IF(K477,IFERROR(INDIRECT(\"'\"&$B477&\"'!$g$9\"),\"\"),\"\")","v":""},false,{"$f":"IFERROR(INDIRECT(\"'\"&$B477&\"'!$u$7\"),FALSE)","v":false},{"$f":"IFERROR(INDIRECT(\"'\"&$B477&\"'!$u$10\"),FALSE)","v":false},{"$f":"IFERROR(INDIRECT(\"'\"&$B477&\"'!$AC$12\"),FALSE)","v":false},{"$f":"IFERROR(INDIRECT(\"'\"&$B477&\"'!$ad$12\"),FALSE)","v":false},null,{"$f":"IFERROR(INDIRECT(\"'\"&$B477&\"'!$d$10\"),\"\")","v":""},{"$f":"IFERROR(INDIRECT(\"'\"&$B477&\"'!$d$33\"),\"\")","v":""},{"$f":"IFERROR(INDIRECT(\"'\"&$B477&\"'!$j$33\")+INDIRECT(\"'\"&$B477&\"'!$k$33\"),\"\")","v":""},{"$f":"IFERROR(INDIRECT(\"'\"&$B477&\"'!$q$33\"),\"\")","v":""},{"$f":"IFERROR(INDIRECT(\"'\"&$B477&\"'!$e$33\"),\"\")","v":""},{"$f":"IFERROR(INDIRECT(\"'\"&$B477&\"'!$L$33\"),\"\")","v":""},{"$f":"IFERROR(INDIRECT(\"'\"&$B477&\"'!$g$33\")+INDIRECT(\"'\"&$B477&\"'!$h$33\")+INDIRECT(\"'\"&$B477&\"'!$i$33\"),\"\")","v":""}]
[442,{"$f":"IFERROR(IF(OR(SHEETNAME(A478)=\"HIDE\",SHEETNAME(A478)=\"Start Here\",SHEETNAME(A478)=\"Template\"),\"\",SHEETNAME(A478)),\"\")","v":""},{"$f":"IFERROR(INDIRECT(\"'\"&$B478&\"'!$d$6\"),\"\")","v":""},{"$f":"IFERROR(INDIRECT(\"'\"&$B478&\"'!$d$7\"),\"\")","v":""},{"$f":"IFERROR(INDIRECT(\"'\"&$B478&\"'!$d$8\"),\"\")","v":""},{"$f":"IFERROR(IF(OR(SHEETNAME($A478)=\"HIDE\",SHEETNAME($A478)=\"Start Here\",SHEETNAME($A478)=\"Template\"),\"\",HYPERLINK(\"#'\"&B478&\"'!A1\",\"Go to Sheet\")),\"\")","v":""},{"$f":"IFERROR(IF(INDIRECT(\"'\"&$B478&\"'!$U$7\"),INDIRECT(\"'\"&$B478&\"'!$u$9\"),\"(\"&INDIRECT(\"'\"&$B478&\"'!$U$8\")&\")\"),\"\")","v":""},{"$f":"IF(L478,\"This site has incomplete Cost and Revenue data.  \",\"\")&IF(M478,\"WFRS data for previous quarters is incomplete.  \",\"\")&IF(K478,IFERROR(INDIRECT(\"'\"&$B478&\"'!$g$9\"),\"\"),\"\")","v":""},false,{"$f":"IFERROR(INDIRECT(\"'\"&$B478&\"'!$u$7\"),FALSE)","v":false},{"$f":"IFERROR(INDIRECT(\"'\"&$B478&\"'!$u$10\"),FALSE)","v":false},{"$f":"IFERROR(INDIRECT(\"'\"&$B478&\"'!$AC$12\"),FALSE)","v":false},{"$f":"IFERROR(INDIRECT(\"'\"&$B478&\"'!$ad$12\"),FALSE)","v":false},null,{"$f":"IFERROR(INDIRECT(\"'\"&$B478&\"'!$d$10\"),\"\")","v":""},{"$f":"IFERROR(INDIRECT(\"'\"&$B478&\"'!$d$33\"),\"\")","v":""},{"$f":"IFERROR(INDIRECT(\"'\"&$B478&\"'!$j$33\")+INDIRECT(\"'\"&$B478&\"'!$k$33\"),\"\")","v":""},{"$f":"IFERROR(INDIRECT(\"'\"&$B478&\"'!$q$33\"),\"\")","v":""},{"$f":"IFERROR(INDIRECT(\"'\"&$B478&\"'!$e$33\"),\"\")","v":""},{"$f":"IFERROR(INDIRECT(\"'\"&$B478&\"'!$L$33\"),\"\")","v":""},{"$f":"IFERROR(INDIRECT(\"'\"&$B478&\"'!$g$33\")+INDIRECT(\"'\"&$B478&\"'!$h$33\")+INDIRECT(\"'\"&$B478&\"'!$i$33\"),\"\")","v":""}]
[443,{"$f":"IFERROR(IF(OR(SHEETNAME(A479)=\"HIDE\",SHEETNAME(A479)=\"Start Here\",SHEETNAME(A479)=\"Template\"),\"\",SHEETNAME(A479)),\"\")","v":""},{"$f":"IFERROR(INDIRECT(\"'\"&$B479&\"'!$d$6\"),\"\")","v":""},{"$f":"IFERROR(INDIRECT(\"'\"&$B479&\"'!$d$7\"),\"\")","v":""},{"$f":"IFERROR(INDIRECT(\"'\"&$B479&\"'!$d$8\"),\"\")","v":""},{"$f":"IFERROR(IF(OR(SHEETNAME($A479)=\"HIDE\",SHEETNAME($A479)=\"Start Here\",SHEETNAME($A479)=\"Template\"),\"\",HYPERLINK(\"#'\"&B479&\"'!A1\",\"Go to Sheet\")),\"\")","v":""},{"$f":"IFERROR(IF(INDIRECT(\"'\"&$B479&\"'!$U$7\"),INDIRECT(\"'\"&$B479&\"'!$u$9\"),\"(\"&INDIRECT(\"'\"&$B479&\"'!$U$8\")&\")\"),\"\")","v":""},{"$f":"IF(L479,\"This site has incomplete Cost and Revenue data.  \",\"\")&IF(M479,\"WFRS data for previous quarters is incomplete.  \",\"\")&IF(K479,IFERROR(INDIRECT(\"'\"&$B479&\"'!$g$9\"),\"\"),\"\")","v":""},false,{"$f":"IFERROR(INDIRECT(\"'\"&$B479&\"'!$u$7\"),FALSE)","v":false},{"$f":"IFERROR(INDIRECT(\"'\"&$B479&\"'!$u$10\"),FALSE)","v":false},{"$f":"IFERROR(INDIRECT(\"'\"&$B479&\"'!$AC$12\"),FALSE)","v":false},{"$f":"IFERROR(INDIRECT(\"'\"&$B479&\"'!$ad$12\"),FALSE)","v":false},null,{"$f":"IFERROR(INDIRECT(\"'\"&$B479&\"'!$d$10\"),\"\")","v":""},{"$f":"IFERROR(INDIRECT(\"'\"&$B479&\"'!$d$33\"),\"\")","v":""},{"$f":"IFERROR(INDIRECT(\"'\"&$B479&\"'!$j$33\")+INDIRECT(\"'\"&$B479&\"'!$k$33\"),\"\")","v":""},{"$f":"IFERROR(INDIRECT(\"'\"&$B479&\"'!$q$33\"),\"\")","v":""},{"$f":"IFERROR(INDIRECT(\"'\"&$B479&\"'!$e$33\"),\"\")","v":""},{"$f":"IFERROR(INDIRECT(\"'\"&$B479&\"'!$L$33\"),\"\")","v":""},{"$f":"IFERROR(INDIRECT(\"'\"&$B479&\"'!$g$33\")+INDIRECT(\"'\"&$B479&\"'!$h$33\")+INDIRECT(\"'\"&$B479&\"'!$i$33\"),\"\")","v":""}]
[444,{"$f":"IFERROR(IF(OR(SHEETNAME(A480)=\"HIDE\",SHEETNAME(A480)=\"Start Here\",SHEETNAME(A480)=\"Template\"),\"\",SHEETNAME(A480)),\"\")","v":""},{"$f":"IFERROR(INDIRECT(\"'\"&$B480&\"'!$d$6\"),\"\")","v":""},{"$f":"IFERROR(INDIRECT(\"'\"&$B480&\"'!$d$7\"),\"\")","v":""},{"$f":"IFERROR(INDIRECT(\"'\"&$B480&\"'!$d$8\"),\"\")","v":""},{"$f":"IFERROR(IF(OR(SHEETNAME($A480)=\"HIDE\",SHEETNAME($A480)=\"Start Here\",SHEETNAME($A480)=\"Template\"),\"\",HYPERLINK(\"#'\"&B480&\"'!A1\",\"Go to Sheet\")),\"\")","v":""},{"$f":"IFERROR(IF(INDIRECT(\"'\"&$B480&\"'!$U$7\"),INDIRECT(\"'\"&$B480&\"'!$u$9\"),\"(\"&INDIRECT(\"'\"&$B480&\"'!$U$8\")&\")\"),\"\")","v":""},{"$f":"IF(L480,\"This site has incomplete Cost and Revenue data.  \",\"\")&IF(M480,\"WFRS data for previous quarters is incomplete.  \",\"\")&IF(K480,IFERROR(INDIRECT(\"'\"&$B480&\"'!$g$9\"),\"\"),\"\")","v":""},false,{"$f":"IFERROR(INDIRECT(\"'\"&$B480&\"'!$u$7\"),FALSE)","v":false},{"$f":"IFERROR(INDIRECT(\"'\"&$B480&\"'!$u$10\"),FALSE)","v":false},{"$f":"IFERROR(INDIRECT(\"'\"&$B480&\"'!$AC$12\"),FALSE)","v":false},{"$f":"IFERROR(INDIRECT(\"'\"&$B480&\"'!$ad$12\"),FALSE)","v":false},null,{"$f":"IFERROR(INDIRECT(\"'\"&$B480&\"'!$d$10\"),\"\")","v":""},{"$f":"IFERROR(INDIRECT(\"'\"&$B480&\"'!$d$33\"),\"\")","v":""},{"$f":"IFERROR(INDIRECT(\"'\"&$B480&\"'!$j$33\")+INDIRECT(\"'\"&$B480&\"'!$k$33\"),\"\")","v":""},{"$f":"IFERROR(INDIRECT(\"'\"&$B480&\"'!$q$33\"),\"\")","v":""},{"$f":"IFERROR(INDIRECT(\"'\"&$B480&\"'!$e$33\"),\"\")","v":""},{"$f":"IFERROR(INDIRECT(\"'\"&$B480&\"'!$L$33\"),\"\")","v":""},{"$f":"IFERROR(INDIRECT(\"'\"&$B480&\"'!$g$33\")+INDIRECT(\"'\"&$B480&\"'!$h$33\")+INDIRECT(\"'\"&$B480&\"'!$i$33\"),\"\")","v":""}]
[445,{"$f":"IFERROR(IF(OR(SHEETNAME(A481)=\"HIDE\",SHEETNAME(A481)=\"Start Here\",SHEETNAME(A481)=\"Template\"),\"\",SHEETNAME(A481)),\"\")","v":""},{"$f":"IFERROR(INDIRECT(\"'\"&$B481&\"'!$d$6\"),\"\")","v":""},{"$f":"IFERROR(INDIRECT(\"'\"&$B481&\"'!$d$7\"),\"\")","v":""},{"$f":"IFERROR(INDIRECT(\"'\"&$B481&\"'!$d$8\"),\"\")","v":""},{"$f":"IFERROR(IF(OR(SHEETNAME($A481)=\"HIDE\",SHEETNAME($A481)=\"Start Here\",SHEETNAME($A481)=\"Template\"),\"\",HYPERLINK(\"#'\"&B481&\"'!A1\",\"Go to Sheet\")),\"\")","v":""},{"$f":"IFERROR(IF(INDIRECT(\"'\"&$B481&\"'!$U$7\"),INDIRECT(\"'\"&$B481&\"'!$u$9\"),\"(\"&INDIRECT(\"'\"&$B481&\"'!$U$8\")&\")\"),\"\")","v":""},{"$f":"IF(L481,\"This site has incomplete Cost and Revenue data.  \",\"\")&IF(M481,\"WFRS data for previous quarters is incomplete.  \",\"\")&IF(K481,IFERROR(INDIRECT(\"'\"&$B481&\"'!$g$9\"),\"\"),\"\")","v":""},false,{"$f":"IFERROR(INDIRECT(\"'\"&$B481&\"'!$u$7\"),FALSE)","v":false},{"$f":"IFERROR(INDIRECT(\"'\"&$B481&\"'!$u$10\"),FALSE)","v":false},{"$f":"IFERROR(INDIRECT(\"'\"&$B481&\"'!$AC$12\"),FALSE)","v":false},{"$f":"IFERROR(INDIRECT(\"'\"&$B481&\"'!$ad$12\"),FALSE)","v":false},null,{"$f":"IFERROR(INDIRECT(\"'\"&$B481&\"'!$d$10\"),\"\")","v":""},{"$f":"IFERROR(INDIRECT(\"'\"&$B481&\"'!$d$33\"),\"\")","v":""},{"$f":"IFERROR(INDIRECT(\"'\"&$B481&\"'!$j$33\")+INDIRECT(\"'\"&$B481&\"'!$k$33\"),\"\")","v":""},{"$f":"IFERROR(INDIRECT(\"'\"&$B481&\"'!$q$33\"),\"\")","v":""},{"$f":"IFERROR(INDIRECT(\"'\"&$B481&\"'!$e$33\"),\"\")","v":""},{"$f":"IFERROR(INDIRECT(\"'\"&$B481&\"'!$L$33\"),\"\")","v":""},{"$f":"IFERROR(INDIRECT(\"'\"&$B481&\"'!$g$33\")+INDIRECT(\"'\"&$B481&\"'!$h$33\")+INDIRECT(\"'\"&$B481&\"'!$i$33\"),\"\")","v":""}]
[446,{"$f":"IFERROR(IF(OR(SHEETNAME(A482)=\"HIDE\",SHEETNAME(A482)=\"Start Here\",SHEETNAME(A482)=\"Template\"),\"\",SHEETNAME(A482)),\"\")","v":""},{"$f":"IFERROR(INDIRECT(\"'\"&$B482&\"'!$d$6\"),\"\")","v":""},{"$f":"IFERROR(INDIRECT(\"'\"&$B482&\"'!$d$7\"),\"\")","v":""},{"$f":"IFERROR(INDIRECT(\"'\"&$B482&\"'!$d$8\"),\"\")","v":""},{"$f":"IFERROR(IF(OR(SHEETNAME($A482)=\"HIDE\",SHEETNAME($A482)=\"Start Here\",SHEETNAME($A482)=\"Template\"),\"\",HYPERLINK(\"#'\"&B482&\"'!A1\",\"Go to Sheet\")),\"\")","v":""},{"$f":"IFERROR(IF(INDIRECT(\"'\"&$B482&\"'!$U$7\"),INDIRECT(\"'\"&$B482&\"'!$u$9\"),\"(\"&INDIRECT(\"'\"&$B482&\"'!$U$8\")&\")\"),\"\")","v":""},{"$f":"IF(L482,\"This site has incomplete Cost and Revenue data.  \",\"\")&IF(M482,\"WFRS data for previous quarters is incomplete.  \",\"\")&IF(K482,IFERROR(INDIRECT(\"'\"&$B482&\"'!$g$9\"),\"\"),\"\")","v":""},false,{"$f":"IFERROR(INDIRECT(\"'\"&$B482&\"'!$u$7\"),FALSE)","v":false},{"$f":"IFERROR(INDIRECT(\"'\"&$B482&\"'!$u$10\"),FALSE)","v":false},{"$f":"IFERROR(INDIRECT(\"'\"&$B482&\"'!$AC$12\"),FALSE)","v":false},{"$f":"IFERROR(INDIRECT(\"'\"&$B482&\"'!$ad$12\"),FALSE)","v":false},null,{"$f":"IFERROR(INDIRECT(\"'\"&$B482&\"'!$d$10\"),\"\")","v":""},{"$f":"IFERROR(INDIRECT(\"'\"&$B482&\"'!$d$33\"),\"\")","v":""},{"$f":"IFERROR(INDIRECT(\"'\"&$B482&\"'!$j$33\")+INDIRECT(\"'\"&$B482&\"'!$k$33\"),\"\")","v":""},{"$f":"IFERROR(INDIRECT(\"'\"&$B482&\"'!$q$33\"),\"\")","v":""},{"$f":"IFERROR(INDIRECT(\"'\"&$B482&\"'!$e$33\"),\"\")","v":""},{"$f":"IFERROR(INDIRECT(\"'\"&$B482&\"'!$L$33\"),\"\")","v":""},{"$f":"IFERROR(INDIRECT(\"'\"&$B482&\"'!$g$33\")+INDIRECT(\"'\"&$B482&\"'!$h$33\")+INDIRECT(\"'\"&$B482&\"'!$i$33\"),\"\")","v":""}]
[447,{"$f":"IFERROR(IF(OR(SHEETNAME(A483)=\"HIDE\",SHEETNAME(A483)=\"Start Here\",SHEETNAME(A483)=\"Template\"),\"\",SHEETNAME(A483)),\"\")","v":""},{"$f":"IFERROR(INDIRECT(\"'\"&$B483&\"'!$d$6\"),\"\")","v":""},{"$f":"IFERROR(INDIRECT(\"'\"&$B483&\"'!$d$7\"),\"\")","v":""},{"$f":"IFERROR(INDIRECT(\"'\"&$B483&\"'!$d$8\"),\"\")","v":""},{"$f":"IFERROR(IF(OR(SHEETNAME($A483)=\"HIDE\",SHEETNAME($A483)=\"Start Here\",SHEETNAME($A483)=\"Template\"),\"\",HYPERLINK(\"#'\"&B483&\"'!A1\",\"Go to Sheet\")),\"\")","v":""},{"$f":"IFERROR(IF(INDIRECT(\"'\"&$B483&\"'!$U$7\"),INDIRECT(\"'\"&$B483&\"'!$u$9\"),\"(\"&INDIRECT(\"'\"&$B483&\"'!$U$8\")&\")\"),\"\")","v":""},{"$f":"IF(L483,\"This site has incomplete Cost and Revenue data.  \",\"\")&IF(M483,\"WFRS data for previous quarters is incomplete.  \",\"\")&IF(K483,IFERROR(INDIRECT(\"'\"&$B483&\"'!$g$9\"),\"\"),\"\")","v":""},false,{"$f":"IFERROR(INDIRECT(\"'\"&$B483&\"'!$u$7\"),FALSE)","v":false},{"$f":"IFERROR(INDIRECT(\"'\"&$B483&\"'!$u$10\"),FALSE)","v":false},{"$f":"IFERROR(INDIRECT(\"'\"&$B483&\"'!$AC$12\"),FALSE)","v":false},{"$f":"IFERROR(INDIRECT(\"'\"&$B483&\"'!$ad$12\"),FALSE)","v":false},null,{"$f":"IFERROR(INDIRECT(\"'\"&$B483&\"'!$d$10\"),\"\")","v":""},{"$f":"IFERROR(INDIRECT(\"'\"&$B483&\"'!$d$33\"),\"\")","v":""},{"$f":"IFERROR(INDIRECT(\"'\"&$B483&\"'!$j$33\")+INDIRECT(\"'\"&$B483&\"'!$k$33\"),\"\")","v":""},{"$f":"IFERROR(INDIRECT(\"'\"&$B483&\"'!$q$33\"),\"\")","v":""},{"$f":"IFERROR(INDIRECT(\"'\"&$B483&\"'!$e$33\"),\"\")","v":""},{"$f":"IFERROR(INDIRECT(\"'\"&$B483&\"'!$L$33\"),\"\")","v":""},{"$f":"IFERROR(INDIRECT(\"'\"&$B483&\"'!$g$33\")+INDIRECT(\"'\"&$B483&\"'!$h$33\")+INDIRECT(\"'\"&$B483&\"'!$i$33\"),\"\")","v":""}]
[448,{"$f":"IFERROR(IF(OR(SHEETNAME(A484)=\"HIDE\",SHEETNAME(A484)=\"Start Here\",SHEETNAME(A484)=\"Template\"),\"\",SHEETNAME(A484)),\"\")","v":""},{"$f":"IFERROR(INDIRECT(\"'\"&$B484&\"'!$d$6\"),\"\")","v":""},{"$f":"IFERROR(INDIRECT(\"'\"&$B484&\"'!$d$7\"),\"\")","v":""},{"$f":"IFERROR(INDIRECT(\"'\"&$B484&\"'!$d$8\"),\"\")","v":""},{"$f":"IFERROR(IF(OR(SHEETNAME($A484)=\"HIDE\",SHEETNAME($A484)=\"Start Here\",SHEETNAME($A484)=\"Template\"),\"\",HYPERLINK(\"#'\"&B484&\"'!A1\",\"Go to Sheet\")),\"\")","v":""},{"$f":"IFERROR(IF(INDIRECT(\"'\"&$B484&\"'!$U$7\"),INDIRECT(\"'\"&$B484&\"'!$u$9\"),\"(\"&INDIRECT(\"'\"&$B484&\"'!$U$8\")&\")\"),\"\")","v":""},{"$f":"IF(L484,\"This site has incomplete Cost and Revenue data.  \",\"\")&IF(M484,\"WFRS data for previous quarters is incomplete.  \",\"\")&IF(K484,IFERROR(INDIRECT(\"'\"&$B484&\"'!$g$9\"),\"\"),\"\")","v":""},false,{"$f":"IFERROR(INDIRECT(\"'\"&$B484&\"'!$u$7\"),FALSE)","v":false},{"$f":"IFERROR(INDIRECT(\"'\"&$B484&\"'!$u$10\"),FALSE)","v":false},{"$f":"IFERROR(INDIRECT(\"'\"&$B484&\"'!$AC$12\"),FALSE)","v":false},{"$f":"IFERROR(INDIRECT(\"'\"&$B484&\"'!$ad$12\"),FALSE)","v":false},null,{"$f":"IFERROR(INDIRECT(\"'\"&$B484&\"'!$d$10\"),\"\")","v":""},{"$f":"IFERROR(INDIRECT(\"'\"&$B484&\"'!$d$33\"),\"\")","v":""},{"$f":"IFERROR(INDIRECT(\"'\"&$B484&\"'!$j$33\")+INDIRECT(\"'\"&$B484&\"'!$k$33\"),\"\")","v":""},{"$f":"IFERROR(INDIRECT(\"'\"&$B484&\"'!$q$33\"),\"\")","v":""},{"$f":"IFERROR(INDIRECT(\"'\"&$B484&\"'!$e$33\"),\"\")","v":""},{"$f":"IFERROR(INDIRECT(\"'\"&$B484&\"'!$L$33\"),\"\")","v":""},{"$f":"IFERROR(INDIRECT(\"'\"&$B484&\"'!$g$33\")+INDIRECT(\"'\"&$B484&\"'!$h$33\")+INDIRECT(\"'\"&$B484&\"'!$i$33\"),\"\")","v":""}]
[449,{"$f":"IFERROR(IF(OR(SHEETNAME(A485)=\"HIDE\",SHEETNAME(A485)=\"Start Here\",SHEETNAME(A485)=\"Template\"),\"\",SHEETNAME(A485)),\"\")","v":""},{"$f":"IFERROR(INDIRECT(\"'\"&$B485&\"'!$d$6\"),\"\")","v":""},{"$f":"IFERROR(INDIRECT(\"'\"&$B485&\"'!$d$7\"),\"\")","v":""},{"$f":"IFERROR(INDIRECT(\"'\"&$B485&\"'!$d$8\"),\"\")","v":""},{"$f":"IFERROR(IF(OR(SHEETNAME($A485)=\"HIDE\",SHEETNAME($A485)=\"Start Here\",SHEETNAME($A485)=\"Template\"),\"\",HYPERLINK(\"#'\"&B485&\"'!A1\",\"Go to Sheet\")),\"\")","v":""},{"$f":"IFERROR(IF(INDIRECT(\"'\"&$B485&\"'!$U$7\"),INDIRECT(\"'\"&$B485&\"'!$u$9\"),\"(\"&INDIRECT(\"'\"&$B485&\"'!$U$8\")&\")\"),\"\")","v":""},{"$f":"IF(L485,\"This site has incomplete Cost and Revenue data.  \",\"\")&IF(M485,\"WFRS data for previous quarters is incomplete.  \",\"\")&IF(K485,IFERROR(INDIRECT(\"'\"&$B485&\"'!$g$9\"),\"\"),\"\")","v":""},false,{"$f":"IFERROR(INDIRECT(\"'\"&$B485&\"'!$u$7\"),FALSE)","v":false},{"$f":"IFERROR(INDIRECT(\"'\"&$B485&\"'!$u$10\"),FALSE)","v":false},{"$f":"IFERROR(INDIRECT(\"'\"&$B485&\"'!$AC$12\"),FALSE)","v":false},{"$f":"IFERROR(INDIRECT(\"'\"&$B485&\"'!$ad$12\"),FALSE)","v":false},null,{"$f":"IFERROR(INDIRECT(\"'\"&$B485&\"'!$d$10\"),\"\")","v":""},{"$f":"IFERROR(INDIRECT(\"'\"&$B485&\"'!$d$33\"),\"\")","v":""},{"$f":"IFERROR(INDIRECT(\"'\"&$B485&\"'!$j$33\")+INDIRECT(\"'\"&$B485&\"'!$k$33\"),\"\")","v":""},{"$f":"IFERROR(INDIRECT(\"'\"&$B485&\"'!$q$33\"),\"\")","v":""},{"$f":"IFERROR(INDIRECT(\"'\"&$B485&\"'!$e$33\"),\"\")","v":""},{"$f":"IFERROR(INDIRECT(\"'\"&$B485&\"'!$L$33\"),\"\")","v":""},{"$f":"IFERROR(INDIRECT(\"'\"&$B485&\"'!$g$33\")+INDIRECT(\"'\"&$B485&\"'!$h$33\")+INDIRECT(\"'\"&$B485&\"'!$i$33\"),\"\")","v":""}]
[450,{"$f":"IFERROR(IF(OR(SHEETNAME(A486)=\"HIDE\",SHEETNAME(A486)=\"Start Here\",SHEETNAME(A486)=\"Template\"),\"\",SHEETNAME(A486)),\"\")","v":""},{"$f":"IFERROR(INDIRECT(\"'\"&$B486&\"'!$d$6\"),\"\")","v":""},{"$f":"IFERROR(INDIRECT(\"'\"&$B486&\"'!$d$7\"),\"\")","v":""},{"$f":"IFERROR(INDIRECT(\"'\"&$B486&\"'!$d$8\"),\"\")","v":""},{"$f":"IFERROR(IF(OR(SHEETNAME($A486)=\"HIDE\",SHEETNAME($A486)=\"Start Here\",SHEETNAME($A486)=\"Template\"),\"\",HYPERLINK(\"#'\"&B486&\"'!A1\",\"Go to Sheet\")),\"\")","v":""},{"$f":"IFERROR(IF(INDIRECT(\"'\"&$B486&\"'!$U$7\"),INDIRECT(\"'\"&$B486&\"'!$u$9\"),\"(\"&INDIRECT(\"'\"&$B486&\"'!$U$8\")&\")\"),\"\")","v":""},{"$f":"IF(L486,\"This site has incomplete Cost and Revenue data.  \",\"\")&IF(M486,\"WFRS data for previous quarters is incomplete.  \",\"\")&IF(K486,IFERROR(INDIRECT(\"'\"&$B486&\"'!$g$9\"),\"\"),\"\")","v":""},{"$f":"NOT(E486=\"\")","v":false},{"$f":"IFERROR(INDIRECT(\"'\"&$B486&\"'!$u$7\"),FALSE)","v":false},{"$f":"IFERROR(INDIRECT(\"'\"&$B486&\"'!$u$10\"),FALSE)","v":false},{"$f":"IFERROR(INDIRECT(\"'\"&$B486&\"'!$AC$12\"),FALSE)","v":false},{"$f":"IFERROR(INDIRECT(\"'\"&$B486&\"'!$ad$12\"),FALSE)","v":false},null,{"$f":"IFERROR(INDIRECT(\"'\"&$B486&\"'!$d$10\"),\"\")","v":""},{"$f":"IFERROR(INDIRECT(\"'\"&$B486&\"'!$d$33\"),\"\")","v":""},{"$f":"IFERROR(INDIRECT(\"'\"&$B486&\"'!$j$33\")+INDIRECT(\"'\"&$B486&\"'!$k$33\"),\"\")","v":""},{"$f":"IFERROR(INDIRECT(\"'\"&$B486&\"'!$q$33\"),\"\")","v":""},{"$f":"IFERROR(INDIRECT(\"'\"&$B486&\"'!$e$33\"),\"\")","v":""},{"$f":"IFERROR(INDIRECT(\"'\"&$B486&\"'!$L$33\"),\"\")","v":""},{"$f":"IFERROR(INDIRECT(\"'\"&$B486&\"'!$g$33\")+INDIRECT(\"'\"&$B486&\"'!$h$33\")+INDIRECT(\"'\"&$B486&\"'!$i$33\"),\"\")","v":""}]
[451,{"$f":"IFERROR(IF(OR(SHEETNAME(A487)=\"HIDE\",SHEETNAME(A487)=\"Start Here\",SHEETNAME(A487)=\"Template\"),\"\",SHEETNAME(A487)),\"\")","v":""},{"$f":"IFERROR(INDIRECT(\"'\"&$B487&\"'!$d$6\"),\"\")","v":""},{"$f":"IFERROR(INDIRECT(\"'\"&$B487&\"'!$d$7\"),\"\")","v":""},{"$f":"IFERROR(INDIRECT(\"'\"&$B487&\"'!$d$8\"),\"\")","v":""},{"$f":"IFERROR(IF(OR(SHEETNAME($A487)=\"HIDE\",SHEETNAME($A487)=\"Start Here\",SHEETNAME($A487)=\"Template\"),\"\",HYPERLINK(\"#'\"&B487&\"'!A1\",\"Go to Sheet\")),\"\")","v":""},{"$f":"IFERROR(IF(INDIRECT(\"'\"&$B487&\"'!$U$7\"),INDIRECT(\"'\"&$B487&\"'!$u$9\"),\"(\"&INDIRECT(\"'\"&$B487&\"'!$U$8\")&\")\"),\"\")","v":""},{"$f":"IF(L487,\"This site has incomplete Cost and Revenue data.  \",\"\")&IF(M487,\"WFRS data for previous quarters is incomplete.  \",\"\")&IF(K487,IFERROR(INDIRECT(\"'\"&$B487&\"'!$g$9\"),\"\"),\"\")","v":""},false,{"$f":"IFERROR(INDIRECT(\"'\"&$B487&\"'!$u$7\"),FALSE)","v":false},{"$f":"IFERROR(INDIRECT(\"'\"&$B487&\"'!$u$10\"),FALSE)","v":false},{"$f":"IFERROR(INDIRECT(\"'\"&$B487&\"'!$AC$12\"),FALSE)","v":false},{"$f":"IFERROR(INDIRECT(\"'\"&$B487&\"'!$ad$12\"),FALSE)","v":false},null,{"$f":"IFERROR(INDIRECT(\"'\"&$B487&\"'!$d$10\"),\"\")","v":""},{"$f":"IFERROR(INDIRECT(\"'\"&$B487&\"'!$d$33\"),\"\")","v":""},{"$f":"IFERROR(INDIRECT(\"'\"&$B487&\"'!$j$33\")+INDIRECT(\"'\"&$B487&\"'!$k$33\"),\"\")","v":""},{"$f":"IFERROR(INDIRECT(\"'\"&$B487&\"'!$q$33\"),\"\")","v":""},{"$f":"IFERROR(INDIRECT(\"'\"&$B487&\"'!$e$33\"),\"\")","v":""},{"$f":"IFERROR(INDIRECT(\"'\"&$B487&\"'!$L$33\"),\"\")","v":""},{"$f":"IFERROR(INDIRECT(\"'\"&$B487&\"'!$g$33\")+INDIRECT(\"'\"&$B487&\"'!$h$33\")+INDIRECT(\"'\"&$B487&\"'!$i$33\"),\"\")","v":""}]
[452,{"$f":"IFERROR(IF(OR(SHEETNAME(A488)=\"HIDE\",SHEETNAME(A488)=\"Start Here\",SHEETNAME(A488)=\"Template\"),\"\",SHEETNAME(A488)),\"\")","v":""},{"$f":"IFERROR(INDIRECT(\"'\"&$B488&\"'!$d$6\"),\"\")","v":""},{"$f":"IFERROR(INDIRECT(\"'\"&$B488&\"'!$d$7\"),\"\")","v":""},{"$f":"IFERROR(INDIRECT(\"'\"&$B488&\"'!$d$8\"),\"\")","v":""},{"$f":"IFERROR(IF(OR(SHEETNAME($A488)=\"HIDE\",SHEETNAME($A488)=\"Start Here\",SHEETNAME($A488)=\"Template\"),\"\",HYPERLINK(\"#'\"&B488&\"'!A1\",\"Go to Sheet\")),\"\")","v":""},{"$f":"IFERROR(IF(INDIRECT(\"'\"&$B488&\"'!$U$7\"),INDIRECT(\"'\"&$B488&\"'!$u$9\"),\"(\"&INDIRECT(\"'\"&$B488&\"'!$U$8\")&\")\"),\"\")","v":""},{"$f":"IF(L488,\"This site has incomplete Cost and Revenue data.  \",\"\")&IF(M488,\"WFRS data for previous quarters is incomplete.  \",\"\")&IF(K488,IFERROR(INDIRECT(\"'\"&$B488&\"'!$g$9\"),\"\"),\"\")","v":""},false,{"$f":"IFERROR(INDIRECT(\"'\"&$B488&\"'!$u$7\"),FALSE)","v":false},{"$f":"IFERROR(INDIRECT(\"'\"&$B488&\"'!$u$10\"),FALSE)","v":false},{"$f":"IFERROR(INDIRECT(\"'\"&$B488&\"'!$AC$12\"),FALSE)","v":false},{"$f":"IFERROR(INDIRECT(\"'\"&$B488&\"'!$ad$12\"),FALSE)","v":false},null,{"$f":"IFERROR(INDIRECT(\"'\"&$B488&\"'!$d$10\"),\"\")","v":""},{"$f":"IFERROR(INDIRECT(\"'\"&$B488&\"'!$d$33\"),\"\")","v":""},{"$f":"IFERROR(INDIRECT(\"'\"&$B488&\"'!$j$33\")+INDIRECT(\"'\"&$B488&\"'!$k$33\"),\"\")","v":""},{"$f":"IFERROR(INDIRECT(\"'\"&$B488&\"'!$q$33\"),\"\")","v":""},{"$f":"IFERROR(INDIRECT(\"'\"&$B488&\"'!$e$33\"),\"\")","v":""},{"$f":"IFERROR(INDIRECT(\"'\"&$B488&\"'!$L$33\"),\"\")","v":""},{"$f":"IFERROR(INDIRECT(\"'\"&$B488&\"'!$g$33\")+INDIRECT(\"'\"&$B488&\"'!$h$33\")+INDIRECT(\"'\"&$B488&\"'!$i$33\"),\"\")","v":""}]
[453,{"$f":"IFERROR(IF(OR(SHEETNAME(A489)=\"HIDE\",SHEETNAME(A489)=\"Start Here\",SHEETNAME(A489)=\"Template\"),\"\",SHEETNAME(A489)),\"\")","v":""},{"$f":"IFERROR(INDIRECT(\"'\"&$B489&\"'!$d$6\"),\"\")","v":""},{"$f":"IFERROR(INDIRECT(\"'\"&$B489&\"'!$d$7\"),\"\")","v":""},{"$f":"IFERROR(INDIRECT(\"'\"&$B489&\"'!$d$8\"),\"\")","v":""},{"$f":"IFERROR(IF(OR(SHEETNAME($A489)=\"HIDE\",SHEETNAME($A489)=\"Start Here\",SHEETNAME($A489)=\"Template\"),\"\",HYPERLINK(\"#'\"&B489&\"'!A1\",\"Go to Sheet\")),\"\")","v":""},{"$f":"IFERROR(IF(INDIRECT(\"'\"&$B489&\"'!$U$7\"),INDIRECT(\"'\"&$B489&\"'!$u$9\"),\"(\"&INDIRECT(\"'\"&$B489&\"'!$U$8\")&\")\"),\"\")","v":""},{"$f":"IF(L489,\"This site has incomplete Cost and Revenue data.  \",\"\")&IF(M489,\"WFRS data for previous quarters is incomplete.  \",\"\")&IF(K489,IFERROR(INDIRECT(\"'\"&$B489&\"'!$g$9\"),\"\"),\"\")","v":""},false,{"$f":"IFERROR(INDIRECT(\"'\"&$B489&\"'!$u$7\"),FALSE)","v":false},{"$f":"IFERROR(INDIRECT(\"'\"&$B489&\"'!$u$10\"),FALSE)","v":false},{"$f":"IFERROR(INDIRECT(\"'\"&$B489&\"'!$AC$12\"),FALSE)","v":false},{"$f":"IFERROR(INDIRECT(\"'\"&$B489&\"'!$ad$12\"),FALSE)","v":false},null,{"$f":"IFERROR(INDIRECT(\"'\"&$B489&\"'!$d$10\"),\"\")","v":""},{"$f":"IFERROR(INDIRECT(\"'\"&$B489&\"'!$d$33\"),\"\")","v":""},{"$f":"IFERROR(INDIRECT(\"'\"&$B489&\"'!$j$33\")+INDIRECT(\"'\"&$B489&\"'!$k$33\"),\"\")","v":""},{"$f":"IFERROR(INDIRECT(\"'\"&$B489&\"'!$q$33\"),\"\")","v":""},{"$f":"IFERROR(INDIRECT(\"'\"&$B489&\"'!$e$33\"),\"\")","v":""},{"$f":"IFERROR(INDIRECT(\"'\"&$B489&\"'!$L$33\"),\"\")","v":""},{"$f":"IFERROR(INDIRECT(\"'\"&$B489&\"'!$g$33\")+INDIRECT(\"'\"&$B489&\"'!$h$33\")+INDIRECT(\"'\"&$B489&\"'!$i$33\"),\"\")","v":""}]
[454,{"$f":"IFERROR(IF(OR(SHEETNAME(A490)=\"HIDE\",SHEETNAME(A490)=\"Start Here\",SHEETNAME(A490)=\"Template\"),\"\",SHEETNAME(A490)),\"\")","v":""},{"$f":"IFERROR(INDIRECT(\"'\"&$B490&\"'!$d$6\"),\"\")","v":""},{"$f":"IFERROR(INDIRECT(\"'\"&$B490&\"'!$d$7\"),\"\")","v":""},{"$f":"IFERROR(INDIRECT(\"'\"&$B490&\"'!$d$8\"),\"\")","v":""},{"$f":"IFERROR(IF(OR(SHEETNAME($A490)=\"HIDE\",SHEETNAME($A490)=\"Start Here\",SHEETNAME($A490)=\"Template\"),\"\",HYPERLINK(\"#'\"&B490&\"'!A1\",\"Go to Sheet\")),\"\")","v":""},{"$f":"IFERROR(IF(INDIRECT(\"'\"&$B490&\"'!$U$7\"),INDIRECT(\"'\"&$B490&\"'!$u$9\"),\"(\"&INDIRECT(\"'\"&$B490&\"'!$U$8\")&\")\"),\"\")","v":""},{"$f":"IF(L490,\"This site has incomplete Cost and Revenue data.  \",\"\")&IF(M490,\"WFRS data for previous quarters is incomplete.  \",\"\")&IF(K490,IFERROR(INDIRECT(\"'\"&$B490&\"'!$g$9\"),\"\"),\"\")","v":""},false,{"$f":"IFERROR(INDIRECT(\"'\"&$B490&\"'!$u$7\"),FALSE)","v":false},{"$f":"IFERROR(INDIRECT(\"'\"&$B490&\"'!$u$10\"),FALSE)","v":false},{"$f":"IFERROR(INDIRECT(\"'\"&$B490&\"'!$AC$12\"),FALSE)","v":false},{"$f":"IFERROR(INDIRECT(\"'\"&$B490&\"'!$ad$12\"),FALSE)","v":false},null,{"$f":"IFERROR(INDIRECT(\"'\"&$B490&\"'!$d$10\"),\"\")","v":""},{"$f":"IFERROR(INDIRECT(\"'\"&$B490&\"'!$d$33\"),\"\")","v":""},{"$f":"IFERROR(INDIRECT(\"'\"&$B490&\"'!$j$33\")+INDIRECT(\"'\"&$B490&\"'!$k$33\"),\"\")","v":""},{"$f":"IFERROR(INDIRECT(\"'\"&$B490&\"'!$q$33\"),\"\")","v":""},{"$f":"IFERROR(INDIRECT(\"'\"&$B490&\"'!$e$33\"),\"\")","v":""},{"$f":"IFERROR(INDIRECT(\"'\"&$B490&\"'!$L$33\"),\"\")","v":""},{"$f":"IFERROR(INDIRECT(\"'\"&$B490&\"'!$g$33\")+INDIRECT(\"'\"&$B490&\"'!$h$33\")+INDIRECT(\"'\"&$B490&\"'!$i$33\"),\"\")","v":""}]
[455,{"$f":"IFERROR(IF(OR(SHEETNAME(A491)=\"HIDE\",SHEETNAME(A491)=\"Start Here\",SHEETNAME(A491)=\"Template\"),\"\",SHEETNAME(A491)),\"\")","v":""},{"$f":"IFERROR(INDIRECT(\"'\"&$B491&\"'!$d$6\"),\"\")","v":""},{"$f":"IFERROR(INDIRECT(\"'\"&$B491&\"'!$d$7\"),\"\")","v":""},{"$f":"IFERROR(INDIRECT(\"'\"&$B491&\"'!$d$8\"),\"\")","v":""},{"$f":"IFERROR(IF(OR(SHEETNAME($A491)=\"HIDE\",SHEETNAME($A491)=\"Start Here\",SHEETNAME($A491)=\"Template\"),\"\",HYPERLINK(\"#'\"&B491&\"'!A1\",\"Go to Sheet\")),\"\")","v":""},{"$f":"IFERROR(IF(INDIRECT(\"'\"&$B491&\"'!$U$7\"),INDIRECT(\"'\"&$B491&\"'!$u$9\"),\"(\"&INDIRECT(\"'\"&$B491&\"'!$U$8\")&\")\"),\"\")","v":""},{"$f":"IF(L491,\"This site has incomplete Cost and Revenue data.  \",\"\")&IF(M491,\"WFRS data for previous quarters is incomplete.  \",\"\")&IF(K491,IFERROR(INDIRECT(\"'\"&$B491&\"'!$g$9\"),\"\"),\"\")","v":""},false,{"$f":"IFERROR(INDIRECT(\"'\"&$B491&\"'!$u$7\"),FALSE)","v":false},{"$f":"IFERROR(INDIRECT(\"'\"&$B491&\"'!$u$10\"),FALSE)","v":false},{"$f":"IFERROR(INDIRECT(\"'\"&$B491&\"'!$AC$12\"),FALSE)","v":false},{"$f":"IFERROR(INDIRECT(\"'\"&$B491&\"'!$ad$12\"),FALSE)","v":false},null,{"$f":"IFERROR(INDIRECT(\"'\"&$B491&\"'!$d$10\"),\"\")","v":""},{"$f":"IFERROR(INDIRECT(\"'\"&$B491&\"'!$d$33\"),\"\")","v":""},{"$f":"IFERROR(INDIRECT(\"'\"&$B491&\"'!$j$33\")+INDIRECT(\"'\"&$B491&\"'!$k$33\"),\"\")","v":""},{"$f":"IFERROR(INDIRECT(\"'\"&$B491&\"'!$q$33\"),\"\")","v":""},{"$f":"IFERROR(INDIRECT(\"'\"&$B491&\"'!$e$33\"),\"\")","v":""},{"$f":"IFERROR(INDIRECT(\"'\"&$B491&\"'!$L$33\"),\"\")","v":""},{"$f":"IFERROR(INDIRECT(\"'\"&$B491&\"'!$g$33\")+INDIRECT(\"'\"&$B491&\"'!$h$33\")+INDIRECT(\"'\"&$B491&\"'!$i$33\"),\"\")","v":""}]
[456,{"$f":"IFERROR(IF(OR(SHEETNAME(A492)=\"HIDE\",SHEETNAME(A492)=\"Start Here\",SHEETNAME(A492)=\"Template\"),\"\",SHEETNAME(A492)),\"\")","v":""},{"$f":"IFERROR(INDIRECT(\"'\"&$B492&\"'!$d$6\"),\"\")","v":""},{"$f":"IFERROR(INDIRECT(\"'\"&$B492&\"'!$d$7\"),\"\")","v":""},{"$f":"IFERROR(INDIRECT(\"'\"&$B492&\"'!$d$8\"),\"\")","v":""},{"$f":"IFERROR(IF(OR(SHEETNAME($A492)=\"HIDE\",SHEETNAME($A492)=\"Start Here\",SHEETNAME($A492)=\"Template\"),\"\",HYPERLINK(\"#'\"&B492&\"'!A1\",\"Go to Sheet\")),\"\")","v":""},{"$f":"IFERROR(IF(INDIRECT(\"'\"&$B492&\"'!$U$7\"),INDIRECT(\"'\"&$B492&\"'!$u$9\"),\"(\"&INDIRECT(\"'\"&$B492&\"'!$U$8\")&\")\"),\"\")","v":""},{"$f":"IF(L492,\"This site has incomplete Cost and Revenue data.  \",\"\")&IF(M492,\"WFRS data for previous quarters is incomplete.  \",\"\")&IF(K492,IFERROR(INDIRECT(\"'\"&$B492&\"'!$g$9\"),\"\"),\"\")","v":""},false,{"$f":"IFERROR(INDIRECT(\"'\"&$B492&\"'!$u$7\"),FALSE)","v":false},{"$f":"IFERROR(INDIRECT(\"'\"&$B492&\"'!$u$10\"),FALSE)","v":false},{"$f":"IFERROR(INDIRECT(\"'\"&$B492&\"'!$AC$12\"),FALSE)","v":false},{"$f":"IFERROR(INDIRECT(\"'\"&$B492&\"'!$ad$12\"),FALSE)","v":false},null,{"$f":"IFERROR(INDIRECT(\"'\"&$B492&\"'!$d$10\"),\"\")","v":""},{"$f":"IFERROR(INDIRECT(\"'\"&$B492&\"'!$d$33\"),\"\")","v":""},{"$f":"IFERROR(INDIRECT(\"'\"&$B492&\"'!$j$33\")+INDIRECT(\"'\"&$B492&\"'!$k$33\"),\"\")","v":""},{"$f":"IFERROR(INDIRECT(\"'\"&$B492&\"'!$q$33\"),\"\")","v":""},{"$f":"IFERROR(INDIRECT(\"'\"&$B492&\"'!$e$33\"),\"\")","v":""},{"$f":"IFERROR(INDIRECT(\"'\"&$B492&\"'!$L$33\"),\"\")","v":""},{"$f":"IFERROR(INDIRECT(\"'\"&$B492&\"'!$g$33\")+INDIRECT(\"'\"&$B492&\"'!$h$33\")+INDIRECT(\"'\"&$B492&\"'!$i$33\"),\"\")","v":""}]
[457,{"$f":"IFERROR(IF(OR(SHEETNAME(A493)=\"HIDE\",SHEETNAME(A493)=\"Start Here\",SHEETNAME(A493)=\"Template\"),\"\",SHEETNAME(A493)),\"\")","v":""},{"$f":"IFERROR(INDIRECT(\"'\"&$B493&\"'!$d$6\"),\"\")","v":""},{"$f":"IFERROR(INDIRECT(\"'\"&$B493&\"'!$d$7\"),\"\")","v":""},{"$f":"IFERROR(INDIRECT(\"'\"&$B493&\"'!$d$8\"),\"\")","v":""},{"$f":"IFERROR(IF(OR(SHEETNAME($A493)=\"HIDE\",SHEETNAME($A493)=\"Start Here\",SHEETNAME($A493)=\"Template\"),\"\",HYPERLINK(\"#'\"&B493&\"'!A1\",\"Go to Sheet\")),\"\")","v":""},{"$f":"IFERROR(IF(INDIRECT(\"'\"&$B493&\"'!$U$7\"),INDIRECT(\"'\"&$B493&\"'!$u$9\"),\"(\"&INDIRECT(\"'\"&$B493&\"'!$U$8\")&\")\"),\"\")","v":""},{"$f":"IF(L493,\"This site has incomplete Cost and Revenue data.  \",\"\")&IF(M493,\"WFRS data for previous quarters is incomplete.  \",\"\")&IF(K493,IFERROR(INDIRECT(\"'\"&$B493&\"'!$g$9\"),\"\"),\"\")","v":""},false,{"$f":"IFERROR(INDIRECT(\"'\"&$B493&\"'!$u$7\"),FALSE)","v":false},{"$f":"IFERROR(INDIRECT(\"'\"&$B493&\"'!$u$10\"),FALSE)","v":false},{"$f":"IFERROR(INDIRECT(\"'\"&$B493&\"'!$AC$12\"),FALSE)","v":false},{"$f":"IFERROR(INDIRECT(\"'\"&$B493&\"'!$ad$12\"),FALSE)","v":false},null,{"$f":"IFERROR(INDIRECT(\"'\"&$B493&\"'!$d$10\"),\"\")","v":""},{"$f":"IFERROR(INDIRECT(\"'\"&$B493&\"'!$d$33\"),\"\")","v":""},{"$f":"IFERROR(INDIRECT(\"'\"&$B493&\"'!$j$33\")+INDIRECT(\"'\"&$B493&\"'!$k$33\"),\"\")","v":""},{"$f":"IFERROR(INDIRECT(\"'\"&$B493&\"'!$q$33\"),\"\")","v":""},{"$f":"IFERROR(INDIRECT(\"'\"&$B493&\"'!$e$33\"),\"\")","v":""},{"$f":"IFERROR(INDIRECT(\"'\"&$B493&\"'!$L$33\"),\"\")","v":""},{"$f":"IFERROR(INDIRECT(\"'\"&$B493&\"'!$g$33\")+INDIRECT(\"'\"&$B493&\"'!$h$33\")+INDIRECT(\"'\"&$B493&\"'!$i$33\"),\"\")","v":""}]
[458,{"$f":"IFERROR(IF(OR(SHEETNAME(A494)=\"HIDE\",SHEETNAME(A494)=\"Start Here\",SHEETNAME(A494)=\"Template\"),\"\",SHEETNAME(A494)),\"\")","v":""},{"$f":"IFERROR(INDIRECT(\"'\"&$B494&\"'!$d$6\"),\"\")","v":""},{"$f":"IFERROR(INDIRECT(\"'\"&$B494&\"'!$d$7\"),\"\")","v":""},{"$f":"IFERROR(INDIRECT(\"'\"&$B494&\"'!$d$8\"),\"\")","v":""},{"$f":"IFERROR(IF(OR(SHEETNAME($A494)=\"HIDE\",SHEETNAME($A494)=\"Start Here\",SHEETNAME($A494)=\"Template\"),\"\",HYPERLINK(\"#'\"&B494&\"'!A1\",\"Go to Sheet\")),\"\")","v":""},{"$f":"IFERROR(IF(INDIRECT(\"'\"&$B494&\"'!$U$7\"),INDIRECT(\"'\"&$B494&\"'!$u$9\"),\"(\"&INDIRECT(\"'\"&$B494&\"'!$U$8\")&\")\"),\"\")","v":""},{"$f":"IF(L494,\"This site has incomplete Cost and Revenue data.  \",\"\")&IF(M494,\"WFRS data for previous quarters is incomplete.  \",\"\")&IF(K494,IFERROR(INDIRECT(\"'\"&$B494&\"'!$g$9\"),\"\"),\"\")","v":""},false,{"$f":"IFERROR(INDIRECT(\"'\"&$B494&\"'!$u$7\"),FALSE)","v":false},{"$f":"IFERROR(INDIRECT(\"'\"&$B494&\"'!$u$10\"),FALSE)","v":false},{"$f":"IFERROR(INDIRECT(\"'\"&$B494&\"'!$AC$12\"),FALSE)","v":false},{"$f":"IFERROR(INDIRECT(\"'\"&$B494&\"'!$ad$12\"),FALSE)","v":false},null,{"$f":"IFERROR(INDIRECT(\"'\"&$B494&\"'!$d$10\"),\"\")","v":""},{"$f":"IFERROR(INDIRECT(\"'\"&$B494&\"'!$d$33\"),\"\")","v":""},{"$f":"IFERROR(INDIRECT(\"'\"&$B494&\"'!$j$33\")+INDIRECT(\"'\"&$B494&\"'!$k$33\"),\"\")","v":""},{"$f":"IFERROR(INDIRECT(\"'\"&$B494&\"'!$q$33\"),\"\")","v":""},{"$f":"IFERROR(INDIRECT(\"'\"&$B494&\"'!$e$33\"),\"\")","v":""},{"$f":"IFERROR(INDIRECT(\"'\"&$B494&\"'!$L$33\"),\"\")","v":""},{"$f":"IFERROR(INDIRECT(\"'\"&$B494&\"'!$g$33\")+INDIRECT(\"'\"&$B494&\"'!$h$33\")+INDIRECT(\"'\"&$B494&\"'!$i$33\"),\"\")","v":""}]
[459,{"$f":"IFERROR(IF(OR(SHEETNAME(A495)=\"HIDE\",SHEETNAME(A495)=\"Start Here\",SHEETNAME(A495)=\"Template\"),\"\",SHEETNAME(A495)),\"\")","v":""},{"$f":"IFERROR(INDIRECT(\"'\"&$B495&\"'!$d$6\"),\"\")","v":""},{"$f":"IFERROR(INDIRECT(\"'\"&$B495&\"'!$d$7\"),\"\")","v":""},{"$f":"IFERROR(INDIRECT(\"'\"&$B495&\"'!$d$8\"),\"\")","v":""},{"$f":"IFERROR(IF(OR(SHEETNAME($A495)=\"HIDE\",SHEETNAME($A495)=\"Start Here\",SHEETNAME($A495)=\"Template\"),\"\",HYPERLINK(\"#'\"&B495&\"'!A1\",\"Go to Sheet\")),\"\")","v":""},{"$f":"IFERROR(IF(INDIRECT(\"'\"&$B495&\"'!$U$7\"),INDIRECT(\"'\"&$B495&\"'!$u$9\"),\"(\"&INDIRECT(\"'\"&$B495&\"'!$U$8\")&\")\"),\"\")","v":""},{"$f":"IF(L495,\"This site has incomplete Cost and Revenue data.  \",\"\")&IF(M495,\"WFRS data for previous quarters is incomplete.  \",\"\")&IF(K495,IFERROR(INDIRECT(\"'\"&$B495&\"'!$g$9\"),\"\"),\"\")","v":""},false,{"$f":"IFERROR(INDIRECT(\"'\"&$B495&\"'!$u$7\"),FALSE)","v":false},{"$f":"IFERROR(INDIRECT(\"'\"&$B495&\"'!$u$10\"),FALSE)","v":false},{"$f":"IFERROR(INDIRECT(\"'\"&$B495&\"'!$AC$12\"),FALSE)","v":false},{"$f":"IFERROR(INDIRECT(\"'\"&$B495&\"'!$ad$12\"),FALSE)","v":false},null,{"$f":"IFERROR(INDIRECT(\"'\"&$B495&\"'!$d$10\"),\"\")","v":""},{"$f":"IFERROR(INDIRECT(\"'\"&$B495&\"'!$d$33\"),\"\")","v":""},{"$f":"IFERROR(INDIRECT(\"'\"&$B495&\"'!$j$33\")+INDIRECT(\"'\"&$B495&\"'!$k$33\"),\"\")","v":""},{"$f":"IFERROR(INDIRECT(\"'\"&$B495&\"'!$q$33\"),\"\")","v":""},{"$f":"IFERROR(INDIRECT(\"'\"&$B495&\"'!$e$33\"),\"\")","v":""},{"$f":"IFERROR(INDIRECT(\"'\"&$B495&\"'!$L$33\"),\"\")","v":""},{"$f":"IFERROR(INDIRECT(\"'\"&$B495&\"'!$g$33\")+INDIRECT(\"'\"&$B495&\"'!$h$33\")+INDIRECT(\"'\"&$B495&\"'!$i$33\"),\"\")","v":""}]
[460,{"$f":"IFERROR(IF(OR(SHEETNAME(A496)=\"HIDE\",SHEETNAME(A496)=\"Start Here\",SHEETNAME(A496)=\"Template\"),\"\",SHEETNAME(A496)),\"\")","v":""},{"$f":"IFERROR(INDIRECT(\"'\"&$B496&\"'!$d$6\"),\"\")","v":""},{"$f":"IFERROR(INDIRECT(\"'\"&$B496&\"'!$d$7\"),\"\")","v":""},{"$f":"IFERROR(INDIRECT(\"'\"&$B496&\"'!$d$8\"),\"\")","v":""},{"$f":"IFERROR(IF(OR(SHEETNAME($A496)=\"HIDE\",SHEETNAME($A496)=\"Start Here\",SHEETNAME($A496)=\"Template\"),\"\",HYPERLINK(\"#'\"&B496&\"'!A1\",\"Go to Sheet\")),\"\")","v":""},{"$f":"IFERROR(IF(INDIRECT(\"'\"&$B496&\"'!$U$7\"),INDIRECT(\"'\"&$B496&\"'!$u$9\"),\"(\"&INDIRECT(\"'\"&$B496&\"'!$U$8\")&\")\"),\"\")","v":""},{"$f":"IF(L496,\"This site has incomplete Cost and Revenue data.  \",\"\")&IF(M496,\"WFRS data for previous quarters is incomplete.  \",\"\")&IF(K496,IFERROR(INDIRECT(\"'\"&$B496&\"'!$g$9\"),\"\"),\"\")","v":""},false,{"$f":"IFERROR(INDIRECT(\"'\"&$B496&\"'!$u$7\"),FALSE)","v":false},{"$f":"IFERROR(INDIRECT(\"'\"&$B496&\"'!$u$10\"),FALSE)","v":false},{"$f":"IFERROR(INDIRECT(\"'\"&$B496&\"'!$AC$12\"),FALSE)","v":false},{"$f":"IFERROR(INDIRECT(\"'\"&$B496&\"'!$ad$12\"),FALSE)","v":false},null,{"$f":"IFERROR(INDIRECT(\"'\"&$B496&\"'!$d$10\"),\"\")","v":""},{"$f":"IFERROR(INDIRECT(\"'\"&$B496&\"'!$d$33\"),\"\")","v":""},{"$f":"IFERROR(INDIRECT(\"'\"&$B496&\"'!$j$33\")+INDIRECT(\"'\"&$B496&\"'!$k$33\"),\"\")","v":""},{"$f":"IFERROR(INDIRECT(\"'\"&$B496&\"'!$q$33\"),\"\")","v":""},{"$f":"IFERROR(INDIRECT(\"'\"&$B496&\"'!$e$33\"),\"\")","v":""},{"$f":"IFERROR(INDIRECT(\"'\"&$B496&\"'!$L$33\"),\"\")","v":""},{"$f":"IFERROR(INDIRECT(\"'\"&$B496&\"'!$g$33\")+INDIRECT(\"'\"&$B496&\"'!$h$33\")+INDIRECT(\"'\"&$B496&\"'!$i$33\"),\"\")","v":""}]
[461,{"$f":"IFERROR(IF(OR(SHEETNAME(A497)=\"HIDE\",SHEETNAME(A497)=\"Start Here\",SHEETNAME(A497)=\"Template\"),\"\",SHEETNAME(A497)),\"\")","v":""},{"$f":"IFERROR(INDIRECT(\"'\"&$B497&\"'!$d$6\"),\"\")","v":""},{"$f":"IFERROR(INDIRECT(\"'\"&$B497&\"'!$d$7\"),\"\")","v":""},{"$f":"IFERROR(INDIRECT(\"'\"&$B497&\"'!$d$8\"),\"\")","v":""},{"$f":"IFERROR(IF(OR(SHEETNAME($A497)=\"HIDE\",SHEETNAME($A497)=\"Start Here\",SHEETNAME($A497)=\"Template\"),\"\",HYPERLINK(\"#'\"&B497&\"'!A1\",\"Go to Sheet\")),\"\")","v":""},{"$f":"IFERROR(IF(INDIRECT(\"'\"&$B497&\"'!$U$7\"),INDIRECT(\"'\"&$B497&\"'!$u$9\"),\"(\"&INDIRECT(\"'\"&$B497&\"'!$U$8\")&\")\"),\"\")","v":""},{"$f":"IF(L497,\"This site has incomplete Cost and Revenue data.  \",\"\")&IF(M497,\"WFRS data for previous quarters is incomplete.  \",\"\")&IF(K497,IFERROR(INDIRECT(\"'\"&$B497&\"'!$g$9\"),\"\"),\"\")","v":""},false,{"$f":"IFERROR(INDIRECT(\"'\"&$B497&\"'!$u$7\"),FALSE)","v":false},{"$f":"IFERROR(INDIRECT(\"'\"&$B497&\"'!$u$10\"),FALSE)","v":false},{"$f":"IFERROR(INDIRECT(\"'\"&$B497&\"'!$AC$12\"),FALSE)","v":false},{"$f":"IFERROR(INDIRECT(\"'\"&$B497&\"'!$ad$12\"),FALSE)","v":false},null,{"$f":"IFERROR(INDIRECT(\"'\"&$B497&\"'!$d$10\"),\"\")","v":""},{"$f":"IFERROR(INDIRECT(\"'\"&$B497&\"'!$d$33\"),\"\")","v":""},{"$f":"IFERROR(INDIRECT(\"'\"&$B497&\"'!$j$33\")+INDIRECT(\"'\"&$B497&\"'!$k$33\"),\"\")","v":""},{"$f":"IFERROR(INDIRECT(\"'\"&$B497&\"'!$q$33\"),\"\")","v":""},{"$f":"IFERROR(INDIRECT(\"'\"&$B497&\"'!$e$33\"),\"\")","v":""},{"$f":"IFERROR(INDIRECT(\"'\"&$B497&\"'!$L$33\"),\"\")","v":""},{"$f":"IFERROR(INDIRECT(\"'\"&$B497&\"'!$g$33\")+INDIRECT(\"'\"&$B497&\"'!$h$33\")+INDIRECT(\"'\"&$B497&\"'!$i$33\"),\"\")","v":""}]
[462,{"$f":"IFERROR(IF(OR(SHEETNAME(A498)=\"HIDE\",SHEETNAME(A498)=\"Start Here\",SHEETNAME(A498)=\"Template\"),\"\",SHEETNAME(A498)),\"\")","v":""},{"$f":"IFERROR(INDIRECT(\"'\"&$B498&\"'!$d$6\"),\"\")","v":""},{"$f":"IFERROR(INDIRECT(\"'\"&$B498&\"'!$d$7\"),\"\")","v":""},{"$f":"IFERROR(INDIRECT(\"'\"&$B498&\"'!$d$8\"),\"\")","v":""},{"$f":"IFERROR(IF(OR(SHEETNAME($A498)=\"HIDE\",SHEETNAME($A498)=\"Start Here\",SHEETNAME($A498)=\"Template\"),\"\",HYPERLINK(\"#'\"&B498&\"'!A1\",\"Go to Sheet\")),\"\")","v":""},{"$f":"IFERROR(IF(INDIRECT(\"'\"&$B498&\"'!$U$7\"),INDIRECT(\"'\"&$B498&\"'!$u$9\"),\"(\"&INDIRECT(\"'\"&$B498&\"'!$U$8\")&\")\"),\"\")","v":""},{"$f":"IF(L498,\"This site has incomplete Cost and Revenue data.  \",\"\")&IF(M498,\"WFRS data for previous quarters is incomplete.  \",\"\")&IF(K498,IFERROR(INDIRECT(\"'\"&$B498&\"'!$g$9\"),\"\"),\"\")","v":""},false,{"$f":"IFERROR(INDIRECT(\"'\"&$B498&\"'!$u$7\"),FALSE)","v":false},{"$f":"IFERROR(INDIRECT(\"'\"&$B498&\"'!$u$10\"),FALSE)","v":false},{"$f":"IFERROR(INDIRECT(\"'\"&$B498&\"'!$AC$12\"),FALSE)","v":false},{"$f":"IFERROR(INDIRECT(\"'\"&$B498&\"'!$ad$12\"),FALSE)","v":false},null,{"$f":"IFERROR(INDIRECT(\"'\"&$B498&\"'!$d$10\"),\"\")","v":""},{"$f":"IFERROR(INDIRECT(\"'\"&$B498&\"'!$d$33\"),\"\")","v":""},{"$f":"IFERROR(INDIRECT(\"'\"&$B498&\"'!$j$33\")+INDIRECT(\"'\"&$B498&\"'!$k$33\"),\"\")","v":""},{"$f":"IFERROR(INDIRECT(\"'\"&$B498&\"'!$q$33\"),\"\")","v":""},{"$f":"IFERROR(INDIRECT(\"'\"&$B498&\"'!$e$33\"),\"\")","v":""},{"$f":"IFERROR(INDIRECT(\"'\"&$B498&\"'!$L$33\"),\"\")","v":""},{"$f":"IFERROR(INDIRECT(\"'\"&$B498&\"'!$g$33\")+INDIRECT(\"'\"&$B498&\"'!$h$33\")+INDIRECT(\"'\"&$B498&\"'!$i$33\"),\"\")","v":""}]
[463,{"$f":"IFERROR(IF(OR(SHEETNAME(A499)=\"HIDE\",SHEETNAME(A499)=\"Start Here\",SHEETNAME(A499)=\"Template\"),\"\",SHEETNAME(A499)),\"\")","v":""},{"$f":"IFERROR(INDIRECT(\"'\"&$B499&\"'!$d$6\"),\"\")","v":""},{"$f":"IFERROR(INDIRECT(\"'\"&$B499&\"'!$d$7\"),\"\")","v":""},{"$f":"IFERROR(INDIRECT(\"'\"&$B499&\"'!$d$8\"),\"\")","v":""},{"$f":"IFERROR(IF(OR(SHEETNAME($A499)=\"HIDE\",SHEETNAME($A499)=\"Start Here\",SHEETNAME($A499)=\"Template\"),\"\",HYPERLINK(\"#'\"&B499&\"'!A1\",\"Go to Sheet\")),\"\")","v":""},{"$f":"IFERROR(IF(INDIRECT(\"'\"&$B499&\"'!$U$7\"),INDIRECT(\"'\"&$B499&\"'!$u$9\"),\"(\"&INDIRECT(\"'\"&$B499&\"'!$U$8\")&\")\"),\"\")","v":""},{"$f":"IF(L499,\"This site has incomplete Cost and Revenue data.  \",\"\")&IF(M499,\"WFRS data for previous quarters is incomplete.  \",\"\")&IF(K499,IFERROR(INDIRECT(\"'\"&$B499&\"'!$g$9\"),\"\"),\"\")","v":""},false,{"$f":"IFERROR(INDIRECT(\"'\"&$B499&\"'!$u$7\"),FALSE)","v":false},{"$f":"IFERROR(INDIRECT(\"'\"&$B499&\"'!$u$10\"),FALSE)","v":false},{"$f":"IFERROR(INDIRECT(\"'\"&$B499&\"'!$AC$12\"),FALSE)","v":false},{"$f":"IFERROR(INDIRECT(\"'\"&$B499&\"'!$ad$12\"),FALSE)","v":false},null,{"$f":"IFERROR(INDIRECT(\"'\"&$B499&\"'!$d$10\"),\"\")","v":""},{"$f":"IFERROR(INDIRECT(\"'\"&$B499&\"'!$d$33\"),\"\")","v":""},{"$f":"IFERROR(INDIRECT(\"'\"&$B499&\"'!$j$33\")+INDIRECT(\"'\"&$B499&\"'!$k$33\"),\"\")","v":""},{"$f":"IFERROR(INDIRECT(\"'\"&$B499&\"'!$q$33\"),\"\")","v":""},{"$f":"IFERROR(INDIRECT(\"'\"&$B499&\"'!$e$33\"),\"\")","v":""},{"$f":"IFERROR(INDIRECT(\"'\"&$B499&\"'!$L$33\"),\"\")","v":""},{"$f":"IFERROR(INDIRECT(\"'\"&$B499&\"'!$g$33\")+INDIRECT(\"'\"&$B499&\"'!$h$33\")+INDIRECT(\"'\"&$B499&\"'!$i$33\"),\"\")","v":""}]
[464,{"$f":"IFERROR(IF(OR(SHEETNAME(A500)=\"HIDE\",SHEETNAME(A500)=\"Start Here\",SHEETNAME(A500)=\"Template\"),\"\",SHEETNAME(A500)),\"\")","v":""},{"$f":"IFERROR(INDIRECT(\"'\"&$B500&\"'!$d$6\"),\"\")","v":""},{"$f":"IFERROR(INDIRECT(\"'\"&$B500&\"'!$d$7\"),\"\")","v":""},{"$f":"IFERROR(INDIRECT(\"'\"&$B500&\"'!$d$8\"),\"\")","v":""},{"$f":"IFERROR(IF(OR(SHEETNAME($A500)=\"HIDE\",SHEETNAME($A500)=\"Start Here\",SHEETNAME($A500)=\"Template\"),\"\",HYPERLINK(\"#'\"&B500&\"'!A1\",\"Go to Sheet\")),\"\")","v":""},{"$f":"IFERROR(IF(INDIRECT(\"'\"&$B500&\"'!$U$7\"),INDIRECT(\"'\"&$B500&\"'!$u$9\"),\"(\"&INDIRECT(\"'\"&$B500&\"'!$U$8\")&\")\"),\"\")","v":""},{"$f":"IF(L500,\"This site has incomplete Cost and Revenue data.  \",\"\")&IF(M500,\"WFRS data for previous quarters is incomplete.  \",\"\")&IF(K500,IFERROR(INDIRECT(\"'\"&$B500&\"'!$g$9\"),\"\"),\"\")","v":""},false,{"$f":"IFERROR(INDIRECT(\"'\"&$B500&\"'!$u$7\"),FALSE)","v":false},{"$f":"IFERROR(INDIRECT(\"'\"&$B500&\"'!$u$10\"),FALSE)","v":false},{"$f":"IFERROR(INDIRECT(\"'\"&$B500&\"'!$AC$12\"),FALSE)","v":false},{"$f":"IFERROR(INDIRECT(\"'\"&$B500&\"'!$ad$12\"),FALSE)","v":false},null,{"$f":"IFERROR(INDIRECT(\"'\"&$B500&\"'!$d$10\"),\"\")","v":""},{"$f":"IFERROR(INDIRECT(\"'\"&$B500&\"'!$d$33\"),\"\")","v":""},{"$f":"IFERROR(INDIRECT(\"'\"&$B500&\"'!$j$33\")+INDIRECT(\"'\"&$B500&\"'!$k$33\"),\"\")","v":""},{"$f":"IFERROR(INDIRECT(\"'\"&$B500&\"'!$q$33\"),\"\")","v":""},{"$f":"IFERROR(INDIRECT(\"'\"&$B500&\"'!$e$33\"),\"\")","v":""},{"$f":"IFERROR(INDIRECT(\"'\"&$B500&\"'!$L$33\"),\"\")","v":""},{"$f":"IFERROR(INDIRECT(\"'\"&$B500&\"'!$g$33\")+INDIRECT(\"'\"&$B500&\"'!$h$33\")+INDIRECT(\"'\"&$B500&\"'!$i$33\"),\"\")","v":""}]
[465,{"$f":"IFERROR(IF(OR(SHEETNAME(A501)=\"HIDE\",SHEETNAME(A501)=\"Start Here\",SHEETNAME(A501)=\"Template\"),\"\",SHEETNAME(A501)),\"\")","v":""},{"$f":"IFERROR(INDIRECT(\"'\"&$B501&\"'!$d$6\"),\"\")","v":""},{"$f":"IFERROR(INDIRECT(\"'\"&$B501&\"'!$d$7\"),\"\")","v":""},{"$f":"IFERROR(INDIRECT(\"'\"&$B501&\"'!$d$8\"),\"\")","v":""},{"$f":"IFERROR(IF(OR(SHEETNAME($A501)=\"HIDE\",SHEETNAME($A501)=\"Start Here\",SHEETNAME($A501)=\"Template\"),\"\",HYPERLINK(\"#'\"&B501&\"'!A1\",\"Go to Sheet\")),\"\")","v":""},{"$f":"IFERROR(IF(INDIRECT(\"'\"&$B501&\"'!$U$7\"),INDIRECT(\"'\"&$B501&\"'!$u$9\"),\"(\"&INDIRECT(\"'\"&$B501&\"'!$U$8\")&\")\"),\"\")","v":""},{"$f":"IF(L501,\"This site has incomplete Cost and Revenue data.  \",\"\")&IF(M501,\"WFRS data for previous quarters is incomplete.  \",\"\")&IF(K501,IFERROR(INDIRECT(\"'\"&$B501&\"'!$g$9\"),\"\"),\"\")","v":""},false,{"$f":"IFERROR(INDIRECT(\"'\"&$B501&\"'!$u$7\"),FALSE)","v":false},{"$f":"IFERROR(INDIRECT(\"'\"&$B501&\"'!$u$10\"),FALSE)","v":false},{"$f":"IFERROR(INDIRECT(\"'\"&$B501&\"'!$AC$12\"),FALSE)","v":false},{"$f":"IFERROR(INDIRECT(\"'\"&$B501&\"'!$ad$12\"),FALSE)","v":false},null,{"$f":"IFERROR(INDIRECT(\"'\"&$B501&\"'!$d$10\"),\"\")","v":""},{"$f":"IFERROR(INDIRECT(\"'\"&$B501&\"'!$d$33\"),\"\")","v":""},{"$f":"IFERROR(INDIRECT(\"'\"&$B501&\"'!$j$33\")+INDIRECT(\"'\"&$B501&\"'!$k$33\"),\"\")","v":""},{"$f":"IFERROR(INDIRECT(\"'\"&$B501&\"'!$q$33\"),\"\")","v":""},{"$f":"IFERROR(INDIRECT(\"'\"&$B501&\"'!$e$33\"),\"\")","v":""},{"$f":"IFERROR(INDIRECT(\"'\"&$B501&\"'!$L$33\"),\"\")","v":""},{"$f":"IFERROR(INDIRECT(\"'\"&$B501&\"'!$g$33\")+INDIRECT(\"'\"&$B501&\"'!$h$33\")+INDIRECT(\"'\"&$B501&\"'!$i$33\"),\"\")","v":""}]
[466,{"$f":"IFERROR(IF(OR(SHEETNAME(A502)=\"HIDE\",SHEETNAME(A502)=\"Start Here\",SHEETNAME(A502)=\"Template\"),\"\",SHEETNAME(A502)),\"\")","v":""},{"$f":"IFERROR(INDIRECT(\"'\"&$B502&\"'!$d$6\"),\"\")","v":""},{"$f":"IFERROR(INDIRECT(\"'\"&$B502&\"'!$d$7\"),\"\")","v":""},{"$f":"IFERROR(INDIRECT(\"'\"&$B502&\"'!$d$8\"),\"\")","v":""},{"$f":"IFERROR(IF(OR(SHEETNAME($A502)=\"HIDE\",SHEETNAME($A502)=\"Start Here\",SHEETNAME($A502)=\"Template\"),\"\",HYPERLINK(\"#'\"&B502&\"'!A1\",\"Go to Sheet\")),\"\")","v":""},{"$f":"IFERROR(IF(INDIRECT(\"'\"&$B502&\"'!$U$7\"),INDIRECT(\"'\"&$B502&\"'!$u$9\"),\"(\"&INDIRECT(\"'\"&$B502&\"'!$U$8\")&\")\"),\"\")","v":""},{"$f":"IF(L502,\"This site has incomplete Cost and Revenue data.  \",\"\")&IF(M502,\"WFRS data for previous quarters is incomplete.  \",\"\")&IF(K502,IFERROR(INDIRECT(\"'\"&$B502&\"'!$g$9\"),\"\"),\"\")","v":""},false,{"$f":"IFERROR(INDIRECT(\"'\"&$B502&\"'!$u$7\"),FALSE)","v":false},{"$f":"IFERROR(INDIRECT(\"'\"&$B502&\"'!$u$10\"),FALSE)","v":false},{"$f":"IFERROR(INDIRECT(\"'\"&$B502&\"'!$AC$12\"),FALSE)","v":false},{"$f":"IFERROR(INDIRECT(\"'\"&$B502&\"'!$ad$12\"),FALSE)","v":false},null,{"$f":"IFERROR(INDIRECT(\"'\"&$B502&\"'!$d$10\"),\"\")","v":""},{"$f":"IFERROR(INDIRECT(\"'\"&$B502&\"'!$d$33\"),\"\")","v":""},{"$f":"IFERROR(INDIRECT(\"'\"&$B502&\"'!$j$33\")+INDIRECT(\"'\"&$B502&\"'!$k$33\"),\"\")","v":""},{"$f":"IFERROR(INDIRECT(\"'\"&$B502&\"'!$q$33\"),\"\")","v":""},{"$f":"IFERROR(INDIRECT(\"'\"&$B502&\"'!$e$33\"),\"\")","v":""},{"$f":"IFERROR(INDIRECT(\"'\"&$B502&\"'!$L$33\"),\"\")","v":""},{"$f":"IFERROR(INDIRECT(\"'\"&$B502&\"'!$g$33\")+INDIRECT(\"'\"&$B502&\"'!$h$33\")+INDIRECT(\"'\"&$B502&\"'!$i$33\"),\"\")","v":""}]
[467,{"$f":"IFERROR(IF(OR(SHEETNAME(A503)=\"HIDE\",SHEETNAME(A503)=\"Start Here\",SHEETNAME(A503)=\"Template\"),\"\",SHEETNAME(A503)),\"\")","v":""},{"$f":"IFERROR(INDIRECT(\"'\"&$B503&\"'!$d$6\"),\"\")","v":""},{"$f":"IFERROR(INDIRECT(\"'\"&$B503&\"'!$d$7\"),\"\")","v":""},{"$f":"IFERROR(INDIRECT(\"'\"&$B503&\"'!$d$8\"),\"\")","v":""},{"$f":"IFERROR(IF(OR(SHEETNAME($A503)=\"HIDE\",SHEETNAME($A503)=\"Start Here\",SHEETNAME($A503)=\"Template\"),\"\",HYPERLINK(\"#'\"&B503&\"'!A1\",\"Go to Sheet\")),\"\")","v":""},{"$f":"IFERROR(IF(INDIRECT(\"'\"&$B503&\"'!$U$7\"),INDIRECT(\"'\"&$B503&\"'!$u$9\"),\"(\"&INDIRECT(\"'\"&$B503&\"'!$U$8\")&\")\"),\"\")","v":""},{"$f":"IF(L503,\"This site has incomplete Cost and Revenue data.  \",\"\")&IF(M503,\"WFRS data for previous quarters is incomplete.  \",\"\")&IF(K503,IFERROR(INDIRECT(\"'\"&$B503&\"'!$g$9\"),\"\"),\"\")","v":""},false,{"$f":"IFERROR(INDIRECT(\"'\"&$B503&\"'!$u$7\"),FALSE)","v":false},{"$f":"IFERROR(INDIRECT(\"'\"&$B503&\"'!$u$10\"),FALSE)","v":false},{"$f":"IFERROR(INDIRECT(\"'\"&$B503&\"'!$AC$12\"),FALSE)","v":false},{"$f":"IFERROR(INDIRECT(\"'\"&$B503&\"'!$ad$12\"),FALSE)","v":false},null,{"$f":"IFERROR(INDIRECT(\"'\"&$B503&\"'!$d$10\"),\"\")","v":""},{"$f":"IFERROR(INDIRECT(\"'\"&$B503&\"'!$d$33\"),\"\")","v":""},{"$f":"IFERROR(INDIRECT(\"'\"&$B503&\"'!$j$33\")+INDIRECT(\"'\"&$B503&\"'!$k$33\"),\"\")","v":""},{"$f":"IFERROR(INDIRECT(\"'\"&$B503&\"'!$q$33\"),\"\")","v":""},{"$f":"IFERROR(INDIRECT(\"'\"&$B503&\"'!$e$33\"),\"\")","v":""},{"$f":"IFERROR(INDIRECT(\"'\"&$B503&\"'!$L$33\"),\"\")","v":""},{"$f":"IFERROR(INDIRECT(\"'\"&$B503&\"'!$g$33\")+INDIRECT(\"'\"&$B503&\"'!$h$33\")+INDIRECT(\"'\"&$B503&\"'!$i$33\"),\"\")","v":""}]
[468,{"$f":"IFERROR(IF(OR(SHEETNAME(A504)=\"HIDE\",SHEETNAME(A504)=\"Start Here\",SHEETNAME(A504)=\"Template\"),\"\",SHEETNAME(A504)),\"\")","v":""},{"$f":"IFERROR(INDIRECT(\"'\"&$B504&\"'!$d$6\"),\"\")","v":""},{"$f":"IFERROR(INDIRECT(\"'\"&$B504&\"'!$d$7\"),\"\")","v":""},{"$f":"IFERROR(INDIRECT(\"'\"&$B504&\"'!$d$8\"),\"\")","v":""},{"$f":"IFERROR(IF(OR(SHEETNAME($A504)=\"HIDE\",SHEETNAME($A504)=\"Start Here\",SHEETNAME($A504)=\"Template\"),\"\",HYPERLINK(\"#'\"&B504&\"'!A1\",\"Go to Sheet\")),\"\")","v":""},{"$f":"IFERROR(IF(INDIRECT(\"'\"&$B504&\"'!$U$7\"),INDIRECT(\"'\"&$B504&\"'!$u$9\"),\"(\"&INDIRECT(\"'\"&$B504&\"'!$U$8\")&\")\"),\"\")","v":""},{"$f":"IF(L504,\"This site has incomplete Cost and Revenue data.  \",\"\")&IF(M504,\"WFRS data for previous quarters is incomplete.  \",\"\")&IF(K504,IFERROR(INDIRECT(\"'\"&$B504&\"'!$g$9\"),\"\"),\"\")","v":""},false,{"$f":"IFERROR(INDIRECT(\"'\"&$B504&\"'!$u$7\"),FALSE)","v":false},{"$f":"IFERROR(INDIRECT(\"'\"&$B504&\"'!$u$10\"),FALSE)","v":false},{"$f":"IFERROR(INDIRECT(\"'\"&$B504&\"'!$AC$12\"),FALSE)","v":false},{"$f":"IFERROR(INDIRECT(\"'\"&$B504&\"'!$ad$12\"),FALSE)","v":false},null,{"$f":"IFERROR(INDIRECT(\"'\"&$B504&\"'!$d$10\"),\"\")","v":""},{"$f":"IFERROR(INDIRECT(\"'\"&$B504&\"'!$d$33\"),\"\")","v":""},{"$f":"IFERROR(INDIRECT(\"'\"&$B504&\"'!$j$33\")+INDIRECT(\"'\"&$B504&\"'!$k$33\"),\"\")","v":""},{"$f":"IFERROR(INDIRECT(\"'\"&$B504&\"'!$q$33\"),\"\")","v":""},{"$f":"IFERROR(INDIRECT(\"'\"&$B504&\"'!$e$33\"),\"\")","v":""},{"$f":"IFERROR(INDIRECT(\"'\"&$B504&\"'!$L$33\"),\"\")","v":""},{"$f":"IFERROR(INDIRECT(\"'\"&$B504&\"'!$g$33\")+INDIRECT(\"'\"&$B504&\"'!$h$33\")+INDIRECT(\"'\"&$B504&\"'!$i$33\"),\"\")","v":""}]

{"sheet":"Template","index":2,"n_rows":43,"n_cols":31,"rows_kept":43,"cut":false,"hidden":false,"merged":[]}
[{"$f":"IF(MID(CELL(\"filename\",A1),FIND(\"]\",CELL(\"filename\",A1))+1,255)=\"Template\",100,0)","v":100},null,null,null,null,null,null,null,null,null,null,null,null,null,null,null,null,null,null,null,"HIDE","HIDE","HIDE","HIDE","HIDE","HIDE","HIDE","HIDE","HIDE","HIDE","HIDE"]
[null,"Ecology FAST CHARGING INFRASTRUCTURE (FCI) COST & REVENUE REPORT",null,null,null,null,null,{"$f":"IF(MID(CELL(\"filename\",A1),FIND(\"]\",CELL(\"filename\",A1))+1,255)=\"Template\",\"COPY AND RENAME THIS WORKSHEET TO START A NEW SITE'S REPORT\",\"CONTAINS CONFIDENTIAL INFORMATION\")","v":"COPY AND RENAME THIS WORKSHEET TO START A NEW SITE'S REPORT"}]
[null,"Confirm Reporting Quarter is correct in \"Start Here\" worksheet.",null,null,null,null,null,{"$f":"IF(MID(CELL(\"filename\",A1),FIND(\"]\",CELL(\"filename\",A1))+1,255)=\"Template\",\"DO NOT MOVE, DELETE OR RENAME THIS TEMPLATE WORKSHEET\",\"\")","v":"DO NOT MOVE, DELETE OR RENAME THIS TEMPLATE WORKSHEET"}]
[null,null,null,null,null,null,null,null,null,null,null,"Key"]
[null,null,"Owner Name",{"$f":"SiteOwner","v":0},null,null,{"$f":"IF(OR($U$7,NOT(SUM(D32:M32)=0)),\"This site has reached its FCI credit limit as of \"&U9&\".\",\"\")","v":""},null,null,null,null,"Data from Site Owner",null,null,null,null,{"$f":"IF(U7,\"\",\"Estimated\")&\" Last Quarter of FCI Credits\"","v":"Estimated Last Quarter of FCI Credits"},{"$f":"IFERROR(IF(U7,U9,U8),\"\")","v":""}]
[null,null,"Site Name",null,null,null,{"$f":"IF(OR($U$7,NOT(SUM(D32:M32)=0)),\"Please notify Ecology CFS FCI staff.\",\"\")","v":""},null,null,null,null,"Data from Ecology",null,null,null,null,"Total Capital Expenditure",{"$f":"D33","v":0}]
[null,null,"Address",null,null,null,null,null,null,null,null,"Calculation",null,null,null,null,"Total Grant Funding",{"$f":"SUM(J33:K33)","v":0},null,null,{"$f":"R9>R8","v":false}]
[null,null,"Number of FSEs",null,null,null,{"$f":"IF($U$7,\"Ecology will reclaim any FCI credits generated by this site\"&IF($V$12,\".\",\" after \"&U9&\".\"),\"\")","v":""},null,null,null,null,"Do not input",null,null,null,null,"Difference",{"$f":"R6-R7","v":0},null,null,{"$f":"VLOOKUP(MIN(VLOOKUP($C$32,HIDE!$D$3:$F$50,3,FALSE),VLOOKUP(AE12,HIDE!$D$3:$F$50,3,FALSE)+(R8-R9)/$AA$33/4),HIDE!$F$3:$H$50,3,TRUE)","v":{"$error":"#N/A"}}]
[null,null,"Reporting Quarter",{"$f":"ReportQuarter","v":0},null,null,{"$f":"IF(O34>0,\"This site has been incorrectly issued approximately \"&O34&\" FCI credits.\",\"\")","v":""},null,null,null,null,"Invalid Credits",null,null,null,null,"FCI Credits Estimated Cumulative Value",{"$f":"$R$33","v":0},null,null,{"$f":"Y11","v":{"$error":"#N/A"}}]
[null,null,null,{"$f":"(VLOOKUP($D$9,HIDE!$D$3:$F$50,3,FALSE)-VLOOKUP($C$13,HIDE!$D$3:$F$50,3,FALSE))*4+1","v":{"$error":"#N/A"}},null,null,null,null,null,null,null,null,null,null,null,null,null,null,null,null,{"$f":"OR(U12:U32)","v":false},{"$f":"OR(V12:V32)","v":false}]
[null,"Quarter # \nin Project's Life","Calender Quarter/Year (QQ/YYYY)","CAPEX \n($)","Total delivered cost of electricity \n($)","Average delivered cost of electricity ($/kWh)","Maintenance costs \n($)","Rental costs \n($)","Other Operational costs \n($)","CAPEX Grant revenue \n($)","OPEX Grant revenue \n($)","Total electricity sale revenue \n($)","Average electricity retail price \n($/kWh)","Additional Notes","FCI Credits per Site","Average CFS Credit Price","Estimated Value of FCI Credits","Discounted Estimated Value of FCI Credits","FCI Credits Estimated Cumulative Credit Value","Cumulative CAPEX - Grant","Red Test","CapEx Test","Con- secutive Exceed- ance","Reverse Order to find Last \"1\"",{"$f":"VLOOKUP(1,X12:Y32,2,FALSE)","v":{"$error":"#N/A"}},"Last CapEx Test?","Predict",null,"Site Data \nNot Up \nto Date?","CARB Data \nNot Up \nto Date?","CARB Data Input?"]
[null,"Prior to 1",{"$f":"\"prior to \"&C13","v":"prior to "},null,null,null,null,null,null,null,null,null,null,null,null,null,null,null,0,null,{"$f":"0>(SUM($D$12:D12)-SUM(J$12:J12))","v":false},{"$f":"S12>(SUM($D$12:D12)-SUM(J$12:J12))","v":false},{"$f":"IF(V12,1,0)","v":0},{"$f":"W32","v":0},{"$f":"C32","v":{"$error":"#N/A"}},{"$f":"AND($V12,NOT(OR($V13:$V$32)))","v":false},"Weighted","Weight",{"$f":"AND(OR(AC13:AC32),NOT(U7))","v":{"$error":"#N/A"}},{"$f":"AND(OR(AD13:AD32),NOT(U7))","v":{"$error":"#N/A"}},{"$f":"INDEX($C$13:$C$32,COUNTIF(AE13:AE32,TRUE))","v":{"$error":"#VALUE!"}}]
[null,1,null,null,null,null,null,null,null,null,null,null,null,null,null,null,null,{"$f":"IF(OR(ISBLANK(P13),U13),\"\",Q13*(1-Qdiscount)^B13)","v":""},{"$f":"SUM($R$13:R13)","v":0},{"$f":"SUM($D$12:D13)-SUM(J$12:J13)","v":0},{"$f":"IF(Q13=0,FALSE,0>(SUM($D$12:D13)-SUM(J$12:J13)))","v":false},{"$f":"IF(ISBLANK(Q13),FALSE,S13>(SUM($D$12:D13)-SUM(J$12:J13)))","v":false},{"$f":"IF(V13,W12+1,0)","v":0},{"$f":"W31","v":0},{"$f":"C31","v":{"$error":"#N/A"}},{"$f":"AND($V13,NOT(OR($V14:$V$32)))","v":false},{"$f":"IFERROR($Q13*$B13^(2),0)","v":0},{"$f":"IF(AA13=0,0,$B13^(2))","v":0},{"$f":"AND(VLOOKUP(ReportQuarter,HIDE!$D$3:$F$50,3,FALSE)>=VLOOKUP($C13,HIDE!$D$3:$F$50,3,FALSE),SUM(D13:M13)=0)","v":{"$error":"#N/A"}},{"$f":"AND(VLOOKUP(ReportQuarter,HIDE!$D$3:$F$50,3,FALSE)>=VLOOKUP($C14,HIDE!$D$3:$F$50,3,FALSE),SUM(O13:Q13)=0)","v":{"$error":"#N/A"}},{"$f":"NOT(SUM(P13:R13)=0)","v":false}]
[null,2,{"$f":"VLOOKUP(C13,HIDE!$D$3:$E$50,2,FALSE)","v":{"$error":"#N/A"}},null,null,null,null,null,null,null,null,null,null,null,null,null,null,"",{"$f":"SUM($R$13:R14)","v":0},{"$f":"SUM($D$12:D14)-SUM(J$12:J14)","v":0},{"$f":"IF(Q14=0,FALSE,0>(SUM($D$12:D14)-SUM(J$12:J14)))","v":false},{"$f":"IF(ISBLANK(Q14),FALSE,S14>(SUM($D$12:D14)-SUM(J$12:J14)))","v":false},{"$f":"IF(V14,W13+1,0)","v":0},{"$f":"W30","v":0},{"$f":"C30","v":{"$error":"#N/A"}},{"$f":"AND($V14,NOT(OR($V15:$V$32)))","v":false},{"$f":"IFERROR($Q14*$B14^(2),0)","v":0},{"$f":"IF(AA14=0,0,$B14^(2))","v":0},{"$f":"AND(VLOOKUP(ReportQuarter,HIDE!$D$3:$F$50,3,FALSE)>=VLOOKUP($C14,HIDE!$D$3:$F$50,3,FALSE),SUM(D14:M14)=0)","v":{"$error":"#N/A"}},{"$f":"AND(VLOOKUP(ReportQuarter,HIDE!$D$3:$F$50,3,FALSE)>=VLOOKUP($C15,HIDE!$D$3:$F$50,3,FALSE),SUM(O14:Q14)=0)","v":{"$error":"#N/A"}},{"$f":"NOT(SUM(P14:R14)=0)","v":false}]
[null,3,{"$f":"VLOOKUP(C14,HIDE!$D$3:$E$50,2,FALSE)","v":{"$error":"#N/A"}},null,null,null,null,null,null,null,null,null,null,null,null,null,null,"",{"$f":"SUM($R$13:R15)","v":0},{"$f":"SUM($D$12:D15)-SUM(J$12:J15)","v":0},{"$f":"IF(Q15=0,FALSE,0>(SUM($D$12:D15)-SUM(J$12:J15)))","v":false},{"$f":"IF(ISBLANK(Q15),FALSE,S15>(SUM($D$12:D15)-SUM(J$12:J15)))","v":false},0,{"$f":"W29","v":0},{"$f":"C29","v":{"$error":"#N/A"}},{"$f":"AND($V15,NOT(OR($V16:$V$32)))","v":false},0,0,{"$f":"AND(VLOOKUP(ReportQuarter,HIDE!$D$3:$F$50,3,FALSE)>=VLOOKUP($C15,HIDE!$D$3:$F$50,3,FALSE),SUM(D15:M15)=0)","v":{"$error":"#N/A"}},{"$f":"AND(VLOOKUP(ReportQuarter,HIDE!$D$3:$F$50,3,FALSE)>=VLOOKUP($C16,HIDE!$D$3:$F$50,3,FALSE),SUM(O15:Q15)=0)","v":{"$error":"#N/A"}},false]
[null,4,{"$f":"VLOOKUP(C15,HIDE!$D$3:$E$50,2,FALSE)","v":{"$error":"#N/A"}},null,null,null,null,null,null,null,null,null,null,null,null,null,null,"",{"$f":"SUM($R$13:R16)","v":0},{"$f":"SUM($D$12:D16)-SUM(J$12:J16)","v":0},{"$f":"IF(Q16=0,FALSE,0>(SUM($D$12:D16)-SUM(J$12:J16)))","v":false},{"$f":"IF(ISBLANK(Q16),FALSE,S16>(SUM($D$12:D16)-SUM(J$12:J16)))","v":false},0,{"$f":"W28","v":0},{"$f":"C28","v":{"$error":"#N/A"}},{"$f":"AND($V16,NOT(OR($V17:$V$32)))","v":false},0,0,{"$f":"AND(VLOOKUP(ReportQuarter,HIDE!$D$3:$F$50,3,FALSE)>=VLOOKUP($C16,HIDE!$D$3:$F$50,3,FALSE),SUM(D16:M16)=0)","v":{"$error":"#N/A"}},{"$f":"AND(VLOOKUP(ReportQuarter,HIDE!$D$3:$F$50,3,FALSE)>=VLOOKUP($C17,HIDE!$D$3:$F$50,3,FALSE),SUM(O16:Q16)=0)","v":{"$error":"#N/A"}},false]
[null,5,{"$f":"VLOOKUP(C16,HIDE!$D$3:$E$50,2,FALSE)","v":{"$error":"#N/A"}},null,null,null,null,null,null,null,null,null,null,null,null,null,null,"",{"$f":"SUM($R$13:R17)","v":0},{"$f":"SUM($D$12:D17)-SUM(J$12:J17)","v":0},{"$f":"IF(Q17=0,FALSE,0>(SUM($D$12:D17)-SUM(J$12:J17)))","v":false},{"$f":"IF(ISBLANK(Q17),FALSE,S17>(SUM($D$12:D17)-SUM(J$12:J17)))","v":false},0,{"$f":"W27","v":0},{"$f":"C27","v":{"$error":"#N/A"}},{"$f":"AND($V17,NOT(OR($V18:$V$32)))","v":false},0,0,{"$f":"AND(VLOOKUP(ReportQuarter,HIDE!$D$3:$F$50,3,FALSE)>=VLOOKUP($C17,HIDE!$D$3:$F$50,3,FALSE),SUM(D17:M17)=0)","v":{"$error":"#N/A"}},{"$f":"AND(VLOOKUP(ReportQuarter,HIDE!$D$3:$F$50,3,FALSE)>=VLOOKUP($C18,HIDE!$D$3:$F$50,3,FALSE),SUM(O17:Q17)=0)","v":{"$error":"#N/A"}},false]
[null,6,{"$f":"VLOOKUP(C17,HIDE!$D$3:$E$50,2,FALSE)","v":{"$error":"#N/A"}},null,null,null,null,null,null,null,null,null,null,null,null,null,null,"",{"$f":"SUM($R$13:R18)","v":0},{"$f":"SUM($D$12:D18)-SUM(J$12:J18)","v":0},{"$f":"IF(Q18=0,FALSE,0>(SUM($D$12:D18)-SUM(J$12:J18)))","v":false},{"$f":"IF(ISBLANK(Q18),FALSE,S18>(SUM($D$12:D18)-SUM(J$12:J18)))","v":false},0,{"$f":"W26","v":0},{"$f":"C26","v":{"$error":"#N/A"}},{"$f":"AND($V18,NOT(OR($V19:$V$32)))","v":false},0,0,{"$f":"AND(VLOOKUP(ReportQuarter,HIDE!$D$3:$F$50,3,FALSE)>=VLOOKUP($C18,HIDE!$D$3:$F$50,3,FALSE),SUM(D18:M18)=0)","v":{"$error":"#N/A"}},{"$f":"AND(VLOOKUP(ReportQuarter,HIDE!$D$3:$F$50,3,FALSE)>=VLOOKUP($C19,HIDE!$D$3:$F$50,3,FALSE),SUM(O18:Q18)=0)","v":{"$error":"#N/A"}},false]
[null,7,{"$f":"VLOOKUP(C18,HIDE!$D$3:$E$50,2,FALSE)","v":{"$error":"#N/A"}},null,null,null,null,null,null,null,null,null,null,null,null,null,null,"",{"$f":"SUM($R$13:R19)","v":0},{"$f":"SUM($D$12:D19)-SUM(J$12:J19)","v":0},{"$f":"IF(Q19=0,FALSE,0>(SUM($D$12:D19)-SUM(J$12:J19)))","v":false},{"$f":"IF(ISBLANK(Q19),FALSE,S19>(SUM($D$12:D19)-SUM(J$12:J19)))","v":false},0,{"$f":"W25","v":0},{"$f":"C25","v":{"$error":"#N/A"}},{"$f":"AND($V19,NOT(OR($V20:$V$32)))","v":false},0,0,{"$f":"AND(VLOOKUP(ReportQuarter,HIDE!$D$3:$F$50,3,FALSE)>=VLOOKUP($C19,HIDE!$D$3:$F$50,3,FALSE),SUM(D19:M19)=0)","v":{"$error":"#N/A"}},{"$f":"AND(VLOOKUP(ReportQuarter,HIDE!$D$3:$F$50,3,FALSE)>=VLOOKUP($C20,HIDE!$D$3:$F$50,3,FALSE),SUM(O19:Q19)=0)","v":{"$error":"#N/A"}},false]
[null,8,{"$f":"VLOOKUP(C19,HIDE!$D$3:$E$50,2,FALSE)","v":{"$error":"#N/A"}},null,null,null,null,null,null,null,null,null,null,null,null,null,null,"",{"$f":"SUM($R$13:R20)","v":0},{"$f":"SUM($D$12:D20)-SUM(J$12:J20)","v":0},{"$f":"IF(Q20=0,FALSE,0>(SUM($D$12:D20)-SUM(J$12:J20)))","v":false},{"$f":"IF(ISBLANK(Q20),FALSE,S20>(SUM($D$12:D20)-SUM(J$12:J20)))","v":false},0,{"$f":"W24","v":0},{"$f":"C24","v":{"$error":"#N/A"}},{"$f":"AND($V20,NOT(OR($V21:$V$32)))","v":false},0,0,{"$f":"AND(VLOOKUP(ReportQuarter,HIDE!$D$3:$F$50,3,FALSE)>=VLOOKUP($C20,HIDE!$D$3:$F$50,3,FALSE),SUM(D20:M20)=0)","v":{"$error":"#N/A"}},{"$f":"AND(VLOOKUP(ReportQuarter,HIDE!$D$3:$F$50,3,FALSE)>=VLOOKUP($C21,HIDE!$D$3:$F$50,3,FALSE),SUM(O20:Q20)=0)","v":{"$error":"#N/A"}},false]
[null,9,{"$f":"VLOOKUP(C20,HIDE!$D$3:$E$50,2,FALSE)","v":{"$error":"#N/A"}},null,null,null,null,null,null,null,null,null,null,null,null,null,null,"",{"$f":"SUM($R$13:R21)","v":0},{"$f":"SUM($D$12:D21)-SUM(J$12:J21)","v":0},{"$f":"IF(Q21=0,FALSE,0>(SUM($D$12:D21)-SUM(J$12:J21)))","v":false},{"$f":"IF(ISBLANK(Q21),FALSE,S21>(SUM($D$12:D21)-SUM(J$12:J21)))","v":false},0,{"$f":"W23","v":0},{"$f":"C23","v":{"$error":"#N/A"}},{"$f":"AND($V21,NOT(OR($V22:$V$32)))","v":false},0,0,{"$f":"AND(VLOOKUP(ReportQuarter,HIDE!$D$3:$F$50,3,FALSE)>=VLOOKUP($C21,HIDE!$D$3:$F$50,3,FALSE),SUM(D21:M21)=0)","v":{"$error":"#N/A"}},{"$f":"AND(VLOOKUP(ReportQuarter,HIDE!$D$3:$F$50,3,FALSE)>=VLOOKUP($C22,HIDE!$D$3:$F$50,3,FALSE),SUM(O21:Q21)=0)","v":{"$error":"#N/A"}},false]
[null,10,{"$f":"VLOOKUP(C21,HIDE!$D$3:$E$50,2,FALSE)","v":{"$error":"#N/A"}},null,null,null,null,null,null,null,null,null,null,null,null,null,null,"",{"$f":"SUM($R$13:R22)","v":0},{"$f":"SUM($D$12:D22)-SUM(J$12:J22)","v":0},{"$f":"IF(Q22=0,FALSE,0>(SUM($D$12:D22)-SUM(J$12:J22)))","v":false},{"$f":"IF(ISBLANK(Q22),FALSE,S22>(SUM($D$12:D22)-SUM(J$12:J22)))","v":false},0,{"$f":"W22","v":0},{"$f":"C22","v":{"$error":"#N/A"}},{"$f":"AND($V22,NOT(OR($V23:$V$32)))","v":false},0,0,{"$f":"AND(VLOOKUP(ReportQuarter,HIDE!$D$3:$F$50,3,FALSE)>=VLOOKUP($C22,HIDE!$D$3:$F$50,3,FALSE),SUM(D22:M22)=0)","v":{"$error":"#N/A"}},{"$f":"AND(VLOOKUP(ReportQuarter,HIDE!$D$3:$F$50,3,FALSE)>=VLOOKUP($C23,HIDE!$D$3:$F$50,3,FALSE),SUM(O22:Q22)=0)","v":{"$error":"#N/A"}},false]
[null,11,{"$f":"VLOOKUP(C22,HIDE!$D$3:$E$50,2,FALSE)","v":{"$error":"#N/A"}},null,null,null,null,null,null,null,null,null,null,null,null,null,null,"",{"$f":"SUM($R$13:R23)","v":0},{"$f":"SUM($D$12:D23)-SUM(J$12:J23)","v":0},{"$f":"IF(Q23=0,FALSE,0>(SUM($D$12:D23)-SUM(J$12:J23)))","v":false},{"$f":"IF(ISBLANK(Q23),FALSE,S23>(SUM($D$12:D23)-SUM(J$12:J23)))","v":false},0,{"$f":"W21","v":0},{"$f":"C21","v":{"$error":"#N/A"}},{"$f":"AND($V23,NOT(OR($V24:$V$32)))","v":false},0,0,{"$f":"AND(VLOOKUP(ReportQuarter,HIDE!$D$3:$F$50,3,FALSE)>=VLOOKUP($C23,HIDE!$D$3:$F$50,3,FALSE),SUM(D23:M23)=0)","v":{"$error":"#N/A"}},{"$f":"AND(VLOOKUP(ReportQuarter,HIDE!$D$3:$F$50,3,FALSE)>=VLOOKUP($C24,HIDE!$D$3:$F$50,3,FALSE),SUM(O23:Q23)=0)","v":{"$error":"#N/A"}},false]
[null,12,{"$f":"VLOOKUP(C23,HIDE!$D$3:$E$50,2,FALSE)","v":{"$error":"#N/A"}},null,null,null,null,null,null,null,null,null,null,null,null,null,null,"",{"$f":"SUM($R$13:R24)","v":0},{"$f":"SUM($D$12:D24)-SUM(J$12:J24)","v":0},{"$f":"IF(Q24=0,FALSE,0>(SUM($D$12:D24)-SUM(J$12:J24)))","v":false},{"$f":"IF(ISBLANK(Q24),FALSE,S24>(SUM($D$12:D24)-SUM(J$12:J24)))","v":false},0,{"$f":"W20","v":0},{"$f":"C20","v":{"$error":"#N/A"}},{"$f":"AND($V24,NOT(OR($V25:$V$32)))","v":false},0,0,{"$f":"AND(VLOOKUP(ReportQuarter,HIDE!$D$3:$F$50,3,FALSE)>=VLOOKUP($C24,HIDE!$D$3:$F$50,3,FALSE),SUM(D24:M24)=0)","v":{"$error":"#N/A"}},{"$f":"AND(VLOOKUP(ReportQuarter,HIDE!$D$3:$F$50,3,FALSE)>=VLOOKUP($C25,HIDE!$D$3:$F$50,3,FALSE),SUM(O24:Q24)=0)","v":{"$error":"#N/A"}},false]
[null,13,{"$f":"VLOOKUP(C24,HIDE!$D$3:$E$50,2,FALSE)","v":{"$error":"#N/A"}},null,null,null,null,null,null,null,null,null,null,null,null,null,null,"",{"$f":"SUM($R$13:R25)","v":0},{"$f":"SUM($D$12:D25)-SUM(J$12:J25)","v":0},{"$f":"IF(Q25=0,FALSE,0>(SUM($D$12:D25)-SUM(J$12:J25)))","v":false},{"$f":"IF(ISBLANK(Q25),FALSE,S25>(SUM($D$12:D25)-SUM(J$12:J25)))","v":false},0,{"$f":"W19","v":0},{"$f":"C19","v":{"$error":"#N/A"}},{"$f":"AND($V25,NOT(OR($V26:$V$32)))","v":false},0,0,{"$f":"AND(VLOOKUP(ReportQuarter,HIDE!$D$3:$F$50,3,FALSE)>=VLOOKUP($C25,HIDE!$D$3:$F$50,3,FALSE),SUM(D25:M25)=0)","v":{"$error":"#N/A"}},{"$f":"AND(VLOOKUP(ReportQuarter,HIDE!$D$3:$F$50,3,FALSE)>=VLOOKUP($C26,HIDE!$D$3:$F$50,3,FALSE),SUM(O25:Q25)=0)","v":{"$error":"#N/A"}},false]
[null,14,{"$f":"VLOOKUP(C25,HIDE!$D$3:$E$50,2,FALSE)","v":{"$error":"#N/A"}},null,null,null,null,null,null,null,null,null,null,null,null,null,null,"",{"$f":"SUM($R$13:R26)","v":0},{"$f":"SUM($D$12:D26)-SUM(J$12:J26)","v":0},{"$f":"IF(Q26=0,FALSE,0>(SUM($D$12:D26)-SUM(J$12:J26)))","v":false},{"$f":"IF(ISBLANK(Q26),FALSE,S26>(SUM($D$12:D26)-SUM(J$12:J26)))","v":false},0,{"$f":"W18","v":0},{"$f":"C18","v":{"$error":"#N/A"}},{"$f":"AND($V26,NOT(OR($V27:$V$32)))","v":false},0,0,{"$f":"AND(VLOOKUP(ReportQuarter,HIDE!$D$3:$F$50,3,FALSE)>=VLOOKUP($C26,HIDE!$D$3:$F$50,3,FALSE),SUM(D26:M26)=0)","v":{"$error":"#N/A"}},{"$f":"AND(VLOOKUP(ReportQuarter,HIDE!$D$3:$F$50,3,FALSE)>=VLOOKUP($C27,HIDE!$D$3:$F$50,3,FALSE),SUM(O26:Q26)=0)","v":{"$error":"#N/A"}},false]
[null,15,{"$f":"VLOOKUP(C26,HIDE!$D$3:$E$50,2,FALSE)","v":{"$error":"#N/A"}},null,null,null,null,null,null,null,null,null,null,null,null,null,null,"",{"$f":"SUM($R$13:R27)","v":0},{"$f":"SUM($D$12:D27)-SUM(J$12:J27)","v":0},{"$f":"IF(Q27=0,FALSE,0>(SUM($D$12:D27)-SUM(J$12:J27)))","v":false},{"$f":"IF(ISBLANK(Q27),FALSE,S27>(SUM($D$12:D27)-SUM(J$12:J27)))","v":false},0,{"$f":"W17","v":0},{"$f":"C17","v":{"$error":"#N/A"}},{"$f":"AND($V27,NOT(OR($V28:$V$32)))","v":false},0,0,{"$f":"AND(VLOOKUP(ReportQuarter,HIDE!$D$3:$F$50,3,FALSE)>=VLOOKUP($C27,HIDE!$D$3:$F$50,3,FALSE),SUM(D27:M27)=0)","v":{"$error":"#N/A"}},{"$f":"AND(VLOOKUP(ReportQuarter,HIDE!$D$3:$F$50,3,FALSE)>=VLOOKUP($C28,HIDE!$D$3:$F$50,3,FALSE),SUM(O27:Q27)=0)","v":{"$error":"#N/A"}},false]
[null,16,{"$f":"VLOOKUP(C27,HIDE!$D$3:$E$50,2,FALSE)","v":{"$error":"#N/A"}},null,null,null,null,null,null,null,null,null,null,null,null,null,null,"",{"$f":"SUM($R$13:R28)","v":0},{"$f":"SUM($D$12:D28)-SUM(J$12:J28)","v":0},{"$f":"IF(Q28=0,FALSE,0>(SUM($D$12:D28)-SUM(J$12:J28)))","v":false},{"$f":"IF(ISBLANK(Q28),FALSE,S28>(SUM($D$12:D28)-SUM(J$12:J28)))","v":false},0,{"$f":"W16","v":0},{"$f":"C16","v":{"$error":"#N/A"}},{"$f":"AND($V28,NOT(OR($V29:$V$32)))","v":false},0,0,{"$f":"AND(VLOOKUP(ReportQuarter,HIDE!$D$3:$F$50,3,FALSE)>=VLOOKUP($C28,HIDE!$D$3:$F$50,3,FALSE),SUM(D28:M28)=0)","v":{"$error":"#N/A"}},{"$f":"AND(VLOOKUP(ReportQuarter,HIDE!$D$3:$F$50,3,FALSE)>=VLOOKUP($C29,HIDE!$D$3:$F$50,3,FALSE),SUM(O28:Q28)=0)","v":{"$error":"#N/A"}},false]
[null,17,{"$f":"VLOOKUP(C28,HIDE!$D$3:$E$50,2,FALSE)","v":{"$error":"#N/A"}},null,null,null,null,null,null,null,null,null,null,null,null,null,null,"",{"$f":"SUM($R$13:R29)","v":0},{"$f":"SUM($D$12:D29)-SUM(J$12:J29)","v":0},{"$f":"IF(Q29=0,FALSE,0>(SUM($D$12:D29)-SUM(J$12:J29)))","v":false},{"$f":"IF(ISBLANK(Q29),FALSE,S29>(SUM($D$12:D29)-SUM(J$12:J29)))","v":false},0,{"$f":"W15","v":0},{"$f":"C15","v":{"$error":"#N/A"}},{"$f":"AND($V29,NOT(OR($V30:$V$32)))","v":false},0,0,{"$f":"AND(VLOOKUP(ReportQuarter,HIDE!$D$3:$F$50,3,FALSE)>=VLOOKUP($C29,HIDE!$D$3:$F$50,3,FALSE),SUM(D29:M29)=0)","v":{"$error":"#N/A"}},{"$f":"AND(VLOOKUP(ReportQuarter,HIDE!$D$3:$F$50,3,FALSE)>=VLOOKUP($C30,HIDE!$D$3:$F$50,3,FALSE),SUM(O29:Q29)=0)","v":{"$error":"#N/A"}},false]
[null,18,{"$f":"VLOOKUP(C29,HIDE!$D$3:$E$50,2,FALSE)","v":{"$error":"#N/A"}},null,null,null,null,null,null,null,null,null,null,null,null,null,null,"",{"$f":"SUM($R$13:R30)","v":0},{"$f":"SUM($D$12:D30)-SUM(J$12:J30)","v":0},{"$f":"IF(Q30=0,FALSE,0>(SUM($D$12:D30)-SUM(J$12:J30)))","v":false},{"$f":"IF(ISBLANK(Q30),FALSE,S30>(SUM($D$12:D30)-SUM(J$12:J30)))","v":false},0,{"$f":"W14","v":0},{"$f":"C14","v":{"$error":"#N/A"}},{"$f":"AND($V30,NOT(OR($V31:$V$32)))","v":false},0,0,{"$f":"AND(VLOOKUP(ReportQuarter,HIDE!$D$3:$F$50,3,FALSE)>=VLOOKUP($C30,HIDE!$D$3:$F$50,3,FALSE),SUM(D30:M30)=0)","v":{"$error":"#N/A"}},{"$f":"AND(VLOOKUP(ReportQuarter,HIDE!$D$3:$F$50,3,FALSE)>=VLOOKUP($C31,HIDE!$D$3:$F$50,3,FALSE),SUM(O30:Q30)=0)","v":{"$error":"#N/A"}},false]
[null,19,{"$f":"VLOOKUP(C30,HIDE!$D$3:$E$50,2,FALSE)","v":{"$error":"#N/A"}},null,null,null,null,null,null,null,null,null,null,null,null,null,null,"",{"$f":"SUM($R$13:R31)","v":0},{"$f":"SUM($D$12:D31)-SUM(J$12:J31)","v":0},{"$f":"IF(Q31=0,FALSE,0>(SUM($D$12:D31)-SUM(J$12:J31)))","v":false},{"$f":"IF(ISBLANK(Q31),FALSE,S31>(SUM($D$12:D31)-SUM(J$12:J31)))","v":false},0,{"$f":"W13","v":0},{"$f":"C13","v":0},{"$f":"AND($V31,NOT(OR($V32:$V$32)))","v":false},0,0,{"$f":"AND(VLOOKUP(ReportQuarter,HIDE!$D$3:$F$50,3,FALSE)>=VLOOKUP($C31,HIDE!$D$3:$F$50,3,FALSE),SUM(D31:M31)=0)","v":{"$error":"#N/A"}},{"$f":"AND(VLOOKUP(ReportQuarter,HIDE!$D$3:$F$50,3,FALSE)>=VLOOKUP($C32,HIDE!$D$3:$F$50,3,FALSE),SUM(O31:Q31)=0)","v":{"$error":"#N/A"}},false]
[null,20,{"$f":"VLOOKUP(C31,HIDE!$D$3:$E$50,2,FALSE)","v":{"$error":"#N/A"}},null,null,null,null,null,null,null,null,null,null,null,null,null,null,"",{"$f":"SUM($R$13:R32)","v":0},{"$f":"SUM($D$12:D32)-SUM(J$12:J32)","v":0},{"$f":"IF(Q32=0,FALSE,0>(SUM($D$12:D32)-SUM(J$12:J32)))","v":false},{"$f":"IF(ISBLANK(Q32),FALSE,S32>(SUM($D$12:D32)-SUM(J$12:J32)))","v":false},0,{"$f":"W12","v":0},{"$f":"C12","v":"prior to "},{"$f":"AND($V32,NOT(OR($V$32:$V33)))","v":false},0,0,{"$f":"AND(VLOOKUP(ReportQuarter,HIDE!$D$3:$F$50,3,FALSE)>=VLOOKUP($C32,HIDE!$D$3:$F$50,3,FALSE),SUM(D32:M32)=0)","v":{"$error":"#N/A"}},{"$f":"AND(VLOOKUP(ReportQuarter,HIDE!$D$3:$F$50,3,FALSE)>=VLOOKUP($C33,HIDE!$D$3:$F$50,3,FALSE),SUM(O32:Q32)=0)","v":{"$error":"#N/A"}},false]
[null,"TOTAL",{"$f":"VLOOKUP(C32,HIDE!$D$3:$E$50,2,FALSE)","v":{"$error":"#N/A"}},{"$f":"SUM(D12:D32)","v":0},{"$f":"SUM(E12:E32)","v":0},null,{"$f":"SUM(G12:G32)","v":0},{"$f":"SUM(H12:H32)","v":0},0,0,0,0,null,null,{"$f":"SUM(O13:O32)","v":0},null,{"$f":"SUM(Q12:Q32)","v":0},0,null,null,null,null,null,null,null,null,{"$f":"SUM(AA13:AA32)/SUM(AB13:AB32)","v":{"$error":"#DIV/0!"}}]
[null,null,null,null,null,null,null,null,null,null,null,null,null,null,{"$f":"ROUND(SUMIF(U13:U32,TRUE,O13:O32),0)","v":0}]
[null,null,null,null,null,null,null,{"$f":"IF(MID(CELL(\"filename\",A1),FIND(\"]\",CELL(\"filename\",A1))+1,255)=\"Template\",\"COPY AND RENAME THIS WORKSHEET TO START A NEW SITE'S REPORT\",\"CONTAINS CONFIDENTIAL INFORMATION\")","v":"COPY AND RENAME THIS WORKSHEET TO START A NEW SITE'S REPORT"}]
[null,null,null,null,null,null,null,{"$f":"IF(MID(CELL(\"filename\",A1),FIND(\"]\",CELL(\"filename\",A1))+1,255)=\"Template\",\"DO NOT MOVE, DELETE OR RENAME THIS TEMPLATE WORKSHEET\",\"\")","v":"DO NOT MOVE, DELETE OR RENAME THIS TEMPLATE WORKSHEET"}]
[]
[]
[null,null,null,null,null,null,null,{"$f":"IF(MID(CELL(\"filename\",A1),FIND(\"]\",CELL(\"filename\",A1))+1,255)=\"Template\",\"Copy Worksheet Instructions\",\"\")","v":"Copy Worksheet Instructions"}]
[null,null,null,null,null,null,null,{"$f":"IF(MID(CELL(\"filename\",A1),FIND(\"]\",CELL(\"filename\",A1))+1,255)=\"Template\",\"1. Right-click 'Template' worksheet and select 'Move or Copy'\",\"\")","v":"1. Right-click 'Template' worksheet and select 'Move or Copy'"}]
[null,null,null,null,null,null,null,{"$f":"IF(MID(CELL(\"filename\",A1),FIND(\"]\",CELL(\"filename\",A1))+1,255)=\"Template\",\"2. Select '(move to end)' and check the box to 'Create a Copy'\",\"\")","v":"2. Select '(move to end)' and check the box to 'Create a Copy'"}]
[null,null,null,null,null,null,null,{"$f":"IF(MID(CELL(\"filename\",A1),FIND(\"]\",CELL(\"filename\",A1))+1,255)=\"Template\",\"3. Click 'OK'\",\"\")","v":"3. Click 'OK'"}]
[null,null,null,null,null,null,null,{"$f":"IF(MID(CELL(\"filename\",A1),FIND(\"]\",CELL(\"filename\",A1))+1,255)=\"Template\",\"4. Right click on the newly created worksheet, select 'Rename', and rename the worksheet to the site name \",\"\")","v":"4. Right click on the newly created worksheet, select 'Rename', and rename the worksheet to the site name "}]